Workbook
Name _GoBack: '1 છુટા થયા નો રિપોર્ટ TPEO'!$B$11
Name _GoBack: '1 હાજર થયા નો રિપોર્ટ TPEO'!$B$11
Name _GoBack: 'છુટા કર્યાનો રિપોર્ટ લેટરપેડ'!$B$10
Name _GoBack: 'છુટા થયા નો રિપોર્ટ '!$B$11
Name _GoBack: 'છુટા થયા નો રિપોર્ટ જીલ્લો'!$B$11
Name _GoBack: 'જીલ્લામાં છુટા શિક્ષક ની અરજી'!$B$12
Name _GoBack: 'જીલ્લામાં હાજર શિક્ષકની અરજી '!$B$12
Name _GoBack: 'તાલુકામાં છુટા શિક્ષક ની અરજી'!$B$12
Name _GoBack: 'તાલુકામાં હાજર શિક્ષકની અરજ'!$B$12
Name _GoBack: 'હાજર કર્યાનો રિપોર્ટ લેટરપેડ'!$B$8
Name _GoBack: 'હાજર થયા નો રિપોર્ટ '!$B$11
Name અમદાવાદ: INDEX!$AA$2:$AA$11
Name અમરેલી: INDEX!$AB$2:$AB$12
Name અરવલ્લી: INDEX!$AC$2:$AC$7
Name આણંદ: INDEX!$AD$2:$AD$9
Name કચ્છ: INDEX!$AE$2:$AE$11
Name ખેડા: INDEX!$AF$2:$AF$11
Name ગાંધીનગર: INDEX!$AG$2:$AG$5
Name ગીર_સોમનાથ: INDEX!$AH$2:$AH$7
Name છોટાઉદેપુર: INDEX!$AI$2:$AI$7
Name જામનગર: INDEX!$AJ$2:$AJ$7
Name જીલ્લો: INDEX!$Z$2:$Z$34
Name જૂનાગઢ: INDEX!$AK$2:$AK$11
Name ડાંગ: INDEX!$AL$2:$AL$4
Name તાપી: INDEX!$AM$2:$AM$8
Name દાહોદ: INDEX!$AN$2:$AN$10
Name દેવભૂમિ_દ્વારકા: INDEX!$AO$2:$AO$5
Name નર્મદા: INDEX!$AP$2:$AP$7
Name નવસારી: INDEX!$AQ$2:$AQ$7
Name પંચમહાલ: INDEX!$AR$2:$AR$8
Name પાટણ: INDEX!$AS$2:$AS$10
Name પોરબંદર: INDEX!$AT$2:$AT$4
Name બનાસકાંઠા: INDEX!$AU$2:$AU$15
Name બોટાદ: INDEX!$AV$2:$AV$5
Name ભરૂચ: INDEX!$AW$2:$AW$11
Name ભાવનગર: INDEX!$AX$2:$AX$12
Name મહીસાગર: INDEX!$AY$2:$AY$7
Name મહેસાણા: INDEX!$AZ$2:$AZ$12
Name મોરબી: INDEX!$BA$2:$BA$7
Name રાજકોટ: INDEX!$BB$2:$BB$13
Name વડોદરા: INDEX!$BC$2:$BC$10
Name વલસાડ: INDEX!$BD$2:$BD$7
Name સાબરકાંઠા: INDEX!$BE$2:$BE$9
Name સુરત: INDEX!$BF$2:$BF$11
Name સુરેન્દ્રનગર: INDEX!$BG$2:$BG$11

Sheet INDEX
A1: શિક્ષક નું નામ | C1: આ ફાઈલ બ્રિજેશકુમાર કે. પટેલ મો.૯૦૯૯૦૨૧૦૧૭ ધ્વારા બનાવવામાં આવેલ છે. કોઈપણ આ ફાઈલ બાબતે સમસ્યા હોય તો મારો સંપર્ક કરવો. | Z1: જીલ્લો | AA1: અમદાવાદ | AB1: અમરેલી | AC1: અરવલ્લી | AD1: આણંદ | AE1: કચ્છ | AF1: ખેડા | AG1: ગાંધીનગર | AH1: ગીર સોમનાથ | AI1: છોટાઉદેપુર | AJ1: જામનગર | AK1: જૂનાગઢ | AL1: ડાંગ | AM1: તાપી | AN1: દાહોદ | AO1: દેવભૂમિ દ્વારકા | AP1: નર્મદા | AQ1: નવસારી | AR1: પંચમહાલ | AS1: પાટણ | AT1: પોરબંદર | AU1: બનાસકાંઠા | AV1: બોટાદ | AW1: ભરૂચ | AX1: ભાવનગર | AY1: મહીસાગર | AZ1: મહેસાણા | BA1: મોરબી | BB1: રાજકોટ | BC1: વડોદરા | BD1: વલસાડ | BE1: સાબરકાંઠા | BF1: સુરત | BG1: સુરેન્દ્રનગર
A2: ઓડર નંબર | Z2: અમદાવાદ | AA2: અમદાવાદ સીટી | AB2: અમરેલી | AC2: મોડાસા | AD2: આણંદ | AE2: ભુજ | AF2: ખેડા | AG2: ગાંધીનગર | AH2: વેરાવળ | AI2: છોટાઉદેપુર | AJ2: જામનગર | AK2: જૂનાગઢ શહેર | AL2: આહવા | AM2: વ્યારા | AN2: દાહોદ | AO2: દ્વારકા | AP2: નાંદોદ | AQ2: નવસારી | AR2: ગોધરા | AS2: પાટણ | AT2: પોરબંદર | AU2: પાલનપુર | AV2: બોટાદ | AW2: ભરૂચ | AX2: ભાવનગર | AY2: લુણાવડા | AZ2: મહેસાણા | BA2: મોરબી | BB2: રાજકોટ | BC2: વડોદરા | BD2: વલસાડ | BE2: હિંમતનગર | BF2: સુરત સીટી | BG2: વઢવાણ
A3: ઓડર તારીખ | Z3: અમરેલી | AA3: બાવળા | AB3: બગસરા | AC3: ભિલોડા | AD3: ખંભાત | AE3: ભચાઉ | AF3: નડિયાદ | AG3: કલોલ | AH3: કોડીનાર | AI3: સંખેડા | AJ3: જામજોધપુર | AK3: જુનાગઢ ગ્રામ્ય | AL3: વધાઈ | AM3: ડોલવણ | AN3: ઝાલોદ | AO3: કલ્યાણપુર | AP3: સાગબારા | AQ3: ગણદેવી | AR3: હાલોલ | AS3: રાધનપુર | AT3: રાણાવાવ | AU3: થરાદ | AV3: ગઢડા | AW3: અંકલેશ્વર | AX3: ઘોઘા | AY3: કડાણા | AZ3: કડી | BA3: માળીયા | BB3: ગોંડલ | BC3: કરજણ | BD3: કપરાડા | BE3: ખેડબ્રહ્મા | BF3: કામરેજ | BG3: પાટડી
A4: બદલીનો પ્રકાર | Z4: અરવલ્લી | AA4: સાણંદ | AB4: બાબરા | AC4: ધનસુરા | AD4: બોરસદ | AE4: અંજાર | AF4: કઠલાલ | AG4: દહેગામ | AH4: ઉના | AI4: જેતપુર-પાવી | AJ4: જોડીયા | AK4: ભેસાણ | AL4: સુબીર | AM4: કુકરમુંડા | AN4: ધાનપુર | AO4: ભાણવડ | AP4: ડેડીયાપાડા | AQ4: ચીખલી | AR4: કાલોલ | AS4: સિદ્ધપુર | AT4: કુતિયાણા | AU4: ધાનેરા | AV4: બરવાળા | AW4: આમોદ | AX4: મહૂવા | AY4: ખાનપુર | AZ4: ખેરાલુ | BA4: મીયાણા | BB4: ધોરાજી | BC4: પાદરાડ | BD4: પારડી | BE4: પ્રાંતિજ | BF4: બારડોલી | BG4: ચોટીલા
A5: છુટા થવા અંગેની માહિતી | Z5: આણંદ | AA5: ધોલેરા | AB5: જાફરાબાદ | AC5: બાયડ | AD5: પેટલાદ | AE5: અબડાસા(નલિયા) | AF5: મહેમદાવાદ | AG5: માણસા | AH5: સુત્રાપાડા | AI5: કવાટ | AJ5: લાલપુર | AK5: કેશોદ | AM5: સોનગઢ | AN5: સિંગવડ | AO5: ખંભાળિયા | AP5: ગરુડેશ્વર | AQ5: વાસંદા | AR5: ઘોઘંબા | AS5: ચાણસ્મા | AU5: વાવ | AV5: રાણપુર | AW5: વાગરા | AX5: ગારીયાધાર | AY5: બાલાસિનોર | AZ5: બેચરાજી | BA5: હળવદ | BB5: જામકંડોરણા | BC5: ભોઇ | BD5: વાપી | BE5: ઇડર | BF5: માંગરોળ | BG5: દસાડા
A6: શાળાનું નામ | Z6: કચ્છ | AA6: ધંધુકા | AB6: રાજુલા | AC6: મેઘરજ | AD6: તારાપુર | AE6: માંડવી | AF6: કપડવંજ | AH6: ગીર ગઢડા | AI6: બોડેલી | AJ6: ધ્રોળ | AK6: માણાવદર | AM6: નિઝર | AN6: ફતેપુરા | AP6: તિલકવાડા | AQ6: જલાલપોર | AR6: જાંબુઘોડા | AS6: સાંતલપુર | AU6: દિયોદર | AW6: હાંસોટ | AX6: ઉમરાળા | AY6: વીરપુર | AZ6: વડનગર | BA6: વાંકાનેર | BB6: જેતપુર | BC6: સાવલી | BD6: ધરમપુર | BE6: તલોદ | BF6: મહુવા | BG6: લખતર
A7: પગારકેન્દ્ર/તાલુકા શાળા | Z7: ખેડા | AA7: ધોળકા | AB7: ખાંભા | AC7: માલપુરા | AD7: સોજિત્રા | AE7: મુંદ્રા | AF7: ઠાસરા | AH7: તાલાલા | AI7: નસવાડી | AJ7: કાલાવડ | AK7: મેંદરડા | AM7: વાલોડ | AN7: ગરબાડા | AP7: રાજપીપળા | AQ7: ખેરગામ | AR7: શહેરા | AS7: હારીજ | AU7: ડીસા | AW7: જંબુસર | AX7: જેસર | AY7: સંતરામપુર | AZ7: વિસનગર | BA7: ટંકારા | BB7: જસદણ | BC7: શિનોર | BD7: ઉંમરગામ | BE7: પોશીના | BF7: ઓલપાડ | BG7: ધ્રાંગધ્રા
A8: જીલ્લો | Z8: ગાંધીનગર | AA8: દસ્ક્રોઇ | AB8: ધારી | AD8: આંકલાવ | AE8: રાપર | AF8: મહુધા | AK8: માળિયા-હાટીના | AM8: ઉચ્છલ | AN8: દેવગઢ બારીયા | AR8: મોરવા-હડફ | AS8: સમી | AU8: કાંકરેજ | AW8: નેત્રંગ | AX8: પાલીતાણા | AZ8: વિજાપુર | BB8: કોટડાસાંગાણી | BC8: ડેસર | BE8: વિજયનગર | BF8: માંડવી | BG8: લીંબડી
A9: તાલુકો | Z9: ગીર સોમનાથ | AA9: દેત્રોજ-રામપુરા | AB9: લાઠી | AD9: ઉમરેઠ | AE9: ગાંધીધામ | AF9: ગલતેશ્વર | AK9: માંગરોળ | AN9: લીમખેડા | AS9: સરસ્વતી | AU9: દાંતા | AW9: વાલીયા | AX9: શિહોર | AZ9: ઊંઝા | BB9: પડધરી | BC9: વાઘોડીયા | BE9: વડાલી | BF9: ચોર્યાસી | BG9: થાનગઢ
A10: છુટા થવા અંગે | B10: છુટા | Z10: છોટાઉદેપુર | AA10: માંડલ | AB10: સાવરકુંડલા | AE10: લખપત | AF10: માતર | AK10: વિસાવદર | AN10: સંજેલી | AS10: શંખેશ્વર | AU10: દાંતીવાડા | AW10: જગડિયા | AX10: તળાજા | AZ10: જોટાણા | BB10: ઉપલેટા | BC10: વડોદરા સિટી | BF10: પલસાણા | BG10: સાયલા
A11: શાળા સમય પહેલા / પછી | Z11: જામનગર | AA11: વિરમગામ | AB11: લીલીયા | AE11: નખત્રાણા | AF11: વસો | AK11: વંથલી | AU11: વડગામ | AW11: ભરૂચ સિટી | AX11: વલભીપુર | AZ11: સતલાસણા | BB11: લોધિકા | BF11: ઉમરપાડા | BG11: ચુડા
A12: તારીખ | Z12: જૂનાગઢ | AB12: કુકાવાવ | AU12: લાખણી | AX12: ભાવનગર સિટી | AZ12: ગોજારીયા | BB12: વિછીયા
A13: હાજર થવા અંગેની માહિતી | Z13: ડાંગ | AU13: ભાભર | BB13: રાજકોટ સિટી
A14: બદલી વાળી શાળાનું નામ | Z14: તાપી | AU14: સુઈગામ
A15: પગારકેન્દ્ર/તાલુકા શાળા | Z15: દાહોદ | AU15: અમીરગઢ
A16: જીલ્લો | Z16: દેવભૂમિ દ્વારકા
A17: તાલુકો | Z17: નર્મદા
A18: હાજર થવા અંગે | B18: હાજર | Z18: નવસારી
A19: શાળા સમય પહેલા / પછી | Z19: પંચમહાલ
A20: તારીખ | Z20: પાટણ
Z21: પોરબંદર
Z22: બનાસકાંઠા
Z23: બોટાદ
Z24: ભરૂચ
Z25: ભાવનગર
Z26: મહીસાગર
Z27: મહેસાણા
Z28: મોરબી
Z29: રાજકોટ
Z30: વડોદરા
Z31: વલસાડ
Z32: સાબરકાંઠા
... Z34: સુરેન્દ્રનગર
B46: વધ
B47: જીલ્લા ફેર એક તરફી
B48: જીલ્લા ફેર
B49: ઘટ
B50: તાલુકા ફેર અરસ-પરસ
B51: જીલ્લા ફેર અરસ-પરસ
B52: તાલુકા વધ
B53: તાલુકા ઘટ
B54: જિલ્લા આંતરિક બદલી
B55: વિકલ્પ કેમ્પ ( ભાષા)
B56: વિકલ્પ કેમ્પ ( ગણિત-વિજ્ઞાન)
B57: વિકલ્પ કેમ્પ ( સામાજિક વિજ્ઞાન)
... B62: મૂળશાળા પરત ૬ થી ૮ (સામાજિક વિજ્ઞાન)

Sheet છુટા થયા નો રિપોર્ટ 
D1: =INDEX!B6&" પ્રાથમિક શાળા" -> પ્રાથમિક શાળા
D2: ="તાલુકો : "&INDEX!B9&"‌‌‌‌‌‌‌‌, જિલ્લો : "&INDEX!B8 -> તાલુકો : ‌‌‌‌‌‌‌‌, જિલ્લો :
D3: ="તારીખ :- "&INDEX!B3 -> તારીખ :-
A4: પ્રતિશ્રી,
A5: તાલુકા પ્રાથમિક શિક્ષણાધિકારી સાહેબશ્રી,
A6: તાલુકા પંચાયત, શિક્ષણ શાખા,
A7: =INDEX!B9 -> 0
B8: ="વિષય : "&INDEX!B4&"થી બદલી થયેલ શિક્ષકને છુટા કર્યા બાબત" -> વિષય : થી બદલી થયેલ શિક્ષકને છુટા કર્યા બાબત
B9: ="સંદર્ભ :નં ‌‌‌‌: "&INDEX!B2 -> સંદર્ભ :નં ‌‌‌‌:
A11: =CONCATENATE('1 છુટા થયા નો રિપોર્ટ TPEO'!A11:G11,'1 છુટા થયા નો રિપોર્ટ TPEO'!A12:G12,'1 છુટા થયા નો રિપોર્ટ TPEO'!C13,'1 છુટા થયા નો રિપોર્ટ TPEO'!A14:D14,INDEX!B12,"ના રોજ શાળા સમય "&INDEX!B11&" છુટા કરવામાં આવેલ છે. જે આપ સાહેબશ્રીને વિદિત થાય.") -> જય ભારત સહ ઉપરોક્ત વિષય તથા સંદર્ભ અન્વયે આપ સાહેબશ્રીને જણાવવાનું કે અત્રેની ‌ પ્રાથમિક શાળા,તાલુકો : ‌‌‌‌‌‌‌‌, જિલ્લો : માં શ્રી / શ્રીમતી ‌‌ ની બદલી હુકમ નં ‌‌‌‌: ના આધારે પ્રાથમિક શાળા , પગારકેન્દ્ર શાળા/ તાલુકા શાળા,તાલુકો : ‌‌‌‌‌‌‌‌ ની શાળામાંથી તારીખ :- ના રોજ શાળા સમય છુટા કરવામાં આવેલ છે. જે આપ સાહેબશ્રીને વિદિત થાય.
A13: છુટા થનાર શિક્ષકની સહી
D15: =INDEX!B6&" પ્રાથમિક શાળા" -> પ્રાથમિક શાળા
D16: =" તાલુકો:-"&INDEX!B9&", જીલ્લો:-"&INDEX!B8 -> તાલુકો:-, જીલ્લો:-
A18: નકલ રવાના:
A19: ="(1) જિ. પ્રા. શિ. અ. સાહેબશ્રી, "&INDEX!B9 -> (1) જિ. પ્રા. શિ. અ. સાહેબશ્રી,
A20: ="(2) બી. આર. સી. કો-ઓ.શ્રી,"&INDEX!B9&", એસએસએ પર નામ સુધારવા સારૂ" -> (2) બી. આર. સી. કો-ઓ.શ્રી,, એસએસએ પર નામ સુધારવા સારૂ
A21: ="(3) ‌‌‌આચાર્યશ્રી, "&INDEX!B7&" પગારકેન્દ્ર શાળા/ તાલુકા શાળા" -> (3) ‌‌‌આચાર્યશ્રી, પગારકેન્દ્ર શાળા/ તાલુકા શાળા
A22: (4) શાળા ફાઇલે

Sheet છુટા કર્યાનો રિપોર્ટ લેટરપેડ
A3: ="શાળા સમય "&INDEX!B11&" છૂટા કર્યા બાબત" -> શાળા સમય છૂટા કર્યા બાબત
D4: છુટા કર્યા તારીખ : | F4: =INDEX!B12 -> 0
A6: ="સંદર્ભ પત્ર ક્રમાંક : મે. જીલ્લા પ્રાથમિક શિક્ષણાધિકારી સાહેબશ્રી ના હૂકમ નંબર ‌‌‌‌:- "&INDEX!B2 -> સંદર્ભ પત્ર ક્રમાંક : મે. જીલ્લા પ્રાથમિક શિક્ષણાધિકારી સાહેબશ્રી ના હૂકમ નંબર ‌‌‌‌:-
A10: =" ઉપરોક્ત માન.જીલ્લા પ્રાથમિક શિક્ષણાધિકારી "&INDEX!B16&"ના સંદર્ભે શ્રી/શ્રીમતી "&INDEX!B1&"ને "&INDEX!B4&" નો હૂકમ થતાં આજ રોજ તારીખ : "&INDEX!B12&" એ શાળા સમય "&INDEX!B11&" છુટા કરવામાં આવેલ છે તેમજ ઓર્ડર મુજબ બદલી વાળી જગ્યાએ સમયસર હાજર થવા જાણ કરવામાં આવે છે." -> ઉપરોક્ત માન.જીલ્લા પ્રાથમિક શિક્ષણાધિકારી ના સંદર્ભે શ્રી/શ્રીમતી ને નો હૂકમ થતાં આજ રોજ તારીખ : એ શાળા સમય છુટા કરવામાં આવેલ છે તેમજ ઓર્ડર મુજબ બદલી વાળી જગ્યાએ સમયસર હાજર થવા જાણ કરવામાં આવે છે.
D13: આચાર્યશ્રી
D14: =INDEX!B6&" પ્રાથમિક શાળા" -> પ્રાથમિક શાળા
D15: =" તાલુકો:-"&INDEX!B9&", જીલ્લો:-"&INDEX!B8 -> તાલુકો:-, જીલ્લો:-

Sheet હાજર થયા નો રિપોર્ટ 
D1: =INDEX!B14&" પ્રાથમિક શાળા" -> પ્રાથમિક શાળા
D2: ="તાલુકો:"&INDEX!B17&"‌‌‌‌‌‌‌‌, જિલ્લો:"&INDEX!B16 -> તાલુકો:‌‌‌‌‌‌‌‌, જિલ્લો:
D3: ="તારીખ : "&INDEX!B20 -> તારીખ :
A4: પ્રતિશ્રી,
A5: તાલુકા પ્રાથમિક શિક્ષણાધિકારી સાહેબશ્રી,
A6: તાલુકા પંચાયત, શિક્ષણ શાખા,
A7: =INDEX!B17 -> 0
B8: ="વિષય : "&INDEX!B4&"થી બદલીમાં આવેલ શિક્ષકને હાજર કર્યા બાબત" -> વિષય : થી બદલીમાં આવેલ શિક્ષકને હાજર કર્યા બાબત
B9: ="સંદર્ભ :નં ‌‌‌‌: "&INDEX!B2 -> સંદર્ભ :નં ‌‌‌‌:
A11: =CONCATENATE('1 હાજર થયા નો રિપોર્ટ TPEO'!A11:G11,'1 હાજર થયા નો રિપોર્ટ TPEO'!A12:G12,'1 હાજર થયા નો રિપોર્ટ TPEO'!C13,'1 હાજર થયા નો રિપોર્ટ TPEO'!A14:D14,INDEX!B20,"ના રોજ શાળા સમય "&INDEX!B19&" હાજર કરવામાં આવેલ છે. જે આપ સાહેબશ્રીને વિદિત થાય.") -> જય ભારત સહ ઉપરોક્ત વિષય તથા સંદર્ભ અન્વયે આપ સાહેબશ્રીને જણાવવાનું કે અત્રેની ‌ પ્રાથમિક શાળા, તાલુકો : ‌‌‌‌‌‌‌‌, જિલ્લો : માં શ્રી/શ્રીમતી ‌‌ ની બદલી હુકમ નં ‌‌‌‌: ના આધારે પ્રાથમિક શાળા , પગારકેન્દ્ર શાળા/તાલુકા શાળા, તાલુકો : ‌‌‌‌‌‌‌‌ની શાળામાં તારીખ : ના રોજ શાળા સમય હાજર કરવામાં આવેલ છે. જે આપ સાહેબશ્રીને વિદિત થાય.
A13: હાજર થનાર શિક્ષકની સહી
D15: આચાર્યશ્રી
D16: =INDEX!B14&" પ્રાથમિક શાળા" -> પ્રાથમિક શાળા
D17: =" તાલુકો:-"&INDEX!B17&", જીલ્લો:-"&INDEX!B16 -> તાલુકો:-, જીલ્લો:-
A18: નકલ રવાના:
A19: ="(1) જિ. પ્રા. શિ. અ. સાહેબશ્રી, "&INDEX!B16 -> (1) જિ. પ્રા. શિ. અ. સાહેબશ્રી,
A20: ="(2) બી. આર. સી. કો-ઓ.શ્રી,"&INDEX!B17&", એસએસએ પર નામ સુધારવા સારૂ" -> (2) બી. આર. સી. કો-ઓ.શ્રી,, એસએસએ પર નામ સુધારવા સારૂ
A21: ="(3) ‌‌‌આચાર્યશ્રી, "&INDEX!B15&" પગારકેન્દ્ર શાળા/તાલુકા શાળા" -> (3) ‌‌‌આચાર્યશ્રી, પગારકેન્દ્ર શાળા/તાલુકા શાળા
A22: (4) શાળા ફાઇલે

Sheet હાજર કર્યાનો રિપોર્ટ લેટરપેડ
A3: ="શાળા સમય "&INDEX!B19&" હાજર કર્યા બાબત" -> શાળા સમય હાજર કર્યા બાબત
D4: હાજર કર્યા તારીખ : | F4: =INDEX!B20 -> 0
A6: ="સંદર્ભ પત્ર ક્રમાંક : મે. જીલ્લા પ્રાથમિક શિક્ષણાધિકારી સાહેબશ્રી ના હૂકમ નંબર ‌‌‌‌:- "&INDEX!B2 -> સંદર્ભ પત્ર ક્રમાંક : મે. જીલ્લા પ્રાથમિક શિક્ષણાધિકારી સાહેબશ્રી ના હૂકમ નંબર ‌‌‌‌:-
A8: =" ઉપરોક્ત માન.જીલ્લા પ્રાથમિક શિક્ષણાધિકારી "&INDEX!B16&"ના સંદર્ભે શ્રી/શ્રીમતી "&INDEX!B1&"ને "&INDEX!B4&" ની બદલીનો હૂકમ થવાથી આજ રોજ તારીખ : "&INDEX!B20&" એ શાળા સમય "&INDEX!B19&" હાજર કરવામાં આવે છે." -> ઉપરોક્ત માન.જીલ્લા પ્રાથમિક શિક્ષણાધિકારી ના સંદર્ભે શ્રી/શ્રીમતી ને ની બદલીનો હૂકમ થવાથી આજ રોજ તારીખ : એ શાળા સમય હાજર કરવામાં આવે છે.
D11: આચાર્યશ્રી
D12: =INDEX!B14&" પ્રાથમિક શાળા" -> પ્રાથમિક શાળા
D13: =" તાલુકો:-"&INDEX!B17&", જીલ્લો:-"&INDEX!B16 -> તાલુકો:-, જીલ્લો:-

Sheet છુટા થયા નો રિપોર્ટ જીલ્લો
D1: =INDEX!B6&" પ્રાથમિક શાળા" -> પ્રાથમિક શાળા
D2: ="તાલુકો : "&INDEX!B9&"‌‌‌‌‌‌‌‌, જિલ્લો : "&INDEX!B8 -> તાલુકો : ‌‌‌‌‌‌‌‌, જિલ્લો : | I2: આ ફોરવર્ડીંગ પત્ર ફક્ત જીલ્લા ફેર કે અરસ પરસ જીલ્લા ફેર બદલી માટે જ લાગુ પડશે.
D3: ="તારીખ :- "&INDEX!B3 -> તારીખ :-
A4: પ્રતિશ્રી,
A5: જીલ્લા પ્રાથમિક શિક્ષણાધિકારી સાહેબશ્રી,
A6: શિક્ષણ શાખા, જીલ્લા પંચાયત,
A7: =INDEX!B8 -> 0
B8: ="વિષય : "&INDEX!B4&"થી બદલી થયેલ શિક્ષકને છુટા કર્યા બાબત" -> વિષય : થી બદલી થયેલ શિક્ષકને છુટા કર્યા બાબત
B9: ="સંદર્ભ :નં ‌‌‌‌: "&INDEX!B2 -> સંદર્ભ :નં ‌‌‌‌:
A11: =CONCATENATE('1 છુટા થયા નો રિપોર્ટ TPEO'!A11:G11,'1 છુટા થયા નો રિપોર્ટ TPEO'!A12:G12,'1 છુટા થયા નો રિપોર્ટ TPEO'!C13,'1 છુટા થયા નો રિપોર્ટ TPEO'!A14:D14,INDEX!B12,"ના રોજ શાળા સમય "&INDEX!B11&" છુટા કરવામાં આવેલ છે. જે આપ સાહેબશ્રીને વિદિત થાય.") -> જય ભારત સહ ઉપરોક્ત વિષય તથા સંદર્ભ અન્વયે આપ સાહેબશ્રીને જણાવવાનું કે અત્રેની ‌ પ્રાથમિક શાળા,તાલુકો : ‌‌‌‌‌‌‌‌, જિલ્લો : માં શ્રી / શ્રીમતી ‌‌ ની બદલી હુકમ નં ‌‌‌‌: ના આધારે પ્રાથમિક શાળા , પગારકેન્દ્ર શાળા/ તાલુકા શાળા,તાલુકો : ‌‌‌‌‌‌‌‌ ની શાળામાંથી તારીખ :- ના રોજ શાળા સમય છુટા કરવામાં આવેલ છે. જે આપ સાહેબશ્રીને વિદિત થાય.
A13: છુટા થનાર શિક્ષકની સહી
D15: =INDEX!B6&" પ્રાથમિક શાળા" -> પ્રાથમિક શાળા
D16: =" તાલુકો:-"&INDEX!B9&", જીલ્લો:-"&INDEX!B8 -> તાલુકો:-, જીલ્લો:-
A19: નકલ રવાના:
A20: ="(1) માન. જીલ્લા પ્રાથમિક શિક્ષણાધિકારી સાહેબશ્રી, "&INDEX!B16&" ના જાણ સારું" -> (1) માન. જીલ્લા પ્રાથમિક શિક્ષણાધિકારી સાહેબશ્રી, ના જાણ સારું
A21: (2) શાળા ફાઇલે

Sheet તાલુકામાં છુટા શિક્ષક ની અરજી
D1: =INDEX!B1 -> 0
D2: =INDEX!B6&" પ્રાથમિક શાળા" -> પ્રાથમિક શાળા
D3: ="તાલુકો : "&INDEX!B9&"‌‌‌‌‌‌‌‌, જિલ્લો : "&INDEX!B8 -> તાલુકો : ‌‌‌‌‌‌‌‌, જિલ્લો : | I3: આ ફોરવર્ડીંગ પત્ર ફક્ત જીલ્લા ફેર કે અરસ પરસ જીલ્લા ફેર બદલી માટે જ લાગુ પડશે.
D4: ="તારીખ :- "&INDEX!B3 -> તારીખ :-
A5: પ્રતિશ્રી,
A6: તાલુકા પ્રાથમિક શિક્ષણાધિકારી સાહેબશ્રી,
A7: શિક્ષણ શાખા, તાલુકા પંચાયત,
A8: =INDEX!B9 -> 0
B9: ="વિષય : "&INDEX!B4&" બદલી થતાં જીલ્લા કક્ષાએથી છુટા કરવા બાબત" -> વિષય : બદલી થતાં જીલ્લા કક્ષાએથી છુટા કરવા બાબત
B10: ="સંદર્ભ :નં ‌‌‌‌: માન.જી.પ્રા.શિ. "&INDEX!B16&" સાહેબના પત્ર ક્રમાંક "&INDEX!B2 -> સંદર્ભ :નં ‌‌‌‌: માન.જી.પ્રા.શિ. સાહેબના પત્ર ક્રમાંક
A12: =CONCATENATE('1 છુટા થયા નો રિપોર્ટ TPEO'!J11,'1 છુટા થયા નો રિપોર્ટ TPEO'!J13) -> જય ભારત સહ ઉપરોક્ત વિષય તથા સંદર્ભ અન્વયે આપ સાહેબશ્રીને જણાવવાનું કે અત્રેની ‌ પ્રાથમિક શાળા,તાલુકો : ‌‌‌‌‌‌‌‌, જિલ્લો : માં હું ઉપ શિક્ષક તરીકે ફરજ બજાવું છું.‌‌ મારી જીલ્લામાં હુકમ નં ‌‌‌‌: થી બદલી થતાં આજ રોજ તાલુકા કક્ષાએથી છૂટો થવા માટે આપ સાહેબશ્રીને નમ્ર અરજ કરું છું.મારા સાધનિક કાગળો આ સાથે બિડાણ કરેલ છે.જે આપશ્રીને વિદિત થાય.
D15: =INDEX!B1 -> 0
D16: =INDEX!B6&" પ્રાથમિક શાળા" -> પ્રાથમિક શાળા
D17: =" તાલુકો:-"&INDEX!B9&", જીલ્લો:-"&INDEX!B8 -> તાલુકો:-, જીલ્લો:-
A19: બિડાણ :
A20: ="(1) માન. જી.પ્રા.શિ.સાહેબશ્રી, "&INDEX!B16&" નો જીલ્લા ફેર બદલીનો હૂકમ" -> (1) માન. જી.પ્રા.શિ.સાહેબશ્રી, નો જીલ્લા ફેર બદલીનો હૂકમ
A21: ="(2) "&INDEX!B6&" ના આચાર્યશ્રીનો છુટા કરવા બાબતનો પત્ર" -> (2) ના આચાર્યશ્રીનો છુટા કરવા બાબતનો પત્ર
A22: (3) આપ સાહેબશ્રી દ્વારા માંગવામાં આવેલ તમામ સાધનિક પુરાવા

Sheet જીલ્લામાં છુટા શિક્ષક ની અરજી
D1: =INDEX!B1 -> 0
D2: =INDEX!B6&" પ્રાથમિક શાળા" -> પ્રાથમિક શાળા
D3: ="તાલુકો : "&INDEX!B9&"‌‌‌‌‌‌‌‌, જિલ્લો : "&INDEX!B8 -> તાલુકો : ‌‌‌‌‌‌‌‌, જિલ્લો : | I3: આ ફોરવર્ડીંગ પત્ર ફક્ત જીલ્લા ફેર કે અરસ પરસ જીલ્લા ફેર બદલી માટે જ લાગુ પડશે.
D4: ="તારીખ :- "&INDEX!B3 -> તારીખ :-
A5: પ્રતિશ્રી,
A6: જીલ્લા પ્રાથમિક શિક્ષણાધિકારી સાહેબશ્રી,
A7: શિક્ષણ શાખા, જીલ્લા પંચાયત,
A8: =INDEX!B8 -> 0
B9: ="વિષય : "&INDEX!B4&" બદલી થતાં જીલ્લા કક્ષાએથી છુટા કરવા બાબત" -> વિષય : બદલી થતાં જીલ્લા કક્ષાએથી છુટા કરવા બાબત
B10: ="સંદર્ભ :નં ‌‌‌‌: માન.જી.પ્રા.શિ. "&INDEX!B16&" સાહેબના પત્ર ક્રમાંક "&INDEX!B2 -> સંદર્ભ :નં ‌‌‌‌: માન.જી.પ્રા.શિ. સાહેબના પત્ર ક્રમાંક
A12: =CONCATENATE('1 છુટા થયા નો રિપોર્ટ TPEO'!J11,'1 છુટા થયા નો રિપોર્ટ TPEO'!J12) -> જય ભારત સહ ઉપરોક્ત વિષય તથા સંદર્ભ અન્વયે આપ સાહેબશ્રીને જણાવવાનું કે અત્રેની ‌ પ્રાથમિક શાળા,તાલુકો : ‌‌‌‌‌‌‌‌, જિલ્લો : માં હું ઉપ શિક્ષક તરીકે ફરજ બજાવું છું.‌‌ મારી જીલ્લામાં હુકમ નં ‌‌‌‌: થી બદલી થતાં આજ રોજ જીલ્લા કક્ષાએથી છૂટો થવા માટે આપ સાહેબશ્રીને નમ્ર અરજ કરું છું.મારા સાધનિક કાગળો આ સાથે બિડાણ કરેલ છે.જે આપશ્રીને વિદિત થાય.
D15: =INDEX!B1 -> 0
D16: =INDEX!B6&" પ્રાથમિક શાળા" -> પ્રાથમિક શાળા
D17: =" તાલુકો:-"&INDEX!B9&", જીલ્લો:-"&INDEX!B8 -> તાલુકો:-, જીલ્લો:-
A19: બિડાણ :
A20: ="(1) માન. જી.પ્રા.શિ.સાહેબશ્રી, "&INDEX!B16&" નો જીલ્લા ફેર બદલીનો હૂકમ" -> (1) માન. જી.પ્રા.શિ.સાહેબશ્રી, નો જીલ્લા ફેર બદલીનો હૂકમ
A21: ="(2) તાલુકા પ્રા.શિ."&INDEX!B9&" સાહેબશ્રીનો તાલુકાથી છુટા કર્યાનો પત્ર" -> (2) તાલુકા પ્રા.શિ. સાહેબશ્રીનો તાલુકાથી છુટા કર્યાનો પત્ર
A22: ="(3) "&INDEX!B6&" ના આચાર્યશ્રીનો છુટા કરવા બાબતનો પત્ર" -> (3) ના આચાર્યશ્રીનો છુટા કરવા બાબતનો પત્ર
A23: (4) આપ સાહેબશ્રી દ્વારા માંગવામાં આવેલ તમામ સાધનિક પુરાવા

Sheet 1 છુટા થયા નો રિપોર્ટ TPEO
E1: =INDEX!B6&" પ્રાથમિક શાળા" -> પ્રાથમિક શાળા
E2: ="તાલુકો:"&INDEX!B9&"‌‌‌‌‌‌‌‌, જિલ્લો:"&INDEX!B8 -> તાલુકો:‌‌‌‌‌‌‌‌, જિલ્લો:
E3: તારીખ: | F3: =INDEX!B12 -> 0
A4: પ્રતિશ્રી,
A5: તાલુકા પ્રાથમિક શિક્ષણાધિકારી સાહેબશ્રી,
A6: તાલુકા પંચાયત, શિક્ષણ શાખા,
A7: =INDEX!B9 -> 0
B8: વિષય : વધથી બદલી થયેલ શિક્ષકને છુટા કર્યા બાબત
B9: ="સંદર્ભ :નં ‌‌‌‌: "&INDEX!B2 -> સંદર્ભ :નં ‌‌‌‌:
A11: =" જય ભારત સહ ઉપરોક્ત વિષય તથા સંદર્ભ અન્વયે આપ સાહેબશ્રીને જણાવવાનું કે અત્રેની ‌"&INDEX!B6&" પ્રાથમિક શાળા,તાલુકો : ‌‌‌‌‌‌‌‌"&INDEX!B9&", જિલ્લો : "&INDEX!B8&" માં શ્રી / શ્રીમતી "&INDEX!B1 -> જય ભારત સહ ઉપરોક્ત વિષય તથા સંદર્ભ અન્વયે આપ સાહેબશ્રીને જણાવવાનું કે અત્રેની ‌ પ્રાથમિક શાળા,તાલુકો : ‌‌‌‌‌‌‌‌, જિલ્લો : માં શ્રી / શ્રીમતી | J11: =" જય ભારત સહ ઉપરોક્ત વિષય તથા સંદર્ભ અન્વયે આપ સાહેબશ્રીને જણાવવાનું કે અત્રેની ‌"&INDEX!B6&" પ્રાથમિક શાળા,તાલુકો : ‌‌‌‌‌‌‌‌"&INDEX!B9&", જિલ્લો : "&INDEX!B8&" માં હું ઉપ શિક્ષક તરીકે ફરજ બજાવું છું." -> જય ભારત સહ ઉપરોક્ત વિષય તથા સંદર્ભ અન્વયે આપ સાહેબશ્રીને જણાવવાનું કે અત્રેની ‌ પ્રાથમિક શાળા,તાલુકો : ‌‌‌‌‌‌‌‌, જિલ્લો : માં હું ઉપ શિક્ષક તરીકે ફરજ બજાવું છું.
A12: ="‌‌ ની બદલી હુકમ નં ‌‌‌‌: "&INDEX!B2 -> ‌‌ ની બદલી હુકમ નં ‌‌‌‌: | J12: ="‌‌ મારી "&INDEX!B16&" જીલ્લામાં હુકમ નં ‌‌‌‌: "&INDEX!B2&" થી બદલી થતાં આજ રોજ જીલ્લા કક્ષાએથી છૂટો થવા માટે આપ સાહેબશ્રીને નમ્ર અરજ કરું છું.મારા સાધનિક કાગળો આ સાથે બિડાણ કરેલ છે.જે આપશ્રીને વિદિત થાય." -> ‌‌ મારી જીલ્લામાં હુકમ નં ‌‌‌‌: થી બદલી થતાં આજ રોજ જીલ્લા કક્ષાએથી છૂટો થવા માટે આપ સાહેબશ્રીને નમ્ર અરજ કરું છું.મારા સાધનિક કાગળો આ સાથે બિડાણ કરેલ છે.જે આપશ્રીને વિદિત થાય.
A13: તારીખ: | B13: =INDEX!B3 -> 0 | C13: ="ના આધારે "&INDEX!B6&" પ્રાથમિક શાળા , "&INDEX!B7&" પગારકેન્દ્ર શાળા/ તાલુકા શાળા," -> ના આધારે પ્રાથમિક શાળા , પગારકેન્દ્ર શાળા/ તાલુકા શાળા, | J13: ="‌‌ મારી "&INDEX!B16&" જીલ્લામાં હુકમ નં ‌‌‌‌: "&INDEX!B2&" થી બદલી થતાં આજ રોજ તાલુકા કક્ષાએથી છૂટો થવા માટે આપ સાહેબશ્રીને નમ્ર અરજ કરું છું.મારા સાધનિક કાગળો આ સાથે બિડાણ કરેલ છે.જે આપશ્રીને વિદિત થાય." -> ‌‌ મારી જીલ્લામાં હુકમ નં ‌‌‌‌: થી બદલી થતાં આજ રોજ તાલુકા કક્ષાએથી છૂટો થવા માટે આપ સાહેબશ્રીને નમ્ર અરજ કરું છું.મારા સાધનિક કાગળો આ સાથે બિડાણ કરેલ છે.જે આપશ્રીને વિદિત થાય.
A14: ="તાલુકો : ‌‌‌‌‌‌‌‌"&INDEX!B9&" ની શાળામાંથી તારીખ :- " -> તાલુકો : ‌‌‌‌‌‌‌‌ ની શાળામાંથી તારીખ :- | E14: =INDEX!B12 -> 0 | F14: ="ના રોજ શાળા સમય "&INDEX!B11 -> ના રોજ શાળા સમય
A15: છુટા કરવામાં આવેલ છે. જે આપ સાહેબશ્રીને વિદિત થાય.
A17: છુટા થનાર શિક્ષકની સહી
F19: =INDEX!B6&" પ્રાથમિક શાળા" -> પ્રાથમિક શાળા
E20: =" તાલુકો:-"&INDEX!B9&", જીલ્લો:-"&INDEX!B8 -> તાલુકો:-, જીલ્લો:-
A22: નકલ રવાના:
A23: ="(1) તા. પ્રા. શિ. અ. સાહેબશ્રી, "&INDEX!B9 -> (1) તા. પ્રા. શિ. અ. સાહેબશ્રી,
A24: ="(2) બી. આર. સી. કો-ઓ.શ્રી,"&INDEX!B9&", એસએસએ પર નામ સુધારવા સારૂ" -> (2) બી. આર. સી. કો-ઓ.શ્રી,, એસએસએ પર નામ સુધારવા સારૂ
A25: ="(3) ‌‌‌આચાર્યશ્રી, "&INDEX!B7&" પગારકેન્દ્ર શાળા" -> (3) ‌‌‌આચાર્યશ્રી, પગારકેન્દ્ર શાળા
A26: (4) શાળા ફાઇલે

Sheet જીલ્લામાં હાજર શિક્ષકની અરજી 
D1: =INDEX!B1 -> 0
D2: =INDEX!B6&" પ્રાથમિક શાળા" -> પ્રાથમિક શાળા
D3: ="તાલુકો : "&INDEX!B9&"‌‌‌‌‌‌‌‌, જિલ્લો : "&INDEX!B8 -> તાલુકો : ‌‌‌‌‌‌‌‌, જિલ્લો : | I3: આ ફોરવર્ડીંગ પત્ર ફક્ત જીલ્લા ફેર કે અરસ પરસ જીલ્લા ફેર બદલી માટે જ લાગુ પડશે.
D4: ="તારીખ :- "&INDEX!B3 -> તારીખ :-
A5: પ્રતિશ્રી,
A6: જીલ્લા પ્રાથમિક શિક્ષણાધિકારી સાહેબશ્રી,
A7: શિક્ષણ શાખા, જીલ્લા પંચાયત,
A8: =INDEX!B16 -> 0
B9: ="વિષય : "&INDEX!B4&" બદલી થતાં જીલ્લા કક્ષાએ હાજર કરવા બાબત" -> વિષય : બદલી થતાં જીલ્લા કક્ષાએ હાજર કરવા બાબત
B10: ="સંદર્ભ :નં ‌‌‌‌: આપ સાહેબના પત્ર ક્રમાંક "&INDEX!B2 -> સંદર્ભ :નં ‌‌‌‌: આપ સાહેબના પત્ર ક્રમાંક
A12: =CONCATENATE('1 હાજર થયા નો રિપોર્ટ TPEO'!J11,'1 હાજર થયા નો રિપોર્ટ TPEO'!J12) -> જય ભારત સહ ઉપરોક્ત વિષય તથા સંદર્ભ અન્વયે આપ સાહેબશ્રીને જણાવવાનું કે અત્રેની ‌ પ્રાથમિક શાળા,તાલુકો : ‌‌‌‌‌‌‌‌, જિલ્લો : માં હું ઉપશિક્ષક તરીકે ફરજ બજાવતો હતો.‌‌ મારી આપ સાહેબશ્રીના હુકમ નં ‌‌‌‌: થી આ જીલ્લામાં બદલી થતાં મારા જીલ્લામાંથી હું છૂટો થયેલ છું અને આજ રોજ તારીખ આ જીલ્લામાં હાજર થવા માટે આપ સાહેબશ્રીને નમ્ર અરજ કરું છું.મારા સાધનિક કાગળો આ સાથે બિડાણ કરેલ છે.જે આપશ્રીને વિદિત થાય.
D15: =INDEX!B1 -> 0
D16: =INDEX!B6&" પ્રાથમિક શાળા" -> પ્રાથમિક શાળા
D17: =" તાલુકો:-"&INDEX!B9&", જીલ્લો:-"&INDEX!B8 -> તાલુકો:-, જીલ્લો:-
A19: બિડાણ :
A20: ="(1) આપ સાહેબશ્રીનો જીલ્લા ફેર બદલીનો હૂકમ" -> (1) આપ સાહેબશ્રીનો જીલ્લા ફેર બદલીનો હૂકમ
A21: ="(2) માન. જિ પ્રા.શિ."&INDEX!B8&" સાહેબશ્રીનો જિલ્લામાંથી છુટા કર્યાનો પત્ર" -> (2) માન. જિ પ્રા.શિ. સાહેબશ્રીનો જિલ્લામાંથી છુટા કર્યાનો પત્ર
A22: ="(3) "&INDEX!B6&" ના આચાર્યશ્રીનો છુટા કરવા બાબતનો પત્ર" -> (3) ના આચાર્યશ્રીનો છુટા કરવા બાબતનો પત્ર
A23: (4) આપ સાહેબશ્રી દ્વારા માંગવામાં આવેલ તમામ સાધનિક પુરાવા

Sheet તાલુકામાં હાજર શિક્ષકની અરજ
D1: =INDEX!B1 -> 0
D2: =INDEX!B14&" પ્રાથમિક શાળા" -> પ્રાથમિક શાળા
D3: ="તાલુકો : "&INDEX!B17&"‌‌‌‌‌‌‌‌, જિલ્લો : "&INDEX!B16 -> તાલુકો : ‌‌‌‌‌‌‌‌, જિલ્લો : | I3: આ ફોરવર્ડીંગ પત્ર ફક્ત જીલ્લા ફેર કે અરસ પરસ જીલ્લા ફેર બદલી માટે જ લાગુ પડશે.
D4: ="તારીખ :- "&INDEX!B20 -> તારીખ :-
A5: પ્રતિશ્રી,
A6: તાલુકા પ્રાથમિક શિક્ષણાધિકારી સાહેબશ્રી,
A7: શિક્ષણ શાખા, જીલ્લા પંચાયત,
A8: =INDEX!B17 -> 0
B9: ="વિષય : "&INDEX!B4&" બદલી થતાં જીલ્લા કક્ષાએ હાજર કરવા બાબત" -> વિષય : બદલી થતાં જીલ્લા કક્ષાએ હાજર કરવા બાબત
B10: ="સંદર્ભ :નં ‌‌‌‌: આપ સાહેબના પત્ર ક્રમાંક "&INDEX!B2 -> સંદર્ભ :નં ‌‌‌‌: આપ સાહેબના પત્ર ક્રમાંક
A12: =CONCATENATE('1 હાજર થયા નો રિપોર્ટ TPEO'!J11,'1 હાજર થયા નો રિપોર્ટ TPEO'!J12) -> જય ભારત સહ ઉપરોક્ત વિષય તથા સંદર્ભ અન્વયે આપ સાહેબશ્રીને જણાવવાનું કે અત્રેની ‌ પ્રાથમિક શાળા,તાલુકો : ‌‌‌‌‌‌‌‌, જિલ્લો : માં હું ઉપશિક્ષક તરીકે ફરજ બજાવતો હતો.‌‌ મારી આપ સાહેબશ્રીના હુકમ નં ‌‌‌‌: થી આ જીલ્લામાં બદલી થતાં મારા જીલ્લામાંથી હું છૂટો થયેલ છું અને આજ રોજ તારીખ આ જીલ્લામાં હાજર થવા માટે આપ સાહેબશ્રીને નમ્ર અરજ કરું છું.મારા સાધનિક કાગળો આ સાથે બિડાણ કરેલ છે.જે આપશ્રીને વિદિત થાય.
D15: =INDEX!B1 -> 0
D16: =INDEX!B14&" પ્રાથમિક શાળા" -> પ્રાથમિક શાળા
D17: =" તાલુકો:-"&INDEX!B17&", જીલ્લો:-"&INDEX!B16 -> તાલુકો:-, જીલ્લો:-
A19: બિડાણ :
A20: ="(1) માન. જી.પ્રા.શિ.સાહેબશ્રી, "&INDEX!B16&" નો જીલ્લા ફેર બદલીનો હૂકમ" -> (1) માન. જી.પ્રા.શિ.સાહેબશ્રી, નો જીલ્લા ફેર બદલીનો હૂકમ
A21: ="(2) માન. જી.પ્રા.શિ.સાહેબશ્રી, "&INDEX!B16&" નો જીલ્લામાં હાજર થયા બાબતનો પત્ર" -> (2) માન. જી.પ્રા.શિ.સાહેબશ્રી, નો જીલ્લામાં હાજર થયા બાબતનો પત્ર
A22: ="(3) "&INDEX!B14&"ના આચાર્યશ્રીનો હાજર કર્યા બાબતનું ફોરવર્ડીંગ" -> (3) ના આચાર્યશ્રીનો હાજર કર્યા બાબતનું ફોરવર્ડીંગ
A23: (4) આપ સાહેબશ્રી દ્વારા માંગવામાં આવેલ તમામ સાધનિક પુરાવા

Sheet 1 હાજર થયા નો રિપોર્ટ TPEO
E1: =INDEX!B14&" પ્રાથમિક શાળા" -> પ્રાથમિક શાળા
E2: ="તાલુકો:"&INDEX!B17&"‌‌‌‌‌‌‌‌, જિલ્લો:"&INDEX!B16 -> તાલુકો:‌‌‌‌‌‌‌‌, જિલ્લો:
E3: તારીખ: | F3: =INDEX!B20 -> 0
A4: પ્રતિશ્રી,
A5: તાલુકા પ્રાથમિક શિક્ષણાધિકારી સાહેબશ્રી,
A6: તાલુકા પંચાયત, શિક્ષણ શાખા,
A7: =INDEX!B17 -> 0
B8: વિષય : વધથી બદલીમાં આવેલ શિક્ષકને હાજર કર્યા બાબત
B9: ="સંદર્ભ :નં ‌‌‌‌: "&INDEX!B2 -> સંદર્ભ :નં ‌‌‌‌:
A11: =" જય ભારત સહ ઉપરોક્ત વિષય તથા સંદર્ભ અન્વયે આપ સાહેબશ્રીને જણાવવાનું કે અત્રેની ‌"&INDEX!B14&" પ્રાથમિક શાળા, તાલુકો : ‌‌‌‌‌‌‌‌"&INDEX!B17&", જિલ્લો : "&INDEX!B16&"માં શ્રી/શ્રીમતી "&INDEX!B1 -> જય ભારત સહ ઉપરોક્ત વિષય તથા સંદર્ભ અન્વયે આપ સાહેબશ્રીને જણાવવાનું કે અત્રેની ‌ પ્રાથમિક શાળા, તાલુકો : ‌‌‌‌‌‌‌‌, જિલ્લો : માં શ્રી/શ્રીમતી | J11: =" જય ભારત સહ ઉપરોક્ત વિષય તથા સંદર્ભ અન્વયે આપ સાહેબશ્રીને જણાવવાનું કે અત્રેની ‌"&INDEX!B6&" પ્રાથમિક શાળા,તાલુકો : ‌‌‌‌‌‌‌‌"&INDEX!B9&", જિલ્લો : "&INDEX!B8&" માં હું ઉપશિક્ષક તરીકે ફરજ બજાવતો હતો." -> જય ભારત સહ ઉપરોક્ત વિષય તથા સંદર્ભ અન્વયે આપ સાહેબશ્રીને જણાવવાનું કે અત્રેની ‌ પ્રાથમિક શાળા,તાલુકો : ‌‌‌‌‌‌‌‌, જિલ્લો : માં હું ઉપશિક્ષક તરીકે ફરજ બજાવતો હતો.
A12: ="‌‌ ની બદલી હુકમ નં ‌‌‌‌: "&INDEX!B2 -> ‌‌ ની બદલી હુકમ નં ‌‌‌‌: | J12: ="‌‌ મારી આપ સાહેબશ્રીના હુકમ નં ‌‌‌‌: "&INDEX!B2&" થી આ જીલ્લામાં બદલી થતાં મારા જીલ્લામાંથી હું છૂટો થયેલ છું અને આજ રોજ તારીખ "&INDEX!B20&" આ જીલ્લામાં હાજર થવા માટે આપ સાહેબશ્રીને નમ્ર અરજ કરું છું.મારા સાધનિક કાગળો આ સાથે બિડાણ કરેલ છે.જે આપશ્રીને વિદિત થાય." -> ‌‌ મારી આપ સાહેબશ્રીના હુકમ નં ‌‌‌‌: થી આ જીલ્લામાં બદલી થતાં મારા જીલ્લામાંથી હું છૂટો થયેલ છું અને આજ રોજ તારીખ આ જીલ્લામાં હાજર થવા માટે આપ સાહેબશ્રીને નમ્ર અરજ કરું છું.મારા સાધનિક કાગળો આ સાથે બિડાણ કરેલ છે.જે આપશ્રીને વિદિત થાય.
A13: તારીખ: | B13: =INDEX!B3 -> 0 | C13: ="ના આધારે "&INDEX!B14&" પ્રાથમિક શાળા , "&INDEX!B15&" પગારકેન્દ્ર શાળા/તાલુકા શાળા, " -> ના આધારે પ્રાથમિક શાળા , પગારકેન્દ્ર શાળા/તાલુકા શાળા, | J13: ="‌‌ મારી "&INDEX!B16&" જીલ્લામાં હુકમ નં ‌‌‌‌: "&INDEX!B2&" થી બદલી થતાં આજ રોજ તાલુકા કક્ષાએથી છૂટો થવા માટે આપ સાહેબશ્રીને નમ્ર અરજ કરું છું.મારા સાધનિક કાગળો આ સાથે બિડાણ કરેલ છે.જે આપશ્રીને વિદિત થાય." -> ‌‌ મારી જીલ્લામાં હુકમ નં ‌‌‌‌: થી બદલી થતાં આજ રોજ તાલુકા કક્ષાએથી છૂટો થવા માટે આપ સાહેબશ્રીને નમ્ર અરજ કરું છું.મારા સાધનિક કાગળો આ સાથે બિડાણ કરેલ છે.જે આપશ્રીને વિદિત થાય.
A14: =" તાલુકો : ‌‌‌‌‌‌‌‌"&INDEX!B17&"ની શાળામાં તારીખ : " -> તાલુકો : ‌‌‌‌‌‌‌‌ની શાળામાં તારીખ : | E14: =INDEX!B20 -> 0 | F14: ="ના રોજ શાળા સમય "&INDEX!B19 -> ના રોજ શાળા સમય
A15: હાજર કરવામાં આવેલ છે. જે આપ સાહેબશ્રીને વિદિત થાય.
A17: છુટા થનાર શિક્ષકની સહી
F19: =INDEX!B14&" પ્રાથમિક શાળા" -> પ્રાથમિક શાળા
E20: =" તાલુકો:-"&INDEX!B17&", જીલ્લો:-"&INDEX!B16 -> તાલુકો:-, જીલ્લો:-
A22: નકલ રવાના:
A23: ="(1) તા. પ્રા. શિ. અ. સાહેબશ્રી, "&INDEX!B17 -> (1) તા. પ્રા. શિ. અ. સાહેબશ્રી,
A24: ="(2) બી. આર. સી. કો-ઓ.શ્રી,"&INDEX!B17&", એસએસએ પર નામ સુધારવા સારૂ" -> (2) બી. આર. સી. કો-ઓ.શ્રી,, એસએસએ પર નામ સુધારવા સારૂ
A25: ="(3) ‌‌‌આચાર્યશ્રી, "&INDEX!B15&" પગારકેન્દ્ર શાળા" -> (3) ‌‌‌આચાર્યશ્રી, પગારકેન્દ્ર શાળા
A26: (4) શાળા ફાઇલે
