Workbook
Name CAST: [1]Sheet1!$E$2:$E$5
Name gender: [1]Sheet1!$D$2:$D$3

Sheet School Data
A2: પરિણામ પત્રક ધો - 6, 7 માટે
A4: Created by : - | B4: Hitesh Ahjoliya
A6: For Download Visit - | B6: www.hiteshahjoliya.blogspot.com | G6: New Updated
A8: અન્ય ઉપયોગી શૈક્ષણિક મટીરીયલ માટે Visit -- | C8: www.hiteshahjoliya.blogspot.com
A9: → પરિણામપત્રક બનાવતા પહેલા નીચેની સૂચના વાંચો :
A10: ● સૌ પ્રથમ School Data અને Student Data માં જરુરી તમામ માહિતી ભરો. Shruti ફોન્ટનો ઉપયોગ કરવો.
A11: ● Patrak B માં સત્ર મુજબ મેળવેલ ગુણ લખવા. જે Patrak - C માં લખાઈ જશે.
A12: ● Patrak C માં સત્ર મુજબ પ્રથમ સત્રનાં 40 + 40 + 20 અને બીજા સત્રનાં 40 + 40 + 20 માંથી મેળવેલ ગુણ મેન્યુઅલી લખવા.
A13: ● નિષ્પતિઓ સાથેના પત્રક - A www.hiteshahjoliya.blogspot.com માં જઈ ડાઉનલોડ કરી શકશો.
A14: ● માત્ર પ્રથમ સત્રનું પરિણામ પત્રક બનાવવા માટે Sem 1 Patrak C અને Sem 1 Heading ની પ્રિન્ટ લેવી તે માટે પ્રથમ Patrak C માં પ્રથમ સત્રના મેળવેલ ગુણ લખવા.
A15: → Patrak C ની પ્રિન્ટ કાઢવાની રીત :- સૌ પ્રથમ Heading ની પ્રિન્ટ કાઢવી. ત્યારબાદ તેની પાછળ વિદ્યાર્થીઓની સંખ્યા મુજબ જરૂરી પેજની પ્રિન્ટ કાઢવી.
A16: ● Marksheet ની પ્રિન્ટ કાઢવાની રીત :- સૌ પ્રથમ Front Page શીટમાં જે વિદ્યાર્થીની માર્કશીટની પ્રિન્ટ કાઢવી હોય તેનો નંબર ( માત્ર એકી અંક ) લખો અને પ્રિન્ટ કરો. ત્યારબાદ તેને ઉલટાવી પાછળનાં ભાગની પ્રિન્ટ કાઢવા Back Page Sheet માં જઈ તે નંબર લખી તેની પ્રિન્ટ કાઢવી.
A17: ● માર્કશીટની પ્રિન્ટ Legal Page અથવા A4 Size એમ બન્ને રીતે કાઢી શકાશે. જેના માટે અલગ અલગ શીટ છે. એક સાથે બે વિદ્યાર્થીની માર્કશીટ પ્રિન્ટ થશે.
A18: ● Student Data Sheet નાં છેલ્લા કોલમમાં વિદ્યાર્થીને આપવાની સૂચના લખી શકાશે જે તેની માર્કશીટમાં પ્રિન્ટ થશે.
A20: શાળાની માહિતી
A21: શિક્ષણ સમિતિનું નામ :- | B21: જિલ્લા પંચાયત શિક્ષણ સમિતિ, અમદાવાદ
A22: શાળાનું નામ :- | B22: ચાંગોદર પે સે શાળા
A23: ધોરણ :- | B23: 7
A24: વર્ગ :- | B24: -
A25: વર્ષ :- | B25: 2025-26
A26: ગામ :- | B26: ચાંગોદર
A27: તાલુકો :- | B27: સાણંદ
A28: જિલ્લો :- | B28: અમદાવાદ
A29: પે સેન્ટર :- | B29: ચાંગોદર
A30: પરિણામની તારીખ :- | B30: -
A31: વર્ગ શિક્ષકનું નામ :- | B31: હિતેશભાઇ પી આહજોલિયા
A32: સી.આર.સી :- | B32: ચાંગોદર
B49: Create By : Hitesh Ahjoliya

Sheet Student Data
B2: Created by - Hitesh Ahjoliya
D3: ધોરણ :- | E3: ='School Data'!B23 -> 7 | H3: વિધાર્થીની વિગત
A4: ક્રમ નંબર લખવા નહિ. નામ લખશો એટલે તે લખાઈ જશે.
A6: 1 | B6: 2 | C6: 3 | D6: 4 | E6: Select ê | G6: 7 | H6: 8 | I6: 9 | J6: 10 | K6: 11 | L6: 12 | M6: 13 | N6: 14 | O6: 15 | P6: 16 | Q6: 17 | R6: 18
A7: ક્રમ | B7: વિધાર્થીનું નામ | C7: જી.આર.નંબર | D7: જન્મ તા. | E7: જાતિ M/F | F7: જ્ઞાતિ | G7: હાજર દિવસ | H7: પિતાનું નામ | I7: માતાનું નામ | J7: સરનામું | K7: મોબાઈલ નંબર | L7: આધારડાયસ નંબર | M7: આધારકાર્ડ નંબર | N7: બેંક એકાઉન્ટ નંબર | O7: Bank Name | P7: Bank IFSC Code | Q7: Bank Branch Name | R7: વિદ્યાર્થીને આપવાની સૂચના
A8: =IF(B8="","",1) -> 1 | B8: રાજ ભીખાભાઈ સોલંકી | C8: 1234 | D8: 38479 | E8: M | F8: OBC | G8: - | H8: ભીખાભાઈ સોલંકી | I8: રમીલાબેન | J8: મું.ચાંગોદર, તા- સાણંદ, જિ- અમદાવાદ. | K8: 9426402420 | L8: 240704010011210030 | M8: 1111 2222 3333 | N8: 003010100123456 | O8: State Bank Of India | P8: SBIN0004564 | Q8: Changodar | R8: ખૂબ સરસ, અભિનંદન સૂચના :- શાળાનું નવુ સત્ર તા- / /20 ને વારે શરૂ થશે.
A9: =IF(B9="","",A8+1) -> 2 | B9: રમેશ | C9: 5678 | D9: 38719 | E9: M | F9: OTHER | G9: - | H9: - | I9: - | J9: - | K9: - | L9: - | M9: - | N9: - | O9: - | P9: - | Q9: - | R9: સૂચના :- શાળાનું નવુ સત્ર તા- / /20 ને વારે શરૂ થશે.
A10: =IF(B10="","",A9+1) | E10: F | F10: ST
A11: =IF(B11="","",A10+1) | E11: M | F11: ST
A12: =IF(B12="","",A11+1) | E12: M | F12: SC
A13: =IF(B13="","",A12+1) | E13: M | F13: OBC
A14: =IF(B14="","",A13+1) | E14: M | F14: OTHER
A15: =IF(B15="","",A14+1) | E15: M
A16: =IF(B16="","",A15+1) | E16: M
A17: =IF(B17="","",A16+1)
A18: =IF(B18="","",A17+1)
A19: =IF(B19="","",A18+1)
A20: =IF(B20="","",A19+1)
A21: =IF(B21="","",A20+1)
A22: =IF(B22="","",A21+1)
A23: =IF(B23="","",A22+1)
A24: =IF(B24="","",A23+1)
A25: =IF(B25="","",A24+1)
A26: =IF(B26="","",A25+1)
A27: =IF(B27="","",A26+1)
A28: =IF(B28="","",A27+1)
... A72: =IF(B72="","",A71+1)
E76: M | F76: SC
E77: F | F77: ST
F78: OBC
F79: OTHER

Sheet Heading
C4: ='School Data'!B21 -> જિલ્લા પંચાયત શિક્ષણ સમિતિ, અમદાવાદ
C6: શાળાકીય સર્વગ્રાહી મૂલ્યાંકન
C7: (SCE)
C8: પરિણામપત્રક
J9: પત્રક C
I10: ધોરણ:- | L10: ='School Data'!B23 -> 7 | M10: ='School Data'!B24 -> -
I12: વર્ષ:- | K12: ='School Data'!B25 -> 2025-26
C14: શાળાનુ નામ | E14: :- | F14: ='School Data'!B22 -> ચાંગોદર પે સે શાળા
C15: ગામ | E15: :- | F15: ='School Data'!B26 -> ચાંગોદર
C16: તાલુકો | E16: :- | F16: ='School Data'!B27 -> સાણંદ
C17: જિલ્લો | E17: :- | F17: ='School Data'!B28 -> અમદાવાદ
C18: પે સેન્ટર | E18: :- | F18: ='School Data'!B29 -> ચાંગોદર
C19: પરિણામ તારીખ | E19: :- | F19: ='School Data'!B30 -> -
C20: વર્ગશિક્ષકનું નામ | E20: :- | F20: ='School Data'!B31 -> હિતેશભાઇ પી આહજોલિયા
C21: સી. આર. સી. | E21: :- | F21: ='School Data'!B32 -> ચાંગોદર
C23: જાતિ | D23: રજીસ્ટર | G23: મેળવેલ એકંદરે ગ્રેડ | V23: નોંધ
D24: સંખ્યા | G24: A | J24: B | M24: C | P24: D | S24: E
D25: કુમાર | E25: કન્યા | F25: કુલ | G25: કુમાર | H25: કન્યા | I25: કુલ | J25: કુમાર | K25: કન્યા | L25: કુલ | M25: કુમાર | N25: કન્યા | O25: કુલ | P25: કુમાર | Q25: કન્યા | R25: કુલ | S25: કુમાર | T25: કન્યા | U25: કુલ
C26: અનુ. જાતિ | D26: =G26+J26+M26+P26+S26 -> 0 | E26: =H26+K26+N26+Q26+T26 -> 0 | F26: =SUM(D26:E26) -> 0 | G26: =COUNTIFS('Patrak C'!$E$9:$E$73,"=M",'Patrak C'!$F$9:$F$73,"=SC",'Patrak C'!$BR$9:$BR$73,"=A") -> 0 | H26: =COUNTIFS('Patrak C'!$E$9:$E$73,"=F",'Patrak C'!$F$9:$F$73,"=SC",'Patrak C'!$BR$9:$BR$73,"=A") -> 0 | I26: =SUM(G26:H26) -> 0 | J26: =COUNTIFS('Patrak C'!$E$9:$E$73,"=M",'Patrak C'!$F$9:$F$73,"=SC",'Patrak C'!$BR$9:$BR$73,"=B") -> 0 | K26: =COUNTIFS('Patrak C'!$E$9:$E$73,"=F",'Patrak C'!$F$9:$F$73,"=SC",'Patrak C'!$BR$9:$BR$73,"=B") -> 0 | L26: =SUM(J26:K26) -> 0 | M26: =COUNTIFS('Patrak C'!$E$9:$E$73,"=M",'Patrak C'!$F$9:$F$73,"=SC",'Patrak C'!$BR$9:$BR$73,"=C") -> 0 | N26: =COUNTIFS('Patrak C'!$E$9:$E$73,"=F",'Patrak C'!$F$9:$F$73,"=SC",'Patrak C'!$BR$9:$BR$73,"=C") -> 0 | O26: =SUM(M26:N26) -> 0 | P26: =COUNTIFS('Patrak C'!$E$9:$E$73,"=M",'Patrak C'!$F$9:$F$73,"=SC",'Patrak C'!$BR$9:$BR$73,"=D") -> 0 | Q26: =COUNTIFS('Patrak C'!$E$9:$E$73,"=F",'Patrak C'!$F$9:$F$73,"=SC",'Patrak C'!$BR$9:$BR$73,"=D") -> 0 | R26: =SUM(P26:Q26) -> 0 | S26: =COUNTIFS('Patrak C'!$E$9:$E$73,"=M",'Patrak C'!$F$9:$F$73,"=SC",'Patrak C'!$BR$9:$BR$73,"=E") -> 0 | T26: =COUNTIFS('Patrak C'!$E$9:$E$73,"=F",'Patrak C'!$F$9:$F$73,"=SC",'Patrak C'!$BR$9:$BR$73,"=E") -> 0 | U26: =SUM(S26:T26) -> 0
C27: અનુ. જનજાતિ | D27: =G27+J27+M27+P27+S27 -> 0 | E27: =H27+K27+N27+Q27+T27 -> 0 | F27: =SUM(D27:E27) -> 0 | G27: =COUNTIFS('Patrak C'!$E$9:$E$73,"=M",'Patrak C'!$F$9:$F$73,"=ST",'Patrak C'!$BR$9:$BR$73,"=A") -> 0 | H27: =COUNTIFS('Patrak C'!$E$9:$E$73,"=F",'Patrak C'!$F$9:$F$73,"=ST",'Patrak C'!$BR$9:$BR$73,"=A") -> 0 | I27: =SUM(G27:H27) -> 0 | J27: =COUNTIFS('Patrak C'!$E$9:$E$73,"=M",'Patrak C'!$F$9:$F$73,"=ST",'Patrak C'!$BR$9:$BR$73,"=B") -> 0 | K27: =COUNTIFS('Patrak C'!$E$9:$E$73,"=F",'Patrak C'!$F$9:$F$73,"=ST",'Patrak C'!$BR$9:$BR$73,"=B") -> 0 | L27: =SUM(J27:K27) -> 0 | M27: =COUNTIFS('Patrak C'!$E$9:$E$73,"=M",'Patrak C'!$F$9:$F$73,"=ST",'Patrak C'!$BR$9:$BR$73,"=C") -> 0 | N27: =COUNTIFS('Patrak C'!$E$9:$E$73,"=F",'Patrak C'!$F$9:$F$73,"=ST",'Patrak C'!$BR$9:$BR$73,"=C") -> 0 | O27: =SUM(M27:N27) -> 0 | P27: =COUNTIFS('Patrak C'!$E$9:$E$73,"=M",'Patrak C'!$F$9:$F$73,"=ST",'Patrak C'!$BR$9:$BR$73,"=D") -> 0 | Q27: =COUNTIFS('Patrak C'!$E$9:$E$73,"=F",'Patrak C'!$F$9:$F$73,"=ST",'Patrak C'!$BR$9:$BR$73,"=D") -> 0 | R27: =SUM(P27:Q27) -> 0 | S27: =COUNTIFS('Patrak C'!$E$9:$E$73,"=M",'Patrak C'!$F$9:$F$73,"=ST",'Patrak C'!$BR$9:$BR$73,"=E") -> 0 | T27: =COUNTIFS('Patrak C'!$E$9:$E$73,"=F",'Patrak C'!$F$9:$F$73,"=ST",'Patrak C'!$BR$9:$BR$73,"=E") -> 0 | U27: =SUM(S27:T27) -> 0
C28: શા. શૈ. પછાત | D28: =G28+J28+M28+P28+S28 -> 1 | E28: =H28+K28+N28+Q28+T28 -> 0 | F28: =SUM(D28:E28) -> 1 | G28: =COUNTIFS('Patrak C'!$E$9:$E$73,"=M",'Patrak C'!$F$9:$F$73,"=OBC",'Patrak C'!$BR$9:$BR$73,"=A") -> 0 | H28: =COUNTIFS('Patrak C'!$E$9:$E$73,"=F",'Patrak C'!$F$9:$F$73,"=OBC",'Patrak C'!$BR$9:$BR$73,"=A") -> 0 | I28: =SUM(G28:H28) -> 0 | J28: =COUNTIFS('Patrak C'!$E$9:$E$73,"=M",'Patrak C'!$F$9:$F$73,"=OBC",'Patrak C'!$BR$9:$BR$73,"=B") -> 1 | K28: =COUNTIFS('Patrak C'!$E$9:$E$73,"=F",'Patrak C'!$F$9:$F$73,"=OBC",'Patrak C'!$BR$9:$BR$73,"=B") -> 0 | L28: =SUM(J28:K28) -> 1 | M28: =COUNTIFS('Patrak C'!$E$9:$E$73,"=M",'Patrak C'!$F$9:$F$73,"=OBC",'Patrak C'!$BR$9:$BR$73,"=C") -> 0 | N28: =COUNTIFS('Patrak C'!$E$9:$E$73,"=F",'Patrak C'!$F$9:$F$73,"=OBC",'Patrak C'!$BR$9:$BR$73,"=C") -> 0 | O28: =SUM(M28:N28) -> 0 | P28: =COUNTIFS('Patrak C'!$E$9:$E$73,"=M",'Patrak C'!$F$9:$F$73,"=OBC",'Patrak C'!$BR$9:$BR$73,"=D") -> 0 | Q28: =COUNTIFS('Patrak C'!$E$9:$E$73,"=F",'Patrak C'!$F$9:$F$73,"=OBC",'Patrak C'!$BR$9:$BR$73,"=D") -> 0 | R28: =SUM(P28:Q28) -> 0 | S28: =COUNTIFS('Patrak C'!$E$9:$E$73,"=M",'Patrak C'!$F$9:$F$73,"=OBC",'Patrak C'!$BR$9:$BR$73,"=E") -> 0 | T28: =COUNTIFS('Patrak C'!$E$9:$E$73,"=F",'Patrak C'!$F$9:$F$73,"=OBC",'Patrak C'!$BR$9:$BR$73,"=E") -> 0 | U28: =SUM(S28:T28) -> 0
C29: અન્ય | D29: =G29+J29+M29+P29+S29 -> 1 | E29: =H29+K29+N29+Q29+T29 -> 0 | F29: =SUM(D29:E29) -> 1 | G29: =COUNTIFS('Patrak C'!$E$9:$E$73,"=M",'Patrak C'!$F$9:$F$73,"=OTHER",'Patrak C'!$BR$9:$BR$73,"=A") -> 0 | H29: =COUNTIFS('Patrak C'!$E$9:$E$73,"=F",'Patrak C'!$F$9:$F$73,"=OTHER",'Patrak C'!$BR$9:$BR$73,"=A") -> 0 | I29: =SUM(G29:H29) -> 0 | J29: =COUNTIFS('Patrak C'!$E$9:$E$73,"=M",'Patrak C'!$F$9:$F$73,"=OTHER",'Patrak C'!$BR$9:$BR$73,"=B") -> 0 | K29: =COUNTIFS('Patrak C'!$E$9:$E$73,"=F",'Patrak C'!$F$9:$F$73,"=OTHER",'Patrak C'!$BR$9:$BR$73,"=B") -> 0 | L29: =SUM(J29:K29) -> 0 | M29: =COUNTIFS('Patrak C'!$E$9:$E$73,"=M",'Patrak C'!$F$9:$F$73,"=OTHER",'Patrak C'!$BR$9:$BR$73,"=C") -> 1 | N29: =COUNTIFS('Patrak C'!$E$9:$E$73,"=F",'Patrak C'!$F$9:$F$73,"=OTHER",'Patrak C'!$BR$9:$BR$73,"=C") -> 0 | O29: =SUM(M29:N29) -> 1 | P29: =COUNTIFS('Patrak C'!$E$9:$E$73,"=M",'Patrak C'!$F$9:$F$73,"=OTHER",'Patrak C'!$BR$9:$BR$73,"=D") -> 0 | Q29: =COUNTIFS('Patrak C'!$E$9:$E$73,"=F",'Patrak C'!$F$9:$F$73,"=OTHER",'Patrak C'!$BR$9:$BR$73,"=D") -> 0 | R29: =SUM(P29:Q29) -> 0 | S29: =COUNTIFS('Patrak C'!$E$9:$E$73,"=M",'Patrak C'!$F$9:$F$73,"=OTHER",'Patrak C'!$BR$9:$BR$73,"=E") -> 0 | T29: =COUNTIFS('Patrak C'!$E$9:$E$73,"=F",'Patrak C'!$F$9:$F$73,"=OTHER",'Patrak C'!$BR$9:$BR$73,"=E") -> 0 | U29: =SUM(S29:T29) -> 0
C30: કુલ | D30: =SUM(D26:D29) -> 2 | E30: =SUM(E26:E29) -> 0 | F30: =SUM(F26:F29) -> 2 | G30: =SUM(G26:G29) -> 0 | H30: =SUM(H26:H29) -> 0 | I30: =SUM(I26:I29) -> 0 | J30: =SUM(J26:J29) -> 1 | K30: =SUM(K26:K29) -> 0 | ... U30: =SUM(U26:U29) -> 0
C32: વર્ગશિક્ષકની સહી | Q32: આચાર્યની સહી
B35: www.hiteshahjoliya.blogspot.com | P35: Format By - Hitesh Ahjoliya

Sheet Patrak B
A1: Print On A4 Paper
B3: પત્રક - B વ્યક્તિત્વ વિકાસ પત્રક
B4: ધોરણ :- | D4: ='School Data'!B23 -> 7 | G4: વર્ગ:- | I4: ='School Data'!B24 -> - | W4: વર્ષ:- | Y4: ='School Data'!B25 -> 2025-26 | AJ4: www.hiteshahjoliya.blogspot.com
B5: ક્રમ | C5: વિદ્યાર્થીનું નામ | D5: સત્ર | E5: ક્ષેત્ર - 1 | J5: ક્ષેત્ર -2 | O5: ક્ષેત્ર - 3 વિદ્યાર્થીના રસના ક્ષેત્રો | AB5: ક્ષેત્ર - 4 | AI5: ક્ષેત્ર - 5 ભારતીય જ્ઞાન પ્રણાલી | AS5: કુલ ગુણ સત્ર-1 | AT5: કુલ ગુણ સત્ર-2 | AU5: સરેરાશ ગુણ ( બન્ને સત્રના આધારે વર્ષાંતે )
E6: વ્યક્તિગત અને સમાજિક ગુણો | J6: વિદ્યાર્થીના વલણો | O6: સાહિત્ય | R6: સંગીત અને કલા | V6: શારીરિક શિક્ષણ અને યોગ | Z6: સા. શિક્ષણ/યોગ | AB6: સહ શૈ. પ્રવ્રુત્તિઓ | AE6: કાર્યાનુભવ
E8: પ્રાર્થના સંમેલનમાં નિયમિત સામેલ થાય છે. | F8: શાળાની સ્વચ્છતા જાળવે છે . | G8: બીજા વિદ્યાર્થીઓને મદદરુપ થાય છે. | H8: સોપેલુ કાર્ય સારી રીતે કરે છે . | I8: કોઇપણ કાર્ય કરવામા તત્પરતા દાખવે છે. | J8: શિક્ષણ પ્રત્યે હકારાત્મક વલણ ધરાવે છે . | K8: શાળા મિલકતની જાળવણી રાખે છે . | L8: સહાધ્યાયી પ્રત્યે સહયોગ દાખવે છે . | M8: વ્યક્તિગત સ્વચ્છતા અને સુઘડતા જાળવે છે . | N8: પર્યાવરણની સમતુલા જાળવવામાં ઉપયોગી થાય છે. | O8: ઇતર વાંચન | P8: ભાષાશુદ્ધિ સાથેનું મરોડદાર અક્ષરે લેખન | Q8: મૌલિક વાર્તા કથન / વક્તવ્ય | R8: ગાન / વાદન ( અભિનય, બાળગીત વગેરે ) | S8: નાટ્ય / નૃત્ય / વેશભુષા / અભિનય | T8: ચિત્રમા રેખાંકન સ્પષ્ટ અને સુંદર કરે છે . | U8: ચિત્રમા રંગપૂરણી સારી રીતે કરે છે . | V8: યોગિક ક્રિયાઓ ઉત્સાહપૂર્વક કરે છે. | W8: સરળ આસનો ઉત્સાહપૂર્વક કરે છે. | X8: સાંધિક રમતો કૌશલ્યપૂર્વક રમે છે. | Y8: ખેલકુદ અને જિમ્નાસ્ટિક લયબદ્ઘ રીતે કરે છે. | Z8: ઉત્સવ ઉજવણી | AA8: વિશેષ દિન ઉજવણી | AB8: પ્રશ્નમંચ ( ક્વિઝ ) માં ભાગીદારી | AC8: મૂલ્ય શિક્ષણની પ્રવ્રુતિઓમાં ભાગીદારી | AD8: વિવિધ સ્પર્ધાઓ | AE8: ઇકોક્લબની પ્રવ્રુત્તિઓ | AF8: પ્રવાસ / પર્યટન / મુલાકાત | AG8: માટીકામ / બાગકામ / શાળા સુશોભન | AH8: કાગળકામ / ટી.એલ. એમ નિર્માણમાં સહયોગ | AI8: અભ્યાસ સામગ્રીમાંથી ભા.સાં.વારસાની સમજમેળવેછે. | AJ8: શ્લોક કંઠસ્થ કરે છે અને સમૂહગાન કરે છે. | AK8: અભ્યાસ સામગ્રીને સંવાદ કે નાટક સ્વરૂપે રજૂ કરે છે. | AL8: અભ્યાસ સામગ્રી વિષયક ચિંતન અને તર્ક કરે છે. | AM8: સામગ્રીમાં રહેલા ભાવને ઓળખે છે અને રજૂ કરે છે. | AN8: અભ્યાસ સામગ્રી આ. વિવિધ પ્રવૃતિઓમાં ભાગ લે છે. | AO8: અ.સા.ના મૂલ્યો અને સિધ્ધાંતોને પોતાના જીવન સાથે સાંકળે છે | AP8: ભા. સંસ્કૃતિ અને જ્ઞા.પ્ર. ના મૂલ્યો વિશે સંવાદ/ચર્ચામાં ભાગલેછે | AQ8: અભ્યાસ સામગ્રી આધા. વિવિધ સ્પર્ધાઓમાં ભાગ લેછે. | AR8: વિવિધ શબ્દોના અર્થ સા. સંદર્ભ સહિત ઓળખે/જાણે છે.
E9: 1 | F9: 2 | G9: 3 | H9: 4 | I9: 5 | J9: 6 | K9: 7 | L9: 8 | M9: 9 | N9: 10 | O9: 11 | P9: 12 | Q9: 13 | R9: 14 | S9: 15 | T9: 16 | U9: 17 | V9: 18 | W9: 19 | X9: 20 | Y9: 21 | Z9: 22 | AA9: 23 | AB9: 24 | AC9: 25 | AD9: 26 | AE9: 27 | AF9: 28 | AG9: 29 | AH9: 30 | AI9: 31 | AJ9: 32 | AK9: 33 | AL9: 34 | AM9: 35 | AN9: 36 | AO9: 37 | AP9: 38 | AQ9: 39 | AR9: 40
B10: ='Student Data'!A8 -> 1 | C10: ='Student Data'!B8 -> રાજ ભીખાભાઈ સોલંકી | D10: 1 | E10: 8 | F10: 6 | G10: 7 | H10: 8 | I10: 9 | J10: 10 | AS10: =SUM(E10:AR10) -> 48 | AT10: =SUM(E11:AR11) -> 21 | AU10: =ROUND(AT10/2+AS10/2,0) -> 35
D11: 2 | E11: 1 | F11: 2 | G11: 3 | H11: 4 | I11: 5 | J11: 6
B12: ='Student Data'!A9 -> 2 | C12: =IF('Student Data'!B9="","",'Student Data'!B9) -> રમેશ | D12: 1 | E12: 9 | F12: 9 | G12: 9 | H12: 9 | I12: 9 | AS12: =IF(SUM(E12:AR12)=0,"",SUM(E12:AR12)) -> 45 | AT12: =IF(SUM(E13:AR13)=0,"",SUM(E13:AR13)) | AU12: =IF(AT12="",IF(AS12="","",ROUND(AS12/2,0)),IF(AS12="",ROUND(AT12/2,0),ROUND(AT12/2+AS12/2,0))) -> 23
D13: 2
B14: ='Student Data'!A10 | C14: =IF('Student Data'!B10="","",'Student Data'!B10) | D14: 1 | AS14: =IF(SUM(E14:AR14)=0,"",SUM(E14:AR14)) | AT14: =IF(SUM(E15:AR15)=0,"",SUM(E15:AR15)) | AU14: =IF(AT14="",IF(AS14="","",ROUND(AS14/2,0)),IF(AS14="",ROUND(AT14/2,0),ROUND(AT14/2+AS14/2,0)))
D15: 2
B16: ='Student Data'!A11 | C16: =IF('Student Data'!B11="","",'Student Data'!B11) | D16: 1 | AS16: =IF(SUM(E16:AR16)=0,"",SUM(E16:AR16)) | AT16: =IF(SUM(E17:AR17)=0,"",SUM(E17:AR17)) | AU16: =IF(AT16="",IF(AS16="","",ROUND(AS16/2,0)),IF(AS16="",ROUND(AT16/2,0),ROUND(AT16/2+AS16/2,0)))
D17: 2
B18: ='Student Data'!A12 | C18: =IF('Student Data'!B12="","",'Student Data'!B12) | D18: 1 | AS18: =IF(SUM(E18:AR18)=0,"",SUM(E18:AR18)) | AT18: =IF(SUM(E19:AR19)=0,"",SUM(E19:AR19)) | AU18: =IF(AT18="",IF(AS18="","",ROUND(AS18/2,0)),IF(AS18="",ROUND(AT18/2,0),ROUND(AT18/2+AS18/2,0)))
D19: 2
B20: ='Student Data'!A13 | C20: =IF('Student Data'!B13="","",'Student Data'!B13) | D20: 1 | AS20: =IF(SUM(E20:AR20)=0,"",SUM(E20:AR20)) | AT20: =IF(SUM(E21:AR21)=0,"",SUM(E21:AR21)) | AU20: =IF(AT20="",IF(AS20="","",ROUND(AS20/2,0)),IF(AS20="",ROUND(AT20/2,0),ROUND(AT20/2+AS20/2,0)))
D21: 2
B22: ='Student Data'!A14 | C22: =IF('Student Data'!B14="","",'Student Data'!B14) | D22: 1 | AS22: =IF(SUM(E22:AR22)=0,"",SUM(E22:AR22)) | AT22: =IF(SUM(E23:AR23)=0,"",SUM(E23:AR23)) | AU22: =IF(AT22="",IF(AS22="","",ROUND(AS22/2,0)),IF(AS22="",ROUND(AT22/2,0),ROUND(AT22/2+AS22/2,0)))
D23: 2
B24: ='Student Data'!A15 | C24: =IF('Student Data'!B15="","",'Student Data'!B15) | D24: 1 | AS24: =IF(SUM(E24:AR24)=0,"",SUM(E24:AR24)) | AT24: =IF(SUM(E25:AR25)=0,"",SUM(E25:AR25)) | AU24: =IF(AT24="",IF(AS24="","",ROUND(AS24/2,0)),IF(AS24="",ROUND(AT24/2,0),ROUND(AT24/2+AS24/2,0)))
D25: 2
B26: ='Student Data'!A16 | C26: =IF('Student Data'!B16="","",'Student Data'!B16) | D26: 1 | AS26: =IF(SUM(E26:AR26)=0,"",SUM(E26:AR26)) | AT26: =IF(SUM(E27:AR27)=0,"",SUM(E27:AR27)) | AU26: =IF(AT26="",IF(AS26="","",ROUND(AS26/2,0)),IF(AS26="",ROUND(AT26/2,0),ROUND(AT26/2+AS26/2,0)))
D27: 2
B28: ='Student Data'!A17 | C28: =IF('Student Data'!B17="","",'Student Data'!B17) | D28: 1 | AS28: =IF(SUM(E28:AR28)=0,"",SUM(E28:AR28)) | AT28: =IF(SUM(E29:AR29)=0,"",SUM(E29:AR29)) | AU28: =IF(AT28="",IF(AS28="","",ROUND(AS28/2,0)),IF(AS28="",ROUND(AT28/2,0),ROUND(AT28/2+AS28/2,0)))
D29: 2
B30: ='Student Data'!A18 | C30: =IF('Student Data'!B18="","",'Student Data'!B18) | D30: 1 | AS30: =IF(SUM(E30:AR30)=0,"",SUM(E30:AR30)) | AT30: =IF(SUM(E31:AR31)=0,"",SUM(E31:AR31)) | AU30: =IF(AT30="",IF(AS30="","",ROUND(AS30/2,0)),IF(AS30="",ROUND(AT30/2,0),ROUND(AT30/2+AS30/2,0)))
D31: 2
B32: ='Student Data'!A19 | C32: =IF('Student Data'!B19="","",'Student Data'!B19) | D32: 1 | AS32: =IF(SUM(E32:AR32)=0,"",SUM(E32:AR32)) | AT32: =IF(SUM(E33:AR33)=0,"",SUM(E33:AR33)) | AU32: =IF(AT32="",IF(AS32="","",ROUND(AS32/2,0)),IF(AS32="",ROUND(AT32/2,0),ROUND(AT32/2+AS32/2,0)))
D33: 2
B34: ='Student Data'!A20 | C34: =IF('Student Data'!B20="","",'Student Data'!B20) | D34: 1 | AS34: =IF(SUM(E34:AR34)=0,"",SUM(E34:AR34)) | AT34: =IF(SUM(E35:AR35)=0,"",SUM(E35:AR35)) | AU34: =IF(AT34="",IF(AS34="","",ROUND(AS34/2,0)),IF(AS34="",ROUND(AT34/2,0),ROUND(AT34/2+AS34/2,0)))
D35: 2
B36: ='Student Data'!A21 | C36: =IF('Student Data'!B21="","",'Student Data'!B21) | D36: 1 | AS36: =IF(SUM(E36:AR36)=0,"",SUM(E36:AR36)) | AT36: =IF(SUM(E37:AR37)=0,"",SUM(E37:AR37)) | AU36: =IF(AT36="",IF(AS36="","",ROUND(AS36/2,0)),IF(AS36="",ROUND(AT36/2,0),ROUND(AT36/2+AS36/2,0)))
D37: 2
B38: ='Student Data'!A22 | C38: =IF('Student Data'!B22="","",'Student Data'!B22) | D38: 1 | AS38: =IF(SUM(E38:AR38)=0,"",SUM(E38:AR38)) | AT38: =IF(SUM(E39:AR39)=0,"",SUM(E39:AR39)) | AU38: =IF(AT38="",IF(AS38="","",ROUND(AS38/2,0)),IF(AS38="",ROUND(AT38/2,0),ROUND(AT38/2+AS38/2,0)))
D39: 2
B40: ='Student Data'!A23 | C40: =IF('Student Data'!B23="","",'Student Data'!B23) | D40: 1 | AS40: =IF(SUM(E40:AR40)=0,"",SUM(E40:AR40)) | AT40: =IF(SUM(E41:AR41)=0,"",SUM(E41:AR41)) | AU40: =IF(AT40="",IF(AS40="","",ROUND(AS40/2,0)),IF(AS40="",ROUND(AT40/2,0),ROUND(AT40/2+AS40/2,0)))
D41: 2
B42: ='Student Data'!A24 | C42: =IF('Student Data'!B24="","",'Student Data'!B24) | D42: 1 | AS42: =IF(SUM(E42:AR42)=0,"",SUM(E42:AR42)) | AT42: =IF(SUM(E43:AR43)=0,"",SUM(E43:AR43)) | AU42: =IF(AT42="",IF(AS42="","",ROUND(AS42/2,0)),IF(AS42="",ROUND(AT42/2,0),ROUND(AT42/2+AS42/2,0)))
D43: 2
B44: ='Student Data'!A25 | C44: =IF('Student Data'!B25="","",'Student Data'!B25) | D44: 1 | AS44: =IF(SUM(E44:AR44)=0,"",SUM(E44:AR44)) | AT44: =IF(SUM(E45:AR45)=0,"",SUM(E45:AR45)) | AU44: =IF(AT44="",IF(AS44="","",ROUND(AS44/2,0)),IF(AS44="",ROUND(AT44/2,0),ROUND(AT44/2+AS44/2,0)))
D45: 2
B46: ='Student Data'!A26 | C46: =IF('Student Data'!B26="","",'Student Data'!B26) | D46: 1 | AS46: =IF(SUM(E46:AR46)=0,"",SUM(E46:AR46)) | AT46: =IF(SUM(E47:AR47)=0,"",SUM(E47:AR47)) | AU46: =IF(AT46="",IF(AS46="","",ROUND(AS46/2,0)),IF(AS46="",ROUND(AT46/2,0),ROUND(AT46/2+AS46/2,0)))
D47: 2
B48: ='Student Data'!A27 | C48: =IF('Student Data'!B27="","",'Student Data'!B27) | D48: 1 | AS48: =IF(SUM(E48:AR48)=0,"",SUM(E48:AR48)) | AT48: =IF(SUM(E49:AR49)=0,"",SUM(E49:AR49)) | AU48: =IF(AT48="",IF(AS48="","",ROUND(AS48/2,0)),IF(AS48="",ROUND(AT48/2,0),ROUND(AT48/2+AS48/2,0)))
D49: 2
B50: ='Student Data'!A28 | C50: =IF('Student Data'!B28="","",'Student Data'!B28) | D50: 1 | AS50: =IF(SUM(E50:AR50)=0,"",SUM(E50:AR50)) | AT50: =IF(SUM(E51:AR51)=0,"",SUM(E51:AR51)) | AU50: =IF(AT50="",IF(AS50="","",ROUND(AS50/2,0)),IF(AS50="",ROUND(AT50/2,0),ROUND(AT50/2+AS50/2,0)))
D51: 2
B52: ='Student Data'!A29 | C52: =IF('Student Data'!B29="","",'Student Data'!B29) | D52: 1 | AS52: =IF(SUM(E52:AR52)=0,"",SUM(E52:AR52)) | AT52: =IF(SUM(E53:AR53)=0,"",SUM(E53:AR53)) | AU52: =IF(AT52="",IF(AS52="","",ROUND(AS52/2,0)),IF(AS52="",ROUND(AT52/2,0),ROUND(AT52/2+AS52/2,0)))
D53: 2
B54: ='Student Data'!A30 | C54: =IF('Student Data'!B30="","",'Student Data'!B30) | D54: 1 | AS54: =IF(SUM(E54:AR54)=0,"",SUM(E54:AR54)) | AT54: =IF(SUM(E55:AR55)=0,"",SUM(E55:AR55)) | AU54: =IF(AT54="",IF(AS54="","",ROUND(AS54/2,0)),IF(AS54="",ROUND(AT54/2,0),ROUND(AT54/2+AS54/2,0)))
D55: 2
B56: ='Student Data'!A31 | C56: =IF('Student Data'!B31="","",'Student Data'!B31) | D56: 1 | AS56: =IF(SUM(E56:AR56)=0,"",SUM(E56:AR56)) | AT56: =IF(SUM(E57:AR57)=0,"",SUM(E57:AR57)) | AU56: =IF(AT56="",IF(AS56="","",ROUND(AS56/2,0)),IF(AS56="",ROUND(AT56/2,0),ROUND(AT56/2+AS56/2,0)))
D57: 2
B58: ='Student Data'!A32 | C58: =IF('Student Data'!B32="","",'Student Data'!B32) | D58: 1 | AS58: =IF(SUM(E58:AR58)=0,"",SUM(E58:AR58)) | AT58: =IF(SUM(E59:AR59)=0,"",SUM(E59:AR59)) | AU58: =IF(AT58="",IF(AS58="","",ROUND(AS58/2,0)),IF(AS58="",ROUND(AT58/2,0),ROUND(AT58/2+AS58/2,0)))
D59: 2
B60: ='Student Data'!A33 | C60: =IF('Student Data'!B33="","",'Student Data'!B33) | D60: 1 | AS60: =IF(SUM(E60:AR60)=0,"",SUM(E60:AR60)) | AT60: =IF(SUM(E61:AR61)=0,"",SUM(E61:AR61)) | AU60: =IF(AT60="",IF(AS60="","",ROUND(AS60/2,0)),IF(AS60="",ROUND(AT60/2,0),ROUND(AT60/2+AS60/2,0)))
D61: 2
B62: ='Student Data'!A34 | C62: =IF('Student Data'!B34="","",'Student Data'!B34) | D62: 1 | AS62: =IF(SUM(E62:AR62)=0,"",SUM(E62:AR62)) | AT62: =IF(SUM(E63:AR63)=0,"",SUM(E63:AR63)) | AU62: =IF(AT62="",IF(AS62="","",ROUND(AS62/2,0)),IF(AS62="",ROUND(AT62/2,0),ROUND(AT62/2+AS62/2,0)))
D63: 2
B64: ='Student Data'!A35 | C64: =IF('Student Data'!B35="","",'Student Data'!B35) | D64: 1 | AS64: =IF(SUM(E64:AR64)=0,"",SUM(E64:AR64)) | AT64: =IF(SUM(E65:AR65)=0,"",SUM(E65:AR65)) | AU64: =IF(AT64="",IF(AS64="","",ROUND(AS64/2,0)),IF(AS64="",ROUND(AT64/2,0),ROUND(AT64/2+AS64/2,0)))
D65: 2
B66: ='Student Data'!A36 | C66: =IF('Student Data'!B36="","",'Student Data'!B36) | D66: 1 | AS66: =IF(SUM(E66:AR66)=0,"",SUM(E66:AR66)) | AT66: =IF(SUM(E67:AR67)=0,"",SUM(E67:AR67)) | AU66: =IF(AT66="",IF(AS66="","",ROUND(AS66/2,0)),IF(AS66="",ROUND(AT66/2,0),ROUND(AT66/2+AS66/2,0)))
D67: 2
B68: ='Student Data'!A37 | C68: =IF('Student Data'!B37="","",'Student Data'!B37) | D68: 1 | AS68: =IF(SUM(E68:AR68)=0,"",SUM(E68:AR68)) | AT68: =IF(SUM(E69:AR69)=0,"",SUM(E69:AR69)) | AU68: =IF(AT68="",IF(AS68="","",ROUND(AS68/2,0)),IF(AS68="",ROUND(AT68/2,0),ROUND(AT68/2+AS68/2,0)))
D69: 2
B70: ='Student Data'!A38 | C70: =IF('Student Data'!B38="","",'Student Data'!B38) | D70: 1 | AS70: =IF(SUM(E70:AR70)=0,"",SUM(E70:AR70)) | AT70: =IF(SUM(E71:AR71)=0,"",SUM(E71:AR71)) | AU70: =IF(AT70="",IF(AS70="","",ROUND(AS70/2,0)),IF(AS70="",ROUND(AT70/2,0),ROUND(AT70/2+AS70/2,0)))
D71: 2
B72: ='Student Data'!A39 | C72: =IF('Student Data'!B39="","",'Student Data'!B39) | D72: 1 | AS72: =IF(SUM(E72:AR72)=0,"",SUM(E72:AR72)) | AT72: =IF(SUM(E73:AR73)=0,"",SUM(E73:AR73)) | AU72: =IF(AT72="",IF(AS72="","",ROUND(AS72/2,0)),IF(AS72="",ROUND(AT72/2,0),ROUND(AT72/2+AS72/2,0)))
D73: 2
B74: ='Student Data'!A40 | C74: =IF('Student Data'!B40="","",'Student Data'!B40) | D74: 1 | AS74: =IF(SUM(E74:AR74)=0,"",SUM(E74:AR74)) | AT74: =IF(SUM(E75:AR75)=0,"",SUM(E75:AR75)) | AU74: =IF(AT74="",IF(AS74="","",ROUND(AS74/2,0)),IF(AS74="",ROUND(AT74/2,0),ROUND(AT74/2+AS74/2,0)))
D75: 2
B76: ='Student Data'!A41 | C76: =IF('Student Data'!B41="","",'Student Data'!B41) | D76: 1 | AS76: =IF(SUM(E76:AR76)=0,"",SUM(E76:AR76)) | AT76: =IF(SUM(E77:AR77)=0,"",SUM(E77:AR77)) | AU76: =IF(AT76="",IF(AS76="","",ROUND(AS76/2,0)),IF(AS76="",ROUND(AT76/2,0),ROUND(AT76/2+AS76/2,0)))
D77: 2
B78: ='Student Data'!A42 | C78: =IF('Student Data'!B42="","",'Student Data'!B42) | D78: 1 | AS78: =IF(SUM(E78:AR78)=0,"",SUM(E78:AR78)) | AT78: =IF(SUM(E79:AR79)=0,"",SUM(E79:AR79)) | AU78: =IF(AT78="",IF(AS78="","",ROUND(AS78/2,0)),IF(AS78="",ROUND(AT78/2,0),ROUND(AT78/2+AS78/2,0)))
D79: 2
B80: ='Student Data'!A43 | C80: =IF('Student Data'!B43="","",'Student Data'!B43) | D80: 1 | AS80: =IF(SUM(E80:AR80)=0,"",SUM(E80:AR80)) | AT80: =IF(SUM(E81:AR81)=0,"",SUM(E81:AR81)) | AU80: =IF(AT80="",IF(AS80="","",ROUND(AS80/2,0)),IF(AS80="",ROUND(AT80/2,0),ROUND(AT80/2+AS80/2,0)))
D81: 2
B82: ='Student Data'!A44 | C82: =IF('Student Data'!B44="","",'Student Data'!B44) | D82: 1 | AS82: =IF(SUM(E82:AR82)=0,"",SUM(E82:AR82)) | AT82: =IF(SUM(E83:AR83)=0,"",SUM(E83:AR83)) | AU82: =IF(AT82="",IF(AS82="","",ROUND(AS82/2,0)),IF(AS82="",ROUND(AT82/2,0),ROUND(AT82/2+AS82/2,0)))
D83: 2
B84: ='Student Data'!A45 | C84: =IF('Student Data'!B45="","",'Student Data'!B45) | D84: 1 | AS84: =IF(SUM(E84:AR84)=0,"",SUM(E84:AR84)) | AT84: =IF(SUM(E85:AR85)=0,"",SUM(E85:AR85)) | AU84: =IF(AT84="",IF(AS84="","",ROUND(AS84/2,0)),IF(AS84="",ROUND(AT84/2,0),ROUND(AT84/2+AS84/2,0)))
D85: 2
B86: ='Student Data'!A46 | C86: =IF('Student Data'!B46="","",'Student Data'!B46) | D86: 1 | AS86: =IF(SUM(E86:AR86)=0,"",SUM(E86:AR86)) | AT86: =IF(SUM(E87:AR87)=0,"",SUM(E87:AR87)) | AU86: =IF(AT86="",IF(AS86="","",ROUND(AS86/2,0)),IF(AS86="",ROUND(AT86/2,0),ROUND(AT86/2+AS86/2,0)))
D87: 2
B88: ='Student Data'!A47 | C88: =IF('Student Data'!B47="","",'Student Data'!B47) | D88: 1 | AS88: =IF(SUM(E88:AR88)=0,"",SUM(E88:AR88)) | AT88: =IF(SUM(E89:AR89)=0,"",SUM(E89:AR89)) | AU88: =IF(AT88="",IF(AS88="","",ROUND(AS88/2,0)),IF(AS88="",ROUND(AT88/2,0),ROUND(AT88/2+AS88/2,0)))
D89: 2
B90: ='Student Data'!A48 | C90: =IF('Student Data'!B48="","",'Student Data'!B48) | D90: 1 | AS90: =IF(SUM(E90:AR90)=0,"",SUM(E90:AR90)) | AT90: =IF(SUM(E91:AR91)=0,"",SUM(E91:AR91)) | AU90: =IF(AT90="",IF(AS90="","",ROUND(AS90/2,0)),IF(AS90="",ROUND(AT90/2,0),ROUND(AT90/2+AS90/2,0)))
D91: 2
B92: ='Student Data'!A49 | C92: =IF('Student Data'!B49="","",'Student Data'!B49) | D92: 1 | AS92: =IF(SUM(E92:AR92)=0,"",SUM(E92:AR92)) | AT92: =IF(SUM(E93:AR93)=0,"",SUM(E93:AR93)) | AU92: =IF(AT92="",IF(AS92="","",ROUND(AS92/2,0)),IF(AS92="",ROUND(AT92/2,0),ROUND(AT92/2+AS92/2,0)))
D93: 2
B94: ='Student Data'!A50 | C94: =IF('Student Data'!B50="","",'Student Data'!B50) | D94: 1 | AS94: =IF(SUM(E94:AR94)=0,"",SUM(E94:AR94)) | AT94: =IF(SUM(E95:AR95)=0,"",SUM(E95:AR95)) | AU94: =IF(AT94="",IF(AS94="","",ROUND(AS94/2,0)),IF(AS94="",ROUND(AT94/2,0),ROUND(AT94/2+AS94/2,0)))
D95: 2
B96: ='Student Data'!A51 | C96: =IF('Student Data'!B51="","",'Student Data'!B51) | D96: 1 | AS96: =IF(SUM(E96:AR96)=0,"",SUM(E96:AR96)) | AT96: =IF(SUM(E97:AR97)=0,"",SUM(E97:AR97)) | AU96: =IF(AT96="",IF(AS96="","",ROUND(AS96/2,0)),IF(AS96="",ROUND(AT96/2,0),ROUND(AT96/2+AS96/2,0)))
D97: 2
B98: ='Student Data'!A52 | C98: =IF('Student Data'!B52="","",'Student Data'!B52) | D98: 1 | AS98: =IF(SUM(E98:AR98)=0,"",SUM(E98:AR98)) | AT98: =IF(SUM(E99:AR99)=0,"",SUM(E99:AR99)) | AU98: =IF(AT98="",IF(AS98="","",ROUND(AS98/2,0)),IF(AS98="",ROUND(AT98/2,0),ROUND(AT98/2+AS98/2,0)))
D99: 2
B100: ='Student Data'!A53 | C100: =IF('Student Data'!B53="","",'Student Data'!B53) | D100: 1 | AS100: =IF(SUM(E100:AR100)=0,"",SUM(E100:AR100)) | AT100: =IF(SUM(E101:AR101)=0,"",SUM(E101:AR101)) | AU100: =IF(AT100="",IF(AS100="","",ROUND(AS100/2,0)),IF(AS100="",ROUND(AT100/2,0),ROUND(AT100/2+AS100/2,0)))
D101: 2
B102: ='Student Data'!A54 | C102: =IF('Student Data'!B54="","",'Student Data'!B54) | D102: 1 | AS102: =IF(SUM(E102:AR102)=0,"",SUM(E102:AR102)) | AT102: =IF(SUM(E103:AR103)=0,"",SUM(E103:AR103)) | AU102: =IF(AT102="",IF(AS102="","",ROUND(AS102/2,0)),IF(AS102="",ROUND(AT102/2,0),ROUND(AT102/2+AS102/2,0)))
...

Sheet Patrak C
B1: પત્રક - C | D1: માત્ર રંગીન ભાગમાં જ ગુણ લખવા.
A3: www.hiteshahjoliya.blogspot.com | D3: પત્રક - C | L3: ધોરણ- | N3: ='School Data'!B23 -> 7 | O3: ='School Data'!B24 -> - | X3: =D3 -> પત્રક - C | AC3: ધોરણ- | AE3: ='School Data'!B23 -> 7 | AF3: ='School Data'!B24 -> - | AO3: =X3 -> પત્રક - C | AT3: ધોરણ- | AV3: ='School Data'!B23 -> 7 | AW3: ='School Data'!B24 -> - | AX3: =A3 -> www.hiteshahjoliya.blogspot.com | BO3: ધોરણ- | BQ3: ='School Data'!B23 -> 7 | BR3: ='School Data'!B24 -> -
H4: ગુજરાતી | Q4: ગણિત | Y4: હિન્દી | AH4: અંગ્રેજી | AP4: વિજ્ઞાન અને ટેક્નોલોજી | AY4: સામાજિક વિજ્ઞાન | BG4: સંસ્કૃત | BO4: પત્રક - B : વ્યક્તિત્વ વિકાસ પત્રક | BP4: ગ્રેડ | BQ4: તમામ વિષયોના + પત્રક B ના કુલ ગુણ | BR4: સરેરાશ ગ્રેડ | BS4: ટકા %
A5: ક્રમ | B5: વિદ્યાર્થીનુ નામ | C5: જ . ર . નંબર | D5: જન્મ તારીખ | G5: હાજર દિવસ | H5: પ્રથમ સત્ર | K5: દ્વિતીય સત્ર | N5: કુલ ગુણ 200 માથી મેળવેલ ગુણ | O5: ગ્રેડ | P5: ક્રમ | Q5: પ્રથમ સત્ર | T5: દ્વિતીય સત્ર | W5: કુલ ગુણ 200 માથી મેળવેલ ગુણ | X5: ગ્રેડ | Y5: પ્રથમ સત્ર | AB5: દ્વિતીય સત્ર | AE5: કુલ ગુણ 200 માથી મેળવેલ ગુણ | AF5: ગ્રેડ | AG5: ક્રમ | AH5: પ્રથમ સત્ર | AK5: દ્વિતીય સત્ર | AN5: કુલ ગુણ 200 માથી મેળવેલ ગુણ | AO5: ગ્રેડ | AP5: પ્રથમ સત્ર | AS5: દ્વિતીય સત્ર | AV5: કુલ ગુણ 200 માથી મેળવેલ ગુણ | AW5: ગ્રેડ | AX5: ક્રમ | AY5: પ્રથમ સત્ર | BB5: દ્વિતીય સત્ર | BE5: કુલ ગુણ 200 માથી મેળવેલ ગુણ | BF5: ગ્રેડ | BG5: પ્રથમ સત્ર | BJ5: દ્વિતીય સત્ર | BM5: કુલ ગુણ 200 માથી મેળવેલ ગુણ | BN5: ગ્રેડ
E6: ='Student Data'!E7 -> જાતિ M/F | F6: ='Student Data'!F7 -> જ્ઞાતિ | H6: રચનાત્મક મૂલ્યાંકન | I6: સંત્રાત મૂલ્યાંકન | J6: સ્વ-અધ્યયન કાર્યના આધારે મૂલ્યાંકન | K6: રચનાત્મક મૂલ્યાંકન | L6: સંત્રાત મૂલ્યાંકન | M6: =J6 -> સ્વ-અધ્યયન કાર્યના આધારે મૂલ્યાંકન | Q6: રચનાત્મક મૂલ્યાંકન | R6: સંત્રાત મૂલ્યાંકન | S6: સ્વ-અધ્યયન કાર્યના આધારે મૂલ્યાંકન | T6: રચનાત્મક મૂલ્યાંકન | U6: સંત્રાત મૂલ્યાંકન | V6: સ્વ-અધ્યયન કાર્યના આધારે મૂલ્યાંકન | Y6: રચનાત્મક મૂલ્યાંકન | Z6: સંત્રાત મૂલ્યાંકન | AA6: સ્વ-અધ્યયન કાર્યના આધારે મૂલ્યાંકન | AB6: રચનાત્મક મૂલ્યાંકન | AC6: સંત્રાત મૂલ્યાંકન | AD6: સ્વ-અધ્યયન કાર્યના આધારે મૂલ્યાંકન | AH6: રચનાત્મક મૂલ્યાંકન | AI6: સંત્રાત મૂલ્યાંકન | AJ6: સ્વ-અધ્યયન કાર્યના આધારે મૂલ્યાંકન | AK6: રચનાત્મક મૂલ્યાંકન | AL6: સંત્રાત મૂલ્યાંકન | AM6: સ્વ-અધ્યયન કાર્યના આધારે મૂલ્યાંકન | AP6: રચનાત્મક મૂલ્યાંકન | AQ6: સંત્રાત મૂલ્યાંકન | AR6: સ્વ-અધ્યયન કાર્યના આધારે મૂલ્યાંકન | AS6: રચનાત્મક મૂલ્યાંકન | AT6: સંત્રાત મૂલ્યાંકન | AU6: સ્વ-અધ્યયન કાર્યના આધારે મૂલ્યાંકન | AY6: રચનાત્મક મૂલ્યાંકન | AZ6: સંત્રાત મૂલ્યાંકન | BA6: સ્વ-અધ્યયન કાર્યના આધારે મૂલ્યાંકન | BB6: રચનાત્મક મૂલ્યાંકન | BC6: સંત્રાત મૂલ્યાંકન | BD6: સ્વ-અધ્યયન કાર્યના આધારે મૂલ્યાંકન | BG6: રચનાત્મક મૂલ્યાંકન | BH6: સંત્રાત મૂલ્યાંકન | BI6: સ્વ-અધ્યયન કાર્યના આધારે મૂલ્યાંકન | BJ6: રચનાત્મક મૂલ્યાંકન | BK6: સંત્રાત મૂલ્યાંકન | BL6: સ્વ-અધ્યયન કાર્યના આધારે મૂલ્યાંકન
H7: 40 ગુણ | I7: 40 ગુણ | J7: 20 ગુણ | K7: 40 ગુણ | L7: 40 ગુણ | M7: 20 ગુણ | Q7: 40 ગુણ | R7: 40 ગુણ | S7: 20 ગુણ | T7: 40 ગુણ | U7: 40 ગુણ | V7: 20 ગુણ | Y7: 40 ગુણ | Z7: 40 ગુણ | AA7: 20 ગુણ | AB7: 40 ગુણ | AC7: 40 ગુણ | AD7: 20 ગુણ | AH7: 40 ગુણ | AI7: 40 ગુણ | AJ7: 20 ગુણ | AK7: 40 ગુણ | AL7: 40 ગુણ | AM7: 20 ગુણ | AP7: 40 ગુણ | AQ7: 40 ગુણ | AR7: 20 ગુણ | AS7: 40 ગુણ | AT7: 40 ગુણ | AU7: 20 ગુણ | AY7: 40 ગુણ | AZ7: 40 ગુણ | BA7: 20 ગુણ | BB7: 40 ગુણ | BC7: 40 ગુણ | BD7: 20 ગુણ | BG7: 40 ગુણ | BH7: 40 ગુણ | BI7: 20 ગુણ | BJ7: 40 ગુણ | BK7: 40 ગુણ | BL7: 20 ગુણ | BO7: 400 | BQ7: 1800
A8: 1 | B8: 2 | C8: 3 | D8: 4 | G8: 5 | H8: 6 | I8: 7 | J8: 8 | K8: 9 | L8: 10 | M8: 11 | N8: 12 | O8: 13 | P8: 14 | Q8: 15 | R8: 16 | S8: 17 | T8: 18 | U8: 19 | V8: 20 | W8: 21 | X8: 22 | Y8: 23 | Z8: 24 | AA8: 25 | AB8: 26 | AC8: 27 | AD8: 28 | AE8: 29 | AF8: 30 | AG8: 31 | AH8: 32 | AI8: 33 | AJ8: 34 | AK8: 35 | AL8: 36 | AM8: 37 | AN8: 38 | AO8: 39 | AP8: 40 | AQ8: 41 | AR8: 42 | AS8: 43 | AT8: 44 | AU8: 45 | AV8: 46 | AW8: 47 | AX8: 48 | AY8: 49 | AZ8: 50 | BA8: 51 | BB8: 52 | BC8: 53 | BD8: 54 | BE8: 55 | BF8: 56 | BG8: 57 | BH8: 58 | BI8: 59 | BJ8: 60 | BK8: 61 | BL8: 62 | BM8: 63 | BN8: 64 | BO8: 65 | BP8: 66 | BQ8: 67 | BR8: 68 | BS8: 69
A9: ='Student Data'!A8 -> 1 | B9: ='Student Data'!B8 -> રાજ ભીખાભાઈ સોલંકી | C9: ='Student Data'!C8 -> 1234 | D9: ='Student Data'!D8 -> 38479 | E9: ='Student Data'!E8 -> M | F9: ='Student Data'!F8 -> OBC | G9: ='Student Data'!G8 -> - | H9: 40 | I9: 40 | J9: 20 | K9: 40 | L9: 40 | M9: 20 | N9: =SUM(H9:M9) -> 200 | O9: =IF(N9>159,"A",IF(N9>129,"B",IF(N9>99,"C",IF(N9>69,"D",IF(N9<70,"E",))))) -> A | P9: =A9 -> 1 | Q9: 40 | R9: 40 | S9: 20 | T9: 40 | U9: 40 | V9: 20 | W9: =SUM(Q9:V9) -> 200 | X9: =IF(W9>159,"A",IF(W9>129,"B",IF(W9>99,"C",IF(W9>69,"D",IF(W9<70,"E",))))) -> A | Y9: 40 | Z9: 40 | AA9: 20 | AB9: 40 | AC9: 40 | AD9: 20 | AE9: =SUM(Y9:AD9) -> 200 | AF9: =IF(AE9>159,"A",IF(AE9>129,"B",IF(AE9>99,"C",IF(AE9>69,"D",IF(AE9<70,"E",))))) -> A | AG9: =A9 -> 1 | AH9: 40 | AI9: 40 | AJ9: 20 | AK9: 40 | AL9: 40 | AM9: 20 | AN9: =SUM(AH9:AM9) -> 200 | AO9: =IF(AN9>159,"A",IF(AN9>129,"B",IF(AN9>99,"C",IF(AN9>69,"D",IF(AN9<70,"E",))))) -> A | AP9: 40 | AQ9: 40 | AR9: 20 | AS9: 40 | AT9: 40 | AU9: 20 | AV9: =SUM(AP9:AU9) -> 200 | AW9: =IF(AV9>159,"A",IF(AV9>129,"B",IF(AV9>99,"C",IF(AV9>69,"D",IF(AV9<70,"E",))))) -> A | AX9: =A9 -> 1 | AY9: 40 | AZ9: 40 | BA9: 20 | BB9: 40 | BC9: 40 | BD9: 20 | BE9: =SUM(AY9:BD9) -> 200 | BF9: =IF(BE9>159,"A",IF(BE9>129,"B",IF(BE9>99,"C",IF(BE9>69,"D",IF(BE9<70,"E",))))) -> A | BG9: 40 | BH9: 40 | BI9: 20 | BJ9: 40 | BK9: 40 | BL9: 20 | BM9: =SUM(BG9:BL9) -> 200 | BN9: =IF(BM9>159,"A",IF(BM9>129,"B",IF(BM9>99,"C",IF(BM9>69,"D",IF(BM9<70,"E",))))) -> A | BO9: ='Patrak B'!AU10 -> 35 | BP9: =IF(BO9>319,"A",IF(BO9>259,"B",IF(BO9>199,"C",IF(BO9>139,"D",IF(BO9<140,"E",))))) -> E | BQ9: =N9+W9+AE9+AN9+AV9+BE9+BM9+BO9 -> 1435 | BR9: =IF(BQ9>1439,"A",IF(BQ9>1169,"B",IF(BQ9>899,"C",IF(BQ9>629,"D",IF(BQ9<630,"E",))))) -> B | BS9: =IF(OR(ISBLANK(BQ9), BQ9=0, BQ9=""), "", BQ9*100/$BQ$7) -> 79.722222
A10: ='Student Data'!A9 -> 2 | B10: =IF('Student Data'!B9="","",'Student Data'!B9) -> રમેશ | C10: =IF('Student Data'!C9="","",'Student Data'!C9) -> 5678 | D10: =IF('Student Data'!D9="","",'Student Data'!D9) -> 38719 | E10: ='Student Data'!E9 -> M | F10: ='Student Data'!F9 -> OTHER | G10: =IF('Student Data'!G9="","",'Student Data'!G9) -> - | H10: 30 | I10: 30 | J10: 10 | K10: 30 | L10: 30 | M10: 10 | N10: =IF((AND(H10="",I10="",J10="",K10="",L10="",M10="")),"",SUM(H10:M10)) -> 140 | O10: =IF(N10="","",IF(N10>159,"A",IF(N10>129,"B",IF(N10>99,"C",IF(N10>69,"D",IF(N10<70,"E",)))))) -> B | P10: =A10 -> 2 | Q10: 30 | R10: 30 | S10: 10 | T10: 30 | U10: 30 | V10: 10 | W10: =IF((AND(Q10="",R10="",S10="",T10="",U10="",V10="")),"",SUM(Q10:V10)) -> 140 | X10: =IF(W10="","",IF(W10>159,"A",IF(W10>129,"B",IF(W10>99,"C",IF(W10>69,"D",IF(W10<70,"E",)))))) -> B | Y10: 30 | Z10: 30 | AA10: 10 | AB10: 30 | AC10: 30 | AD10: 10 | AE10: =IF((AND(Y10="",Z10="",AA10="",AB10="",AC10="",AD10="")),"",SUM(Y10:AD10)) -> 140 | AF10: =IF(AE10="","",IF(AE10>159,"A",IF(AE10>129,"B",IF(AE10>99,"C",IF(AE10>69,"D",IF(AE10<70,"E",)))))) -> B | AG10: =A10 -> 2 | AH10: 30 | AI10: 30 | AJ10: 10 | AK10: 30 | AL10: 30 | AM10: 10 | AN10: =IF((AND(AH10="",AI10="",AJ10="",AK10="",AL10="",AM10="")),"",SUM(AH10:AM10)) -> 140 | AO10: =IF(AN10="","",IF(AN10>159,"A",IF(AN10>129,"B",IF(AN10>99,"C",IF(AN10>69,"D",IF(AN10<70,"E",)))))) -> B | AP10: 30 | AQ10: 30 | AR10: 10 | AS10: 30 | AT10: 30 | AU10: 10 | AV10: =IF((AND(AP10="",AQ10="",AR10="",AS10="",AT10="",AU10="")),"",SUM(AP10:AU10)) -> 140 | AW10: =IF(AV10="","",IF(AV10>159,"A",IF(AV10>129,"B",IF(AV10>99,"C",IF(AV10>69,"D",IF(AV10<70,"E",)))))) -> B | AX10: =A10 -> 2 | AY10: 30 | AZ10: 30 | BA10: 10 | BB10: 30 | BC10: 30 | BD10: 10 | BE10: =IF((AND(AY10="",AZ10="",BA10="",BB10="",BC10="",BD10="")),"",SUM(AY10:BD10)) -> 140 | BF10: =IF(BE10="","",IF(BE10>159,"A",IF(BE10>129,"B",IF(BE10>99,"C",IF(BE10>69,"D",IF(BE10<70,"E",)))))) -> B | BG10: 30 | BH10: 30 | BI10: 10 | BJ10: 30 | BK10: 30 | BL10: 10 | BM10: =IF((AND(BG10="",BH10="",BI10="",BJ10="",BK10="",BL10="")),"",SUM(BG10:BL10)) -> 140 | BN10: =IF(BM10="","",IF(BM10>159,"A",IF(BM10>129,"B",IF(BM10>99,"C",IF(BM10>69,"D",IF(BM10<70,"E",)))))) -> B | BO10: ='Patrak B'!AU12 -> 23 | BP10: =IF(BO10="","",IF(BO10>319,"A",IF(BO10>259,"B",IF(BO10>199,"C",IF(BO10>139,"D",IF(BO10<140,"E",)))))) -> E | BQ10: =IF(AND(N10="",W10="",AE10="",AN10="",AV10="",BE10="",BM10="",BO10=""),"",SUM(N10,W10,AE10,AN10,AV10,BE10,BM10,BO10)) -> 1003 | BR10: =IF(BQ10="","",IF(BQ10>1439,"A",IF(BQ10>1169,"B",IF(BQ10>899,"C",IF(BQ10>629,"D",IF(BQ10<630,"E",)))))) -> C | BS10: =IF(OR(ISBLANK(BQ10), BQ10=0, BQ10=""), "", BQ10*100/$BQ$7) -> 55.722222
A11: ='Student Data'!A10 | B11: =IF('Student Data'!B10="","",'Student Data'!B10) | C11: =IF('Student Data'!C10="","",'Student Data'!C10) | D11: =IF('Student Data'!D10="","",'Student Data'!D10) | E11: ='Student Data'!E10 -> F | F11: ='Student Data'!F10 -> ST | G11: =IF('Student Data'!G10="","",'Student Data'!G10) | N11: =IF((AND(H11="",I11="",J11="",K11="",L11="",M11="")),"",SUM(H11:M11)) | O11: =IF(N11="","",IF(N11>159,"A",IF(N11>129,"B",IF(N11>99,"C",IF(N11>69,"D",IF(N11<70,"E",)))))) | P11: =A11 | W11: =IF((AND(Q11="",R11="",S11="",T11="",U11="",V11="")),"",SUM(Q11:V11)) | X11: =IF(W11="","",IF(W11>159,"A",IF(W11>129,"B",IF(W11>99,"C",IF(W11>69,"D",IF(W11<70,"E",)))))) | AE11: =IF((AND(Y11="",Z11="",AA11="",AB11="",AC11="",AD11="")),"",SUM(Y11:AD11)) | AF11: =IF(AE11="","",IF(AE11>159,"A",IF(AE11>129,"B",IF(AE11>99,"C",IF(AE11>69,"D",IF(AE11<70,"E",)))))) | AG11: =A11 | AN11: =IF((AND(AH11="",AI11="",AJ11="",AK11="",AL11="",AM11="")),"",SUM(AH11:AM11)) | AO11: =IF(AN11="","",IF(AN11>159,"A",IF(AN11>129,"B",IF(AN11>99,"C",IF(AN11>69,"D",IF(AN11<70,"E",)))))) | AV11: =IF((AND(AP11="",AQ11="",AR11="",AS11="",AT11="",AU11="")),"",SUM(AP11:AU11)) | AW11: =IF(AV11="","",IF(AV11>159,"A",IF(AV11>129,"B",IF(AV11>99,"C",IF(AV11>69,"D",IF(AV11<70,"E",)))))) | AX11: =A11 | BE11: =IF((AND(AY11="",AZ11="",BA11="",BB11="",BC11="",BD11="")),"",SUM(AY11:BD11)) | BF11: =IF(BE11="","",IF(BE11>159,"A",IF(BE11>129,"B",IF(BE11>99,"C",IF(BE11>69,"D",IF(BE11<70,"E",)))))) | BM11: =IF((AND(BG11="",BH11="",BI11="",BJ11="",BK11="",BL11="")),"",SUM(BG11:BL11)) | BN11: =IF(BM11="","",IF(BM11>159,"A",IF(BM11>129,"B",IF(BM11>99,"C",IF(BM11>69,"D",IF(BM11<70,"E",)))))) | BO11: ='Patrak B'!AU14 | BP11: =IF(BO11="","",IF(BO11>319,"A",IF(BO11>259,"B",IF(BO11>199,"C",IF(BO11>139,"D",IF(BO11<140,"E",)))))) | BQ11: =IF(AND(N11="",W11="",AE11="",AN11="",AV11="",BE11="",BM11="",BO11=""),"",SUM(N11,W11,AE11,AN11,AV11,BE11,BM11,BO11)) | BR11: =IF(BQ11="","",IF(BQ11>1439,"A",IF(BQ11>1169,"B",IF(BQ11>899,"C",IF(BQ11>629,"D",IF(BQ11<630,"E",)))))) | BS11: =IF(OR(ISBLANK(BQ11), BQ11=0, BQ11=""), "", BQ11*100/$BQ$7)
A12: ='Student Data'!A11 | B12: =IF('Student Data'!B11="","",'Student Data'!B11) | C12: =IF('Student Data'!C11="","",'Student Data'!C11) | D12: =IF('Student Data'!D11="","",'Student Data'!D11) | E12: ='Student Data'!E11 -> M | F12: ='Student Data'!F11 -> ST | G12: =IF('Student Data'!G11="","",'Student Data'!G11) | N12: =IF((AND(H12="",I12="",J12="",K12="",L12="",M12="")),"",SUM(H12:M12)) | O12: =IF(N12="","",IF(N12>159,"A",IF(N12>129,"B",IF(N12>99,"C",IF(N12>69,"D",IF(N12<70,"E",)))))) | P12: =A12 | W12: =IF((AND(Q12="",R12="",S12="",T12="",U12="",V12="")),"",SUM(Q12:V12)) | X12: =IF(W12="","",IF(W12>159,"A",IF(W12>129,"B",IF(W12>99,"C",IF(W12>69,"D",IF(W12<70,"E",)))))) | AE12: =IF((AND(Y12="",Z12="",AA12="",AB12="",AC12="",AD12="")),"",SUM(Y12:AD12)) | AF12: =IF(AE12="","",IF(AE12>159,"A",IF(AE12>129,"B",IF(AE12>99,"C",IF(AE12>69,"D",IF(AE12<70,"E",)))))) | AG12: =A12 | AN12: =IF((AND(AH12="",AI12="",AJ12="",AK12="",AL12="",AM12="")),"",SUM(AH12:AM12)) | AO12: =IF(AN12="","",IF(AN12>159,"A",IF(AN12>129,"B",IF(AN12>99,"C",IF(AN12>69,"D",IF(AN12<70,"E",)))))) | AV12: =IF((AND(AP12="",AQ12="",AR12="",AS12="",AT12="",AU12="")),"",SUM(AP12:AU12)) | AW12: =IF(AV12="","",IF(AV12>159,"A",IF(AV12>129,"B",IF(AV12>99,"C",IF(AV12>69,"D",IF(AV12<70,"E",)))))) | AX12: =A12 | BE12: =IF((AND(AY12="",AZ12="",BA12="",BB12="",BC12="",BD12="")),"",SUM(AY12:BD12)) | BF12: =IF(BE12="","",IF(BE12>159,"A",IF(BE12>129,"B",IF(BE12>99,"C",IF(BE12>69,"D",IF(BE12<70,"E",)))))) | BM12: =IF((AND(BG12="",BH12="",BI12="",BJ12="",BK12="",BL12="")),"",SUM(BG12:BL12)) | BN12: =IF(BM12="","",IF(BM12>159,"A",IF(BM12>129,"B",IF(BM12>99,"C",IF(BM12>69,"D",IF(BM12<70,"E",)))))) | BO12: ='Patrak B'!AU16 | BP12: =IF(BO12="","",IF(BO12>319,"A",IF(BO12>259,"B",IF(BO12>199,"C",IF(BO12>139,"D",IF(BO12<140,"E",)))))) | BQ12: =IF(AND(N12="",W12="",AE12="",AN12="",AV12="",BE12="",BM12="",BO12=""),"",SUM(N12,W12,AE12,AN12,AV12,BE12,BM12,BO12)) | BR12: =IF(BQ12="","",IF(BQ12>1439,"A",IF(BQ12>1169,"B",IF(BQ12>899,"C",IF(BQ12>629,"D",IF(BQ12<630,"E",)))))) | BS12: =IF(OR(ISBLANK(BQ12), BQ12=0, BQ12=""), "", BQ12*100/$BQ$7)
A13: ='Student Data'!A12 | B13: =IF('Student Data'!B12="","",'Student Data'!B12) | C13: =IF('Student Data'!C12="","",'Student Data'!C12) | D13: =IF('Student Data'!D12="","",'Student Data'!D12) | E13: ='Student Data'!E12 -> M | F13: ='Student Data'!F12 -> SC | G13: =IF('Student Data'!G12="","",'Student Data'!G12) | N13: =IF((AND(H13="",I13="",J13="",K13="",L13="",M13="")),"",SUM(H13:M13)) | O13: =IF(N13="","",IF(N13>159,"A",IF(N13>129,"B",IF(N13>99,"C",IF(N13>69,"D",IF(N13<70,"E",)))))) | P13: =A13 | W13: =IF((AND(Q13="",R13="",S13="",T13="",U13="",V13="")),"",SUM(Q13:V13)) | X13: =IF(W13="","",IF(W13>159,"A",IF(W13>129,"B",IF(W13>99,"C",IF(W13>69,"D",IF(W13<70,"E",)))))) | AE13: =IF((AND(Y13="",Z13="",AA13="",AB13="",AC13="",AD13="")),"",SUM(Y13:AD13)) | AF13: =IF(AE13="","",IF(AE13>159,"A",IF(AE13>129,"B",IF(AE13>99,"C",IF(AE13>69,"D",IF(AE13<70,"E",)))))) | AG13: =A13 | AN13: =IF((AND(AH13="",AI13="",AJ13="",AK13="",AL13="",AM13="")),"",SUM(AH13:AM13)) | AO13: =IF(AN13="","",IF(AN13>159,"A",IF(AN13>129,"B",IF(AN13>99,"C",IF(AN13>69,"D",IF(AN13<70,"E",)))))) | AV13: =IF((AND(AP13="",AQ13="",AR13="",AS13="",AT13="",AU13="")),"",SUM(AP13:AU13)) | AW13: =IF(AV13="","",IF(AV13>159,"A",IF(AV13>129,"B",IF(AV13>99,"C",IF(AV13>69,"D",IF(AV13<70,"E",)))))) | AX13: =A13 | BE13: =IF((AND(AY13="",AZ13="",BA13="",BB13="",BC13="",BD13="")),"",SUM(AY13:BD13)) | BF13: =IF(BE13="","",IF(BE13>159,"A",IF(BE13>129,"B",IF(BE13>99,"C",IF(BE13>69,"D",IF(BE13<70,"E",)))))) | BM13: =IF((AND(BG13="",BH13="",BI13="",BJ13="",BK13="",BL13="")),"",SUM(BG13:BL13)) | BN13: =IF(BM13="","",IF(BM13>159,"A",IF(BM13>129,"B",IF(BM13>99,"C",IF(BM13>69,"D",IF(BM13<70,"E",)))))) | BO13: ='Patrak B'!AU18 | BP13: =IF(BO13="","",IF(BO13>319,"A",IF(BO13>259,"B",IF(BO13>199,"C",IF(BO13>139,"D",IF(BO13<140,"E",)))))) | BQ13: =IF(AND(N13="",W13="",AE13="",AN13="",AV13="",BE13="",BM13="",BO13=""),"",SUM(N13,W13,AE13,AN13,AV13,BE13,BM13,BO13)) | BR13: =IF(BQ13="","",IF(BQ13>1439,"A",IF(BQ13>1169,"B",IF(BQ13>899,"C",IF(BQ13>629,"D",IF(BQ13<630,"E",)))))) | BS13: =IF(OR(ISBLANK(BQ13), BQ13=0, BQ13=""), "", BQ13*100/$BQ$7)
A14: ='Student Data'!A13 | B14: =IF('Student Data'!B13="","",'Student Data'!B13) | C14: =IF('Student Data'!C13="","",'Student Data'!C13) | D14: =IF('Student Data'!D13="","",'Student Data'!D13) | E14: ='Student Data'!E13 -> M | F14: ='Student Data'!F13 -> OBC | G14: =IF('Student Data'!G13="","",'Student Data'!G13) | N14: =IF((AND(H14="",I14="",J14="",K14="",L14="",M14="")),"",SUM(H14:M14)) | O14: =IF(N14="","",IF(N14>159,"A",IF(N14>129,"B",IF(N14>99,"C",IF(N14>69,"D",IF(N14<70,"E",)))))) | P14: =A14 | W14: =IF((AND(Q14="",R14="",S14="",T14="",U14="",V14="")),"",SUM(Q14:V14)) | X14: =IF(W14="","",IF(W14>159,"A",IF(W14>129,"B",IF(W14>99,"C",IF(W14>69,"D",IF(W14<70,"E",)))))) | AE14: =IF((AND(Y14="",Z14="",AA14="",AB14="",AC14="",AD14="")),"",SUM(Y14:AD14)) | AF14: =IF(AE14="","",IF(AE14>159,"A",IF(AE14>129,"B",IF(AE14>99,"C",IF(AE14>69,"D",IF(AE14<70,"E",)))))) | AG14: =A14 | AN14: =IF((AND(AH14="",AI14="",AJ14="",AK14="",AL14="",AM14="")),"",SUM(AH14:AM14)) | AO14: =IF(AN14="","",IF(AN14>159,"A",IF(AN14>129,"B",IF(AN14>99,"C",IF(AN14>69,"D",IF(AN14<70,"E",)))))) | AV14: =IF((AND(AP14="",AQ14="",AR14="",AS14="",AT14="",AU14="")),"",SUM(AP14:AU14)) | AW14: =IF(AV14="","",IF(AV14>159,"A",IF(AV14>129,"B",IF(AV14>99,"C",IF(AV14>69,"D",IF(AV14<70,"E",)))))) | AX14: =A14 | BE14: =IF((AND(AY14="",AZ14="",BA14="",BB14="",BC14="",BD14="")),"",SUM(AY14:BD14)) | BF14: =IF(BE14="","",IF(BE14>159,"A",IF(BE14>129,"B",IF(BE14>99,"C",IF(BE14>69,"D",IF(BE14<70,"E",)))))) | BM14: =IF((AND(BG14="",BH14="",BI14="",BJ14="",BK14="",BL14="")),"",SUM(BG14:BL14)) | BN14: =IF(BM14="","",IF(BM14>159,"A",IF(BM14>129,"B",IF(BM14>99,"C",IF(BM14>69,"D",IF(BM14<70,"E",)))))) | BO14: ='Patrak B'!AU20 | BP14: =IF(BO14="","",IF(BO14>319,"A",IF(BO14>259,"B",IF(BO14>199,"C",IF(BO14>139,"D",IF(BO14<140,"E",)))))) | BQ14: =IF(AND(N14="",W14="",AE14="",AN14="",AV14="",BE14="",BM14="",BO14=""),"",SUM(N14,W14,AE14,AN14,AV14,BE14,BM14,BO14)) | BR14: =IF(BQ14="","",IF(BQ14>1439,"A",IF(BQ14>1169,"B",IF(BQ14>899,"C",IF(BQ14>629,"D",IF(BQ14<630,"E",)))))) | BS14: =IF(OR(ISBLANK(BQ14), BQ14=0, BQ14=""), "", BQ14*100/$BQ$7)
A15: ='Student Data'!A14 | B15: =IF('Student Data'!B14="","",'Student Data'!B14) | C15: =IF('Student Data'!C14="","",'Student Data'!C14) | D15: =IF('Student Data'!D14="","",'Student Data'!D14) | E15: ='Student Data'!E14 -> M | F15: ='Student Data'!F14 -> OTHER | G15: =IF('Student Data'!G14="","",'Student Data'!G14) | N15: =IF((AND(H15="",I15="",J15="",K15="",L15="",M15="")),"",SUM(H15:M15)) | O15: =IF(N15="","",IF(N15>159,"A",IF(N15>129,"B",IF(N15>99,"C",IF(N15>69,"D",IF(N15<70,"E",)))))) | P15: =A15 | W15: =IF((AND(Q15="",R15="",S15="",T15="",U15="",V15="")),"",SUM(Q15:V15)) | X15: =IF(W15="","",IF(W15>159,"A",IF(W15>129,"B",IF(W15>99,"C",IF(W15>69,"D",IF(W15<70,"E",)))))) | AE15: =IF((AND(Y15="",Z15="",AA15="",AB15="",AC15="",AD15="")),"",SUM(Y15:AD15)) | AF15: =IF(AE15="","",IF(AE15>159,"A",IF(AE15>129,"B",IF(AE15>99,"C",IF(AE15>69,"D",IF(AE15<70,"E",)))))) | AG15: =A15 | AN15: =IF((AND(AH15="",AI15="",AJ15="",AK15="",AL15="",AM15="")),"",SUM(AH15:AM15)) | AO15: =IF(AN15="","",IF(AN15>159,"A",IF(AN15>129,"B",IF(AN15>99,"C",IF(AN15>69,"D",IF(AN15<70,"E",)))))) | AV15: =IF((AND(AP15="",AQ15="",AR15="",AS15="",AT15="",AU15="")),"",SUM(AP15:AU15)) | AW15: =IF(AV15="","",IF(AV15>159,"A",IF(AV15>129,"B",IF(AV15>99,"C",IF(AV15>69,"D",IF(AV15<70,"E",)))))) | AX15: =A15 | BE15: =IF((AND(AY15="",AZ15="",BA15="",BB15="",BC15="",BD15="")),"",SUM(AY15:BD15)) | BF15: =IF(BE15="","",IF(BE15>159,"A",IF(BE15>129,"B",IF(BE15>99,"C",IF(BE15>69,"D",IF(BE15<70,"E",)))))) | BM15: =IF((AND(BG15="",BH15="",BI15="",BJ15="",BK15="",BL15="")),"",SUM(BG15:BL15)) | BN15: =IF(BM15="","",IF(BM15>159,"A",IF(BM15>129,"B",IF(BM15>99,"C",IF(BM15>69,"D",IF(BM15<70,"E",)))))) | BO15: ='Patrak B'!AU22 | BP15: =IF(BO15="","",IF(BO15>319,"A",IF(BO15>259,"B",IF(BO15>199,"C",IF(BO15>139,"D",IF(BO15<140,"E",)))))) | BQ15: =IF(AND(N15="",W15="",AE15="",AN15="",AV15="",BE15="",BM15="",BO15=""),"",SUM(N15,W15,AE15,AN15,AV15,BE15,BM15,BO15)) | BR15: =IF(BQ15="","",IF(BQ15>1439,"A",IF(BQ15>1169,"B",IF(BQ15>899,"C",IF(BQ15>629,"D",IF(BQ15<630,"E",)))))) | BS15: =IF(OR(ISBLANK(BQ15), BQ15=0, BQ15=""), "", BQ15*100/$BQ$7)
A16: ='Student Data'!A15 | B16: =IF('Student Data'!B15="","",'Student Data'!B15) | C16: =IF('Student Data'!C15="","",'Student Data'!C15) | D16: =IF('Student Data'!D15="","",'Student Data'!D15) | E16: ='Student Data'!E15 -> M | F16: ='Student Data'!F15 -> 0 | G16: =IF('Student Data'!G15="","",'Student Data'!G15) | N16: =IF((AND(H16="",I16="",J16="",K16="",L16="",M16="")),"",SUM(H16:M16)) | O16: =IF(N16="","",IF(N16>159,"A",IF(N16>129,"B",IF(N16>99,"C",IF(N16>69,"D",IF(N16<70,"E",)))))) | P16: =A16 | W16: =IF((AND(Q16="",R16="",S16="",T16="",U16="",V16="")),"",SUM(Q16:V16)) | X16: =IF(W16="","",IF(W16>159,"A",IF(W16>129,"B",IF(W16>99,"C",IF(W16>69,"D",IF(W16<70,"E",)))))) | AE16: =IF((AND(Y16="",Z16="",AA16="",AB16="",AC16="",AD16="")),"",SUM(Y16:AD16)) | AF16: =IF(AE16="","",IF(AE16>159,"A",IF(AE16>129,"B",IF(AE16>99,"C",IF(AE16>69,"D",IF(AE16<70,"E",)))))) | AG16: =A16 | AN16: =IF((AND(AH16="",AI16="",AJ16="",AK16="",AL16="",AM16="")),"",SUM(AH16:AM16)) | AO16: =IF(AN16="","",IF(AN16>159,"A",IF(AN16>129,"B",IF(AN16>99,"C",IF(AN16>69,"D",IF(AN16<70,"E",)))))) | AV16: =IF((AND(AP16="",AQ16="",AR16="",AS16="",AT16="",AU16="")),"",SUM(AP16:AU16)) | AW16: =IF(AV16="","",IF(AV16>159,"A",IF(AV16>129,"B",IF(AV16>99,"C",IF(AV16>69,"D",IF(AV16<70,"E",)))))) | AX16: =A16 | BE16: =IF((AND(AY16="",AZ16="",BA16="",BB16="",BC16="",BD16="")),"",SUM(AY16:BD16)) | BF16: =IF(BE16="","",IF(BE16>159,"A",IF(BE16>129,"B",IF(BE16>99,"C",IF(BE16>69,"D",IF(BE16<70,"E",)))))) | BM16: =IF((AND(BG16="",BH16="",BI16="",BJ16="",BK16="",BL16="")),"",SUM(BG16:BL16)) | BN16: =IF(BM16="","",IF(BM16>159,"A",IF(BM16>129,"B",IF(BM16>99,"C",IF(BM16>69,"D",IF(BM16<70,"E",)))))) | BO16: ='Patrak B'!AU24 | BP16: =IF(BO16="","",IF(BO16>319,"A",IF(BO16>259,"B",IF(BO16>199,"C",IF(BO16>139,"D",IF(BO16<140,"E",)))))) | BQ16: =IF(AND(N16="",W16="",AE16="",AN16="",AV16="",BE16="",BM16="",BO16=""),"",SUM(N16,W16,AE16,AN16,AV16,BE16,BM16,BO16)) | BR16: =IF(BQ16="","",IF(BQ16>1439,"A",IF(BQ16>1169,"B",IF(BQ16>899,"C",IF(BQ16>629,"D",IF(BQ16<630,"E",)))))) | BS16: =IF(OR(ISBLANK(BQ16), BQ16=0, BQ16=""), "", BQ16*100/$BQ$7)
A17: ='Student Data'!A16 | B17: =IF('Student Data'!B16="","",'Student Data'!B16) | C17: =IF('Student Data'!C16="","",'Student Data'!C16) | D17: =IF('Student Data'!D16="","",'Student Data'!D16) | E17: ='Student Data'!E16 -> M | F17: ='Student Data'!F16 -> 0 | G17: =IF('Student Data'!G16="","",'Student Data'!G16) | N17: =IF((AND(H17="",I17="",J17="",K17="",L17="",M17="")),"",SUM(H17:M17)) | O17: =IF(N17="","",IF(N17>159,"A",IF(N17>129,"B",IF(N17>99,"C",IF(N17>69,"D",IF(N17<70,"E",)))))) | P17: =A17 | W17: =IF((AND(Q17="",R17="",S17="",T17="",U17="",V17="")),"",SUM(Q17:V17)) | X17: =IF(W17="","",IF(W17>159,"A",IF(W17>129,"B",IF(W17>99,"C",IF(W17>69,"D",IF(W17<70,"E",)))))) | AE17: =IF((AND(Y17="",Z17="",AA17="",AB17="",AC17="",AD17="")),"",SUM(Y17:AD17)) | AF17: =IF(AE17="","",IF(AE17>159,"A",IF(AE17>129,"B",IF(AE17>99,"C",IF(AE17>69,"D",IF(AE17<70,"E",)))))) | AG17: =A17 | AN17: =IF((AND(AH17="",AI17="",AJ17="",AK17="",AL17="",AM17="")),"",SUM(AH17:AM17)) | AO17: =IF(AN17="","",IF(AN17>159,"A",IF(AN17>129,"B",IF(AN17>99,"C",IF(AN17>69,"D",IF(AN17<70,"E",)))))) | AV17: =IF((AND(AP17="",AQ17="",AR17="",AS17="",AT17="",AU17="")),"",SUM(AP17:AU17)) | AW17: =IF(AV17="","",IF(AV17>159,"A",IF(AV17>129,"B",IF(AV17>99,"C",IF(AV17>69,"D",IF(AV17<70,"E",)))))) | AX17: =A17 | BE17: =IF((AND(AY17="",AZ17="",BA17="",BB17="",BC17="",BD17="")),"",SUM(AY17:BD17)) | BF17: =IF(BE17="","",IF(BE17>159,"A",IF(BE17>129,"B",IF(BE17>99,"C",IF(BE17>69,"D",IF(BE17<70,"E",)))))) | BM17: =IF((AND(BG17="",BH17="",BI17="",BJ17="",BK17="",BL17="")),"",SUM(BG17:BL17)) | BN17: =IF(BM17="","",IF(BM17>159,"A",IF(BM17>129,"B",IF(BM17>99,"C",IF(BM17>69,"D",IF(BM17<70,"E",)))))) | BO17: ='Patrak B'!AU26 | BP17: =IF(BO17="","",IF(BO17>319,"A",IF(BO17>259,"B",IF(BO17>199,"C",IF(BO17>139,"D",IF(BO17<140,"E",)))))) | BQ17: =IF(AND(N17="",W17="",AE17="",AN17="",AV17="",BE17="",BM17="",BO17=""),"",SUM(N17,W17,AE17,AN17,AV17,BE17,BM17,BO17)) | BR17: =IF(BQ17="","",IF(BQ17>1439,"A",IF(BQ17>1169,"B",IF(BQ17>899,"C",IF(BQ17>629,"D",IF(BQ17<630,"E",)))))) | BS17: =IF(OR(ISBLANK(BQ17), BQ17=0, BQ17=""), "", BQ17*100/$BQ$7)
A18: ='Student Data'!A17 | B18: =IF('Student Data'!B17="","",'Student Data'!B17) | C18: =IF('Student Data'!C17="","",'Student Data'!C17) | D18: =IF('Student Data'!D17="","",'Student Data'!D17) | E18: ='Student Data'!E17 -> 0 | F18: ='Student Data'!F17 -> 0 | G18: =IF('Student Data'!G17="","",'Student Data'!G17) | N18: =IF((AND(H18="",I18="",J18="",K18="",L18="",M18="")),"",SUM(H18:M18)) | O18: =IF(N18="","",IF(N18>159,"A",IF(N18>129,"B",IF(N18>99,"C",IF(N18>69,"D",IF(N18<70,"E",)))))) | P18: =A18 | W18: =IF((AND(Q18="",R18="",S18="",T18="",U18="",V18="")),"",SUM(Q18:V18)) | X18: =IF(W18="","",IF(W18>159,"A",IF(W18>129,"B",IF(W18>99,"C",IF(W18>69,"D",IF(W18<70,"E",)))))) | AE18: =IF((AND(Y18="",Z18="",AA18="",AB18="",AC18="",AD18="")),"",SUM(Y18:AD18)) | AF18: =IF(AE18="","",IF(AE18>159,"A",IF(AE18>129,"B",IF(AE18>99,"C",IF(AE18>69,"D",IF(AE18<70,"E",)))))) | AG18: =A18 | AN18: =IF((AND(AH18="",AI18="",AJ18="",AK18="",AL18="",AM18="")),"",SUM(AH18:AM18)) | AO18: =IF(AN18="","",IF(AN18>159,"A",IF(AN18>129,"B",IF(AN18>99,"C",IF(AN18>69,"D",IF(AN18<70,"E",)))))) | AV18: =IF((AND(AP18="",AQ18="",AR18="",AS18="",AT18="",AU18="")),"",SUM(AP18:AU18)) | AW18: =IF(AV18="","",IF(AV18>159,"A",IF(AV18>129,"B",IF(AV18>99,"C",IF(AV18>69,"D",IF(AV18<70,"E",)))))) | AX18: =A18 | BE18: =IF((AND(AY18="",AZ18="",BA18="",BB18="",BC18="",BD18="")),"",SUM(AY18:BD18)) | BF18: =IF(BE18="","",IF(BE18>159,"A",IF(BE18>129,"B",IF(BE18>99,"C",IF(BE18>69,"D",IF(BE18<70,"E",)))))) | BM18: =IF((AND(BG18="",BH18="",BI18="",BJ18="",BK18="",BL18="")),"",SUM(BG18:BL18)) | BN18: =IF(BM18="","",IF(BM18>159,"A",IF(BM18>129,"B",IF(BM18>99,"C",IF(BM18>69,"D",IF(BM18<70,"E",)))))) | BO18: ='Patrak B'!AU28 | BP18: =IF(BO18="","",IF(BO18>319,"A",IF(BO18>259,"B",IF(BO18>199,"C",IF(BO18>139,"D",IF(BO18<140,"E",)))))) | BQ18: =IF(AND(N18="",W18="",AE18="",AN18="",AV18="",BE18="",BM18="",BO18=""),"",SUM(N18,W18,AE18,AN18,AV18,BE18,BM18,BO18)) | BR18: =IF(BQ18="","",IF(BQ18>1439,"A",IF(BQ18>1169,"B",IF(BQ18>899,"C",IF(BQ18>629,"D",IF(BQ18<630,"E",)))))) | BS18: =IF(OR(ISBLANK(BQ18), BQ18=0, BQ18=""), "", BQ18*100/$BQ$7)
A19: ='Student Data'!A18 | B19: =IF('Student Data'!B18="","",'Student Data'!B18) | C19: =IF('Student Data'!C18="","",'Student Data'!C18) | D19: =IF('Student Data'!D18="","",'Student Data'!D18) | E19: ='Student Data'!E18 -> 0 | F19: ='Student Data'!F18 -> 0 | G19: =IF('Student Data'!G18="","",'Student Data'!G18) | N19: =IF((AND(H19="",I19="",J19="",K19="",L19="",M19="")),"",SUM(H19:M19)) | O19: =IF(N19="","",IF(N19>159,"A",IF(N19>129,"B",IF(N19>99,"C",IF(N19>69,"D",IF(N19<70,"E",)))))) | P19: =A19 | W19: =IF((AND(Q19="",R19="",S19="",T19="",U19="",V19="")),"",SUM(Q19:V19)) | X19: =IF(W19="","",IF(W19>159,"A",IF(W19>129,"B",IF(W19>99,"C",IF(W19>69,"D",IF(W19<70,"E",)))))) | AE19: =IF((AND(Y19="",Z19="",AA19="",AB19="",AC19="",AD19="")),"",SUM(Y19:AD19)) | AF19: =IF(AE19="","",IF(AE19>159,"A",IF(AE19>129,"B",IF(AE19>99,"C",IF(AE19>69,"D",IF(AE19<70,"E",)))))) | AG19: =A19 | AN19: =IF((AND(AH19="",AI19="",AJ19="",AK19="",AL19="",AM19="")),"",SUM(AH19:AM19)) | AO19: =IF(AN19="","",IF(AN19>159,"A",IF(AN19>129,"B",IF(AN19>99,"C",IF(AN19>69,"D",IF(AN19<70,"E",)))))) | AV19: =IF((AND(AP19="",AQ19="",AR19="",AS19="",AT19="",AU19="")),"",SUM(AP19:AU19)) | AW19: =IF(AV19="","",IF(AV19>159,"A",IF(AV19>129,"B",IF(AV19>99,"C",IF(AV19>69,"D",IF(AV19<70,"E",)))))) | AX19: =A19 | BE19: =IF((AND(AY19="",AZ19="",BA19="",BB19="",BC19="",BD19="")),"",SUM(AY19:BD19)) | BF19: =IF(BE19="","",IF(BE19>159,"A",IF(BE19>129,"B",IF(BE19>99,"C",IF(BE19>69,"D",IF(BE19<70,"E",)))))) | BM19: =IF((AND(BG19="",BH19="",BI19="",BJ19="",BK19="",BL19="")),"",SUM(BG19:BL19)) | BN19: =IF(BM19="","",IF(BM19>159,"A",IF(BM19>129,"B",IF(BM19>99,"C",IF(BM19>69,"D",IF(BM19<70,"E",)))))) | BO19: ='Patrak B'!AU30 | BP19: =IF(BO19="","",IF(BO19>319,"A",IF(BO19>259,"B",IF(BO19>199,"C",IF(BO19>139,"D",IF(BO19<140,"E",)))))) | BQ19: =IF(AND(N19="",W19="",AE19="",AN19="",AV19="",BE19="",BM19="",BO19=""),"",SUM(N19,W19,AE19,AN19,AV19,BE19,BM19,BO19)) | BR19: =IF(BQ19="","",IF(BQ19>1439,"A",IF(BQ19>1169,"B",IF(BQ19>899,"C",IF(BQ19>629,"D",IF(BQ19<630,"E",)))))) | BS19: =IF(OR(ISBLANK(BQ19), BQ19=0, BQ19=""), "", BQ19*100/$BQ$7)
A20: ='Student Data'!A19 | B20: =IF('Student Data'!B19="","",'Student Data'!B19) | C20: =IF('Student Data'!C19="","",'Student Data'!C19) | D20: =IF('Student Data'!D19="","",'Student Data'!D19) | E20: ='Student Data'!E19 -> 0 | F20: ='Student Data'!F19 -> 0 | G20: =IF('Student Data'!G19="","",'Student Data'!G19) | N20: =IF((AND(H20="",I20="",J20="",K20="",L20="",M20="")),"",SUM(H20:M20)) | O20: =IF(N20="","",IF(N20>159,"A",IF(N20>129,"B",IF(N20>99,"C",IF(N20>69,"D",IF(N20<70,"E",)))))) | P20: =A20 | W20: =IF((AND(Q20="",R20="",S20="",T20="",U20="",V20="")),"",SUM(Q20:V20)) | X20: =IF(W20="","",IF(W20>159,"A",IF(W20>129,"B",IF(W20>99,"C",IF(W20>69,"D",IF(W20<70,"E",)))))) | AE20: =IF((AND(Y20="",Z20="",AA20="",AB20="",AC20="",AD20="")),"",SUM(Y20:AD20)) | AF20: =IF(AE20="","",IF(AE20>159,"A",IF(AE20>129,"B",IF(AE20>99,"C",IF(AE20>69,"D",IF(AE20<70,"E",)))))) | AG20: =A20 | AN20: =IF((AND(AH20="",AI20="",AJ20="",AK20="",AL20="",AM20="")),"",SUM(AH20:AM20)) | AO20: =IF(AN20="","",IF(AN20>159,"A",IF(AN20>129,"B",IF(AN20>99,"C",IF(AN20>69,"D",IF(AN20<70,"E",)))))) | AV20: =IF((AND(AP20="",AQ20="",AR20="",AS20="",AT20="",AU20="")),"",SUM(AP20:AU20)) | AW20: =IF(AV20="","",IF(AV20>159,"A",IF(AV20>129,"B",IF(AV20>99,"C",IF(AV20>69,"D",IF(AV20<70,"E",)))))) | AX20: =A20 | BE20: =IF((AND(AY20="",AZ20="",BA20="",BB20="",BC20="",BD20="")),"",SUM(AY20:BD20)) | BF20: =IF(BE20="","",IF(BE20>159,"A",IF(BE20>129,"B",IF(BE20>99,"C",IF(BE20>69,"D",IF(BE20<70,"E",)))))) | BM20: =IF((AND(BG20="",BH20="",BI20="",BJ20="",BK20="",BL20="")),"",SUM(BG20:BL20)) | BN20: =IF(BM20="","",IF(BM20>159,"A",IF(BM20>129,"B",IF(BM20>99,"C",IF(BM20>69,"D",IF(BM20<70,"E",)))))) | BO20: ='Patrak B'!AU32 | BP20: =IF(BO20="","",IF(BO20>319,"A",IF(BO20>259,"B",IF(BO20>199,"C",IF(BO20>139,"D",IF(BO20<140,"E",)))))) | BQ20: =IF(AND(N20="",W20="",AE20="",AN20="",AV20="",BE20="",BM20="",BO20=""),"",SUM(N20,W20,AE20,AN20,AV20,BE20,BM20,BO20)) | BR20: =IF(BQ20="","",IF(BQ20>1439,"A",IF(BQ20>1169,"B",IF(BQ20>899,"C",IF(BQ20>629,"D",IF(BQ20<630,"E",)))))) | BS20: =IF(OR(ISBLANK(BQ20), BQ20=0, BQ20=""), "", BQ20*100/$BQ$7)
A21: ='Student Data'!A20 | B21: =IF('Student Data'!B20="","",'Student Data'!B20) | C21: =IF('Student Data'!C20="","",'Student Data'!C20) | D21: =IF('Student Data'!D20="","",'Student Data'!D20) | E21: ='Student Data'!E20 -> 0 | F21: ='Student Data'!F20 -> 0 | G21: =IF('Student Data'!G20="","",'Student Data'!G20) | N21: =IF((AND(H21="",I21="",J21="",K21="",L21="",M21="")),"",SUM(H21:M21)) | O21: =IF(N21="","",IF(N21>159,"A",IF(N21>129,"B",IF(N21>99,"C",IF(N21>69,"D",IF(N21<70,"E",)))))) | P21: =A21 | W21: =IF((AND(Q21="",R21="",S21="",T21="",U21="",V21="")),"",SUM(Q21:V21)) | X21: =IF(W21="","",IF(W21>159,"A",IF(W21>129,"B",IF(W21>99,"C",IF(W21>69,"D",IF(W21<70,"E",)))))) | AE21: =IF((AND(Y21="",Z21="",AA21="",AB21="",AC21="",AD21="")),"",SUM(Y21:AD21)) | AF21: =IF(AE21="","",IF(AE21>159,"A",IF(AE21>129,"B",IF(AE21>99,"C",IF(AE21>69,"D",IF(AE21<70,"E",)))))) | AG21: =A21 | AN21: =IF((AND(AH21="",AI21="",AJ21="",AK21="",AL21="",AM21="")),"",SUM(AH21:AM21)) | AO21: =IF(AN21="","",IF(AN21>159,"A",IF(AN21>129,"B",IF(AN21>99,"C",IF(AN21>69,"D",IF(AN21<70,"E",)))))) | AV21: =IF((AND(AP21="",AQ21="",AR21="",AS21="",AT21="",AU21="")),"",SUM(AP21:AU21)) | AW21: =IF(AV21="","",IF(AV21>159,"A",IF(AV21>129,"B",IF(AV21>99,"C",IF(AV21>69,"D",IF(AV21<70,"E",)))))) | AX21: =A21 | BE21: =IF((AND(AY21="",AZ21="",BA21="",BB21="",BC21="",BD21="")),"",SUM(AY21:BD21)) | BF21: =IF(BE21="","",IF(BE21>159,"A",IF(BE21>129,"B",IF(BE21>99,"C",IF(BE21>69,"D",IF(BE21<70,"E",)))))) | BM21: =IF((AND(BG21="",BH21="",BI21="",BJ21="",BK21="",BL21="")),"",SUM(BG21:BL21)) | BN21: =IF(BM21="","",IF(BM21>159,"A",IF(BM21>129,"B",IF(BM21>99,"C",IF(BM21>69,"D",IF(BM21<70,"E",)))))) | BO21: ='Patrak B'!AU34 | BP21: =IF(BO21="","",IF(BO21>319,"A",IF(BO21>259,"B",IF(BO21>199,"C",IF(BO21>139,"D",IF(BO21<140,"E",)))))) | BQ21: =IF(AND(N21="",W21="",AE21="",AN21="",AV21="",BE21="",BM21="",BO21=""),"",SUM(N21,W21,AE21,AN21,AV21,BE21,BM21,BO21)) | BR21: =IF(BQ21="","",IF(BQ21>1439,"A",IF(BQ21>1169,"B",IF(BQ21>899,"C",IF(BQ21>629,"D",IF(BQ21<630,"E",)))))) | BS21: =IF(OR(ISBLANK(BQ21), BQ21=0, BQ21=""), "", BQ21*100/$BQ$7)
A22: ='Student Data'!A21 | B22: =IF('Student Data'!B21="","",'Student Data'!B21) | C22: =IF('Student Data'!C21="","",'Student Data'!C21) | D22: =IF('Student Data'!D21="","",'Student Data'!D21) | E22: ='Student Data'!E21 -> 0 | F22: ='Student Data'!F21 -> 0 | G22: =IF('Student Data'!G21="","",'Student Data'!G21) | N22: =IF((AND(H22="",I22="",J22="",K22="",L22="",M22="")),"",SUM(H22:M22)) | O22: =IF(N22="","",IF(N22>159,"A",IF(N22>129,"B",IF(N22>99,"C",IF(N22>69,"D",IF(N22<70,"E",)))))) | P22: =A22 | W22: =IF((AND(Q22="",R22="",S22="",T22="",U22="",V22="")),"",SUM(Q22:V22)) | X22: =IF(W22="","",IF(W22>159,"A",IF(W22>129,"B",IF(W22>99,"C",IF(W22>69,"D",IF(W22<70,"E",)))))) | AE22: =IF((AND(Y22="",Z22="",AA22="",AB22="",AC22="",AD22="")),"",SUM(Y22:AD22)) | AF22: =IF(AE22="","",IF(AE22>159,"A",IF(AE22>129,"B",IF(AE22>99,"C",IF(AE22>69,"D",IF(AE22<70,"E",)))))) | AG22: =A22 | AN22: =IF((AND(AH22="",AI22="",AJ22="",AK22="",AL22="",AM22="")),"",SUM(AH22:AM22)) | AO22: =IF(AN22="","",IF(AN22>159,"A",IF(AN22>129,"B",IF(AN22>99,"C",IF(AN22>69,"D",IF(AN22<70,"E",)))))) | AV22: =IF((AND(AP22="",AQ22="",AR22="",AS22="",AT22="",AU22="")),"",SUM(AP22:AU22)) | AW22: =IF(AV22="","",IF(AV22>159,"A",IF(AV22>129,"B",IF(AV22>99,"C",IF(AV22>69,"D",IF(AV22<70,"E",)))))) | AX22: =A22 | BE22: =IF((AND(AY22="",AZ22="",BA22="",BB22="",BC22="",BD22="")),"",SUM(AY22:BD22)) | BF22: =IF(BE22="","",IF(BE22>159,"A",IF(BE22>129,"B",IF(BE22>99,"C",IF(BE22>69,"D",IF(BE22<70,"E",)))))) | BM22: =IF((AND(BG22="",BH22="",BI22="",BJ22="",BK22="",BL22="")),"",SUM(BG22:BL22)) | BN22: =IF(BM22="","",IF(BM22>159,"A",IF(BM22>129,"B",IF(BM22>99,"C",IF(BM22>69,"D",IF(BM22<70,"E",)))))) | BO22: ='Patrak B'!AU36 | BP22: =IF(BO22="","",IF(BO22>319,"A",IF(BO22>259,"B",IF(BO22>199,"C",IF(BO22>139,"D",IF(BO22<140,"E",)))))) | BQ22: =IF(AND(N22="",W22="",AE22="",AN22="",AV22="",BE22="",BM22="",BO22=""),"",SUM(N22,W22,AE22,AN22,AV22,BE22,BM22,BO22)) | BR22: =IF(BQ22="","",IF(BQ22>1439,"A",IF(BQ22>1169,"B",IF(BQ22>899,"C",IF(BQ22>629,"D",IF(BQ22<630,"E",)))))) | BS22: =IF(OR(ISBLANK(BQ22), BQ22=0, BQ22=""), "", BQ22*100/$BQ$7)
A23: ='Student Data'!A22 | B23: =IF('Student Data'!B22="","",'Student Data'!B22) | C23: =IF('Student Data'!C22="","",'Student Data'!C22) | D23: =IF('Student Data'!D22="","",'Student Data'!D22) | E23: ='Student Data'!E22 -> 0 | F23: ='Student Data'!F22 -> 0 | G23: =IF('Student Data'!G22="","",'Student Data'!G22) | N23: =IF((AND(H23="",I23="",J23="",K23="",L23="",M23="")),"",SUM(H23:M23)) | O23: =IF(N23="","",IF(N23>159,"A",IF(N23>129,"B",IF(N23>99,"C",IF(N23>69,"D",IF(N23<70,"E",)))))) | P23: =A23 | W23: =IF((AND(Q23="",R23="",S23="",T23="",U23="",V23="")),"",SUM(Q23:V23)) | X23: =IF(W23="","",IF(W23>159,"A",IF(W23>129,"B",IF(W23>99,"C",IF(W23>69,"D",IF(W23<70,"E",)))))) | AE23: =IF((AND(Y23="",Z23="",AA23="",AB23="",AC23="",AD23="")),"",SUM(Y23:AD23)) | AF23: =IF(AE23="","",IF(AE23>159,"A",IF(AE23>129,"B",IF(AE23>99,"C",IF(AE23>69,"D",IF(AE23<70,"E",)))))) | AG23: =A23 | AN23: =IF((AND(AH23="",AI23="",AJ23="",AK23="",AL23="",AM23="")),"",SUM(AH23:AM23)) | AO23: =IF(AN23="","",IF(AN23>159,"A",IF(AN23>129,"B",IF(AN23>99,"C",IF(AN23>69,"D",IF(AN23<70,"E",)))))) | AV23: =IF((AND(AP23="",AQ23="",AR23="",AS23="",AT23="",AU23="")),"",SUM(AP23:AU23)) | AW23: =IF(AV23="","",IF(AV23>159,"A",IF(AV23>129,"B",IF(AV23>99,"C",IF(AV23>69,"D",IF(AV23<70,"E",)))))) | AX23: =A23 | BE23: =IF((AND(AY23="",AZ23="",BA23="",BB23="",BC23="",BD23="")),"",SUM(AY23:BD23)) | BF23: =IF(BE23="","",IF(BE23>159,"A",IF(BE23>129,"B",IF(BE23>99,"C",IF(BE23>69,"D",IF(BE23<70,"E",)))))) | BM23: =IF((AND(BG23="",BH23="",BI23="",BJ23="",BK23="",BL23="")),"",SUM(BG23:BL23)) | BN23: =IF(BM23="","",IF(BM23>159,"A",IF(BM23>129,"B",IF(BM23>99,"C",IF(BM23>69,"D",IF(BM23<70,"E",)))))) | BO23: ='Patrak B'!AU38 | BP23: =IF(BO23="","",IF(BO23>319,"A",IF(BO23>259,"B",IF(BO23>199,"C",IF(BO23>139,"D",IF(BO23<140,"E",)))))) | BQ23: =IF(AND(N23="",W23="",AE23="",AN23="",AV23="",BE23="",BM23="",BO23=""),"",SUM(N23,W23,AE23,AN23,AV23,BE23,BM23,BO23)) | BR23: =IF(BQ23="","",IF(BQ23>1439,"A",IF(BQ23>1169,"B",IF(BQ23>899,"C",IF(BQ23>629,"D",IF(BQ23<630,"E",)))))) | BS23: =IF(OR(ISBLANK(BQ23), BQ23=0, BQ23=""), "", BQ23*100/$BQ$7)
A24: ='Student Data'!A23 | B24: =IF('Student Data'!B23="","",'Student Data'!B23) | C24: =IF('Student Data'!C23="","",'Student Data'!C23) | D24: =IF('Student Data'!D23="","",'Student Data'!D23) | E24: ='Student Data'!E23 -> 0 | F24: ='Student Data'!F23 -> 0 | G24: =IF('Student Data'!G23="","",'Student Data'!G23) | N24: =IF((AND(H24="",I24="",J24="",K24="",L24="",M24="")),"",SUM(H24:M24)) | O24: =IF(N24="","",IF(N24>159,"A",IF(N24>129,"B",IF(N24>99,"C",IF(N24>69,"D",IF(N24<70,"E",)))))) | P24: =A24 | W24: =IF((AND(Q24="",R24="",S24="",T24="",U24="",V24="")),"",SUM(Q24:V24)) | X24: =IF(W24="","",IF(W24>159,"A",IF(W24>129,"B",IF(W24>99,"C",IF(W24>69,"D",IF(W24<70,"E",)))))) | AE24: =IF((AND(Y24="",Z24="",AA24="",AB24="",AC24="",AD24="")),"",SUM(Y24:AD24)) | AF24: =IF(AE24="","",IF(AE24>159,"A",IF(AE24>129,"B",IF(AE24>99,"C",IF(AE24>69,"D",IF(AE24<70,"E",)))))) | AG24: =A24 | AN24: =IF((AND(AH24="",AI24="",AJ24="",AK24="",AL24="",AM24="")),"",SUM(AH24:AM24)) | AO24: =IF(AN24="","",IF(AN24>159,"A",IF(AN24>129,"B",IF(AN24>99,"C",IF(AN24>69,"D",IF(AN24<70,"E",)))))) | AV24: =IF((AND(AP24="",AQ24="",AR24="",AS24="",AT24="",AU24="")),"",SUM(AP24:AU24)) | AW24: =IF(AV24="","",IF(AV24>159,"A",IF(AV24>129,"B",IF(AV24>99,"C",IF(AV24>69,"D",IF(AV24<70,"E",)))))) | AX24: =A24 | BE24: =IF((AND(AY24="",AZ24="",BA24="",BB24="",BC24="",BD24="")),"",SUM(AY24:BD24)) | BF24: =IF(BE24="","",IF(BE24>159,"A",IF(BE24>129,"B",IF(BE24>99,"C",IF(BE24>69,"D",IF(BE24<70,"E",)))))) | BM24: =IF((AND(BG24="",BH24="",BI24="",BJ24="",BK24="",BL24="")),"",SUM(BG24:BL24)) | BN24: =IF(BM24="","",IF(BM24>159,"A",IF(BM24>129,"B",IF(BM24>99,"C",IF(BM24>69,"D",IF(BM24<70,"E",)))))) | BO24: ='Patrak B'!AU40 | BP24: =IF(BO24="","",IF(BO24>319,"A",IF(BO24>259,"B",IF(BO24>199,"C",IF(BO24>139,"D",IF(BO24<140,"E",)))))) | BQ24: =IF(AND(N24="",W24="",AE24="",AN24="",AV24="",BE24="",BM24="",BO24=""),"",SUM(N24,W24,AE24,AN24,AV24,BE24,BM24,BO24)) | BR24: =IF(BQ24="","",IF(BQ24>1439,"A",IF(BQ24>1169,"B",IF(BQ24>899,"C",IF(BQ24>629,"D",IF(BQ24<630,"E",)))))) | BS24: =IF(OR(ISBLANK(BQ24), BQ24=0, BQ24=""), "", BQ24*100/$BQ$7)
A25: ='Student Data'!A24 | B25: =IF('Student Data'!B24="","",'Student Data'!B24) | C25: =IF('Student Data'!C24="","",'Student Data'!C24) | D25: =IF('Student Data'!D24="","",'Student Data'!D24) | E25: ='Student Data'!E24 -> 0 | F25: ='Student Data'!F24 -> 0 | G25: =IF('Student Data'!G24="","",'Student Data'!G24) | N25: =IF((AND(H25="",I25="",J25="",K25="",L25="",M25="")),"",SUM(H25:M25)) | O25: =IF(N25="","",IF(N25>159,"A",IF(N25>129,"B",IF(N25>99,"C",IF(N25>69,"D",IF(N25<70,"E",)))))) | P25: =A25 | W25: =IF((AND(Q25="",R25="",S25="",T25="",U25="",V25="")),"",SUM(Q25:V25)) | X25: =IF(W25="","",IF(W25>159,"A",IF(W25>129,"B",IF(W25>99,"C",IF(W25>69,"D",IF(W25<70,"E",)))))) | AE25: =IF((AND(Y25="",Z25="",AA25="",AB25="",AC25="",AD25="")),"",SUM(Y25:AD25)) | AF25: =IF(AE25="","",IF(AE25>159,"A",IF(AE25>129,"B",IF(AE25>99,"C",IF(AE25>69,"D",IF(AE25<70,"E",)))))) | AG25: =A25 | AN25: =IF((AND(AH25="",AI25="",AJ25="",AK25="",AL25="",AM25="")),"",SUM(AH25:AM25)) | AO25: =IF(AN25="","",IF(AN25>159,"A",IF(AN25>129,"B",IF(AN25>99,"C",IF(AN25>69,"D",IF(AN25<70,"E",)))))) | AV25: =IF((AND(AP25="",AQ25="",AR25="",AS25="",AT25="",AU25="")),"",SUM(AP25:AU25)) | AW25: =IF(AV25="","",IF(AV25>159,"A",IF(AV25>129,"B",IF(AV25>99,"C",IF(AV25>69,"D",IF(AV25<70,"E",)))))) | AX25: =A25 | BE25: =IF((AND(AY25="",AZ25="",BA25="",BB25="",BC25="",BD25="")),"",SUM(AY25:BD25)) | BF25: =IF(BE25="","",IF(BE25>159,"A",IF(BE25>129,"B",IF(BE25>99,"C",IF(BE25>69,"D",IF(BE25<70,"E",)))))) | BM25: =IF((AND(BG25="",BH25="",BI25="",BJ25="",BK25="",BL25="")),"",SUM(BG25:BL25)) | BN25: =IF(BM25="","",IF(BM25>159,"A",IF(BM25>129,"B",IF(BM25>99,"C",IF(BM25>69,"D",IF(BM25<70,"E",)))))) | BO25: ='Patrak B'!AU42 | BP25: =IF(BO25="","",IF(BO25>319,"A",IF(BO25>259,"B",IF(BO25>199,"C",IF(BO25>139,"D",IF(BO25<140,"E",)))))) | BQ25: =IF(AND(N25="",W25="",AE25="",AN25="",AV25="",BE25="",BM25="",BO25=""),"",SUM(N25,W25,AE25,AN25,AV25,BE25,BM25,BO25)) | BR25: =IF(BQ25="","",IF(BQ25>1439,"A",IF(BQ25>1169,"B",IF(BQ25>899,"C",IF(BQ25>629,"D",IF(BQ25<630,"E",)))))) | BS25: =IF(OR(ISBLANK(BQ25), BQ25=0, BQ25=""), "", BQ25*100/$BQ$7)
A26: ='Student Data'!A25 | B26: =IF('Student Data'!B25="","",'Student Data'!B25) | C26: =IF('Student Data'!C25="","",'Student Data'!C25) | D26: =IF('Student Data'!D25="","",'Student Data'!D25) | E26: ='Student Data'!E25 -> 0 | F26: ='Student Data'!F25 -> 0 | G26: =IF('Student Data'!G25="","",'Student Data'!G25) | N26: =IF((AND(H26="",I26="",J26="",K26="",L26="",M26="")),"",SUM(H26:M26)) | O26: =IF(N26="","",IF(N26>159,"A",IF(N26>129,"B",IF(N26>99,"C",IF(N26>69,"D",IF(N26<70,"E",)))))) | P26: =A26 | W26: =IF((AND(Q26="",R26="",S26="",T26="",U26="",V26="")),"",SUM(Q26:V26)) | X26: =IF(W26="","",IF(W26>159,"A",IF(W26>129,"B",IF(W26>99,"C",IF(W26>69,"D",IF(W26<70,"E",)))))) | AE26: =IF((AND(Y26="",Z26="",AA26="",AB26="",AC26="",AD26="")),"",SUM(Y26:AD26)) | AF26: =IF(AE26="","",IF(AE26>159,"A",IF(AE26>129,"B",IF(AE26>99,"C",IF(AE26>69,"D",IF(AE26<70,"E",)))))) | AG26: =A26 | AN26: =IF((AND(AH26="",AI26="",AJ26="",AK26="",AL26="",AM26="")),"",SUM(AH26:AM26)) | AO26: =IF(AN26="","",IF(AN26>159,"A",IF(AN26>129,"B",IF(AN26>99,"C",IF(AN26>69,"D",IF(AN26<70,"E",)))))) | AV26: =IF((AND(AP26="",AQ26="",AR26="",AS26="",AT26="",AU26="")),"",SUM(AP26:AU26)) | AW26: =IF(AV26="","",IF(AV26>159,"A",IF(AV26>129,"B",IF(AV26>99,"C",IF(AV26>69,"D",IF(AV26<70,"E",)))))) | AX26: =A26 | BE26: =IF((AND(AY26="",AZ26="",BA26="",BB26="",BC26="",BD26="")),"",SUM(AY26:BD26)) | BF26: =IF(BE26="","",IF(BE26>159,"A",IF(BE26>129,"B",IF(BE26>99,"C",IF(BE26>69,"D",IF(BE26<70,"E",)))))) | BM26: =IF((AND(BG26="",BH26="",BI26="",BJ26="",BK26="",BL26="")),"",SUM(BG26:BL26)) | BN26: =IF(BM26="","",IF(BM26>159,"A",IF(BM26>129,"B",IF(BM26>99,"C",IF(BM26>69,"D",IF(BM26<70,"E",)))))) | BO26: ='Patrak B'!AU44 | BP26: =IF(BO26="","",IF(BO26>319,"A",IF(BO26>259,"B",IF(BO26>199,"C",IF(BO26>139,"D",IF(BO26<140,"E",)))))) | BQ26: =IF(AND(N26="",W26="",AE26="",AN26="",AV26="",BE26="",BM26="",BO26=""),"",SUM(N26,W26,AE26,AN26,AV26,BE26,BM26,BO26)) | BR26: =IF(BQ26="","",IF(BQ26>1439,"A",IF(BQ26>1169,"B",IF(BQ26>899,"C",IF(BQ26>629,"D",IF(BQ26<630,"E",)))))) | BS26: =IF(OR(ISBLANK(BQ26), BQ26=0, BQ26=""), "", BQ26*100/$BQ$7)
A27: ='Student Data'!A26 | B27: =IF('Student Data'!B26="","",'Student Data'!B26) | C27: =IF('Student Data'!C26="","",'Student Data'!C26) | D27: =IF('Student Data'!D26="","",'Student Data'!D26) | E27: ='Student Data'!E26 -> 0 | F27: ='Student Data'!F26 -> 0 | G27: =IF('Student Data'!G26="","",'Student Data'!G26) | N27: =IF((AND(H27="",I27="",J27="",K27="",L27="",M27="")),"",SUM(H27:M27)) | O27: =IF(N27="","",IF(N27>159,"A",IF(N27>129,"B",IF(N27>99,"C",IF(N27>69,"D",IF(N27<70,"E",)))))) | P27: =A27 | W27: =IF((AND(Q27="",R27="",S27="",T27="",U27="",V27="")),"",SUM(Q27:V27)) | X27: =IF(W27="","",IF(W27>159,"A",IF(W27>129,"B",IF(W27>99,"C",IF(W27>69,"D",IF(W27<70,"E",)))))) | AE27: =IF((AND(Y27="",Z27="",AA27="",AB27="",AC27="",AD27="")),"",SUM(Y27:AD27)) | AF27: =IF(AE27="","",IF(AE27>159,"A",IF(AE27>129,"B",IF(AE27>99,"C",IF(AE27>69,"D",IF(AE27<70,"E",)))))) | AG27: =A27 | AN27: =IF((AND(AH27="",AI27="",AJ27="",AK27="",AL27="",AM27="")),"",SUM(AH27:AM27)) | AO27: =IF(AN27="","",IF(AN27>159,"A",IF(AN27>129,"B",IF(AN27>99,"C",IF(AN27>69,"D",IF(AN27<70,"E",)))))) | AV27: =IF((AND(AP27="",AQ27="",AR27="",AS27="",AT27="",AU27="")),"",SUM(AP27:AU27)) | AW27: =IF(AV27="","",IF(AV27>159,"A",IF(AV27>129,"B",IF(AV27>99,"C",IF(AV27>69,"D",IF(AV27<70,"E",)))))) | AX27: =A27 | BE27: =IF((AND(AY27="",AZ27="",BA27="",BB27="",BC27="",BD27="")),"",SUM(AY27:BD27)) | BF27: =IF(BE27="","",IF(BE27>159,"A",IF(BE27>129,"B",IF(BE27>99,"C",IF(BE27>69,"D",IF(BE27<70,"E",)))))) | BM27: =IF((AND(BG27="",BH27="",BI27="",BJ27="",BK27="",BL27="")),"",SUM(BG27:BL27)) | BN27: =IF(BM27="","",IF(BM27>159,"A",IF(BM27>129,"B",IF(BM27>99,"C",IF(BM27>69,"D",IF(BM27<70,"E",)))))) | BO27: ='Patrak B'!AU46 | BP27: =IF(BO27="","",IF(BO27>319,"A",IF(BO27>259,"B",IF(BO27>199,"C",IF(BO27>139,"D",IF(BO27<140,"E",)))))) | BQ27: =IF(AND(N27="",W27="",AE27="",AN27="",AV27="",BE27="",BM27="",BO27=""),"",SUM(N27,W27,AE27,AN27,AV27,BE27,BM27,BO27)) | BR27: =IF(BQ27="","",IF(BQ27>1439,"A",IF(BQ27>1169,"B",IF(BQ27>899,"C",IF(BQ27>629,"D",IF(BQ27<630,"E",)))))) | BS27: =IF(OR(ISBLANK(BQ27), BQ27=0, BQ27=""), "", BQ27*100/$BQ$7)
A28: ='Student Data'!A27 | B28: =IF('Student Data'!B27="","",'Student Data'!B27) | C28: =IF('Student Data'!C27="","",'Student Data'!C27) | D28: =IF('Student Data'!D27="","",'Student Data'!D27) | E28: ='Student Data'!E27 -> 0 | F28: ='Student Data'!F27 -> 0 | G28: =IF('Student Data'!G27="","",'Student Data'!G27) | N28: =IF((AND(H28="",I28="",J28="",K28="",L28="",M28="")),"",SUM(H28:M28)) | O28: =IF(N28="","",IF(N28>159,"A",IF(N28>129,"B",IF(N28>99,"C",IF(N28>69,"D",IF(N28<70,"E",)))))) | P28: =A28 | W28: =IF((AND(Q28="",R28="",S28="",T28="",U28="",V28="")),"",SUM(Q28:V28)) | X28: =IF(W28="","",IF(W28>159,"A",IF(W28>129,"B",IF(W28>99,"C",IF(W28>69,"D",IF(W28<70,"E",)))))) | AE28: =IF((AND(Y28="",Z28="",AA28="",AB28="",AC28="",AD28="")),"",SUM(Y28:AD28)) | AF28: =IF(AE28="","",IF(AE28>159,"A",IF(AE28>129,"B",IF(AE28>99,"C",IF(AE28>69,"D",IF(AE28<70,"E",)))))) | AG28: =A28 | AN28: =IF((AND(AH28="",AI28="",AJ28="",AK28="",AL28="",AM28="")),"",SUM(AH28:AM28)) | AO28: =IF(AN28="","",IF(AN28>159,"A",IF(AN28>129,"B",IF(AN28>99,"C",IF(AN28>69,"D",IF(AN28<70,"E",)))))) | AV28: =IF((AND(AP28="",AQ28="",AR28="",AS28="",AT28="",AU28="")),"",SUM(AP28:AU28)) | AW28: =IF(AV28="","",IF(AV28>159,"A",IF(AV28>129,"B",IF(AV28>99,"C",IF(AV28>69,"D",IF(AV28<70,"E",)))))) | AX28: =A28 | BE28: =IF((AND(AY28="",AZ28="",BA28="",BB28="",BC28="",BD28="")),"",SUM(AY28:BD28)) | BF28: =IF(BE28="","",IF(BE28>159,"A",IF(BE28>129,"B",IF(BE28>99,"C",IF(BE28>69,"D",IF(BE28<70,"E",)))))) | BM28: =IF((AND(BG28="",BH28="",BI28="",BJ28="",BK28="",BL28="")),"",SUM(BG28:BL28)) | BN28: =IF(BM28="","",IF(BM28>159,"A",IF(BM28>129,"B",IF(BM28>99,"C",IF(BM28>69,"D",IF(BM28<70,"E",)))))) | BO28: ='Patrak B'!AU48 | BP28: =IF(BO28="","",IF(BO28>319,"A",IF(BO28>259,"B",IF(BO28>199,"C",IF(BO28>139,"D",IF(BO28<140,"E",)))))) | BQ28: =IF(AND(N28="",W28="",AE28="",AN28="",AV28="",BE28="",BM28="",BO28=""),"",SUM(N28,W28,AE28,AN28,AV28,BE28,BM28,BO28)) | BR28: =IF(BQ28="","",IF(BQ28>1439,"A",IF(BQ28>1169,"B",IF(BQ28>899,"C",IF(BQ28>629,"D",IF(BQ28<630,"E",)))))) | BS28: =IF(OR(ISBLANK(BQ28), BQ28=0, BQ28=""), "", BQ28*100/$BQ$7)
A29: ='Student Data'!A28 | B29: =IF('Student Data'!B28="","",'Student Data'!B28) | C29: =IF('Student Data'!C28="","",'Student Data'!C28) | D29: =IF('Student Data'!D28="","",'Student Data'!D28) | E29: ='Student Data'!E28 -> 0 | F29: ='Student Data'!F28 -> 0 | G29: =IF('Student Data'!G28="","",'Student Data'!G28) | N29: =IF((AND(H29="",I29="",J29="",K29="",L29="",M29="")),"",SUM(H29:M29)) | O29: =IF(N29="","",IF(N29>159,"A",IF(N29>129,"B",IF(N29>99,"C",IF(N29>69,"D",IF(N29<70,"E",)))))) | P29: =A29 | W29: =IF((AND(Q29="",R29="",S29="",T29="",U29="",V29="")),"",SUM(Q29:V29)) | X29: =IF(W29="","",IF(W29>159,"A",IF(W29>129,"B",IF(W29>99,"C",IF(W29>69,"D",IF(W29<70,"E",)))))) | AE29: =IF((AND(Y29="",Z29="",AA29="",AB29="",AC29="",AD29="")),"",SUM(Y29:AD29)) | AF29: =IF(AE29="","",IF(AE29>159,"A",IF(AE29>129,"B",IF(AE29>99,"C",IF(AE29>69,"D",IF(AE29<70,"E",)))))) | AG29: =A29 | AN29: =IF((AND(AH29="",AI29="",AJ29="",AK29="",AL29="",AM29="")),"",SUM(AH29:AM29)) | AO29: =IF(AN29="","",IF(AN29>159,"A",IF(AN29>129,"B",IF(AN29>99,"C",IF(AN29>69,"D",IF(AN29<70,"E",)))))) | AV29: =IF((AND(AP29="",AQ29="",AR29="",AS29="",AT29="",AU29="")),"",SUM(AP29:AU29)) | AW29: =IF(AV29="","",IF(AV29>159,"A",IF(AV29>129,"B",IF(AV29>99,"C",IF(AV29>69,"D",IF(AV29<70,"E",)))))) | AX29: =A29 | BE29: =IF((AND(AY29="",AZ29="",BA29="",BB29="",BC29="",BD29="")),"",SUM(AY29:BD29)) | BF29: =IF(BE29="","",IF(BE29>159,"A",IF(BE29>129,"B",IF(BE29>99,"C",IF(BE29>69,"D",IF(BE29<70,"E",)))))) | BM29: =IF((AND(BG29="",BH29="",BI29="",BJ29="",BK29="",BL29="")),"",SUM(BG29:BL29)) | BN29: =IF(BM29="","",IF(BM29>159,"A",IF(BM29>129,"B",IF(BM29>99,"C",IF(BM29>69,"D",IF(BM29<70,"E",)))))) | BO29: ='Patrak B'!AU50 | BP29: =IF(BO29="","",IF(BO29>319,"A",IF(BO29>259,"B",IF(BO29>199,"C",IF(BO29>139,"D",IF(BO29<140,"E",)))))) | BQ29: =IF(AND(N29="",W29="",AE29="",AN29="",AV29="",BE29="",BM29="",BO29=""),"",SUM(N29,W29,AE29,AN29,AV29,BE29,BM29,BO29)) | BR29: =IF(BQ29="","",IF(BQ29>1439,"A",IF(BQ29>1169,"B",IF(BQ29>899,"C",IF(BQ29>629,"D",IF(BQ29<630,"E",)))))) | BS29: =IF(OR(ISBLANK(BQ29), BQ29=0, BQ29=""), "", BQ29*100/$BQ$7)
A30: ='Student Data'!A29 | B30: =IF('Student Data'!B29="","",'Student Data'!B29) | C30: =IF('Student Data'!C29="","",'Student Data'!C29) | D30: =IF('Student Data'!D29="","",'Student Data'!D29) | E30: ='Student Data'!E29 -> 0 | F30: ='Student Data'!F29 -> 0 | G30: =IF('Student Data'!G29="","",'Student Data'!G29) | N30: =IF((AND(H30="",I30="",J30="",K30="",L30="",M30="")),"",SUM(H30:M30)) | O30: =IF(N30="","",IF(N30>159,"A",IF(N30>129,"B",IF(N30>99,"C",IF(N30>69,"D",IF(N30<70,"E",)))))) | P30: =A30 | W30: =IF((AND(Q30="",R30="",S30="",T30="",U30="",V30="")),"",SUM(Q30:V30)) | X30: =IF(W30="","",IF(W30>159,"A",IF(W30>129,"B",IF(W30>99,"C",IF(W30>69,"D",IF(W30<70,"E",)))))) | AE30: =IF((AND(Y30="",Z30="",AA30="",AB30="",AC30="",AD30="")),"",SUM(Y30:AD30)) | AF30: =IF(AE30="","",IF(AE30>159,"A",IF(AE30>129,"B",IF(AE30>99,"C",IF(AE30>69,"D",IF(AE30<70,"E",)))))) | AG30: =A30 | AN30: =IF((AND(AH30="",AI30="",AJ30="",AK30="",AL30="",AM30="")),"",SUM(AH30:AM30)) | AO30: =IF(AN30="","",IF(AN30>159,"A",IF(AN30>129,"B",IF(AN30>99,"C",IF(AN30>69,"D",IF(AN30<70,"E",)))))) | AV30: =IF((AND(AP30="",AQ30="",AR30="",AS30="",AT30="",AU30="")),"",SUM(AP30:AU30)) | AW30: =IF(AV30="","",IF(AV30>159,"A",IF(AV30>129,"B",IF(AV30>99,"C",IF(AV30>69,"D",IF(AV30<70,"E",)))))) | AX30: =A30 | BE30: =IF((AND(AY30="",AZ30="",BA30="",BB30="",BC30="",BD30="")),"",SUM(AY30:BD30)) | BF30: =IF(BE30="","",IF(BE30>159,"A",IF(BE30>129,"B",IF(BE30>99,"C",IF(BE30>69,"D",IF(BE30<70,"E",)))))) | BM30: =IF((AND(BG30="",BH30="",BI30="",BJ30="",BK30="",BL30="")),"",SUM(BG30:BL30)) | BN30: =IF(BM30="","",IF(BM30>159,"A",IF(BM30>129,"B",IF(BM30>99,"C",IF(BM30>69,"D",IF(BM30<70,"E",)))))) | BO30: ='Patrak B'!AU52 | BP30: =IF(BO30="","",IF(BO30>319,"A",IF(BO30>259,"B",IF(BO30>199,"C",IF(BO30>139,"D",IF(BO30<140,"E",)))))) | BQ30: =IF(AND(N30="",W30="",AE30="",AN30="",AV30="",BE30="",BM30="",BO30=""),"",SUM(N30,W30,AE30,AN30,AV30,BE30,BM30,BO30)) | BR30: =IF(BQ30="","",IF(BQ30>1439,"A",IF(BQ30>1169,"B",IF(BQ30>899,"C",IF(BQ30>629,"D",IF(BQ30<630,"E",)))))) | BS30: =IF(OR(ISBLANK(BQ30), BQ30=0, BQ30=""), "", BQ30*100/$BQ$7)
A31: ='Student Data'!A30 | B31: =IF('Student Data'!B30="","",'Student Data'!B30) | C31: =IF('Student Data'!C30="","",'Student Data'!C30) | D31: =IF('Student Data'!D30="","",'Student Data'!D30) | E31: ='Student Data'!E30 -> 0 | F31: ='Student Data'!F30 -> 0 | G31: =IF('Student Data'!G30="","",'Student Data'!G30) | N31: =IF((AND(H31="",I31="",J31="",K31="",L31="",M31="")),"",SUM(H31:M31)) | O31: =IF(N31="","",IF(N31>159,"A",IF(N31>129,"B",IF(N31>99,"C",IF(N31>69,"D",IF(N31<70,"E",)))))) | P31: =A31 | W31: =IF((AND(Q31="",R31="",S31="",T31="",U31="",V31="")),"",SUM(Q31:V31)) | X31: =IF(W31="","",IF(W31>159,"A",IF(W31>129,"B",IF(W31>99,"C",IF(W31>69,"D",IF(W31<70,"E",)))))) | AE31: =IF((AND(Y31="",Z31="",AA31="",AB31="",AC31="",AD31="")),"",SUM(Y31:AD31)) | AF31: =IF(AE31="","",IF(AE31>159,"A",IF(AE31>129,"B",IF(AE31>99,"C",IF(AE31>69,"D",IF(AE31<70,"E",)))))) | AG31: =A31 | AN31: =IF((AND(AH31="",AI31="",AJ31="",AK31="",AL31="",AM31="")),"",SUM(AH31:AM31)) | AO31: =IF(AN31="","",IF(AN31>159,"A",IF(AN31>129,"B",IF(AN31>99,"C",IF(AN31>69,"D",IF(AN31<70,"E",)))))) | AV31: =IF((AND(AP31="",AQ31="",AR31="",AS31="",AT31="",AU31="")),"",SUM(AP31:AU31)) | AW31: =IF(AV31="","",IF(AV31>159,"A",IF(AV31>129,"B",IF(AV31>99,"C",IF(AV31>69,"D",IF(AV31<70,"E",)))))) | AX31: =A31 | BE31: =IF((AND(AY31="",AZ31="",BA31="",BB31="",BC31="",BD31="")),"",SUM(AY31:BD31)) | BF31: =IF(BE31="","",IF(BE31>159,"A",IF(BE31>129,"B",IF(BE31>99,"C",IF(BE31>69,"D",IF(BE31<70,"E",)))))) | BM31: =IF((AND(BG31="",BH31="",BI31="",BJ31="",BK31="",BL31="")),"",SUM(BG31:BL31)) | BN31: =IF(BM31="","",IF(BM31>159,"A",IF(BM31>129,"B",IF(BM31>99,"C",IF(BM31>69,"D",IF(BM31<70,"E",)))))) | BO31: ='Patrak B'!AU54 | BP31: =IF(BO31="","",IF(BO31>319,"A",IF(BO31>259,"B",IF(BO31>199,"C",IF(BO31>139,"D",IF(BO31<140,"E",)))))) | BQ31: =IF(AND(N31="",W31="",AE31="",AN31="",AV31="",BE31="",BM31="",BO31=""),"",SUM(N31,W31,AE31,AN31,AV31,BE31,BM31,BO31)) | BR31: =IF(BQ31="","",IF(BQ31>1439,"A",IF(BQ31>1169,"B",IF(BQ31>899,"C",IF(BQ31>629,"D",IF(BQ31<630,"E",)))))) | BS31: =IF(OR(ISBLANK(BQ31), BQ31=0, BQ31=""), "", BQ31*100/$BQ$7)
A32: ='Student Data'!A31 | B32: =IF('Student Data'!B31="","",'Student Data'!B31) | C32: =IF('Student Data'!C31="","",'Student Data'!C31) | D32: =IF('Student Data'!D31="","",'Student Data'!D31) | E32: ='Student Data'!E31 -> 0 | F32: ='Student Data'!F31 -> 0 | G32: =IF('Student Data'!G31="","",'Student Data'!G31) | N32: =IF((AND(H32="",I32="",J32="",K32="",L32="",M32="")),"",SUM(H32:M32)) | O32: =IF(N32="","",IF(N32>159,"A",IF(N32>129,"B",IF(N32>99,"C",IF(N32>69,"D",IF(N32<70,"E",)))))) | P32: =A32 | W32: =IF((AND(Q32="",R32="",S32="",T32="",U32="",V32="")),"",SUM(Q32:V32)) | X32: =IF(W32="","",IF(W32>159,"A",IF(W32>129,"B",IF(W32>99,"C",IF(W32>69,"D",IF(W32<70,"E",)))))) | AE32: =IF((AND(Y32="",Z32="",AA32="",AB32="",AC32="",AD32="")),"",SUM(Y32:AD32)) | AF32: =IF(AE32="","",IF(AE32>159,"A",IF(AE32>129,"B",IF(AE32>99,"C",IF(AE32>69,"D",IF(AE32<70,"E",)))))) | AG32: =A32 | AN32: =IF((AND(AH32="",AI32="",AJ32="",AK32="",AL32="",AM32="")),"",SUM(AH32:AM32)) | AO32: =IF(AN32="","",IF(AN32>159,"A",IF(AN32>129,"B",IF(AN32>99,"C",IF(AN32>69,"D",IF(AN32<70,"E",)))))) | AV32: =IF((AND(AP32="",AQ32="",AR32="",AS32="",AT32="",AU32="")),"",SUM(AP32:AU32)) | AW32: =IF(AV32="","",IF(AV32>159,"A",IF(AV32>129,"B",IF(AV32>99,"C",IF(AV32>69,"D",IF(AV32<70,"E",)))))) | AX32: =A32 | BE32: =IF((AND(AY32="",AZ32="",BA32="",BB32="",BC32="",BD32="")),"",SUM(AY32:BD32)) | BF32: =IF(BE32="","",IF(BE32>159,"A",IF(BE32>129,"B",IF(BE32>99,"C",IF(BE32>69,"D",IF(BE32<70,"E",)))))) | BM32: =IF((AND(BG32="",BH32="",BI32="",BJ32="",BK32="",BL32="")),"",SUM(BG32:BL32)) | BN32: =IF(BM32="","",IF(BM32>159,"A",IF(BM32>129,"B",IF(BM32>99,"C",IF(BM32>69,"D",IF(BM32<70,"E",)))))) | BO32: ='Patrak B'!AU56 | BP32: =IF(BO32="","",IF(BO32>319,"A",IF(BO32>259,"B",IF(BO32>199,"C",IF(BO32>139,"D",IF(BO32<140,"E",)))))) | BQ32: =IF(AND(N32="",W32="",AE32="",AN32="",AV32="",BE32="",BM32="",BO32=""),"",SUM(N32,W32,AE32,AN32,AV32,BE32,BM32,BO32)) | BR32: =IF(BQ32="","",IF(BQ32>1439,"A",IF(BQ32>1169,"B",IF(BQ32>899,"C",IF(BQ32>629,"D",IF(BQ32<630,"E",)))))) | BS32: =IF(OR(ISBLANK(BQ32), BQ32=0, BQ32=""), "", BQ32*100/$BQ$7)
A33: ='Student Data'!A32 | B33: =IF('Student Data'!B32="","",'Student Data'!B32) | C33: =IF('Student Data'!C32="","",'Student Data'!C32) | D33: =IF('Student Data'!D32="","",'Student Data'!D32) | E33: ='Student Data'!E32 -> 0 | F33: ='Student Data'!F32 -> 0 | G33: =IF('Student Data'!G32="","",'Student Data'!G32) | N33: =IF((AND(H33="",I33="",J33="",K33="",L33="",M33="")),"",SUM(H33:M33)) | O33: =IF(N33="","",IF(N33>159,"A",IF(N33>129,"B",IF(N33>99,"C",IF(N33>69,"D",IF(N33<70,"E",)))))) | P33: =A33 | W33: =IF((AND(Q33="",R33="",S33="",T33="",U33="",V33="")),"",SUM(Q33:V33)) | X33: =IF(W33="","",IF(W33>159,"A",IF(W33>129,"B",IF(W33>99,"C",IF(W33>69,"D",IF(W33<70,"E",)))))) | AE33: =IF((AND(Y33="",Z33="",AA33="",AB33="",AC33="",AD33="")),"",SUM(Y33:AD33)) | AF33: =IF(AE33="","",IF(AE33>159,"A",IF(AE33>129,"B",IF(AE33>99,"C",IF(AE33>69,"D",IF(AE33<70,"E",)))))) | AG33: =A33 | AN33: =IF((AND(AH33="",AI33="",AJ33="",AK33="",AL33="",AM33="")),"",SUM(AH33:AM33)) | AO33: =IF(AN33="","",IF(AN33>159,"A",IF(AN33>129,"B",IF(AN33>99,"C",IF(AN33>69,"D",IF(AN33<70,"E",)))))) | AV33: =IF((AND(AP33="",AQ33="",AR33="",AS33="",AT33="",AU33="")),"",SUM(AP33:AU33)) | AW33: =IF(AV33="","",IF(AV33>159,"A",IF(AV33>129,"B",IF(AV33>99,"C",IF(AV33>69,"D",IF(AV33<70,"E",)))))) | AX33: =A33 | BE33: =IF((AND(AY33="",AZ33="",BA33="",BB33="",BC33="",BD33="")),"",SUM(AY33:BD33)) | BF33: =IF(BE33="","",IF(BE33>159,"A",IF(BE33>129,"B",IF(BE33>99,"C",IF(BE33>69,"D",IF(BE33<70,"E",)))))) | BM33: =IF((AND(BG33="",BH33="",BI33="",BJ33="",BK33="",BL33="")),"",SUM(BG33:BL33)) | BN33: =IF(BM33="","",IF(BM33>159,"A",IF(BM33>129,"B",IF(BM33>99,"C",IF(BM33>69,"D",IF(BM33<70,"E",)))))) | BO33: ='Patrak B'!AU58 | BP33: =IF(BO33="","",IF(BO33>319,"A",IF(BO33>259,"B",IF(BO33>199,"C",IF(BO33>139,"D",IF(BO33<140,"E",)))))) | BQ33: =IF(AND(N33="",W33="",AE33="",AN33="",AV33="",BE33="",BM33="",BO33=""),"",SUM(N33,W33,AE33,AN33,AV33,BE33,BM33,BO33)) | BR33: =IF(BQ33="","",IF(BQ33>1439,"A",IF(BQ33>1169,"B",IF(BQ33>899,"C",IF(BQ33>629,"D",IF(BQ33<630,"E",)))))) | BS33: =IF(OR(ISBLANK(BQ33), BQ33=0, BQ33=""), "", BQ33*100/$BQ$7)
A34: ='Student Data'!A33 | B34: =IF('Student Data'!B33="","",'Student Data'!B33) | C34: =IF('Student Data'!C33="","",'Student Data'!C33) | D34: =IF('Student Data'!D33="","",'Student Data'!D33) | E34: ='Student Data'!E33 -> 0 | F34: ='Student Data'!F33 -> 0 | G34: =IF('Student Data'!G33="","",'Student Data'!G33) | N34: =IF((AND(H34="",I34="",J34="",K34="",L34="",M34="")),"",SUM(H34:M34)) | O34: =IF(N34="","",IF(N34>159,"A",IF(N34>129,"B",IF(N34>99,"C",IF(N34>69,"D",IF(N34<70,"E",)))))) | P34: =A34 | W34: =IF((AND(Q34="",R34="",S34="",T34="",U34="",V34="")),"",SUM(Q34:V34)) | X34: =IF(W34="","",IF(W34>159,"A",IF(W34>129,"B",IF(W34>99,"C",IF(W34>69,"D",IF(W34<70,"E",)))))) | AE34: =IF((AND(Y34="",Z34="",AA34="",AB34="",AC34="",AD34="")),"",SUM(Y34:AD34)) | AF34: =IF(AE34="","",IF(AE34>159,"A",IF(AE34>129,"B",IF(AE34>99,"C",IF(AE34>69,"D",IF(AE34<70,"E",)))))) | AG34: =A34 | AN34: =IF((AND(AH34="",AI34="",AJ34="",AK34="",AL34="",AM34="")),"",SUM(AH34:AM34)) | AO34: =IF(AN34="","",IF(AN34>159,"A",IF(AN34>129,"B",IF(AN34>99,"C",IF(AN34>69,"D",IF(AN34<70,"E",)))))) | AV34: =IF((AND(AP34="",AQ34="",AR34="",AS34="",AT34="",AU34="")),"",SUM(AP34:AU34)) | AW34: =IF(AV34="","",IF(AV34>159,"A",IF(AV34>129,"B",IF(AV34>99,"C",IF(AV34>69,"D",IF(AV34<70,"E",)))))) | AX34: =A34 | BE34: =IF((AND(AY34="",AZ34="",BA34="",BB34="",BC34="",BD34="")),"",SUM(AY34:BD34)) | BF34: =IF(BE34="","",IF(BE34>159,"A",IF(BE34>129,"B",IF(BE34>99,"C",IF(BE34>69,"D",IF(BE34<70,"E",)))))) | BM34: =IF((AND(BG34="",BH34="",BI34="",BJ34="",BK34="",BL34="")),"",SUM(BG34:BL34)) | BN34: =IF(BM34="","",IF(BM34>159,"A",IF(BM34>129,"B",IF(BM34>99,"C",IF(BM34>69,"D",IF(BM34<70,"E",)))))) | BO34: ='Patrak B'!AU60 | BP34: =IF(BO34="","",IF(BO34>319,"A",IF(BO34>259,"B",IF(BO34>199,"C",IF(BO34>139,"D",IF(BO34<140,"E",)))))) | BQ34: =IF(AND(N34="",W34="",AE34="",AN34="",AV34="",BE34="",BM34="",BO34=""),"",SUM(N34,W34,AE34,AN34,AV34,BE34,BM34,BO34)) | BR34: =IF(BQ34="","",IF(BQ34>1439,"A",IF(BQ34>1169,"B",IF(BQ34>899,"C",IF(BQ34>629,"D",IF(BQ34<630,"E",)))))) | BS34: =IF(OR(ISBLANK(BQ34), BQ34=0, BQ34=""), "", BQ34*100/$BQ$7)
A35: ='Student Data'!A34 | B35: =IF('Student Data'!B34="","",'Student Data'!B34) | C35: =IF('Student Data'!C34="","",'Student Data'!C34) | D35: =IF('Student Data'!D34="","",'Student Data'!D34) | E35: ='Student Data'!E34 -> 0 | F35: ='Student Data'!F34 -> 0 | G35: =IF('Student Data'!G34="","",'Student Data'!G34) | N35: =IF((AND(H35="",I35="",J35="",K35="",L35="",M35="")),"",SUM(H35:M35)) | O35: =IF(N35="","",IF(N35>159,"A",IF(N35>129,"B",IF(N35>99,"C",IF(N35>69,"D",IF(N35<70,"E",)))))) | P35: =A35 | W35: =IF((AND(Q35="",R35="",S35="",T35="",U35="",V35="")),"",SUM(Q35:V35)) | X35: =IF(W35="","",IF(W35>159,"A",IF(W35>129,"B",IF(W35>99,"C",IF(W35>69,"D",IF(W35<70,"E",)))))) | AE35: =IF((AND(Y35="",Z35="",AA35="",AB35="",AC35="",AD35="")),"",SUM(Y35:AD35)) | AF35: =IF(AE35="","",IF(AE35>159,"A",IF(AE35>129,"B",IF(AE35>99,"C",IF(AE35>69,"D",IF(AE35<70,"E",)))))) | AG35: =A35 | AN35: =IF((AND(AH35="",AI35="",AJ35="",AK35="",AL35="",AM35="")),"",SUM(AH35:AM35)) | AO35: =IF(AN35="","",IF(AN35>159,"A",IF(AN35>129,"B",IF(AN35>99,"C",IF(AN35>69,"D",IF(AN35<70,"E",)))))) | AV35: =IF((AND(AP35="",AQ35="",AR35="",AS35="",AT35="",AU35="")),"",SUM(AP35:AU35)) | AW35: =IF(AV35="","",IF(AV35>159,"A",IF(AV35>129,"B",IF(AV35>99,"C",IF(AV35>69,"D",IF(AV35<70,"E",)))))) | AX35: =A35 | BE35: =IF((AND(AY35="",AZ35="",BA35="",BB35="",BC35="",BD35="")),"",SUM(AY35:BD35)) | BF35: =IF(BE35="","",IF(BE35>159,"A",IF(BE35>129,"B",IF(BE35>99,"C",IF(BE35>69,"D",IF(BE35<70,"E",)))))) | BM35: =IF((AND(BG35="",BH35="",BI35="",BJ35="",BK35="",BL35="")),"",SUM(BG35:BL35)) | BN35: =IF(BM35="","",IF(BM35>159,"A",IF(BM35>129,"B",IF(BM35>99,"C",IF(BM35>69,"D",IF(BM35<70,"E",)))))) | BO35: ='Patrak B'!AU62 | BP35: =IF(BO35="","",IF(BO35>319,"A",IF(BO35>259,"B",IF(BO35>199,"C",IF(BO35>139,"D",IF(BO35<140,"E",)))))) | BQ35: =IF(AND(N35="",W35="",AE35="",AN35="",AV35="",BE35="",BM35="",BO35=""),"",SUM(N35,W35,AE35,AN35,AV35,BE35,BM35,BO35)) | BR35: =IF(BQ35="","",IF(BQ35>1439,"A",IF(BQ35>1169,"B",IF(BQ35>899,"C",IF(BQ35>629,"D",IF(BQ35<630,"E",)))))) | BS35: =IF(OR(ISBLANK(BQ35), BQ35=0, BQ35=""), "", BQ35*100/$BQ$7)
A36: ='Student Data'!A35 | B36: =IF('Student Data'!B35="","",'Student Data'!B35) | C36: =IF('Student Data'!C35="","",'Student Data'!C35) | D36: =IF('Student Data'!D35="","",'Student Data'!D35) | E36: ='Student Data'!E35 -> 0 | F36: ='Student Data'!F35 -> 0 | G36: =IF('Student Data'!G35="","",'Student Data'!G35) | N36: =IF((AND(H36="",I36="",J36="",K36="",L36="",M36="")),"",SUM(H36:M36)) | O36: =IF(N36="","",IF(N36>159,"A",IF(N36>129,"B",IF(N36>99,"C",IF(N36>69,"D",IF(N36<70,"E",)))))) | P36: =A36 | W36: =IF((AND(Q36="",R36="",S36="",T36="",U36="",V36="")),"",SUM(Q36:V36)) | X36: =IF(W36="","",IF(W36>159,"A",IF(W36>129,"B",IF(W36>99,"C",IF(W36>69,"D",IF(W36<70,"E",)))))) | AE36: =IF((AND(Y36="",Z36="",AA36="",AB36="",AC36="",AD36="")),"",SUM(Y36:AD36)) | AF36: =IF(AE36="","",IF(AE36>159,"A",IF(AE36>129,"B",IF(AE36>99,"C",IF(AE36>69,"D",IF(AE36<70,"E",)))))) | AG36: =A36 | AN36: =IF((AND(AH36="",AI36="",AJ36="",AK36="",AL36="",AM36="")),"",SUM(AH36:AM36)) | AO36: =IF(AN36="","",IF(AN36>159,"A",IF(AN36>129,"B",IF(AN36>99,"C",IF(AN36>69,"D",IF(AN36<70,"E",)))))) | AV36: =IF((AND(AP36="",AQ36="",AR36="",AS36="",AT36="",AU36="")),"",SUM(AP36:AU36)) | AW36: =IF(AV36="","",IF(AV36>159,"A",IF(AV36>129,"B",IF(AV36>99,"C",IF(AV36>69,"D",IF(AV36<70,"E",)))))) | AX36: =A36 | BE36: =IF((AND(AY36="",AZ36="",BA36="",BB36="",BC36="",BD36="")),"",SUM(AY36:BD36)) | BF36: =IF(BE36="","",IF(BE36>159,"A",IF(BE36>129,"B",IF(BE36>99,"C",IF(BE36>69,"D",IF(BE36<70,"E",)))))) | BM36: =IF((AND(BG36="",BH36="",BI36="",BJ36="",BK36="",BL36="")),"",SUM(BG36:BL36)) | BN36: =IF(BM36="","",IF(BM36>159,"A",IF(BM36>129,"B",IF(BM36>99,"C",IF(BM36>69,"D",IF(BM36<70,"E",)))))) | BO36: ='Patrak B'!AU64 | BP36: =IF(BO36="","",IF(BO36>319,"A",IF(BO36>259,"B",IF(BO36>199,"C",IF(BO36>139,"D",IF(BO36<140,"E",)))))) | BQ36: =IF(AND(N36="",W36="",AE36="",AN36="",AV36="",BE36="",BM36="",BO36=""),"",SUM(N36,W36,AE36,AN36,AV36,BE36,BM36,BO36)) | BR36: =IF(BQ36="","",IF(BQ36>1439,"A",IF(BQ36>1169,"B",IF(BQ36>899,"C",IF(BQ36>629,"D",IF(BQ36<630,"E",)))))) | BS36: =IF(OR(ISBLANK(BQ36), BQ36=0, BQ36=""), "", BQ36*100/$BQ$7)
A37: ='Student Data'!A36 | B37: =IF('Student Data'!B36="","",'Student Data'!B36) | C37: =IF('Student Data'!C36="","",'Student Data'!C36) | D37: =IF('Student Data'!D36="","",'Student Data'!D36) | E37: ='Student Data'!E36 -> 0 | F37: ='Student Data'!F36 -> 0 | G37: =IF('Student Data'!G36="","",'Student Data'!G36) | N37: =IF((AND(H37="",I37="",J37="",K37="",L37="",M37="")),"",SUM(H37:M37)) | O37: =IF(N37="","",IF(N37>159,"A",IF(N37>129,"B",IF(N37>99,"C",IF(N37>69,"D",IF(N37<70,"E",)))))) | P37: =A37 | W37: =IF((AND(Q37="",R37="",S37="",T37="",U37="",V37="")),"",SUM(Q37:V37)) | X37: =IF(W37="","",IF(W37>159,"A",IF(W37>129,"B",IF(W37>99,"C",IF(W37>69,"D",IF(W37<70,"E",)))))) | AE37: =IF((AND(Y37="",Z37="",AA37="",AB37="",AC37="",AD37="")),"",SUM(Y37:AD37)) | AF37: =IF(AE37="","",IF(AE37>159,"A",IF(AE37>129,"B",IF(AE37>99,"C",IF(AE37>69,"D",IF(AE37<70,"E",)))))) | AG37: =A37 | AN37: =IF((AND(AH37="",AI37="",AJ37="",AK37="",AL37="",AM37="")),"",SUM(AH37:AM37)) | AO37: =IF(AN37="","",IF(AN37>159,"A",IF(AN37>129,"B",IF(AN37>99,"C",IF(AN37>69,"D",IF(AN37<70,"E",)))))) | AV37: =IF((AND(AP37="",AQ37="",AR37="",AS37="",AT37="",AU37="")),"",SUM(AP37:AU37)) | AW37: =IF(AV37="","",IF(AV37>159,"A",IF(AV37>129,"B",IF(AV37>99,"C",IF(AV37>69,"D",IF(AV37<70,"E",)))))) | AX37: =A37 | BE37: =IF((AND(AY37="",AZ37="",BA37="",BB37="",BC37="",BD37="")),"",SUM(AY37:BD37)) | BF37: =IF(BE37="","",IF(BE37>159,"A",IF(BE37>129,"B",IF(BE37>99,"C",IF(BE37>69,"D",IF(BE37<70,"E",)))))) | BM37: =IF((AND(BG37="",BH37="",BI37="",BJ37="",BK37="",BL37="")),"",SUM(BG37:BL37)) | BN37: =IF(BM37="","",IF(BM37>159,"A",IF(BM37>129,"B",IF(BM37>99,"C",IF(BM37>69,"D",IF(BM37<70,"E",)))))) | BO37: ='Patrak B'!AU66 | BP37: =IF(BO37="","",IF(BO37>319,"A",IF(BO37>259,"B",IF(BO37>199,"C",IF(BO37>139,"D",IF(BO37<140,"E",)))))) | BQ37: =IF(AND(N37="",W37="",AE37="",AN37="",AV37="",BE37="",BM37="",BO37=""),"",SUM(N37,W37,AE37,AN37,AV37,BE37,BM37,BO37)) | BR37: =IF(BQ37="","",IF(BQ37>1439,"A",IF(BQ37>1169,"B",IF(BQ37>899,"C",IF(BQ37>629,"D",IF(BQ37<630,"E",)))))) | BS37: =IF(OR(ISBLANK(BQ37), BQ37=0, BQ37=""), "", BQ37*100/$BQ$7)
A38: ='Student Data'!A37 | B38: =IF('Student Data'!B37="","",'Student Data'!B37) | C38: =IF('Student Data'!C37="","",'Student Data'!C37) | D38: =IF('Student Data'!D37="","",'Student Data'!D37) | E38: ='Student Data'!E37 -> 0 | F38: ='Student Data'!F37 -> 0 | G38: =IF('Student Data'!G37="","",'Student Data'!G37) | N38: =IF((AND(H38="",I38="",J38="",K38="",L38="",M38="")),"",SUM(H38:M38)) | O38: =IF(N38="","",IF(N38>159,"A",IF(N38>129,"B",IF(N38>99,"C",IF(N38>69,"D",IF(N38<70,"E",)))))) | P38: =A38 | W38: =IF((AND(Q38="",R38="",S38="",T38="",U38="",V38="")),"",SUM(Q38:V38)) | X38: =IF(W38="","",IF(W38>159,"A",IF(W38>129,"B",IF(W38>99,"C",IF(W38>69,"D",IF(W38<70,"E",)))))) | AE38: =IF((AND(Y38="",Z38="",AA38="",AB38="",AC38="",AD38="")),"",SUM(Y38:AD38)) | AF38: =IF(AE38="","",IF(AE38>159,"A",IF(AE38>129,"B",IF(AE38>99,"C",IF(AE38>69,"D",IF(AE38<70,"E",)))))) | AG38: =A38 | AN38: =IF((AND(AH38="",AI38="",AJ38="",AK38="",AL38="",AM38="")),"",SUM(AH38:AM38)) | AO38: =IF(AN38="","",IF(AN38>159,"A",IF(AN38>129,"B",IF(AN38>99,"C",IF(AN38>69,"D",IF(AN38<70,"E",)))))) | AV38: =IF((AND(AP38="",AQ38="",AR38="",AS38="",AT38="",AU38="")),"",SUM(AP38:AU38)) | AW38: =IF(AV38="","",IF(AV38>159,"A",IF(AV38>129,"B",IF(AV38>99,"C",IF(AV38>69,"D",IF(AV38<70,"E",)))))) | AX38: =A38 | BE38: =IF((AND(AY38="",AZ38="",BA38="",BB38="",BC38="",BD38="")),"",SUM(AY38:BD38)) | BF38: =IF(BE38="","",IF(BE38>159,"A",IF(BE38>129,"B",IF(BE38>99,"C",IF(BE38>69,"D",IF(BE38<70,"E",)))))) | BM38: =IF((AND(BG38="",BH38="",BI38="",BJ38="",BK38="",BL38="")),"",SUM(BG38:BL38)) | BN38: =IF(BM38="","",IF(BM38>159,"A",IF(BM38>129,"B",IF(BM38>99,"C",IF(BM38>69,"D",IF(BM38<70,"E",)))))) | BO38: ='Patrak B'!AU68 | BP38: =IF(BO38="","",IF(BO38>319,"A",IF(BO38>259,"B",IF(BO38>199,"C",IF(BO38>139,"D",IF(BO38<140,"E",)))))) | BQ38: =IF(AND(N38="",W38="",AE38="",AN38="",AV38="",BE38="",BM38="",BO38=""),"",SUM(N38,W38,AE38,AN38,AV38,BE38,BM38,BO38)) | BR38: =IF(BQ38="","",IF(BQ38>1439,"A",IF(BQ38>1169,"B",IF(BQ38>899,"C",IF(BQ38>629,"D",IF(BQ38<630,"E",)))))) | BS38: =IF(OR(ISBLANK(BQ38), BQ38=0, BQ38=""), "", BQ38*100/$BQ$7)
A39: ='Student Data'!A38 | B39: =IF('Student Data'!B38="","",'Student Data'!B38) | C39: =IF('Student Data'!C38="","",'Student Data'!C38) | D39: =IF('Student Data'!D38="","",'Student Data'!D38) | E39: ='Student Data'!E38 -> 0 | F39: ='Student Data'!F38 -> 0 | G39: =IF('Student Data'!G38="","",'Student Data'!G38) | N39: =IF((AND(H39="",I39="",J39="",K39="",L39="",M39="")),"",SUM(H39:M39)) | O39: =IF(N39="","",IF(N39>159,"A",IF(N39>129,"B",IF(N39>99,"C",IF(N39>69,"D",IF(N39<70,"E",)))))) | P39: =A39 | W39: =IF((AND(Q39="",R39="",S39="",T39="",U39="",V39="")),"",SUM(Q39:V39)) | X39: =IF(W39="","",IF(W39>159,"A",IF(W39>129,"B",IF(W39>99,"C",IF(W39>69,"D",IF(W39<70,"E",)))))) | AE39: =IF((AND(Y39="",Z39="",AA39="",AB39="",AC39="",AD39="")),"",SUM(Y39:AD39)) | AF39: =IF(AE39="","",IF(AE39>159,"A",IF(AE39>129,"B",IF(AE39>99,"C",IF(AE39>69,"D",IF(AE39<70,"E",)))))) | AG39: =A39 | AN39: =IF((AND(AH39="",AI39="",AJ39="",AK39="",AL39="",AM39="")),"",SUM(AH39:AM39)) | AO39: =IF(AN39="","",IF(AN39>159,"A",IF(AN39>129,"B",IF(AN39>99,"C",IF(AN39>69,"D",IF(AN39<70,"E",)))))) | AV39: =IF((AND(AP39="",AQ39="",AR39="",AS39="",AT39="",AU39="")),"",SUM(AP39:AU39)) | AW39: =IF(AV39="","",IF(AV39>159,"A",IF(AV39>129,"B",IF(AV39>99,"C",IF(AV39>69,"D",IF(AV39<70,"E",)))))) | AX39: =A39 | BE39: =IF((AND(AY39="",AZ39="",BA39="",BB39="",BC39="",BD39="")),"",SUM(AY39:BD39)) | BF39: =IF(BE39="","",IF(BE39>159,"A",IF(BE39>129,"B",IF(BE39>99,"C",IF(BE39>69,"D",IF(BE39<70,"E",)))))) | BM39: =IF((AND(BG39="",BH39="",BI39="",BJ39="",BK39="",BL39="")),"",SUM(BG39:BL39)) | BN39: =IF(BM39="","",IF(BM39>159,"A",IF(BM39>129,"B",IF(BM39>99,"C",IF(BM39>69,"D",IF(BM39<70,"E",)))))) | BO39: ='Patrak B'!AU70 | BP39: =IF(BO39="","",IF(BO39>319,"A",IF(BO39>259,"B",IF(BO39>199,"C",IF(BO39>139,"D",IF(BO39<140,"E",)))))) | BQ39: =IF(AND(N39="",W39="",AE39="",AN39="",AV39="",BE39="",BM39="",BO39=""),"",SUM(N39,W39,AE39,AN39,AV39,BE39,BM39,BO39)) | BR39: =IF(BQ39="","",IF(BQ39>1439,"A",IF(BQ39>1169,"B",IF(BQ39>899,"C",IF(BQ39>629,"D",IF(BQ39<630,"E",)))))) | BS39: =IF(OR(ISBLANK(BQ39), BQ39=0, BQ39=""), "", BQ39*100/$BQ$7)
A40: ='Student Data'!A39 | B40: =IF('Student Data'!B39="","",'Student Data'!B39) | C40: =IF('Student Data'!C39="","",'Student Data'!C39) | D40: =IF('Student Data'!D39="","",'Student Data'!D39) | E40: ='Student Data'!E39 -> 0 | F40: ='Student Data'!F39 -> 0 | G40: =IF('Student Data'!G39="","",'Student Data'!G39) | N40: =IF((AND(H40="",I40="",J40="",K40="",L40="",M40="")),"",SUM(H40:M40)) | O40: =IF(N40="","",IF(N40>159,"A",IF(N40>129,"B",IF(N40>99,"C",IF(N40>69,"D",IF(N40<70,"E",)))))) | P40: =A40 | W40: =IF((AND(Q40="",R40="",S40="",T40="",U40="",V40="")),"",SUM(Q40:V40)) | X40: =IF(W40="","",IF(W40>159,"A",IF(W40>129,"B",IF(W40>99,"C",IF(W40>69,"D",IF(W40<70,"E",)))))) | AE40: =IF((AND(Y40="",Z40="",AA40="",AB40="",AC40="",AD40="")),"",SUM(Y40:AD40)) | AF40: =IF(AE40="","",IF(AE40>159,"A",IF(AE40>129,"B",IF(AE40>99,"C",IF(AE40>69,"D",IF(AE40<70,"E",)))))) | AG40: =A40 | AN40: =IF((AND(AH40="",AI40="",AJ40="",AK40="",AL40="",AM40="")),"",SUM(AH40:AM40)) | AO40: =IF(AN40="","",IF(AN40>159,"A",IF(AN40>129,"B",IF(AN40>99,"C",IF(AN40>69,"D",IF(AN40<70,"E",)))))) | AV40: =IF((AND(AP40="",AQ40="",AR40="",AS40="",AT40="",AU40="")),"",SUM(AP40:AU40)) | AW40: =IF(AV40="","",IF(AV40>159,"A",IF(AV40>129,"B",IF(AV40>99,"C",IF(AV40>69,"D",IF(AV40<70,"E",)))))) | AX40: =A40 | BE40: =IF((AND(AY40="",AZ40="",BA40="",BB40="",BC40="",BD40="")),"",SUM(AY40:BD40)) | BF40: =IF(BE40="","",IF(BE40>159,"A",IF(BE40>129,"B",IF(BE40>99,"C",IF(BE40>69,"D",IF(BE40<70,"E",)))))) | BM40: =IF((AND(BG40="",BH40="",BI40="",BJ40="",BK40="",BL40="")),"",SUM(BG40:BL40)) | BN40: =IF(BM40="","",IF(BM40>159,"A",IF(BM40>129,"B",IF(BM40>99,"C",IF(BM40>69,"D",IF(BM40<70,"E",)))))) | BO40: ='Patrak B'!AU72 | BP40: =IF(BO40="","",IF(BO40>319,"A",IF(BO40>259,"B",IF(BO40>199,"C",IF(BO40>139,"D",IF(BO40<140,"E",)))))) | BQ40: =IF(AND(N40="",W40="",AE40="",AN40="",AV40="",BE40="",BM40="",BO40=""),"",SUM(N40,W40,AE40,AN40,AV40,BE40,BM40,BO40)) | BR40: =IF(BQ40="","",IF(BQ40>1439,"A",IF(BQ40>1169,"B",IF(BQ40>899,"C",IF(BQ40>629,"D",IF(BQ40<630,"E",)))))) | BS40: =IF(OR(ISBLANK(BQ40), BQ40=0, BQ40=""), "", BQ40*100/$BQ$7)
A41: ='Student Data'!A40 | B41: =IF('Student Data'!B40="","",'Student Data'!B40) | C41: =IF('Student Data'!C40="","",'Student Data'!C40) | D41: =IF('Student Data'!D40="","",'Student Data'!D40) | E41: ='Student Data'!E40 -> 0 | F41: ='Student Data'!F40 -> 0 | G41: =IF('Student Data'!G40="","",'Student Data'!G40) | N41: =IF((AND(H41="",I41="",J41="",K41="",L41="",M41="")),"",SUM(H41:M41)) | O41: =IF(N41="","",IF(N41>159,"A",IF(N41>129,"B",IF(N41>99,"C",IF(N41>69,"D",IF(N41<70,"E",)))))) | P41: =A41 | W41: =IF((AND(Q41="",R41="",S41="",T41="",U41="",V41="")),"",SUM(Q41:V41)) | X41: =IF(W41="","",IF(W41>159,"A",IF(W41>129,"B",IF(W41>99,"C",IF(W41>69,"D",IF(W41<70,"E",)))))) | AE41: =IF((AND(Y41="",Z41="",AA41="",AB41="",AC41="",AD41="")),"",SUM(Y41:AD41)) | AF41: =IF(AE41="","",IF(AE41>159,"A",IF(AE41>129,"B",IF(AE41>99,"C",IF(AE41>69,"D",IF(AE41<70,"E",)))))) | AG41: =A41 | AN41: =IF((AND(AH41="",AI41="",AJ41="",AK41="",AL41="",AM41="")),"",SUM(AH41:AM41)) | AO41: =IF(AN41="","",IF(AN41>159,"A",IF(AN41>129,"B",IF(AN41>99,"C",IF(AN41>69,"D",IF(AN41<70,"E",)))))) | AV41: =IF((AND(AP41="",AQ41="",AR41="",AS41="",AT41="",AU41="")),"",SUM(AP41:AU41)) | AW41: =IF(AV41="","",IF(AV41>159,"A",IF(AV41>129,"B",IF(AV41>99,"C",IF(AV41>69,"D",IF(AV41<70,"E",)))))) | AX41: =A41 | BE41: =IF((AND(AY41="",AZ41="",BA41="",BB41="",BC41="",BD41="")),"",SUM(AY41:BD41)) | BF41: =IF(BE41="","",IF(BE41>159,"A",IF(BE41>129,"B",IF(BE41>99,"C",IF(BE41>69,"D",IF(BE41<70,"E",)))))) | BM41: =IF((AND(BG41="",BH41="",BI41="",BJ41="",BK41="",BL41="")),"",SUM(BG41:BL41)) | BN41: =IF(BM41="","",IF(BM41>159,"A",IF(BM41>129,"B",IF(BM41>99,"C",IF(BM41>69,"D",IF(BM41<70,"E",)))))) | BO41: ='Patrak B'!AU74 | BP41: =IF(BO41="","",IF(BO41>319,"A",IF(BO41>259,"B",IF(BO41>199,"C",IF(BO41>139,"D",IF(BO41<140,"E",)))))) | BQ41: =IF(AND(N41="",W41="",AE41="",AN41="",AV41="",BE41="",BM41="",BO41=""),"",SUM(N41,W41,AE41,AN41,AV41,BE41,BM41,BO41)) | BR41: =IF(BQ41="","",IF(BQ41>1439,"A",IF(BQ41>1169,"B",IF(BQ41>899,"C",IF(BQ41>629,"D",IF(BQ41<630,"E",)))))) | BS41: =IF(OR(ISBLANK(BQ41), BQ41=0, BQ41=""), "", BQ41*100/$BQ$7)
A42: ='Student Data'!A41 | B42: =IF('Student Data'!B41="","",'Student Data'!B41) | C42: =IF('Student Data'!C41="","",'Student Data'!C41) | D42: =IF('Student Data'!D41="","",'Student Data'!D41) | E42: ='Student Data'!E41 -> 0 | F42: ='Student Data'!F41 -> 0 | G42: =IF('Student Data'!G41="","",'Student Data'!G41) | N42: =IF((AND(H42="",I42="",J42="",K42="",L42="",M42="")),"",SUM(H42:M42)) | O42: =IF(N42="","",IF(N42>159,"A",IF(N42>129,"B",IF(N42>99,"C",IF(N42>69,"D",IF(N42<70,"E",)))))) | P42: =A42 | W42: =IF((AND(Q42="",R42="",S42="",T42="",U42="",V42="")),"",SUM(Q42:V42)) | X42: =IF(W42="","",IF(W42>159,"A",IF(W42>129,"B",IF(W42>99,"C",IF(W42>69,"D",IF(W42<70,"E",)))))) | AE42: =IF((AND(Y42="",Z42="",AA42="",AB42="",AC42="",AD42="")),"",SUM(Y42:AD42)) | AF42: =IF(AE42="","",IF(AE42>159,"A",IF(AE42>129,"B",IF(AE42>99,"C",IF(AE42>69,"D",IF(AE42<70,"E",)))))) | AG42: =A42 | AN42: =IF((AND(AH42="",AI42="",AJ42="",AK42="",AL42="",AM42="")),"",SUM(AH42:AM42)) | AO42: =IF(AN42="","",IF(AN42>159,"A",IF(AN42>129,"B",IF(AN42>99,"C",IF(AN42>69,"D",IF(AN42<70,"E",)))))) | AV42: =IF((AND(AP42="",AQ42="",AR42="",AS42="",AT42="",AU42="")),"",SUM(AP42:AU42)) | AW42: =IF(AV42="","",IF(AV42>159,"A",IF(AV42>129,"B",IF(AV42>99,"C",IF(AV42>69,"D",IF(AV42<70,"E",)))))) | AX42: =A42 | BE42: =IF((AND(AY42="",AZ42="",BA42="",BB42="",BC42="",BD42="")),"",SUM(AY42:BD42)) | BF42: =IF(BE42="","",IF(BE42>159,"A",IF(BE42>129,"B",IF(BE42>99,"C",IF(BE42>69,"D",IF(BE42<70,"E",)))))) | BM42: =IF((AND(BG42="",BH42="",BI42="",BJ42="",BK42="",BL42="")),"",SUM(BG42:BL42)) | BN42: =IF(BM42="","",IF(BM42>159,"A",IF(BM42>129,"B",IF(BM42>99,"C",IF(BM42>69,"D",IF(BM42<70,"E",)))))) | BO42: ='Patrak B'!AU76 | BP42: =IF(BO42="","",IF(BO42>319,"A",IF(BO42>259,"B",IF(BO42>199,"C",IF(BO42>139,"D",IF(BO42<140,"E",)))))) | BQ42: =IF(AND(N42="",W42="",AE42="",AN42="",AV42="",BE42="",BM42="",BO42=""),"",SUM(N42,W42,AE42,AN42,AV42,BE42,BM42,BO42)) | BR42: =IF(BQ42="","",IF(BQ42>1439,"A",IF(BQ42>1169,"B",IF(BQ42>899,"C",IF(BQ42>629,"D",IF(BQ42<630,"E",)))))) | BS42: =IF(OR(ISBLANK(BQ42), BQ42=0, BQ42=""), "", BQ42*100/$BQ$7)
A43: ='Student Data'!A42 | B43: =IF('Student Data'!B42="","",'Student Data'!B42) | C43: =IF('Student Data'!C42="","",'Student Data'!C42) | D43: =IF('Student Data'!D42="","",'Student Data'!D42) | E43: ='Student Data'!E42 -> 0 | F43: ='Student Data'!F42 -> 0 | G43: =IF('Student Data'!G42="","",'Student Data'!G42) | N43: =IF((AND(H43="",I43="",J43="",K43="",L43="",M43="")),"",SUM(H43:M43)) | O43: =IF(N43="","",IF(N43>159,"A",IF(N43>129,"B",IF(N43>99,"C",IF(N43>69,"D",IF(N43<70,"E",)))))) | P43: =A43 | W43: =IF((AND(Q43="",R43="",S43="",T43="",U43="",V43="")),"",SUM(Q43:V43)) | X43: =IF(W43="","",IF(W43>159,"A",IF(W43>129,"B",IF(W43>99,"C",IF(W43>69,"D",IF(W43<70,"E",)))))) | AE43: =IF((AND(Y43="",Z43="",AA43="",AB43="",AC43="",AD43="")),"",SUM(Y43:AD43)) | AF43: =IF(AE43="","",IF(AE43>159,"A",IF(AE43>129,"B",IF(AE43>99,"C",IF(AE43>69,"D",IF(AE43<70,"E",)))))) | AG43: =A43 | AN43: =IF((AND(AH43="",AI43="",AJ43="",AK43="",AL43="",AM43="")),"",SUM(AH43:AM43)) | AO43: =IF(AN43="","",IF(AN43>159,"A",IF(AN43>129,"B",IF(AN43>99,"C",IF(AN43>69,"D",IF(AN43<70,"E",)))))) | AV43: =IF((AND(AP43="",AQ43="",AR43="",AS43="",AT43="",AU43="")),"",SUM(AP43:AU43)) | AW43: =IF(AV43="","",IF(AV43>159,"A",IF(AV43>129,"B",IF(AV43>99,"C",IF(AV43>69,"D",IF(AV43<70,"E",)))))) | AX43: =A43 | BE43: =IF((AND(AY43="",AZ43="",BA43="",BB43="",BC43="",BD43="")),"",SUM(AY43:BD43)) | BF43: =IF(BE43="","",IF(BE43>159,"A",IF(BE43>129,"B",IF(BE43>99,"C",IF(BE43>69,"D",IF(BE43<70,"E",)))))) | BM43: =IF((AND(BG43="",BH43="",BI43="",BJ43="",BK43="",BL43="")),"",SUM(BG43:BL43)) | BN43: =IF(BM43="","",IF(BM43>159,"A",IF(BM43>129,"B",IF(BM43>99,"C",IF(BM43>69,"D",IF(BM43<70,"E",)))))) | BO43: ='Patrak B'!AU78 | BP43: =IF(BO43="","",IF(BO43>319,"A",IF(BO43>259,"B",IF(BO43>199,"C",IF(BO43>139,"D",IF(BO43<140,"E",)))))) | BQ43: =IF(AND(N43="",W43="",AE43="",AN43="",AV43="",BE43="",BM43="",BO43=""),"",SUM(N43,W43,AE43,AN43,AV43,BE43,BM43,BO43)) | BR43: =IF(BQ43="","",IF(BQ43>1439,"A",IF(BQ43>1169,"B",IF(BQ43>899,"C",IF(BQ43>629,"D",IF(BQ43<630,"E",)))))) | BS43: =IF(OR(ISBLANK(BQ43), BQ43=0, BQ43=""), "", BQ43*100/$BQ$7)
A44: ='Student Data'!A43 | B44: =IF('Student Data'!B43="","",'Student Data'!B43) | C44: =IF('Student Data'!C43="","",'Student Data'!C43) | D44: =IF('Student Data'!D43="","",'Student Data'!D43) | E44: ='Student Data'!E43 -> 0 | F44: ='Student Data'!F43 -> 0 | G44: =IF('Student Data'!G43="","",'Student Data'!G43) | N44: =IF((AND(H44="",I44="",J44="",K44="",L44="",M44="")),"",SUM(H44:M44)) | O44: =IF(N44="","",IF(N44>159,"A",IF(N44>129,"B",IF(N44>99,"C",IF(N44>69,"D",IF(N44<70,"E",)))))) | P44: =A44 | W44: =IF((AND(Q44="",R44="",S44="",T44="",U44="",V44="")),"",SUM(Q44:V44)) | X44: =IF(W44="","",IF(W44>159,"A",IF(W44>129,"B",IF(W44>99,"C",IF(W44>69,"D",IF(W44<70,"E",)))))) | AE44: =IF((AND(Y44="",Z44="",AA44="",AB44="",AC44="",AD44="")),"",SUM(Y44:AD44)) | AF44: =IF(AE44="","",IF(AE44>159,"A",IF(AE44>129,"B",IF(AE44>99,"C",IF(AE44>69,"D",IF(AE44<70,"E",)))))) | AG44: =A44 | AN44: =IF((AND(AH44="",AI44="",AJ44="",AK44="",AL44="",AM44="")),"",SUM(AH44:AM44)) | AO44: =IF(AN44="","",IF(AN44>159,"A",IF(AN44>129,"B",IF(AN44>99,"C",IF(AN44>69,"D",IF(AN44<70,"E",)))))) | AV44: =IF((AND(AP44="",AQ44="",AR44="",AS44="",AT44="",AU44="")),"",SUM(AP44:AU44)) | AW44: =IF(AV44="","",IF(AV44>159,"A",IF(AV44>129,"B",IF(AV44>99,"C",IF(AV44>69,"D",IF(AV44<70,"E",)))))) | AX44: =A44 | BE44: =IF((AND(AY44="",AZ44="",BA44="",BB44="",BC44="",BD44="")),"",SUM(AY44:BD44)) | BF44: =IF(BE44="","",IF(BE44>159,"A",IF(BE44>129,"B",IF(BE44>99,"C",IF(BE44>69,"D",IF(BE44<70,"E",)))))) | BM44: =IF((AND(BG44="",BH44="",BI44="",BJ44="",BK44="",BL44="")),"",SUM(BG44:BL44)) | BN44: =IF(BM44="","",IF(BM44>159,"A",IF(BM44>129,"B",IF(BM44>99,"C",IF(BM44>69,"D",IF(BM44<70,"E",)))))) | BO44: ='Patrak B'!AU80 | BP44: =IF(BO44="","",IF(BO44>319,"A",IF(BO44>259,"B",IF(BO44>199,"C",IF(BO44>139,"D",IF(BO44<140,"E",)))))) | BQ44: =IF(AND(N44="",W44="",AE44="",AN44="",AV44="",BE44="",BM44="",BO44=""),"",SUM(N44,W44,AE44,AN44,AV44,BE44,BM44,BO44)) | BR44: =IF(BQ44="","",IF(BQ44>1439,"A",IF(BQ44>1169,"B",IF(BQ44>899,"C",IF(BQ44>629,"D",IF(BQ44<630,"E",)))))) | BS44: =IF(OR(ISBLANK(BQ44), BQ44=0, BQ44=""), "", BQ44*100/$BQ$7)
A45: ='Student Data'!A44 | B45: =IF('Student Data'!B44="","",'Student Data'!B44) | C45: =IF('Student Data'!C44="","",'Student Data'!C44) | D45: =IF('Student Data'!D44="","",'Student Data'!D44) | E45: ='Student Data'!E44 -> 0 | F45: ='Student Data'!F44 -> 0 | G45: =IF('Student Data'!G44="","",'Student Data'!G44) | N45: =IF((AND(H45="",I45="",J45="",K45="",L45="",M45="")),"",SUM(H45:M45)) | O45: =IF(N45="","",IF(N45>159,"A",IF(N45>129,"B",IF(N45>99,"C",IF(N45>69,"D",IF(N45<70,"E",)))))) | P45: =A45 | W45: =IF((AND(Q45="",R45="",S45="",T45="",U45="",V45="")),"",SUM(Q45:V45)) | X45: =IF(W45="","",IF(W45>159,"A",IF(W45>129,"B",IF(W45>99,"C",IF(W45>69,"D",IF(W45<70,"E",)))))) | AE45: =IF((AND(Y45="",Z45="",AA45="",AB45="",AC45="",AD45="")),"",SUM(Y45:AD45)) | AF45: =IF(AE45="","",IF(AE45>159,"A",IF(AE45>129,"B",IF(AE45>99,"C",IF(AE45>69,"D",IF(AE45<70,"E",)))))) | AG45: =A45 | AN45: =IF((AND(AH45="",AI45="",AJ45="",AK45="",AL45="",AM45="")),"",SUM(AH45:AM45)) | AO45: =IF(AN45="","",IF(AN45>159,"A",IF(AN45>129,"B",IF(AN45>99,"C",IF(AN45>69,"D",IF(AN45<70,"E",)))))) | AV45: =IF((AND(AP45="",AQ45="",AR45="",AS45="",AT45="",AU45="")),"",SUM(AP45:AU45)) | AW45: =IF(AV45="","",IF(AV45>159,"A",IF(AV45>129,"B",IF(AV45>99,"C",IF(AV45>69,"D",IF(AV45<70,"E",)))))) | AX45: =A45 | BE45: =IF((AND(AY45="",AZ45="",BA45="",BB45="",BC45="",BD45="")),"",SUM(AY45:BD45)) | BF45: =IF(BE45="","",IF(BE45>159,"A",IF(BE45>129,"B",IF(BE45>99,"C",IF(BE45>69,"D",IF(BE45<70,"E",)))))) | BM45: =IF((AND(BG45="",BH45="",BI45="",BJ45="",BK45="",BL45="")),"",SUM(BG45:BL45)) | BN45: =IF(BM45="","",IF(BM45>159,"A",IF(BM45>129,"B",IF(BM45>99,"C",IF(BM45>69,"D",IF(BM45<70,"E",)))))) | BO45: ='Patrak B'!AU82 | BP45: =IF(BO45="","",IF(BO45>319,"A",IF(BO45>259,"B",IF(BO45>199,"C",IF(BO45>139,"D",IF(BO45<140,"E",)))))) | BQ45: =IF(AND(N45="",W45="",AE45="",AN45="",AV45="",BE45="",BM45="",BO45=""),"",SUM(N45,W45,AE45,AN45,AV45,BE45,BM45,BO45)) | BR45: =IF(BQ45="","",IF(BQ45>1439,"A",IF(BQ45>1169,"B",IF(BQ45>899,"C",IF(BQ45>629,"D",IF(BQ45<630,"E",)))))) | BS45: =IF(OR(ISBLANK(BQ45), BQ45=0, BQ45=""), "", BQ45*100/$BQ$7)
A46: ='Student Data'!A45 | B46: =IF('Student Data'!B45="","",'Student Data'!B45) | C46: =IF('Student Data'!C45="","",'Student Data'!C45) | D46: =IF('Student Data'!D45="","",'Student Data'!D45) | E46: ='Student Data'!E45 -> 0 | F46: ='Student Data'!F45 -> 0 | G46: =IF('Student Data'!G45="","",'Student Data'!G45) | N46: =IF((AND(H46="",I46="",J46="",K46="",L46="",M46="")),"",SUM(H46:M46)) | O46: =IF(N46="","",IF(N46>159,"A",IF(N46>129,"B",IF(N46>99,"C",IF(N46>69,"D",IF(N46<70,"E",)))))) | P46: =A46 | W46: =IF((AND(Q46="",R46="",S46="",T46="",U46="",V46="")),"",SUM(Q46:V46)) | X46: =IF(W46="","",IF(W46>159,"A",IF(W46>129,"B",IF(W46>99,"C",IF(W46>69,"D",IF(W46<70,"E",)))))) | AE46: =IF((AND(Y46="",Z46="",AA46="",AB46="",AC46="",AD46="")),"",SUM(Y46:AD46)) | AF46: =IF(AE46="","",IF(AE46>159,"A",IF(AE46>129,"B",IF(AE46>99,"C",IF(AE46>69,"D",IF(AE46<70,"E",)))))) | AG46: =A46 | AN46: =IF((AND(AH46="",AI46="",AJ46="",AK46="",AL46="",AM46="")),"",SUM(AH46:AM46)) | AO46: =IF(AN46="","",IF(AN46>159,"A",IF(AN46>129,"B",IF(AN46>99,"C",IF(AN46>69,"D",IF(AN46<70,"E",)))))) | AV46: =IF((AND(AP46="",AQ46="",AR46="",AS46="",AT46="",AU46="")),"",SUM(AP46:AU46)) | AW46: =IF(AV46="","",IF(AV46>159,"A",IF(AV46>129,"B",IF(AV46>99,"C",IF(AV46>69,"D",IF(AV46<70,"E",)))))) | AX46: =A46 | BE46: =IF((AND(AY46="",AZ46="",BA46="",BB46="",BC46="",BD46="")),"",SUM(AY46:BD46)) | BF46: =IF(BE46="","",IF(BE46>159,"A",IF(BE46>129,"B",IF(BE46>99,"C",IF(BE46>69,"D",IF(BE46<70,"E",)))))) | BM46: =IF((AND(BG46="",BH46="",BI46="",BJ46="",BK46="",BL46="")),"",SUM(BG46:BL46)) | BN46: =IF(BM46="","",IF(BM46>159,"A",IF(BM46>129,"B",IF(BM46>99,"C",IF(BM46>69,"D",IF(BM46<70,"E",)))))) | BO46: ='Patrak B'!AU84 | BP46: =IF(BO46="","",IF(BO46>319,"A",IF(BO46>259,"B",IF(BO46>199,"C",IF(BO46>139,"D",IF(BO46<140,"E",)))))) | BQ46: =IF(AND(N46="",W46="",AE46="",AN46="",AV46="",BE46="",BM46="",BO46=""),"",SUM(N46,W46,AE46,AN46,AV46,BE46,BM46,BO46)) | BR46: =IF(BQ46="","",IF(BQ46>1439,"A",IF(BQ46>1169,"B",IF(BQ46>899,"C",IF(BQ46>629,"D",IF(BQ46<630,"E",)))))) | BS46: =IF(OR(ISBLANK(BQ46), BQ46=0, BQ46=""), "", BQ46*100/$BQ$7)
A47: ='Student Data'!A46 | B47: =IF('Student Data'!B46="","",'Student Data'!B46) | C47: =IF('Student Data'!C46="","",'Student Data'!C46) | D47: =IF('Student Data'!D46="","",'Student Data'!D46) | E47: ='Student Data'!E46 -> 0 | F47: ='Student Data'!F46 -> 0 | G47: =IF('Student Data'!G46="","",'Student Data'!G46) | N47: =IF((AND(H47="",I47="",J47="",K47="",L47="",M47="")),"",SUM(H47:M47)) | O47: =IF(N47="","",IF(N47>159,"A",IF(N47>129,"B",IF(N47>99,"C",IF(N47>69,"D",IF(N47<70,"E",)))))) | P47: =A47 | W47: =IF((AND(Q47="",R47="",S47="",T47="",U47="",V47="")),"",SUM(Q47:V47)) | X47: =IF(W47="","",IF(W47>159,"A",IF(W47>129,"B",IF(W47>99,"C",IF(W47>69,"D",IF(W47<70,"E",)))))) | AE47: =IF((AND(Y47="",Z47="",AA47="",AB47="",AC47="",AD47="")),"",SUM(Y47:AD47)) | AF47: =IF(AE47="","",IF(AE47>159,"A",IF(AE47>129,"B",IF(AE47>99,"C",IF(AE47>69,"D",IF(AE47<70,"E",)))))) | AG47: =A47 | AN47: =IF((AND(AH47="",AI47="",AJ47="",AK47="",AL47="",AM47="")),"",SUM(AH47:AM47)) | AO47: =IF(AN47="","",IF(AN47>159,"A",IF(AN47>129,"B",IF(AN47>99,"C",IF(AN47>69,"D",IF(AN47<70,"E",)))))) | AV47: =IF((AND(AP47="",AQ47="",AR47="",AS47="",AT47="",AU47="")),"",SUM(AP47:AU47)) | AW47: =IF(AV47="","",IF(AV47>159,"A",IF(AV47>129,"B",IF(AV47>99,"C",IF(AV47>69,"D",IF(AV47<70,"E",)))))) | AX47: =A47 | BE47: =IF((AND(AY47="",AZ47="",BA47="",BB47="",BC47="",BD47="")),"",SUM(AY47:BD47)) | BF47: =IF(BE47="","",IF(BE47>159,"A",IF(BE47>129,"B",IF(BE47>99,"C",IF(BE47>69,"D",IF(BE47<70,"E",)))))) | BM47: =IF((AND(BG47="",BH47="",BI47="",BJ47="",BK47="",BL47="")),"",SUM(BG47:BL47)) | BN47: =IF(BM47="","",IF(BM47>159,"A",IF(BM47>129,"B",IF(BM47>99,"C",IF(BM47>69,"D",IF(BM47<70,"E",)))))) | BO47: ='Patrak B'!AU86 | BP47: =IF(BO47="","",IF(BO47>319,"A",IF(BO47>259,"B",IF(BO47>199,"C",IF(BO47>139,"D",IF(BO47<140,"E",)))))) | BQ47: =IF(AND(N47="",W47="",AE47="",AN47="",AV47="",BE47="",BM47="",BO47=""),"",SUM(N47,W47,AE47,AN47,AV47,BE47,BM47,BO47)) | BR47: =IF(BQ47="","",IF(BQ47>1439,"A",IF(BQ47>1169,"B",IF(BQ47>899,"C",IF(BQ47>629,"D",IF(BQ47<630,"E",)))))) | BS47: =IF(OR(ISBLANK(BQ47), BQ47=0, BQ47=""), "", BQ47*100/$BQ$7)
A48: ='Student Data'!A47 | B48: =IF('Student Data'!B47="","",'Student Data'!B47) | C48: =IF('Student Data'!C47="","",'Student Data'!C47) | D48: =IF('Student Data'!D47="","",'Student Data'!D47) | E48: ='Student Data'!E47 -> 0 | F48: ='Student Data'!F47 -> 0 | G48: =IF('Student Data'!G47="","",'Student Data'!G47) | N48: =IF((AND(H48="",I48="",J48="",K48="",L48="",M48="")),"",SUM(H48:M48)) | O48: =IF(N48="","",IF(N48>159,"A",IF(N48>129,"B",IF(N48>99,"C",IF(N48>69,"D",IF(N48<70,"E",)))))) | P48: =A48 | W48: =IF((AND(Q48="",R48="",S48="",T48="",U48="",V48="")),"",SUM(Q48:V48)) | X48: =IF(W48="","",IF(W48>159,"A",IF(W48>129,"B",IF(W48>99,"C",IF(W48>69,"D",IF(W48<70,"E",)))))) | AE48: =IF((AND(Y48="",Z48="",AA48="",AB48="",AC48="",AD48="")),"",SUM(Y48:AD48)) | AF48: =IF(AE48="","",IF(AE48>159,"A",IF(AE48>129,"B",IF(AE48>99,"C",IF(AE48>69,"D",IF(AE48<70,"E",)))))) | AG48: =A48 | AN48: =IF((AND(AH48="",AI48="",AJ48="",AK48="",AL48="",AM48="")),"",SUM(AH48:AM48)) | AO48: =IF(AN48="","",IF(AN48>159,"A",IF(AN48>129,"B",IF(AN48>99,"C",IF(AN48>69,"D",IF(AN48<70,"E",)))))) | AV48: =IF((AND(AP48="",AQ48="",AR48="",AS48="",AT48="",AU48="")),"",SUM(AP48:AU48)) | AW48: =IF(AV48="","",IF(AV48>159,"A",IF(AV48>129,"B",IF(AV48>99,"C",IF(AV48>69,"D",IF(AV48<70,"E",)))))) | AX48: =A48 | BE48: =IF((AND(AY48="",AZ48="",BA48="",BB48="",BC48="",BD48="")),"",SUM(AY48:BD48)) | BF48: =IF(BE48="","",IF(BE48>159,"A",IF(BE48>129,"B",IF(BE48>99,"C",IF(BE48>69,"D",IF(BE48<70,"E",)))))) | BM48: =IF((AND(BG48="",BH48="",BI48="",BJ48="",BK48="",BL48="")),"",SUM(BG48:BL48)) | BN48: =IF(BM48="","",IF(BM48>159,"A",IF(BM48>129,"B",IF(BM48>99,"C",IF(BM48>69,"D",IF(BM48<70,"E",)))))) | BO48: ='Patrak B'!AU88 | BP48: =IF(BO48="","",IF(BO48>319,"A",IF(BO48>259,"B",IF(BO48>199,"C",IF(BO48>139,"D",IF(BO48<140,"E",)))))) | BQ48: =IF(AND(N48="",W48="",AE48="",AN48="",AV48="",BE48="",BM48="",BO48=""),"",SUM(N48,W48,AE48,AN48,AV48,BE48,BM48,BO48)) | BR48: =IF(BQ48="","",IF(BQ48>1439,"A",IF(BQ48>1169,"B",IF(BQ48>899,"C",IF(BQ48>629,"D",IF(BQ48<630,"E",)))))) | BS48: =IF(OR(ISBLANK(BQ48), BQ48=0, BQ48=""), "", BQ48*100/$BQ$7)
A49: ='Student Data'!A48 | B49: =IF('Student Data'!B48="","",'Student Data'!B48) | C49: =IF('Student Data'!C48="","",'Student Data'!C48) | D49: =IF('Student Data'!D48="","",'Student Data'!D48) | E49: ='Student Data'!E48 -> 0 | F49: ='Student Data'!F48 -> 0 | G49: =IF('Student Data'!G48="","",'Student Data'!G48) | N49: =IF((AND(H49="",I49="",J49="",K49="",L49="",M49="")),"",SUM(H49:M49)) | O49: =IF(N49="","",IF(N49>159,"A",IF(N49>129,"B",IF(N49>99,"C",IF(N49>69,"D",IF(N49<70,"E",)))))) | P49: =A49 | W49: =IF((AND(Q49="",R49="",S49="",T49="",U49="",V49="")),"",SUM(Q49:V49)) | X49: =IF(W49="","",IF(W49>159,"A",IF(W49>129,"B",IF(W49>99,"C",IF(W49>69,"D",IF(W49<70,"E",)))))) | AE49: =IF((AND(Y49="",Z49="",AA49="",AB49="",AC49="",AD49="")),"",SUM(Y49:AD49)) | AF49: =IF(AE49="","",IF(AE49>159,"A",IF(AE49>129,"B",IF(AE49>99,"C",IF(AE49>69,"D",IF(AE49<70,"E",)))))) | AG49: =A49 | AN49: =IF((AND(AH49="",AI49="",AJ49="",AK49="",AL49="",AM49="")),"",SUM(AH49:AM49)) | AO49: =IF(AN49="","",IF(AN49>159,"A",IF(AN49>129,"B",IF(AN49>99,"C",IF(AN49>69,"D",IF(AN49<70,"E",)))))) | AV49: =IF((AND(AP49="",AQ49="",AR49="",AS49="",AT49="",AU49="")),"",SUM(AP49:AU49)) | AW49: =IF(AV49="","",IF(AV49>159,"A",IF(AV49>129,"B",IF(AV49>99,"C",IF(AV49>69,"D",IF(AV49<70,"E",)))))) | AX49: =A49 | BE49: =IF((AND(AY49="",AZ49="",BA49="",BB49="",BC49="",BD49="")),"",SUM(AY49:BD49)) | BF49: =IF(BE49="","",IF(BE49>159,"A",IF(BE49>129,"B",IF(BE49>99,"C",IF(BE49>69,"D",IF(BE49<70,"E",)))))) | BM49: =IF((AND(BG49="",BH49="",BI49="",BJ49="",BK49="",BL49="")),"",SUM(BG49:BL49)) | BN49: =IF(BM49="","",IF(BM49>159,"A",IF(BM49>129,"B",IF(BM49>99,"C",IF(BM49>69,"D",IF(BM49<70,"E",)))))) | BO49: ='Patrak B'!AU90 | BP49: =IF(BO49="","",IF(BO49>319,"A",IF(BO49>259,"B",IF(BO49>199,"C",IF(BO49>139,"D",IF(BO49<140,"E",)))))) | BQ49: =IF(AND(N49="",W49="",AE49="",AN49="",AV49="",BE49="",BM49="",BO49=""),"",SUM(N49,W49,AE49,AN49,AV49,BE49,BM49,BO49)) | BR49: =IF(BQ49="","",IF(BQ49>1439,"A",IF(BQ49>1169,"B",IF(BQ49>899,"C",IF(BQ49>629,"D",IF(BQ49<630,"E",)))))) | BS49: =IF(OR(ISBLANK(BQ49), BQ49=0, BQ49=""), "", BQ49*100/$BQ$7)
A50: ='Student Data'!A49 | B50: =IF('Student Data'!B49="","",'Student Data'!B49) | C50: =IF('Student Data'!C49="","",'Student Data'!C49) | D50: =IF('Student Data'!D49="","",'Student Data'!D49) | E50: ='Student Data'!E49 -> 0 | F50: ='Student Data'!F49 -> 0 | G50: =IF('Student Data'!G49="","",'Student Data'!G49) | N50: =IF((AND(H50="",I50="",J50="",K50="",L50="",M50="")),"",SUM(H50:M50)) | O50: =IF(N50="","",IF(N50>159,"A",IF(N50>129,"B",IF(N50>99,"C",IF(N50>69,"D",IF(N50<70,"E",)))))) | P50: =A50 | W50: =IF((AND(Q50="",R50="",S50="",T50="",U50="",V50="")),"",SUM(Q50:V50)) | X50: =IF(W50="","",IF(W50>159,"A",IF(W50>129,"B",IF(W50>99,"C",IF(W50>69,"D",IF(W50<70,"E",)))))) | AE50: =IF((AND(Y50="",Z50="",AA50="",AB50="",AC50="",AD50="")),"",SUM(Y50:AD50)) | AF50: =IF(AE50="","",IF(AE50>159,"A",IF(AE50>129,"B",IF(AE50>99,"C",IF(AE50>69,"D",IF(AE50<70,"E",)))))) | AG50: =A50 | AN50: =IF((AND(AH50="",AI50="",AJ50="",AK50="",AL50="",AM50="")),"",SUM(AH50:AM50)) | AO50: =IF(AN50="","",IF(AN50>159,"A",IF(AN50>129,"B",IF(AN50>99,"C",IF(AN50>69,"D",IF(AN50<70,"E",)))))) | AV50: =IF((AND(AP50="",AQ50="",AR50="",AS50="",AT50="",AU50="")),"",SUM(AP50:AU50)) | AW50: =IF(AV50="","",IF(AV50>159,"A",IF(AV50>129,"B",IF(AV50>99,"C",IF(AV50>69,"D",IF(AV50<70,"E",)))))) | AX50: =A50 | BE50: =IF((AND(AY50="",AZ50="",BA50="",BB50="",BC50="",BD50="")),"",SUM(AY50:BD50)) | BF50: =IF(BE50="","",IF(BE50>159,"A",IF(BE50>129,"B",IF(BE50>99,"C",IF(BE50>69,"D",IF(BE50<70,"E",)))))) | BM50: =IF((AND(BG50="",BH50="",BI50="",BJ50="",BK50="",BL50="")),"",SUM(BG50:BL50)) | BN50: =IF(BM50="","",IF(BM50>159,"A",IF(BM50>129,"B",IF(BM50>99,"C",IF(BM50>69,"D",IF(BM50<70,"E",)))))) | BO50: ='Patrak B'!AU92 | BP50: =IF(BO50="","",IF(BO50>319,"A",IF(BO50>259,"B",IF(BO50>199,"C",IF(BO50>139,"D",IF(BO50<140,"E",)))))) | BQ50: =IF(AND(N50="",W50="",AE50="",AN50="",AV50="",BE50="",BM50="",BO50=""),"",SUM(N50,W50,AE50,AN50,AV50,BE50,BM50,BO50)) | BR50: =IF(BQ50="","",IF(BQ50>1439,"A",IF(BQ50>1169,"B",IF(BQ50>899,"C",IF(BQ50>629,"D",IF(BQ50<630,"E",)))))) | BS50: =IF(OR(ISBLANK(BQ50), BQ50=0, BQ50=""), "", BQ50*100/$BQ$7)
A51: ='Student Data'!A50 | B51: =IF('Student Data'!B50="","",'Student Data'!B50) | C51: =IF('Student Data'!C50="","",'Student Data'!C50) | D51: =IF('Student Data'!D50="","",'Student Data'!D50) | E51: ='Student Data'!E50 -> 0 | F51: ='Student Data'!F50 -> 0 | G51: =IF('Student Data'!G50="","",'Student Data'!G50) | N51: =IF((AND(H51="",I51="",J51="",K51="",L51="",M51="")),"",SUM(H51:M51)) | O51: =IF(N51="","",IF(N51>159,"A",IF(N51>129,"B",IF(N51>99,"C",IF(N51>69,"D",IF(N51<70,"E",)))))) | P51: =A51 | W51: =IF((AND(Q51="",R51="",S51="",T51="",U51="",V51="")),"",SUM(Q51:V51)) | X51: =IF(W51="","",IF(W51>159,"A",IF(W51>129,"B",IF(W51>99,"C",IF(W51>69,"D",IF(W51<70,"E",)))))) | AE51: =IF((AND(Y51="",Z51="",AA51="",AB51="",AC51="",AD51="")),"",SUM(Y51:AD51)) | AF51: =IF(AE51="","",IF(AE51>159,"A",IF(AE51>129,"B",IF(AE51>99,"C",IF(AE51>69,"D",IF(AE51<70,"E",)))))) | AG51: =A51 | AN51: =IF((AND(AH51="",AI51="",AJ51="",AK51="",AL51="",AM51="")),"",SUM(AH51:AM51)) | AO51: =IF(AN51="","",IF(AN51>159,"A",IF(AN51>129,"B",IF(AN51>99,"C",IF(AN51>69,"D",IF(AN51<70,"E",)))))) | AV51: =IF((AND(AP51="",AQ51="",AR51="",AS51="",AT51="",AU51="")),"",SUM(AP51:AU51)) | AW51: =IF(AV51="","",IF(AV51>159,"A",IF(AV51>129,"B",IF(AV51>99,"C",IF(AV51>69,"D",IF(AV51<70,"E",)))))) | AX51: =A51 | BE51: =IF((AND(AY51="",AZ51="",BA51="",BB51="",BC51="",BD51="")),"",SUM(AY51:BD51)) | BF51: =IF(BE51="","",IF(BE51>159,"A",IF(BE51>129,"B",IF(BE51>99,"C",IF(BE51>69,"D",IF(BE51<70,"E",)))))) | BM51: =IF((AND(BG51="",BH51="",BI51="",BJ51="",BK51="",BL51="")),"",SUM(BG51:BL51)) | BN51: =IF(BM51="","",IF(BM51>159,"A",IF(BM51>129,"B",IF(BM51>99,"C",IF(BM51>69,"D",IF(BM51<70,"E",)))))) | BO51: ='Patrak B'!AU94 | BP51: =IF(BO51="","",IF(BO51>319,"A",IF(BO51>259,"B",IF(BO51>199,"C",IF(BO51>139,"D",IF(BO51<140,"E",)))))) | BQ51: =IF(AND(N51="",W51="",AE51="",AN51="",AV51="",BE51="",BM51="",BO51=""),"",SUM(N51,W51,AE51,AN51,AV51,BE51,BM51,BO51)) | BR51: =IF(BQ51="","",IF(BQ51>1439,"A",IF(BQ51>1169,"B",IF(BQ51>899,"C",IF(BQ51>629,"D",IF(BQ51<630,"E",)))))) | BS51: =IF(OR(ISBLANK(BQ51), BQ51=0, BQ51=""), "", BQ51*100/$BQ$7)
A52: ='Student Data'!A51 | B52: =IF('Student Data'!B51="","",'Student Data'!B51) | C52: =IF('Student Data'!C51="","",'Student Data'!C51) | D52: =IF('Student Data'!D51="","",'Student Data'!D51) | E52: ='Student Data'!E51 -> 0 | F52: ='Student Data'!F51 -> 0 | G52: =IF('Student Data'!G51="","",'Student Data'!G51) | N52: =IF((AND(H52="",I52="",J52="",K52="",L52="",M52="")),"",SUM(H52:M52)) | O52: =IF(N52="","",IF(N52>159,"A",IF(N52>129,"B",IF(N52>99,"C",IF(N52>69,"D",IF(N52<70,"E",)))))) | P52: =A52 | W52: =IF((AND(Q52="",R52="",S52="",T52="",U52="",V52="")),"",SUM(Q52:V52)) | X52: =IF(W52="","",IF(W52>159,"A",IF(W52>129,"B",IF(W52>99,"C",IF(W52>69,"D",IF(W52<70,"E",)))))) | AE52: =IF((AND(Y52="",Z52="",AA52="",AB52="",AC52="",AD52="")),"",SUM(Y52:AD52)) | AF52: =IF(AE52="","",IF(AE52>159,"A",IF(AE52>129,"B",IF(AE52>99,"C",IF(AE52>69,"D",IF(AE52<70,"E",)))))) | AG52: =A52 | AN52: =IF((AND(AH52="",AI52="",AJ52="",AK52="",AL52="",AM52="")),"",SUM(AH52:AM52)) | AO52: =IF(AN52="","",IF(AN52>159,"A",IF(AN52>129,"B",IF(AN52>99,"C",IF(AN52>69,"D",IF(AN52<70,"E",)))))) | AV52: =IF((AND(AP52="",AQ52="",AR52="",AS52="",AT52="",AU52="")),"",SUM(AP52:AU52)) | AW52: =IF(AV52="","",IF(AV52>159,"A",IF(AV52>129,"B",IF(AV52>99,"C",IF(AV52>69,"D",IF(AV52<70,"E",)))))) | AX52: =A52 | BE52: =IF((AND(AY52="",AZ52="",BA52="",BB52="",BC52="",BD52="")),"",SUM(AY52:BD52)) | BF52: =IF(BE52="","",IF(BE52>159,"A",IF(BE52>129,"B",IF(BE52>99,"C",IF(BE52>69,"D",IF(BE52<70,"E",)))))) | BM52: =IF((AND(BG52="",BH52="",BI52="",BJ52="",BK52="",BL52="")),"",SUM(BG52:BL52)) | BN52: =IF(BM52="","",IF(BM52>159,"A",IF(BM52>129,"B",IF(BM52>99,"C",IF(BM52>69,"D",IF(BM52<70,"E",)))))) | BO52: ='Patrak B'!AU96 | BP52: =IF(BO52="","",IF(BO52>319,"A",IF(BO52>259,"B",IF(BO52>199,"C",IF(BO52>139,"D",IF(BO52<140,"E",)))))) | BQ52: =IF(AND(N52="",W52="",AE52="",AN52="",AV52="",BE52="",BM52="",BO52=""),"",SUM(N52,W52,AE52,AN52,AV52,BE52,BM52,BO52)) | BR52: =IF(BQ52="","",IF(BQ52>1439,"A",IF(BQ52>1169,"B",IF(BQ52>899,"C",IF(BQ52>629,"D",IF(BQ52<630,"E",)))))) | BS52: =IF(OR(ISBLANK(BQ52), BQ52=0, BQ52=""), "", BQ52*100/$BQ$7)
A53: ='Student Data'!A52 | B53: =IF('Student Data'!B52="","",'Student Data'!B52) | C53: =IF('Student Data'!C52="","",'Student Data'!C52) | D53: =IF('Student Data'!D52="","",'Student Data'!D52) | E53: ='Student Data'!E52 -> 0 | F53: ='Student Data'!F52 -> 0 | G53: =IF('Student Data'!G52="","",'Student Data'!G52) | N53: =IF((AND(H53="",I53="",J53="",K53="",L53="",M53="")),"",SUM(H53:M53)) | O53: =IF(N53="","",IF(N53>159,"A",IF(N53>129,"B",IF(N53>99,"C",IF(N53>69,"D",IF(N53<70,"E",)))))) | P53: =A53 | W53: =IF((AND(Q53="",R53="",S53="",T53="",U53="",V53="")),"",SUM(Q53:V53)) | X53: =IF(W53="","",IF(W53>159,"A",IF(W53>129,"B",IF(W53>99,"C",IF(W53>69,"D",IF(W53<70,"E",)))))) | AE53: =IF((AND(Y53="",Z53="",AA53="",AB53="",AC53="",AD53="")),"",SUM(Y53:AD53)) | AF53: =IF(AE53="","",IF(AE53>159,"A",IF(AE53>129,"B",IF(AE53>99,"C",IF(AE53>69,"D",IF(AE53<70,"E",)))))) | AG53: =A53 | AN53: =IF((AND(AH53="",AI53="",AJ53="",AK53="",AL53="",AM53="")),"",SUM(AH53:AM53)) | AO53: =IF(AN53="","",IF(AN53>159,"A",IF(AN53>129,"B",IF(AN53>99,"C",IF(AN53>69,"D",IF(AN53<70,"E",)))))) | AV53: =IF((AND(AP53="",AQ53="",AR53="",AS53="",AT53="",AU53="")),"",SUM(AP53:AU53)) | AW53: =IF(AV53="","",IF(AV53>159,"A",IF(AV53>129,"B",IF(AV53>99,"C",IF(AV53>69,"D",IF(AV53<70,"E",)))))) | AX53: =A53 | BE53: =IF((AND(AY53="",AZ53="",BA53="",BB53="",BC53="",BD53="")),"",SUM(AY53:BD53)) | BF53: =IF(BE53="","",IF(BE53>159,"A",IF(BE53>129,"B",IF(BE53>99,"C",IF(BE53>69,"D",IF(BE53<70,"E",)))))) | BM53: =IF((AND(BG53="",BH53="",BI53="",BJ53="",BK53="",BL53="")),"",SUM(BG53:BL53)) | BN53: =IF(BM53="","",IF(BM53>159,"A",IF(BM53>129,"B",IF(BM53>99,"C",IF(BM53>69,"D",IF(BM53<70,"E",)))))) | BO53: ='Patrak B'!AU98 | BP53: =IF(BO53="","",IF(BO53>319,"A",IF(BO53>259,"B",IF(BO53>199,"C",IF(BO53>139,"D",IF(BO53<140,"E",)))))) | BQ53: =IF(AND(N53="",W53="",AE53="",AN53="",AV53="",BE53="",BM53="",BO53=""),"",SUM(N53,W53,AE53,AN53,AV53,BE53,BM53,BO53)) | BR53: =IF(BQ53="","",IF(BQ53>1439,"A",IF(BQ53>1169,"B",IF(BQ53>899,"C",IF(BQ53>629,"D",IF(BQ53<630,"E",)))))) | BS53: =IF(OR(ISBLANK(BQ53), BQ53=0, BQ53=""), "", BQ53*100/$BQ$7)
A54: ='Student Data'!A53 | B54: =IF('Student Data'!B53="","",'Student Data'!B53) | C54: =IF('Student Data'!C53="","",'Student Data'!C53) | D54: =IF('Student Data'!D53="","",'Student Data'!D53) | E54: ='Student Data'!E53 -> 0 | F54: ='Student Data'!F53 -> 0 | G54: =IF('Student Data'!G53="","",'Student Data'!G53) | N54: =IF((AND(H54="",I54="",J54="",K54="",L54="",M54="")),"",SUM(H54:M54)) | O54: =IF(N54="","",IF(N54>159,"A",IF(N54>129,"B",IF(N54>99,"C",IF(N54>69,"D",IF(N54<70,"E",)))))) | P54: =A54 | W54: =IF((AND(Q54="",R54="",S54="",T54="",U54="",V54="")),"",SUM(Q54:V54)) | X54: =IF(W54="","",IF(W54>159,"A",IF(W54>129,"B",IF(W54>99,"C",IF(W54>69,"D",IF(W54<70,"E",)))))) | AE54: =IF((AND(Y54="",Z54="",AA54="",AB54="",AC54="",AD54="")),"",SUM(Y54:AD54)) | AF54: =IF(AE54="","",IF(AE54>159,"A",IF(AE54>129,"B",IF(AE54>99,"C",IF(AE54>69,"D",IF(AE54<70,"E",)))))) | AG54: =A54 | AN54: =IF((AND(AH54="",AI54="",AJ54="",AK54="",AL54="",AM54="")),"",SUM(AH54:AM54)) | AO54: =IF(AN54="","",IF(AN54>159,"A",IF(AN54>129,"B",IF(AN54>99,"C",IF(AN54>69,"D",IF(AN54<70,"E",)))))) | AV54: =IF((AND(AP54="",AQ54="",AR54="",AS54="",AT54="",AU54="")),"",SUM(AP54:AU54)) | AW54: =IF(AV54="","",IF(AV54>159,"A",IF(AV54>129,"B",IF(AV54>99,"C",IF(AV54>69,"D",IF(AV54<70,"E",)))))) | AX54: =A54 | BE54: =IF((AND(AY54="",AZ54="",BA54="",BB54="",BC54="",BD54="")),"",SUM(AY54:BD54)) | BF54: =IF(BE54="","",IF(BE54>159,"A",IF(BE54>129,"B",IF(BE54>99,"C",IF(BE54>69,"D",IF(BE54<70,"E",)))))) | BM54: =IF((AND(BG54="",BH54="",BI54="",BJ54="",BK54="",BL54="")),"",SUM(BG54:BL54)) | BN54: =IF(BM54="","",IF(BM54>159,"A",IF(BM54>129,"B",IF(BM54>99,"C",IF(BM54>69,"D",IF(BM54<70,"E",)))))) | BO54: ='Patrak B'!AU100 | BP54: =IF(BO54="","",IF(BO54>319,"A",IF(BO54>259,"B",IF(BO54>199,"C",IF(BO54>139,"D",IF(BO54<140,"E",)))))) | BQ54: =IF(AND(N54="",W54="",AE54="",AN54="",AV54="",BE54="",BM54="",BO54=""),"",SUM(N54,W54,AE54,AN54,AV54,BE54,BM54,BO54)) | BR54: =IF(BQ54="","",IF(BQ54>1439,"A",IF(BQ54>1169,"B",IF(BQ54>899,"C",IF(BQ54>629,"D",IF(BQ54<630,"E",)))))) | BS54: =IF(OR(ISBLANK(BQ54), BQ54=0, BQ54=""), "", BQ54*100/$BQ$7)
A55: ='Student Data'!A54 | B55: =IF('Student Data'!B54="","",'Student Data'!B54) | C55: =IF('Student Data'!C54="","",'Student Data'!C54) | D55: =IF('Student Data'!D54="","",'Student Data'!D54) | E55: ='Student Data'!E54 -> 0 | F55: ='Student Data'!F54 -> 0 | G55: =IF('Student Data'!G54="","",'Student Data'!G54) | N55: =IF((AND(H55="",I55="",J55="",K55="",L55="",M55="")),"",SUM(H55:M55)) | O55: =IF(N55="","",IF(N55>159,"A",IF(N55>129,"B",IF(N55>99,"C",IF(N55>69,"D",IF(N55<70,"E",)))))) | P55: =A55 | W55: =IF((AND(Q55="",R55="",S55="",T55="",U55="",V55="")),"",SUM(Q55:V55)) | X55: =IF(W55="","",IF(W55>159,"A",IF(W55>129,"B",IF(W55>99,"C",IF(W55>69,"D",IF(W55<70,"E",)))))) | AE55: =IF((AND(Y55="",Z55="",AA55="",AB55="",AC55="",AD55="")),"",SUM(Y55:AD55)) | AF55: =IF(AE55="","",IF(AE55>159,"A",IF(AE55>129,"B",IF(AE55>99,"C",IF(AE55>69,"D",IF(AE55<70,"E",)))))) | AG55: =A55 | AN55: =IF((AND(AH55="",AI55="",AJ55="",AK55="",AL55="",AM55="")),"",SUM(AH55:AM55)) | AO55: =IF(AN55="","",IF(AN55>159,"A",IF(AN55>129,"B",IF(AN55>99,"C",IF(AN55>69,"D",IF(AN55<70,"E",)))))) | AV55: =IF((AND(AP55="",AQ55="",AR55="",AS55="",AT55="",AU55="")),"",SUM(AP55:AU55)) | AW55: =IF(AV55="","",IF(AV55>159,"A",IF(AV55>129,"B",IF(AV55>99,"C",IF(AV55>69,"D",IF(AV55<70,"E",)))))) | AX55: =A55 | BE55: =IF((AND(AY55="",AZ55="",BA55="",BB55="",BC55="",BD55="")),"",SUM(AY55:BD55)) | BF55: =IF(BE55="","",IF(BE55>159,"A",IF(BE55>129,"B",IF(BE55>99,"C",IF(BE55>69,"D",IF(BE55<70,"E",)))))) | BM55: =IF((AND(BG55="",BH55="",BI55="",BJ55="",BK55="",BL55="")),"",SUM(BG55:BL55)) | BN55: =IF(BM55="","",IF(BM55>159,"A",IF(BM55>129,"B",IF(BM55>99,"C",IF(BM55>69,"D",IF(BM55<70,"E",)))))) | BO55: ='Patrak B'!AU102 | BP55: =IF(BO55="","",IF(BO55>319,"A",IF(BO55>259,"B",IF(BO55>199,"C",IF(BO55>139,"D",IF(BO55<140,"E",)))))) | BQ55: =IF(AND(N55="",W55="",AE55="",AN55="",AV55="",BE55="",BM55="",BO55=""),"",SUM(N55,W55,AE55,AN55,AV55,BE55,BM55,BO55)) | BR55: =IF(BQ55="","",IF(BQ55>1439,"A",IF(BQ55>1169,"B",IF(BQ55>899,"C",IF(BQ55>629,"D",IF(BQ55<630,"E",)))))) | BS55: =IF(OR(ISBLANK(BQ55), BQ55=0, BQ55=""), "", BQ55*100/$BQ$7)
A56: ='Student Data'!A55 | B56: =IF('Student Data'!B55="","",'Student Data'!B55) | C56: =IF('Student Data'!C55="","",'Student Data'!C55) | D56: =IF('Student Data'!D55="","",'Student Data'!D55) | E56: ='Student Data'!E55 -> 0 | F56: ='Student Data'!F55 -> 0 | G56: =IF('Student Data'!G55="","",'Student Data'!G55) | N56: =IF((AND(H56="",I56="",J56="",K56="",L56="",M56="")),"",SUM(H56:M56)) | O56: =IF(N56="","",IF(N56>159,"A",IF(N56>129,"B",IF(N56>99,"C",IF(N56>69,"D",IF(N56<70,"E",)))))) | P56: =A56 | W56: =IF((AND(Q56="",R56="",S56="",T56="",U56="",V56="")),"",SUM(Q56:V56)) | X56: =IF(W56="","",IF(W56>159,"A",IF(W56>129,"B",IF(W56>99,"C",IF(W56>69,"D",IF(W56<70,"E",)))))) | AE56: =IF((AND(Y56="",Z56="",AA56="",AB56="",AC56="",AD56="")),"",SUM(Y56:AD56)) | AF56: =IF(AE56="","",IF(AE56>159,"A",IF(AE56>129,"B",IF(AE56>99,"C",IF(AE56>69,"D",IF(AE56<70,"E",)))))) | AG56: =A56 | AN56: =IF((AND(AH56="",AI56="",AJ56="",AK56="",AL56="",AM56="")),"",SUM(AH56:AM56)) | AO56: =IF(AN56="","",IF(AN56>159,"A",IF(AN56>129,"B",IF(AN56>99,"C",IF(AN56>69,"D",IF(AN56<70,"E",)))))) | AV56: =IF((AND(AP56="",AQ56="",AR56="",AS56="",AT56="",AU56="")),"",SUM(AP56:AU56)) | AW56: =IF(AV56="","",IF(AV56>159,"A",IF(AV56>129,"B",IF(AV56>99,"C",IF(AV56>69,"D",IF(AV56<70,"E",)))))) | AX56: =A56 | BE56: =IF((AND(AY56="",AZ56="",BA56="",BB56="",BC56="",BD56="")),"",SUM(AY56:BD56)) | BF56: =IF(BE56="","",IF(BE56>159,"A",IF(BE56>129,"B",IF(BE56>99,"C",IF(BE56>69,"D",IF(BE56<70,"E",)))))) | BM56: =IF((AND(BG56="",BH56="",BI56="",BJ56="",BK56="",BL56="")),"",SUM(BG56:BL56)) | BN56: =IF(BM56="","",IF(BM56>159,"A",IF(BM56>129,"B",IF(BM56>99,"C",IF(BM56>69,"D",IF(BM56<70,"E",)))))) | BO56: ='Patrak B'!AU104 | BP56: =IF(BO56="","",IF(BO56>319,"A",IF(BO56>259,"B",IF(BO56>199,"C",IF(BO56>139,"D",IF(BO56<140,"E",)))))) | BQ56: =IF(AND(N56="",W56="",AE56="",AN56="",AV56="",BE56="",BM56="",BO56=""),"",SUM(N56,W56,AE56,AN56,AV56,BE56,BM56,BO56)) | BR56: =IF(BQ56="","",IF(BQ56>1439,"A",IF(BQ56>1169,"B",IF(BQ56>899,"C",IF(BQ56>629,"D",IF(BQ56<630,"E",)))))) | BS56: =IF(OR(ISBLANK(BQ56), BQ56=0, BQ56=""), "", BQ56*100/$BQ$7)
A57: ='Student Data'!A56 | B57: =IF('Student Data'!B56="","",'Student Data'!B56) | C57: =IF('Student Data'!C56="","",'Student Data'!C56) | D57: =IF('Student Data'!D56="","",'Student Data'!D56) | E57: ='Student Data'!E56 -> 0 | F57: ='Student Data'!F56 -> 0 | G57: =IF('Student Data'!G56="","",'Student Data'!G56) | N57: =IF((AND(H57="",I57="",J57="",K57="",L57="",M57="")),"",SUM(H57:M57)) | O57: =IF(N57="","",IF(N57>159,"A",IF(N57>129,"B",IF(N57>99,"C",IF(N57>69,"D",IF(N57<70,"E",)))))) | P57: =A57 | W57: =IF((AND(Q57="",R57="",S57="",T57="",U57="",V57="")),"",SUM(Q57:V57)) | X57: =IF(W57="","",IF(W57>159,"A",IF(W57>129,"B",IF(W57>99,"C",IF(W57>69,"D",IF(W57<70,"E",)))))) | AE57: =IF((AND(Y57="",Z57="",AA57="",AB57="",AC57="",AD57="")),"",SUM(Y57:AD57)) | AF57: =IF(AE57="","",IF(AE57>159,"A",IF(AE57>129,"B",IF(AE57>99,"C",IF(AE57>69,"D",IF(AE57<70,"E",)))))) | AG57: =A57 | AN57: =IF((AND(AH57="",AI57="",AJ57="",AK57="",AL57="",AM57="")),"",SUM(AH57:AM57)) | AO57: =IF(AN57="","",IF(AN57>159,"A",IF(AN57>129,"B",IF(AN57>99,"C",IF(AN57>69,"D",IF(AN57<70,"E",)))))) | AV57: =IF((AND(AP57="",AQ57="",AR57="",AS57="",AT57="",AU57="")),"",SUM(AP57:AU57)) | AW57: =IF(AV57="","",IF(AV57>159,"A",IF(AV57>129,"B",IF(AV57>99,"C",IF(AV57>69,"D",IF(AV57<70,"E",)))))) | AX57: =A57 | BE57: =IF((AND(AY57="",AZ57="",BA57="",BB57="",BC57="",BD57="")),"",SUM(AY57:BD57)) | BF57: =IF(BE57="","",IF(BE57>159,"A",IF(BE57>129,"B",IF(BE57>99,"C",IF(BE57>69,"D",IF(BE57<70,"E",)))))) | BM57: =IF((AND(BG57="",BH57="",BI57="",BJ57="",BK57="",BL57="")),"",SUM(BG57:BL57)) | BN57: =IF(BM57="","",IF(BM57>159,"A",IF(BM57>129,"B",IF(BM57>99,"C",IF(BM57>69,"D",IF(BM57<70,"E",)))))) | BO57: ='Patrak B'!AU106 | BP57: =IF(BO57="","",IF(BO57>319,"A",IF(BO57>259,"B",IF(BO57>199,"C",IF(BO57>139,"D",IF(BO57<140,"E",)))))) | BQ57: =IF(AND(N57="",W57="",AE57="",AN57="",AV57="",BE57="",BM57="",BO57=""),"",SUM(N57,W57,AE57,AN57,AV57,BE57,BM57,BO57)) | BR57: =IF(BQ57="","",IF(BQ57>1439,"A",IF(BQ57>1169,"B",IF(BQ57>899,"C",IF(BQ57>629,"D",IF(BQ57<630,"E",)))))) | BS57: =IF(OR(ISBLANK(BQ57), BQ57=0, BQ57=""), "", BQ57*100/$BQ$7)
A58: ='Student Data'!A57 | B58: =IF('Student Data'!B57="","",'Student Data'!B57) | C58: =IF('Student Data'!C57="","",'Student Data'!C57) | D58: =IF('Student Data'!D57="","",'Student Data'!D57) | E58: ='Student Data'!E57 -> 0 | F58: ='Student Data'!F57 -> 0 | G58: =IF('Student Data'!G57="","",'Student Data'!G57) | N58: =IF((AND(H58="",I58="",J58="",K58="",L58="",M58="")),"",SUM(H58:M58)) | O58: =IF(N58="","",IF(N58>159,"A",IF(N58>129,"B",IF(N58>99,"C",IF(N58>69,"D",IF(N58<70,"E",)))))) | P58: =A58 | W58: =IF((AND(Q58="",R58="",S58="",T58="",U58="",V58="")),"",SUM(Q58:V58)) | X58: =IF(W58="","",IF(W58>159,"A",IF(W58>129,"B",IF(W58>99,"C",IF(W58>69,"D",IF(W58<70,"E",)))))) | AE58: =IF((AND(Y58="",Z58="",AA58="",AB58="",AC58="",AD58="")),"",SUM(Y58:AD58)) | AF58: =IF(AE58="","",IF(AE58>159,"A",IF(AE58>129,"B",IF(AE58>99,"C",IF(AE58>69,"D",IF(AE58<70,"E",)))))) | AG58: =A58 | AN58: =IF((AND(AH58="",AI58="",AJ58="",AK58="",AL58="",AM58="")),"",SUM(AH58:AM58)) | AO58: =IF(AN58="","",IF(AN58>159,"A",IF(AN58>129,"B",IF(AN58>99,"C",IF(AN58>69,"D",IF(AN58<70,"E",)))))) | AV58: =IF((AND(AP58="",AQ58="",AR58="",AS58="",AT58="",AU58="")),"",SUM(AP58:AU58)) | AW58: =IF(AV58="","",IF(AV58>159,"A",IF(AV58>129,"B",IF(AV58>99,"C",IF(AV58>69,"D",IF(AV58<70,"E",)))))) | AX58: =A58 | BE58: =IF((AND(AY58="",AZ58="",BA58="",BB58="",BC58="",BD58="")),"",SUM(AY58:BD58)) | BF58: =IF(BE58="","",IF(BE58>159,"A",IF(BE58>129,"B",IF(BE58>99,"C",IF(BE58>69,"D",IF(BE58<70,"E",)))))) | BM58: =IF((AND(BG58="",BH58="",BI58="",BJ58="",BK58="",BL58="")),"",SUM(BG58:BL58)) | BN58: =IF(BM58="","",IF(BM58>159,"A",IF(BM58>129,"B",IF(BM58>99,"C",IF(BM58>69,"D",IF(BM58<70,"E",)))))) | BO58: ='Patrak B'!AU108 | BP58: =IF(BO58="","",IF(BO58>319,"A",IF(BO58>259,"B",IF(BO58>199,"C",IF(BO58>139,"D",IF(BO58<140,"E",)))))) | BQ58: =IF(AND(N58="",W58="",AE58="",AN58="",AV58="",BE58="",BM58="",BO58=""),"",SUM(N58,W58,AE58,AN58,AV58,BE58,BM58,BO58)) | BR58: =IF(BQ58="","",IF(BQ58>1439,"A",IF(BQ58>1169,"B",IF(BQ58>899,"C",IF(BQ58>629,"D",IF(BQ58<630,"E",)))))) | BS58: =IF(OR(ISBLANK(BQ58), BQ58=0, BQ58=""), "", BQ58*100/$BQ$7)
A59: ='Student Data'!A58 | B59: =IF('Student Data'!B58="","",'Student Data'!B58) | C59: =IF('Student Data'!C58="","",'Student Data'!C58) | D59: =IF('Student Data'!D58="","",'Student Data'!D58) | E59: ='Student Data'!E58 -> 0 | F59: ='Student Data'!F58 -> 0 | G59: =IF('Student Data'!G58="","",'Student Data'!G58) | N59: =IF((AND(H59="",I59="",J59="",K59="",L59="",M59="")),"",SUM(H59:M59)) | O59: =IF(N59="","",IF(N59>159,"A",IF(N59>129,"B",IF(N59>99,"C",IF(N59>69,"D",IF(N59<70,"E",)))))) | P59: =A59 | W59: =IF((AND(Q59="",R59="",S59="",T59="",U59="",V59="")),"",SUM(Q59:V59)) | X59: =IF(W59="","",IF(W59>159,"A",IF(W59>129,"B",IF(W59>99,"C",IF(W59>69,"D",IF(W59<70,"E",)))))) | AE59: =IF((AND(Y59="",Z59="",AA59="",AB59="",AC59="",AD59="")),"",SUM(Y59:AD59)) | AF59: =IF(AE59="","",IF(AE59>159,"A",IF(AE59>129,"B",IF(AE59>99,"C",IF(AE59>69,"D",IF(AE59<70,"E",)))))) | AG59: =A59 | AN59: =IF((AND(AH59="",AI59="",AJ59="",AK59="",AL59="",AM59="")),"",SUM(AH59:AM59)) | AO59: =IF(AN59="","",IF(AN59>159,"A",IF(AN59>129,"B",IF(AN59>99,"C",IF(AN59>69,"D",IF(AN59<70,"E",)))))) | AV59: =IF((AND(AP59="",AQ59="",AR59="",AS59="",AT59="",AU59="")),"",SUM(AP59:AU59)) | AW59: =IF(AV59="","",IF(AV59>159,"A",IF(AV59>129,"B",IF(AV59>99,"C",IF(AV59>69,"D",IF(AV59<70,"E",)))))) | AX59: =A59 | BE59: =IF((AND(AY59="",AZ59="",BA59="",BB59="",BC59="",BD59="")),"",SUM(AY59:BD59)) | BF59: =IF(BE59="","",IF(BE59>159,"A",IF(BE59>129,"B",IF(BE59>99,"C",IF(BE59>69,"D",IF(BE59<70,"E",)))))) | BM59: =IF((AND(BG59="",BH59="",BI59="",BJ59="",BK59="",BL59="")),"",SUM(BG59:BL59)) | BN59: =IF(BM59="","",IF(BM59>159,"A",IF(BM59>129,"B",IF(BM59>99,"C",IF(BM59>69,"D",IF(BM59<70,"E",)))))) | BO59: ='Patrak B'!AU110 | BP59: =IF(BO59="","",IF(BO59>319,"A",IF(BO59>259,"B",IF(BO59>199,"C",IF(BO59>139,"D",IF(BO59<140,"E",)))))) | BQ59: =IF(AND(N59="",W59="",AE59="",AN59="",AV59="",BE59="",BM59="",BO59=""),"",SUM(N59,W59,AE59,AN59,AV59,BE59,BM59,BO59)) | BR59: =IF(BQ59="","",IF(BQ59>1439,"A",IF(BQ59>1169,"B",IF(BQ59>899,"C",IF(BQ59>629,"D",IF(BQ59<630,"E",)))))) | BS59: =IF(OR(ISBLANK(BQ59), BQ59=0, BQ59=""), "", BQ59*100/$BQ$7)
A60: ='Student Data'!A59 | B60: =IF('Student Data'!B59="","",'Student Data'!B59) | C60: =IF('Student Data'!C59="","",'Student Data'!C59) | D60: =IF('Student Data'!D59="","",'Student Data'!D59) | E60: ='Student Data'!E59 -> 0 | F60: ='Student Data'!F59 -> 0 | G60: =IF('Student Data'!G59="","",'Student Data'!G59) | N60: =IF((AND(H60="",I60="",J60="",K60="",L60="",M60="")),"",SUM(H60:M60)) | O60: =IF(N60="","",IF(N60>159,"A",IF(N60>129,"B",IF(N60>99,"C",IF(N60>69,"D",IF(N60<70,"E",)))))) | P60: =A60 | W60: =IF((AND(Q60="",R60="",S60="",T60="",U60="",V60="")),"",SUM(Q60:V60)) | X60: =IF(W60="","",IF(W60>159,"A",IF(W60>129,"B",IF(W60>99,"C",IF(W60>69,"D",IF(W60<70,"E",)))))) | AE60: =IF((AND(Y60="",Z60="",AA60="",AB60="",AC60="",AD60="")),"",SUM(Y60:AD60)) | AF60: =IF(AE60="","",IF(AE60>159,"A",IF(AE60>129,"B",IF(AE60>99,"C",IF(AE60>69,"D",IF(AE60<70,"E",)))))) | AG60: =A60 | AN60: =IF((AND(AH60="",AI60="",AJ60="",AK60="",AL60="",AM60="")),"",SUM(AH60:AM60)) | AO60: =IF(AN60="","",IF(AN60>159,"A",IF(AN60>129,"B",IF(AN60>99,"C",IF(AN60>69,"D",IF(AN60<70,"E",)))))) | AV60: =IF((AND(AP60="",AQ60="",AR60="",AS60="",AT60="",AU60="")),"",SUM(AP60:AU60)) | AW60: =IF(AV60="","",IF(AV60>159,"A",IF(AV60>129,"B",IF(AV60>99,"C",IF(AV60>69,"D",IF(AV60<70,"E",)))))) | AX60: =A60 | BE60: =IF((AND(AY60="",AZ60="",BA60="",BB60="",BC60="",BD60="")),"",SUM(AY60:BD60)) | BF60: =IF(BE60="","",IF(BE60>159,"A",IF(BE60>129,"B",IF(BE60>99,"C",IF(BE60>69,"D",IF(BE60<70,"E",)))))) | BM60: =IF((AND(BG60="",BH60="",BI60="",BJ60="",BK60="",BL60="")),"",SUM(BG60:BL60)) | BN60: =IF(BM60="","",IF(BM60>159,"A",IF(BM60>129,"B",IF(BM60>99,"C",IF(BM60>69,"D",IF(BM60<70,"E",)))))) | BO60: ='Patrak B'!AU112 | BP60: =IF(BO60="","",IF(BO60>319,"A",IF(BO60>259,"B",IF(BO60>199,"C",IF(BO60>139,"D",IF(BO60<140,"E",)))))) | BQ60: =IF(AND(N60="",W60="",AE60="",AN60="",AV60="",BE60="",BM60="",BO60=""),"",SUM(N60,W60,AE60,AN60,AV60,BE60,BM60,BO60)) | BR60: =IF(BQ60="","",IF(BQ60>1439,"A",IF(BQ60>1169,"B",IF(BQ60>899,"C",IF(BQ60>629,"D",IF(BQ60<630,"E",)))))) | BS60: =IF(OR(ISBLANK(BQ60), BQ60=0, BQ60=""), "", BQ60*100/$BQ$7)
A61: ='Student Data'!A60 | B61: =IF('Student Data'!B60="","",'Student Data'!B60) | C61: =IF('Student Data'!C60="","",'Student Data'!C60) | D61: =IF('Student Data'!D60="","",'Student Data'!D60) | E61: ='Student Data'!E60 -> 0 | F61: ='Student Data'!F60 -> 0 | G61: =IF('Student Data'!G60="","",'Student Data'!G60) | N61: =IF((AND(H61="",I61="",J61="",K61="",L61="",M61="")),"",SUM(H61:M61)) | O61: =IF(N61="","",IF(N61>159,"A",IF(N61>129,"B",IF(N61>99,"C",IF(N61>69,"D",IF(N61<70,"E",)))))) | P61: =A61 | W61: =IF((AND(Q61="",R61="",S61="",T61="",U61="",V61="")),"",SUM(Q61:V61)) | X61: =IF(W61="","",IF(W61>159,"A",IF(W61>129,"B",IF(W61>99,"C",IF(W61>69,"D",IF(W61<70,"E",)))))) | AE61: =IF((AND(Y61="",Z61="",AA61="",AB61="",AC61="",AD61="")),"",SUM(Y61:AD61)) | AF61: =IF(AE61="","",IF(AE61>159,"A",IF(AE61>129,"B",IF(AE61>99,"C",IF(AE61>69,"D",IF(AE61<70,"E",)))))) | AG61: =A61 | AN61: =IF((AND(AH61="",AI61="",AJ61="",AK61="",AL61="",AM61="")),"",SUM(AH61:AM61)) | AO61: =IF(AN61="","",IF(AN61>159,"A",IF(AN61>129,"B",IF(AN61>99,"C",IF(AN61>69,"D",IF(AN61<70,"E",)))))) | AV61: =IF((AND(AP61="",AQ61="",AR61="",AS61="",AT61="",AU61="")),"",SUM(AP61:AU61)) | AW61: =IF(AV61="","",IF(AV61>159,"A",IF(AV61>129,"B",IF(AV61>99,"C",IF(AV61>69,"D",IF(AV61<70,"E",)))))) | AX61: =A61 | BE61: =IF((AND(AY61="",AZ61="",BA61="",BB61="",BC61="",BD61="")),"",SUM(AY61:BD61)) | BF61: =IF(BE61="","",IF(BE61>159,"A",IF(BE61>129,"B",IF(BE61>99,"C",IF(BE61>69,"D",IF(BE61<70,"E",)))))) | BM61: =IF((AND(BG61="",BH61="",BI61="",BJ61="",BK61="",BL61="")),"",SUM(BG61:BL61)) | BN61: =IF(BM61="","",IF(BM61>159,"A",IF(BM61>129,"B",IF(BM61>99,"C",IF(BM61>69,"D",IF(BM61<70,"E",)))))) | BO61: ='Patrak B'!AU114 | BP61: =IF(BO61="","",IF(BO61>319,"A",IF(BO61>259,"B",IF(BO61>199,"C",IF(BO61>139,"D",IF(BO61<140,"E",)))))) | BQ61: =IF(AND(N61="",W61="",AE61="",AN61="",AV61="",BE61="",BM61="",BO61=""),"",SUM(N61,W61,AE61,AN61,AV61,BE61,BM61,BO61)) | BR61: =IF(BQ61="","",IF(BQ61>1439,"A",IF(BQ61>1169,"B",IF(BQ61>899,"C",IF(BQ61>629,"D",IF(BQ61<630,"E",)))))) | BS61: =IF(OR(ISBLANK(BQ61), BQ61=0, BQ61=""), "", BQ61*100/$BQ$7)
A62: ='Student Data'!A61 | B62: =IF('Student Data'!B61="","",'Student Data'!B61) | C62: =IF('Student Data'!C61="","",'Student Data'!C61) | D62: =IF('Student Data'!D61="","",'Student Data'!D61) | E62: ='Student Data'!E61 -> 0 | F62: ='Student Data'!F61 -> 0 | G62: =IF('Student Data'!G61="","",'Student Data'!G61) | N62: =IF((AND(H62="",I62="",J62="",K62="",L62="",M62="")),"",SUM(H62:M62)) | O62: =IF(N62="","",IF(N62>159,"A",IF(N62>129,"B",IF(N62>99,"C",IF(N62>69,"D",IF(N62<70,"E",)))))) | P62: =A62 | W62: =IF((AND(Q62="",R62="",S62="",T62="",U62="",V62="")),"",SUM(Q62:V62)) | X62: =IF(W62="","",IF(W62>159,"A",IF(W62>129,"B",IF(W62>99,"C",IF(W62>69,"D",IF(W62<70,"E",)))))) | AE62: =IF((AND(Y62="",Z62="",AA62="",AB62="",AC62="",AD62="")),"",SUM(Y62:AD62)) | AF62: =IF(AE62="","",IF(AE62>159,"A",IF(AE62>129,"B",IF(AE62>99,"C",IF(AE62>69,"D",IF(AE62<70,"E",)))))) | AG62: =A62 | AN62: =IF((AND(AH62="",AI62="",AJ62="",AK62="",AL62="",AM62="")),"",SUM(AH62:AM62)) | AO62: =IF(AN62="","",IF(AN62>159,"A",IF(AN62>129,"B",IF(AN62>99,"C",IF(AN62>69,"D",IF(AN62<70,"E",)))))) | AV62: =IF((AND(AP62="",AQ62="",AR62="",AS62="",AT62="",AU62="")),"",SUM(AP62:AU62)) | AW62: =IF(AV62="","",IF(AV62>159,"A",IF(AV62>129,"B",IF(AV62>99,"C",IF(AV62>69,"D",IF(AV62<70,"E",)))))) | AX62: =A62 | BE62: =IF((AND(AY62="",AZ62="",BA62="",BB62="",BC62="",BD62="")),"",SUM(AY62:BD62)) | BF62: =IF(BE62="","",IF(BE62>159,"A",IF(BE62>129,"B",IF(BE62>99,"C",IF(BE62>69,"D",IF(BE62<70,"E",)))))) | BM62: =IF((AND(BG62="",BH62="",BI62="",BJ62="",BK62="",BL62="")),"",SUM(BG62:BL62)) | BN62: =IF(BM62="","",IF(BM62>159,"A",IF(BM62>129,"B",IF(BM62>99,"C",IF(BM62>69,"D",IF(BM62<70,"E",)))))) | BO62: ='Patrak B'!AU116 | BP62: =IF(BO62="","",IF(BO62>319,"A",IF(BO62>259,"B",IF(BO62>199,"C",IF(BO62>139,"D",IF(BO62<140,"E",)))))) | BQ62: =IF(AND(N62="",W62="",AE62="",AN62="",AV62="",BE62="",BM62="",BO62=""),"",SUM(N62,W62,AE62,AN62,AV62,BE62,BM62,BO62)) | BR62: =IF(BQ62="","",IF(BQ62>1439,"A",IF(BQ62>1169,"B",IF(BQ62>899,"C",IF(BQ62>629,"D",IF(BQ62<630,"E",)))))) | BS62: =IF(OR(ISBLANK(BQ62), BQ62=0, BQ62=""), "", BQ62*100/$BQ$7)
A63: ='Student Data'!A62 | B63: =IF('Student Data'!B62="","",'Student Data'!B62) | C63: =IF('Student Data'!C62="","",'Student Data'!C62) | D63: =IF('Student Data'!D62="","",'Student Data'!D62) | E63: ='Student Data'!E62 -> 0 | F63: ='Student Data'!F62 -> 0 | G63: =IF('Student Data'!G62="","",'Student Data'!G62) | N63: =IF((AND(H63="",I63="",J63="",K63="",L63="",M63="")),"",SUM(H63:M63)) | O63: =IF(N63="","",IF(N63>159,"A",IF(N63>129,"B",IF(N63>99,"C",IF(N63>69,"D",IF(N63<70,"E",)))))) | P63: =A63 | W63: =IF((AND(Q63="",R63="",S63="",T63="",U63="",V63="")),"",SUM(Q63:V63)) | X63: =IF(W63="","",IF(W63>159,"A",IF(W63>129,"B",IF(W63>99,"C",IF(W63>69,"D",IF(W63<70,"E",)))))) | AE63: =IF((AND(Y63="",Z63="",AA63="",AB63="",AC63="",AD63="")),"",SUM(Y63:AD63)) | AF63: =IF(AE63="","",IF(AE63>159,"A",IF(AE63>129,"B",IF(AE63>99,"C",IF(AE63>69,"D",IF(AE63<70,"E",)))))) | AG63: =A63 | AN63: =IF((AND(AH63="",AI63="",AJ63="",AK63="",AL63="",AM63="")),"",SUM(AH63:AM63)) | AO63: =IF(AN63="","",IF(AN63>159,"A",IF(AN63>129,"B",IF(AN63>99,"C",IF(AN63>69,"D",IF(AN63<70,"E",)))))) | AV63: =IF((AND(AP63="",AQ63="",AR63="",AS63="",AT63="",AU63="")),"",SUM(AP63:AU63)) | AW63: =IF(AV63="","",IF(AV63>159,"A",IF(AV63>129,"B",IF(AV63>99,"C",IF(AV63>69,"D",IF(AV63<70,"E",)))))) | AX63: =A63 | BE63: =IF((AND(AY63="",AZ63="",BA63="",BB63="",BC63="",BD63="")),"",SUM(AY63:BD63)) | BF63: =IF(BE63="","",IF(BE63>159,"A",IF(BE63>129,"B",IF(BE63>99,"C",IF(BE63>69,"D",IF(BE63<70,"E",)))))) | BM63: =IF((AND(BG63="",BH63="",BI63="",BJ63="",BK63="",BL63="")),"",SUM(BG63:BL63)) | BN63: =IF(BM63="","",IF(BM63>159,"A",IF(BM63>129,"B",IF(BM63>99,"C",IF(BM63>69,"D",IF(BM63<70,"E",)))))) | BO63: ='Patrak B'!AU118 | BP63: =IF(BO63="","",IF(BO63>319,"A",IF(BO63>259,"B",IF(BO63>199,"C",IF(BO63>139,"D",IF(BO63<140,"E",)))))) | BQ63: =IF(AND(N63="",W63="",AE63="",AN63="",AV63="",BE63="",BM63="",BO63=""),"",SUM(N63,W63,AE63,AN63,AV63,BE63,BM63,BO63)) | BR63: =IF(BQ63="","",IF(BQ63>1439,"A",IF(BQ63>1169,"B",IF(BQ63>899,"C",IF(BQ63>629,"D",IF(BQ63<630,"E",)))))) | BS63: =IF(OR(ISBLANK(BQ63), BQ63=0, BQ63=""), "", BQ63*100/$BQ$7)
A64: ='Student Data'!A63 | B64: =IF('Student Data'!B63="","",'Student Data'!B63) | C64: =IF('Student Data'!C63="","",'Student Data'!C63) | D64: =IF('Student Data'!D63="","",'Student Data'!D63) | E64: ='Student Data'!E63 -> 0 | F64: ='Student Data'!F63 -> 0 | G64: =IF('Student Data'!G63="","",'Student Data'!G63) | N64: =IF((AND(H64="",I64="",J64="",K64="",L64="",M64="")),"",SUM(H64:M64)) | O64: =IF(N64="","",IF(N64>159,"A",IF(N64>129,"B",IF(N64>99,"C",IF(N64>69,"D",IF(N64<70,"E",)))))) | P64: =A64 | W64: =IF((AND(Q64="",R64="",S64="",T64="",U64="",V64="")),"",SUM(Q64:V64)) | X64: =IF(W64="","",IF(W64>159,"A",IF(W64>129,"B",IF(W64>99,"C",IF(W64>69,"D",IF(W64<70,"E",)))))) | AE64: =IF((AND(Y64="",Z64="",AA64="",AB64="",AC64="",AD64="")),"",SUM(Y64:AD64)) | AF64: =IF(AE64="","",IF(AE64>159,"A",IF(AE64>129,"B",IF(AE64>99,"C",IF(AE64>69,"D",IF(AE64<70,"E",)))))) | AG64: =A64 | AN64: =IF((AND(AH64="",AI64="",AJ64="",AK64="",AL64="",AM64="")),"",SUM(AH64:AM64)) | AO64: =IF(AN64="","",IF(AN64>159,"A",IF(AN64>129,"B",IF(AN64>99,"C",IF(AN64>69,"D",IF(AN64<70,"E",)))))) | AV64: =IF((AND(AP64="",AQ64="",AR64="",AS64="",AT64="",AU64="")),"",SUM(AP64:AU64)) | AW64: =IF(AV64="","",IF(AV64>159,"A",IF(AV64>129,"B",IF(AV64>99,"C",IF(AV64>69,"D",IF(AV64<70,"E",)))))) | AX64: =A64 | BE64: =IF((AND(AY64="",AZ64="",BA64="",BB64="",BC64="",BD64="")),"",SUM(AY64:BD64)) | BF64: =IF(BE64="","",IF(BE64>159,"A",IF(BE64>129,"B",IF(BE64>99,"C",IF(BE64>69,"D",IF(BE64<70,"E",)))))) | BM64: =IF((AND(BG64="",BH64="",BI64="",BJ64="",BK64="",BL64="")),"",SUM(BG64:BL64)) | BN64: =IF(BM64="","",IF(BM64>159,"A",IF(BM64>129,"B",IF(BM64>99,"C",IF(BM64>69,"D",IF(BM64<70,"E",)))))) | BO64: ='Patrak B'!AU120 | BP64: =IF(BO64="","",IF(BO64>319,"A",IF(BO64>259,"B",IF(BO64>199,"C",IF(BO64>139,"D",IF(BO64<140,"E",)))))) | BQ64: =IF(AND(N64="",W64="",AE64="",AN64="",AV64="",BE64="",BM64="",BO64=""),"",SUM(N64,W64,AE64,AN64,AV64,BE64,BM64,BO64)) | BR64: =IF(BQ64="","",IF(BQ64>1439,"A",IF(BQ64>1169,"B",IF(BQ64>899,"C",IF(BQ64>629,"D",IF(BQ64<630,"E",)))))) | BS64: =IF(OR(ISBLANK(BQ64), BQ64=0, BQ64=""), "", BQ64*100/$BQ$7)
A65: ='Student Data'!A64 | B65: =IF('Student Data'!B64="","",'Student Data'!B64) | C65: =IF('Student Data'!C64="","",'Student Data'!C64) | D65: =IF('Student Data'!D64="","",'Student Data'!D64) | E65: ='Student Data'!E64 -> 0 | F65: ='Student Data'!F64 -> 0 | G65: =IF('Student Data'!G64="","",'Student Data'!G64) | N65: =IF((AND(H65="",I65="",J65="",K65="",L65="",M65="")),"",SUM(H65:M65)) | O65: =IF(N65="","",IF(N65>159,"A",IF(N65>129,"B",IF(N65>99,"C",IF(N65>69,"D",IF(N65<70,"E",)))))) | P65: =A65 | W65: =IF((AND(Q65="",R65="",S65="",T65="",U65="",V65="")),"",SUM(Q65:V65)) | X65: =IF(W65="","",IF(W65>159,"A",IF(W65>129,"B",IF(W65>99,"C",IF(W65>69,"D",IF(W65<70,"E",)))))) | AE65: =IF((AND(Y65="",Z65="",AA65="",AB65="",AC65="",AD65="")),"",SUM(Y65:AD65)) | AF65: =IF(AE65="","",IF(AE65>159,"A",IF(AE65>129,"B",IF(AE65>99,"C",IF(AE65>69,"D",IF(AE65<70,"E",)))))) | AG65: =A65 | AN65: =IF((AND(AH65="",AI65="",AJ65="",AK65="",AL65="",AM65="")),"",SUM(AH65:AM65)) | AO65: =IF(AN65="","",IF(AN65>159,"A",IF(AN65>129,"B",IF(AN65>99,"C",IF(AN65>69,"D",IF(AN65<70,"E",)))))) | AV65: =IF((AND(AP65="",AQ65="",AR65="",AS65="",AT65="",AU65="")),"",SUM(AP65:AU65)) | AW65: =IF(AV65="","",IF(AV65>159,"A",IF(AV65>129,"B",IF(AV65>99,"C",IF(AV65>69,"D",IF(AV65<70,"E",)))))) | AX65: =A65 | BE65: =IF((AND(AY65="",AZ65="",BA65="",BB65="",BC65="",BD65="")),"",SUM(AY65:BD65)) | BF65: =IF(BE65="","",IF(BE65>159,"A",IF(BE65>129,"B",IF(BE65>99,"C",IF(BE65>69,"D",IF(BE65<70,"E",)))))) | BM65: =IF((AND(BG65="",BH65="",BI65="",BJ65="",BK65="",BL65="")),"",SUM(BG65:BL65)) | BN65: =IF(BM65="","",IF(BM65>159,"A",IF(BM65>129,"B",IF(BM65>99,"C",IF(BM65>69,"D",IF(BM65<70,"E",)))))) | BO65: ='Patrak B'!AU122 | BP65: =IF(BO65="","",IF(BO65>319,"A",IF(BO65>259,"B",IF(BO65>199,"C",IF(BO65>139,"D",IF(BO65<140,"E",)))))) | BQ65: =IF(AND(N65="",W65="",AE65="",AN65="",AV65="",BE65="",BM65="",BO65=""),"",SUM(N65,W65,AE65,AN65,AV65,BE65,BM65,BO65)) | BR65: =IF(BQ65="","",IF(BQ65>1439,"A",IF(BQ65>1169,"B",IF(BQ65>899,"C",IF(BQ65>629,"D",IF(BQ65<630,"E",)))))) | BS65: =IF(OR(ISBLANK(BQ65), BQ65=0, BQ65=""), "", BQ65*100/$BQ$7)
A66: ='Student Data'!A65 | B66: =IF('Student Data'!B65="","",'Student Data'!B65) | C66: =IF('Student Data'!C65="","",'Student Data'!C65) | D66: =IF('Student Data'!D65="","",'Student Data'!D65) | E66: ='Student Data'!E65 -> 0 | F66: ='Student Data'!F65 -> 0 | G66: =IF('Student Data'!G65="","",'Student Data'!G65) | N66: =IF((AND(H66="",I66="",J66="",K66="",L66="",M66="")),"",SUM(H66:M66)) | O66: =IF(N66="","",IF(N66>159,"A",IF(N66>129,"B",IF(N66>99,"C",IF(N66>69,"D",IF(N66<70,"E",)))))) | P66: =A66 | W66: =IF((AND(Q66="",R66="",S66="",T66="",U66="",V66="")),"",SUM(Q66:V66)) | X66: =IF(W66="","",IF(W66>159,"A",IF(W66>129,"B",IF(W66>99,"C",IF(W66>69,"D",IF(W66<70,"E",)))))) | AE66: =IF((AND(Y66="",Z66="",AA66="",AB66="",AC66="",AD66="")),"",SUM(Y66:AD66)) | AF66: =IF(AE66="","",IF(AE66>159,"A",IF(AE66>129,"B",IF(AE66>99,"C",IF(AE66>69,"D",IF(AE66<70,"E",)))))) | AG66: =A66 | AN66: =IF((AND(AH66="",AI66="",AJ66="",AK66="",AL66="",AM66="")),"",SUM(AH66:AM66)) | AO66: =IF(AN66="","",IF(AN66>159,"A",IF(AN66>129,"B",IF(AN66>99,"C",IF(AN66>69,"D",IF(AN66<70,"E",)))))) | AV66: =IF((AND(AP66="",AQ66="",AR66="",AS66="",AT66="",AU66="")),"",SUM(AP66:AU66)) | AW66: =IF(AV66="","",IF(AV66>159,"A",IF(AV66>129,"B",IF(AV66>99,"C",IF(AV66>69,"D",IF(AV66<70,"E",)))))) | AX66: =A66 | BE66: =IF((AND(AY66="",AZ66="",BA66="",BB66="",BC66="",BD66="")),"",SUM(AY66:BD66)) | BF66: =IF(BE66="","",IF(BE66>159,"A",IF(BE66>129,"B",IF(BE66>99,"C",IF(BE66>69,"D",IF(BE66<70,"E",)))))) | BM66: =IF((AND(BG66="",BH66="",BI66="",BJ66="",BK66="",BL66="")),"",SUM(BG66:BL66)) | BN66: =IF(BM66="","",IF(BM66>159,"A",IF(BM66>129,"B",IF(BM66>99,"C",IF(BM66>69,"D",IF(BM66<70,"E",)))))) | BO66: ='Patrak B'!AU124 | BP66: =IF(BO66="","",IF(BO66>319,"A",IF(BO66>259,"B",IF(BO66>199,"C",IF(BO66>139,"D",IF(BO66<140,"E",)))))) | BQ66: =IF(AND(N66="",W66="",AE66="",AN66="",AV66="",BE66="",BM66="",BO66=""),"",SUM(N66,W66,AE66,AN66,AV66,BE66,BM66,BO66)) | BR66: =IF(BQ66="","",IF(BQ66>1439,"A",IF(BQ66>1169,"B",IF(BQ66>899,"C",IF(BQ66>629,"D",IF(BQ66<630,"E",)))))) | BS66: =IF(OR(ISBLANK(BQ66), BQ66=0, BQ66=""), "", BQ66*100/$BQ$7)
A67: ='Student Data'!A66 | B67: =IF('Student Data'!B66="","",'Student Data'!B66) | C67: =IF('Student Data'!C66="","",'Student Data'!C66) | D67: =IF('Student Data'!D66="","",'Student Data'!D66) | E67: ='Student Data'!E66 -> 0 | F67: ='Student Data'!F66 -> 0 | G67: =IF('Student Data'!G66="","",'Student Data'!G66) | N67: =IF((AND(H67="",I67="",J67="",K67="",L67="",M67="")),"",SUM(H67:M67)) | O67: =IF(N67="","",IF(N67>159,"A",IF(N67>129,"B",IF(N67>99,"C",IF(N67>69,"D",IF(N67<70,"E",)))))) | P67: =A67 | W67: =IF((AND(Q67="",R67="",S67="",T67="",U67="",V67="")),"",SUM(Q67:V67)) | X67: =IF(W67="","",IF(W67>159,"A",IF(W67>129,"B",IF(W67>99,"C",IF(W67>69,"D",IF(W67<70,"E",)))))) | AE67: =IF((AND(Y67="",Z67="",AA67="",AB67="",AC67="",AD67="")),"",SUM(Y67:AD67)) | AF67: =IF(AE67="","",IF(AE67>159,"A",IF(AE67>129,"B",IF(AE67>99,"C",IF(AE67>69,"D",IF(AE67<70,"E",)))))) | AG67: =A67 | AN67: =IF((AND(AH67="",AI67="",AJ67="",AK67="",AL67="",AM67="")),"",SUM(AH67:AM67)) | AO67: =IF(AN67="","",IF(AN67>159,"A",IF(AN67>129,"B",IF(AN67>99,"C",IF(AN67>69,"D",IF(AN67<70,"E",)))))) | AV67: =IF((AND(AP67="",AQ67="",AR67="",AS67="",AT67="",AU67="")),"",SUM(AP67:AU67)) | AW67: =IF(AV67="","",IF(AV67>159,"A",IF(AV67>129,"B",IF(AV67>99,"C",IF(AV67>69,"D",IF(AV67<70,"E",)))))) | AX67: =A67 | BE67: =IF((AND(AY67="",AZ67="",BA67="",BB67="",BC67="",BD67="")),"",SUM(AY67:BD67)) | BF67: =IF(BE67="","",IF(BE67>159,"A",IF(BE67>129,"B",IF(BE67>99,"C",IF(BE67>69,"D",IF(BE67<70,"E",)))))) | BM67: =IF((AND(BG67="",BH67="",BI67="",BJ67="",BK67="",BL67="")),"",SUM(BG67:BL67)) | BN67: =IF(BM67="","",IF(BM67>159,"A",IF(BM67>129,"B",IF(BM67>99,"C",IF(BM67>69,"D",IF(BM67<70,"E",)))))) | BO67: ='Patrak B'!AU126 | BP67: =IF(BO67="","",IF(BO67>319,"A",IF(BO67>259,"B",IF(BO67>199,"C",IF(BO67>139,"D",IF(BO67<140,"E",)))))) | BQ67: =IF(AND(N67="",W67="",AE67="",AN67="",AV67="",BE67="",BM67="",BO67=""),"",SUM(N67,W67,AE67,AN67,AV67,BE67,BM67,BO67)) | BR67: =IF(BQ67="","",IF(BQ67>1439,"A",IF(BQ67>1169,"B",IF(BQ67>899,"C",IF(BQ67>629,"D",IF(BQ67<630,"E",)))))) | BS67: =IF(OR(ISBLANK(BQ67), BQ67=0, BQ67=""), "", BQ67*100/$BQ$7)
A68: ='Student Data'!A67 | B68: =IF('Student Data'!B67="","",'Student Data'!B67) | C68: =IF('Student Data'!C67="","",'Student Data'!C67) | D68: =IF('Student Data'!D67="","",'Student Data'!D67) | E68: ='Student Data'!E67 -> 0 | F68: ='Student Data'!F67 -> 0 | G68: =IF('Student Data'!G67="","",'Student Data'!G67) | N68: =IF((AND(H68="",I68="",J68="",K68="",L68="",M68="")),"",SUM(H68:M68)) | O68: =IF(N68="","",IF(N68>159,"A",IF(N68>129,"B",IF(N68>99,"C",IF(N68>69,"D",IF(N68<70,"E",)))))) | P68: =A68 | W68: =IF((AND(Q68="",R68="",S68="",T68="",U68="",V68="")),"",SUM(Q68:V68)) | X68: =IF(W68="","",IF(W68>159,"A",IF(W68>129,"B",IF(W68>99,"C",IF(W68>69,"D",IF(W68<70,"E",)))))) | AE68: =IF((AND(Y68="",Z68="",AA68="",AB68="",AC68="",AD68="")),"",SUM(Y68:AD68)) | AF68: =IF(AE68="","",IF(AE68>159,"A",IF(AE68>129,"B",IF(AE68>99,"C",IF(AE68>69,"D",IF(AE68<70,"E",)))))) | AG68: =A68 | AN68: =IF((AND(AH68="",AI68="",AJ68="",AK68="",AL68="",AM68="")),"",SUM(AH68:AM68)) | AO68: =IF(AN68="","",IF(AN68>159,"A",IF(AN68>129,"B",IF(AN68>99,"C",IF(AN68>69,"D",IF(AN68<70,"E",)))))) | AV68: =IF((AND(AP68="",AQ68="",AR68="",AS68="",AT68="",AU68="")),"",SUM(AP68:AU68)) | AW68: =IF(AV68="","",IF(AV68>159,"A",IF(AV68>129,"B",IF(AV68>99,"C",IF(AV68>69,"D",IF(AV68<70,"E",)))))) | AX68: =A68 | BE68: =IF((AND(AY68="",AZ68="",BA68="",BB68="",BC68="",BD68="")),"",SUM(AY68:BD68)) | BF68: =IF(BE68="","",IF(BE68>159,"A",IF(BE68>129,"B",IF(BE68>99,"C",IF(BE68>69,"D",IF(BE68<70,"E",)))))) | BM68: =IF((AND(BG68="",BH68="",BI68="",BJ68="",BK68="",BL68="")),"",SUM(BG68:BL68)) | BN68: =IF(BM68="","",IF(BM68>159,"A",IF(BM68>129,"B",IF(BM68>99,"C",IF(BM68>69,"D",IF(BM68<70,"E",)))))) | BO68: ='Patrak B'!AU128 | BP68: =IF(BO68="","",IF(BO68>319,"A",IF(BO68>259,"B",IF(BO68>199,"C",IF(BO68>139,"D",IF(BO68<140,"E",)))))) | BQ68: =IF(AND(N68="",W68="",AE68="",AN68="",AV68="",BE68="",BM68="",BO68=""),"",SUM(N68,W68,AE68,AN68,AV68,BE68,BM68,BO68)) | BR68: =IF(BQ68="","",IF(BQ68>1439,"A",IF(BQ68>1169,"B",IF(BQ68>899,"C",IF(BQ68>629,"D",IF(BQ68<630,"E",)))))) | BS68: =IF(OR(ISBLANK(BQ68), BQ68=0, BQ68=""), "", BQ68*100/$BQ$7)
A69: ='Student Data'!A68 | B69: =IF('Student Data'!B68="","",'Student Data'!B68) | C69: =IF('Student Data'!C68="","",'Student Data'!C68) | D69: =IF('Student Data'!D68="","",'Student Data'!D68) | E69: ='Student Data'!E68 -> 0 | F69: ='Student Data'!F68 -> 0 | G69: =IF('Student Data'!G68="","",'Student Data'!G68) | N69: =IF((AND(H69="",I69="",J69="",K69="",L69="",M69="")),"",SUM(H69:M69)) | O69: =IF(N69="","",IF(N69>159,"A",IF(N69>129,"B",IF(N69>99,"C",IF(N69>69,"D",IF(N69<70,"E",)))))) | P69: =A69 | W69: =IF((AND(Q69="",R69="",S69="",T69="",U69="",V69="")),"",SUM(Q69:V69)) | X69: =IF(W69="","",IF(W69>159,"A",IF(W69>129,"B",IF(W69>99,"C",IF(W69>69,"D",IF(W69<70,"E",)))))) | AE69: =IF((AND(Y69="",Z69="",AA69="",AB69="",AC69="",AD69="")),"",SUM(Y69:AD69)) | AF69: =IF(AE69="","",IF(AE69>159,"A",IF(AE69>129,"B",IF(AE69>99,"C",IF(AE69>69,"D",IF(AE69<70,"E",)))))) | AG69: =A69 | AN69: =IF((AND(AH69="",AI69="",AJ69="",AK69="",AL69="",AM69="")),"",SUM(AH69:AM69)) | AO69: =IF(AN69="","",IF(AN69>159,"A",IF(AN69>129,"B",IF(AN69>99,"C",IF(AN69>69,"D",IF(AN69<70,"E",)))))) | AV69: =IF((AND(AP69="",AQ69="",AR69="",AS69="",AT69="",AU69="")),"",SUM(AP69:AU69)) | AW69: =IF(AV69="","",IF(AV69>159,"A",IF(AV69>129,"B",IF(AV69>99,"C",IF(AV69>69,"D",IF(AV69<70,"E",)))))) | AX69: =A69 | BE69: =IF((AND(AY69="",AZ69="",BA69="",BB69="",BC69="",BD69="")),"",SUM(AY69:BD69)) | BF69: =IF(BE69="","",IF(BE69>159,"A",IF(BE69>129,"B",IF(BE69>99,"C",IF(BE69>69,"D",IF(BE69<70,"E",)))))) | BM69: =IF((AND(BG69="",BH69="",BI69="",BJ69="",BK69="",BL69="")),"",SUM(BG69:BL69)) | BN69: =IF(BM69="","",IF(BM69>159,"A",IF(BM69>129,"B",IF(BM69>99,"C",IF(BM69>69,"D",IF(BM69<70,"E",)))))) | BO69: ='Patrak B'!AU130 | BP69: =IF(BO69="","",IF(BO69>319,"A",IF(BO69>259,"B",IF(BO69>199,"C",IF(BO69>139,"D",IF(BO69<140,"E",)))))) | BQ69: =IF(AND(N69="",W69="",AE69="",AN69="",AV69="",BE69="",BM69="",BO69=""),"",SUM(N69,W69,AE69,AN69,AV69,BE69,BM69,BO69)) | BR69: =IF(BQ69="","",IF(BQ69>1439,"A",IF(BQ69>1169,"B",IF(BQ69>899,"C",IF(BQ69>629,"D",IF(BQ69<630,"E",)))))) | BS69: =IF(OR(ISBLANK(BQ69), BQ69=0, BQ69=""), "", BQ69*100/$BQ$7)
A70: ='Student Data'!A69 | B70: =IF('Student Data'!B69="","",'Student Data'!B69) | C70: =IF('Student Data'!C69="","",'Student Data'!C69) | D70: =IF('Student Data'!D69="","",'Student Data'!D69) | E70: ='Student Data'!E69 -> 0 | F70: ='Student Data'!F69 -> 0 | G70: =IF('Student Data'!G69="","",'Student Data'!G69) | N70: =IF((AND(H70="",I70="",J70="",K70="",L70="",M70="")),"",SUM(H70:M70)) | O70: =IF(N70="","",IF(N70>159,"A",IF(N70>129,"B",IF(N70>99,"C",IF(N70>69,"D",IF(N70<70,"E",)))))) | P70: =A70 | W70: =IF((AND(Q70="",R70="",S70="",T70="",U70="",V70="")),"",SUM(Q70:V70)) | X70: =IF(W70="","",IF(W70>159,"A",IF(W70>129,"B",IF(W70>99,"C",IF(W70>69,"D",IF(W70<70,"E",)))))) | AE70: =IF((AND(Y70="",Z70="",AA70="",AB70="",AC70="",AD70="")),"",SUM(Y70:AD70)) | AF70: =IF(AE70="","",IF(AE70>159,"A",IF(AE70>129,"B",IF(AE70>99,"C",IF(AE70>69,"D",IF(AE70<70,"E",)))))) | AG70: =A70 | AN70: =IF((AND(AH70="",AI70="",AJ70="",AK70="",AL70="",AM70="")),"",SUM(AH70:AM70)) | AO70: =IF(AN70="","",IF(AN70>159,"A",IF(AN70>129,"B",IF(AN70>99,"C",IF(AN70>69,"D",IF(AN70<70,"E",)))))) | AV70: =IF((AND(AP70="",AQ70="",AR70="",AS70="",AT70="",AU70="")),"",SUM(AP70:AU70)) | AW70: =IF(AV70="","",IF(AV70>159,"A",IF(AV70>129,"B",IF(AV70>99,"C",IF(AV70>69,"D",IF(AV70<70,"E",)))))) | AX70: =A70 | BE70: =IF((AND(AY70="",AZ70="",BA70="",BB70="",BC70="",BD70="")),"",SUM(AY70:BD70)) | BF70: =IF(BE70="","",IF(BE70>159,"A",IF(BE70>129,"B",IF(BE70>99,"C",IF(BE70>69,"D",IF(BE70<70,"E",)))))) | BM70: =IF((AND(BG70="",BH70="",BI70="",BJ70="",BK70="",BL70="")),"",SUM(BG70:BL70)) | BN70: =IF(BM70="","",IF(BM70>159,"A",IF(BM70>129,"B",IF(BM70>99,"C",IF(BM70>69,"D",IF(BM70<70,"E",)))))) | BO70: ='Patrak B'!AU132 | BP70: =IF(BO70="","",IF(BO70>319,"A",IF(BO70>259,"B",IF(BO70>199,"C",IF(BO70>139,"D",IF(BO70<140,"E",)))))) | BQ70: =IF(AND(N70="",W70="",AE70="",AN70="",AV70="",BE70="",BM70="",BO70=""),"",SUM(N70,W70,AE70,AN70,AV70,BE70,BM70,BO70)) | BR70: =IF(BQ70="","",IF(BQ70>1439,"A",IF(BQ70>1169,"B",IF(BQ70>899,"C",IF(BQ70>629,"D",IF(BQ70<630,"E",)))))) | BS70: =IF(OR(ISBLANK(BQ70), BQ70=0, BQ70=""), "", BQ70*100/$BQ$7)
A71: ='Student Data'!A70 | B71: =IF('Student Data'!B70="","",'Student Data'!B70) | C71: =IF('Student Data'!C70="","",'Student Data'!C70) | D71: =IF('Student Data'!D70="","",'Student Data'!D70) | E71: ='Student Data'!E70 -> 0 | F71: ='Student Data'!F70 -> 0 | G71: =IF('Student Data'!G70="","",'Student Data'!G70) | N71: =IF((AND(H71="",I71="",J71="",K71="",L71="",M71="")),"",SUM(H71:M71)) | O71: =IF(N71="","",IF(N71>159,"A",IF(N71>129,"B",IF(N71>99,"C",IF(N71>69,"D",IF(N71<70,"E",)))))) | P71: =A71 | W71: =IF((AND(Q71="",R71="",S71="",T71="",U71="",V71="")),"",SUM(Q71:V71)) | X71: =IF(W71="","",IF(W71>159,"A",IF(W71>129,"B",IF(W71>99,"C",IF(W71>69,"D",IF(W71<70,"E",)))))) | AE71: =IF((AND(Y71="",Z71="",AA71="",AB71="",AC71="",AD71="")),"",SUM(Y71:AD71)) | AF71: =IF(AE71="","",IF(AE71>159,"A",IF(AE71>129,"B",IF(AE71>99,"C",IF(AE71>69,"D",IF(AE71<70,"E",)))))) | AG71: =A71 | AN71: =IF((AND(AH71="",AI71="",AJ71="",AK71="",AL71="",AM71="")),"",SUM(AH71:AM71)) | AO71: =IF(AN71="","",IF(AN71>159,"A",IF(AN71>129,"B",IF(AN71>99,"C",IF(AN71>69,"D",IF(AN71<70,"E",)))))) | AV71: =IF((AND(AP71="",AQ71="",AR71="",AS71="",AT71="",AU71="")),"",SUM(AP71:AU71)) | AW71: =IF(AV71="","",IF(AV71>159,"A",IF(AV71>129,"B",IF(AV71>99,"C",IF(AV71>69,"D",IF(AV71<70,"E",)))))) | AX71: =A71 | BE71: =IF((AND(AY71="",AZ71="",BA71="",BB71="",BC71="",BD71="")),"",SUM(AY71:BD71)) | BF71: =IF(BE71="","",IF(BE71>159,"A",IF(BE71>129,"B",IF(BE71>99,"C",IF(BE71>69,"D",IF(BE71<70,"E",)))))) | BM71: =IF((AND(BG71="",BH71="",BI71="",BJ71="",BK71="",BL71="")),"",SUM(BG71:BL71)) | BN71: =IF(BM71="","",IF(BM71>159,"A",IF(BM71>129,"B",IF(BM71>99,"C",IF(BM71>69,"D",IF(BM71<70,"E",)))))) | BO71: ='Patrak B'!AU134 | BP71: =IF(BO71="","",IF(BO71>319,"A",IF(BO71>259,"B",IF(BO71>199,"C",IF(BO71>139,"D",IF(BO71<140,"E",)))))) | BQ71: =IF(AND(N71="",W71="",AE71="",AN71="",AV71="",BE71="",BM71="",BO71=""),"",SUM(N71,W71,AE71,AN71,AV71,BE71,BM71,BO71)) | BR71: =IF(BQ71="","",IF(BQ71>1439,"A",IF(BQ71>1169,"B",IF(BQ71>899,"C",IF(BQ71>629,"D",IF(BQ71<630,"E",)))))) | BS71: =IF(OR(ISBLANK(BQ71), BQ71=0, BQ71=""), "", BQ71*100/$BQ$7)
A72: ='Student Data'!A71 | B72: =IF('Student Data'!B71="","",'Student Data'!B71) | C72: =IF('Student Data'!C71="","",'Student Data'!C71) | D72: =IF('Student Data'!D71="","",'Student Data'!D71) | E72: ='Student Data'!E71 -> 0 | F72: ='Student Data'!F71 -> 0 | G72: =IF('Student Data'!G71="","",'Student Data'!G71) | N72: =IF((AND(H72="",I72="",J72="",K72="",L72="",M72="")),"",SUM(H72:M72)) | O72: =IF(N72="","",IF(N72>159,"A",IF(N72>129,"B",IF(N72>99,"C",IF(N72>69,"D",IF(N72<70,"E",)))))) | P72: =A72 | W72: =IF((AND(Q72="",R72="",S72="",T72="",U72="",V72="")),"",SUM(Q72:V72)) | X72: =IF(W72="","",IF(W72>159,"A",IF(W72>129,"B",IF(W72>99,"C",IF(W72>69,"D",IF(W72<70,"E",)))))) | AE72: =IF((AND(Y72="",Z72="",AA72="",AB72="",AC72="",AD72="")),"",SUM(Y72:AD72)) | AF72: =IF(AE72="","",IF(AE72>159,"A",IF(AE72>129,"B",IF(AE72>99,"C",IF(AE72>69,"D",IF(AE72<70,"E",)))))) | AG72: =A72 | AN72: =IF((AND(AH72="",AI72="",AJ72="",AK72="",AL72="",AM72="")),"",SUM(AH72:AM72)) | AO72: =IF(AN72="","",IF(AN72>159,"A",IF(AN72>129,"B",IF(AN72>99,"C",IF(AN72>69,"D",IF(AN72<70,"E",)))))) | AV72: =IF((AND(AP72="",AQ72="",AR72="",AS72="",AT72="",AU72="")),"",SUM(AP72:AU72)) | AW72: =IF(AV72="","",IF(AV72>159,"A",IF(AV72>129,"B",IF(AV72>99,"C",IF(AV72>69,"D",IF(AV72<70,"E",)))))) | AX72: =A72 | BE72: =IF((AND(AY72="",AZ72="",BA72="",BB72="",BC72="",BD72="")),"",SUM(AY72:BD72)) | BF72: =IF(BE72="","",IF(BE72>159,"A",IF(BE72>129,"B",IF(BE72>99,"C",IF(BE72>69,"D",IF(BE72<70,"E",)))))) | BM72: =IF((AND(BG72="",BH72="",BI72="",BJ72="",BK72="",BL72="")),"",SUM(BG72:BL72)) | BN72: =IF(BM72="","",IF(BM72>159,"A",IF(BM72>129,"B",IF(BM72>99,"C",IF(BM72>69,"D",IF(BM72<70,"E",)))))) | BO72: ='Patrak B'!AU136 | BP72: =IF(BO72="","",IF(BO72>319,"A",IF(BO72>259,"B",IF(BO72>199,"C",IF(BO72>139,"D",IF(BO72<140,"E",)))))) | BQ72: =IF(AND(N72="",W72="",AE72="",AN72="",AV72="",BE72="",BM72="",BO72=""),"",SUM(N72,W72,AE72,AN72,AV72,BE72,BM72,BO72)) | BR72: =IF(BQ72="","",IF(BQ72>1439,"A",IF(BQ72>1169,"B",IF(BQ72>899,"C",IF(BQ72>629,"D",IF(BQ72<630,"E",)))))) | BS72: =IF(OR(ISBLANK(BQ72), BQ72=0, BQ72=""), "", BQ72*100/$BQ$7)
A73: ='Student Data'!A72 | B73: =IF('Student Data'!B72="","",'Student Data'!B72) | C73: =IF('Student Data'!C72="","",'Student Data'!C72) | D73: =IF('Student Data'!D72="","",'Student Data'!D72) | E73: ='Student Data'!E72 -> 0 | F73: ='Student Data'!F72 -> 0 | G73: =IF('Student Data'!G72="","",'Student Data'!G72) | N73: =IF((AND(H73="",I73="",J73="",K73="",L73="",M73="")),"",SUM(H73:M73)) | O73: =IF(N73="","",IF(N73>159,"A",IF(N73>129,"B",IF(N73>99,"C",IF(N73>69,"D",IF(N73<70,"E",)))))) | P73: =A73 | W73: =IF((AND(Q73="",R73="",S73="",T73="",U73="",V73="")),"",SUM(Q73:V73)) | X73: =IF(W73="","",IF(W73>159,"A",IF(W73>129,"B",IF(W73>99,"C",IF(W73>69,"D",IF(W73<70,"E",)))))) | AE73: =IF((AND(Y73="",Z73="",AA73="",AB73="",AC73="",AD73="")),"",SUM(Y73:AD73)) | AF73: =IF(AE73="","",IF(AE73>159,"A",IF(AE73>129,"B",IF(AE73>99,"C",IF(AE73>69,"D",IF(AE73<70,"E",)))))) | AG73: =A73 | AN73: =IF((AND(AH73="",AI73="",AJ73="",AK73="",AL73="",AM73="")),"",SUM(AH73:AM73)) | AO73: =IF(AN73="","",IF(AN73>159,"A",IF(AN73>129,"B",IF(AN73>99,"C",IF(AN73>69,"D",IF(AN73<70,"E",)))))) | AV73: =IF((AND(AP73="",AQ73="",AR73="",AS73="",AT73="",AU73="")),"",SUM(AP73:AU73)) | AW73: =IF(AV73="","",IF(AV73>159,"A",IF(AV73>129,"B",IF(AV73>99,"C",IF(AV73>69,"D",IF(AV73<70,"E",)))))) | AX73: =A73 | BE73: =IF((AND(AY73="",AZ73="",BA73="",BB73="",BC73="",BD73="")),"",SUM(AY73:BD73)) | BF73: =IF(BE73="","",IF(BE73>159,"A",IF(BE73>129,"B",IF(BE73>99,"C",IF(BE73>69,"D",IF(BE73<70,"E",)))))) | BM73: =IF((AND(BG73="",BH73="",BI73="",BJ73="",BK73="",BL73="")),"",SUM(BG73:BL73)) | BN73: =IF(BM73="","",IF(BM73>159,"A",IF(BM73>129,"B",IF(BM73>99,"C",IF(BM73>69,"D",IF(BM73<70,"E",)))))) | BO73: ='Patrak B'!AU138 | BP73: =IF(BO73="","",IF(BO73>319,"A",IF(BO73>259,"B",IF(BO73>199,"C",IF(BO73>139,"D",IF(BO73<140,"E",)))))) | BQ73: =IF(AND(N73="",W73="",AE73="",AN73="",AV73="",BE73="",BM73="",BO73=""),"",SUM(N73,W73,AE73,AN73,AV73,BE73,BM73,BO73)) | BR73: =IF(BQ73="","",IF(BQ73>1439,"A",IF(BQ73>1169,"B",IF(BQ73>899,"C",IF(BQ73>629,"D",IF(BQ73<630,"E",)))))) | BS73: =IF(OR(ISBLANK(BQ73), BQ73=0, BQ73=""), "", BQ73*100/$BQ$7)
A74: =BJ74 -> Format by Hitesh Ahjoliya | BJ74: Format by Hitesh Ahjoliya

Sheet Sem 1 Patrak C
B1: પ્રથમ સત્ર માટે પત્રક - C | G1: આ પત્રકમાં કોઈ ગુણ લખવાના નથી. પત્રક C માં ગુણ લખવા. તે અહીં લખાશે.
A3: www.hiteshahjoliya.blogspot.com | D3: પત્રક - C | G3: પ્રથમ સત્ર | M3: ધો - | N3: ='School Data'!B23 -> 7 | O3: ='School Data'!B24 -> - | Q3: =M3 -> ધો - | R3: =N3 -> 7 | S3: =O3 -> - | W3: =D3 -> પત્રક - C | AG3: =G3 -> પ્રથમ સત્ર | AL3: =Q3 -> ધો - | AM3: =R3 -> 7 | AN3: =S3 -> - | AP3: Format By - Hitesh Ahjoliya
G4: ગુજરાતી | L4: ગણિત | R4: હિન્દી | W4: અંગ્રેજી | AB4: વિજ્ઞાન અને ટેક. | AG4: સામાજિક વિજ્ઞાન | AM4: સંસ્કૃત | AR4: પ્રથમ સત્ર
A5: ક્રમ | B5: વિદ્યાર્થીનુ નામ | C5: જ . ર . નબર | D5: જન્મ તારીખ | G5: પ્રથમ સત્ર | L5: પ્રથમ સત્ર | Q5: ક્રમ | R5: પ્રથમ સત્ર | W5: પ્રથમ સત્ર | AB5: પ્રથમ સત્ર | AG5: પ્રથમ સત્ર | AL5: ક્રમ | AM5: પ્રથમ સત્ર
G6: રચનાત્મક મૂલ્યાંકન | H6: સંત્રાત મૂલ્યાંકન | I6: સ્વ- અધ્યયન કાર્યના આધારે મૂલ્યાંકન | J6: કુલ ગુણ 100 માથી મેળવેલ ગુણ | K6: ગ્રેડ | L6: રચનાત્મક મૂલ્યાંકન | M6: સંત્રાત મૂલ્યાંકન | N6: સ્વ- અધ્યયન કાર્યના આધારે મૂલ્યાંકન | O6: કુલ ગુણ 100 માથી મેળવેલ ગુણ | P6: ગ્રેડ | R6: રચનાત્મક મૂલ્યાંકન | S6: સંત્રાત મૂલ્યાંકન | T6: સ્વ- અધ્યયન કાર્યના આધારે મૂલ્યાંકન | U6: કુલ ગુણ 100 માથી મેળવેલ ગુણ | V6: ગ્રેડ | W6: રચનાત્મક મૂલ્યાંકન | X6: સંત્રાત મૂલ્યાંકન | Y6: સ્વ- અધ્યયન કાર્યના આધારે મૂલ્યાંકન | Z6: કુલ ગુણ 100 માથી મેળવેલ ગુણ | AA6: ગ્રેડ | AB6: રચનાત્મક મૂલ્યાંકન | AC6: સંત્રાત મૂલ્યાંકન | AD6: સ્વ- અધ્યયન કાર્યના આધારે મૂલ્યાંકન | AE6: કુલ ગુણ 100 માથી મેળવેલ ગુણ | AF6: ગ્રેડ | AG6: રચનાત્મક મૂલ્યાંકન | AH6: સંત્રાત મૂલ્યાંકન | AI6: સ્વ- અધ્યયન કાર્યના આધારે મૂલ્યાંકન | AJ6: કુલ ગુણ 100 માથી મેળવેલ ગુણ | AK6: ગ્રેડ | AM6: રચનાત્મક મૂલ્યાંકન | AN6: સંત્રાત મૂલ્યાંકન | AO6: સ્વ- અધ્યયન કાર્યના આધારે મૂલ્યાંકન | AP6: કુલ ગુણ 100 માથી મેળવેલ ગુણ | AQ6: ગ્રેડ | AR6: પત્રક B ગુણ | AS6: ગ્રેડ | AT6: તમામ વિષયોના કુલ ગુણ | AU6: ગ્રેડ
G7: 40 ગુણ | H7: 40 ગુણ | I7: 20 ગુણ | L7: 40 ગુણ | M7: 40 ગુણ | N7: 20 ગુણ | R7: 40 ગુણ | S7: 40 ગુણ | T7: 20 ગુણ | W7: 40 ગુણ | X7: 40 ગુણ | Y7: 20 ગુણ | AB7: 40 ગુણ | AC7: 40 ગુણ | AD7: 20 ગુણ | AG7: 40 ગુણ | AH7: 40 ગુણ | AI7: 20 ગુણ | AM7: 40 ગુણ | AN7: 40 ગુણ | AO7: 20 ગુણ | AR7: 400 | AT7: 1100
A8: 1 | B8: 2 | C8: 3 | D8: 4 | G8: 5 | H8: 6 | I8: 7 | J8: 8 | K8: 9 | L8: 10 | M8: 11 | N8: 12 | O8: 13 | P8: 14 | Q8: 15 | R8: 16 | S8: 17 | T8: 18 | U8: 19 | V8: 20 | W8: 21 | X8: 22 | Y8: 23 | Z8: 24 | AA8: 25 | AB8: 26 | AC8: 27 | AD8: 28 | AE8: 29 | AF8: 30 | AG8: 31 | AH8: 32 | AI8: 33 | AJ8: 34 | AK8: 35 | AL8: 15 | AM8: 36 | AN8: 37 | AO8: 38 | AP8: 39 | AQ8: 40 | AR8: 41 | AS8: 42 | AT8: 43 | AU8: 44
A9: ='Student Data'!A8 -> 1 | B9: ='Student Data'!B8 -> રાજ ભીખાભાઈ સોલંકી | C9: ='Student Data'!C8 -> 1234 | D9: ='Student Data'!D8 -> 38479 | E9: ='Student Data'!E8 -> M | F9: ='Student Data'!F8 -> OBC | G9: ='Patrak C'!H9 -> 40 | H9: ='Patrak C'!I9 -> 40 | I9: ='Patrak C'!J9 -> 20 | J9: =SUM(G9:I9) -> 100 | K9: =IF(J9="","",IF(J9>79,"A",IF(J9>64,"B",IF(J9>49,"C",IF(J9>34,"D",IF(J9<35,"E",)))))) -> A | L9: ='Patrak C'!Q9 -> 40 | M9: ='Patrak C'!R9 -> 40 | N9: ='Patrak C'!S9 -> 20 | O9: =SUM(L9:N9) -> 100 | P9: =IF(O9="","",IF(O9>79,"A",IF(O9>64,"B",IF(O9>49,"C",IF(O9>34,"D",IF(O9<35,"E",)))))) -> A | Q9: =A9 -> 1 | R9: ='Patrak C'!Y9 -> 40 | S9: ='Patrak C'!Z9 -> 40 | T9: ='Patrak C'!AA9 -> 20 | U9: =SUM(R9:T9) -> 100 | V9: =IF(U9="","",IF(U9>79,"A",IF(U9>64,"B",IF(U9>49,"C",IF(U9>34,"D",IF(U9<35,"E",)))))) -> A | W9: ='Patrak C'!AH9 -> 40 | X9: ='Patrak C'!AI9 -> 40 | Y9: ='Patrak C'!AJ9 -> 20 | Z9: =SUM(W9:Y9) -> 100 | AA9: =IF(Z9="","",IF(Z9>79,"A",IF(Z9>64,"B",IF(Z9>49,"C",IF(Z9>34,"D",IF(Z9<35,"E",)))))) -> A | AB9: ='Patrak C'!AP9 -> 40 | AC9: ='Patrak C'!AQ9 -> 40 | AD9: ='Patrak C'!AR9 -> 20 | AE9: =SUM(AB9:AD9) -> 100 | AF9: =IF(AE9="","",IF(AE9>79,"A",IF(AE9>64,"B",IF(AE9>49,"C",IF(AE9>34,"D",IF(AE9<35,"E",)))))) -> A | AG9: ='Patrak C'!AY9 -> 40 | AH9: ='Patrak C'!AZ9 -> 40 | AI9: ='Patrak C'!BA9 -> 20 | AJ9: =SUM(AG9:AI9) -> 100 | AK9: =IF(AJ9="","",IF(AJ9>79,"A",IF(AJ9>64,"B",IF(AJ9>49,"C",IF(AJ9>34,"D",IF(AJ9<35,"E",)))))) -> A | AL9: =A9 -> 1 | AM9: ='Patrak C'!BG9 -> 40 | AN9: ='Patrak C'!BH9 -> 40 | AO9: ='Patrak C'!BI9 -> 20 | AP9: =SUM(AM9:AO9) -> 100 | AQ9: =IF(AP9="","",IF(AP9>79,"A",IF(AP9>64,"B",IF(AP9>49,"C",IF(AP9>34,"D",IF(AP9<35,"E",)))))) -> A | AR9: ='Patrak B'!AS10 -> 48 | AS9: =IF(AR9="","",IF(AR9>319,"A",IF(AR9>259,"B",IF(AR9>199,"C",IF(AR9>139,"D",IF(AR9<140,"E",)))))) -> E | AT9: =J9+O9+U9+Z9+AE9+AJ9+AP9+AR9 -> 748 | AU9: =IF(AT9="","",IF(AT9>879,"A",IF(AT9>714,"B",IF(AT9>549,"C",IF(AT9>384,"D",IF(AT9<385,"E",)))))) -> B
A10: ='Student Data'!A9 -> 2 | B10: =IF('Student Data'!B9="","",'Student Data'!B9) -> રમેશ | C10: =IF('Student Data'!C9="","",'Student Data'!C9) -> 5678 | D10: =IF('Student Data'!D9="","",'Student Data'!D9) -> 38719 | E10: ='Student Data'!E9 -> M | F10: ='Student Data'!F9 -> OTHER | G10: =IF('Patrak C'!H10="","",'Patrak C'!H10) -> 30 | H10: =IF('Patrak C'!I10="","",'Patrak C'!I10) -> 30 | I10: =IF('Patrak C'!J10="","",'Patrak C'!J10) -> 10 | J10: =IF((AND(G10="",H10="",I10="")),"",SUM(G10:I10)) -> 70 | K10: =IF(J10="","",IF(J10>79,"A",IF(J10>64,"B",IF(J10>49,"C",IF(J10>34,"D",IF(J10<35,"E",)))))) -> B | L10: =IF('Patrak C'!Q10="","",'Patrak C'!Q10) -> 30 | M10: =IF('Patrak C'!R10="","",'Patrak C'!R10) -> 30 | N10: =IF('Patrak C'!S10="","",'Patrak C'!S10) -> 10 | O10: =IF((AND(L10="",M10="",N10="")),"",SUM(L10:N10)) -> 70 | P10: =IF(O10="","",IF(O10>79,"A",IF(O10>64,"B",IF(O10>49,"C",IF(O10>34,"D",IF(O10<35,"E",)))))) -> B | Q10: =A10 -> 2 | R10: =IF('Patrak C'!Y10="","",'Patrak C'!Y10) -> 30 | S10: =IF('Patrak C'!Z10="","",'Patrak C'!Z10) -> 30 | T10: =IF('Patrak C'!AA10="","",'Patrak C'!AA10) -> 10 | U10: =IF((AND(R10="",S10="",T10="")),"",SUM(R10:T10)) -> 70 | V10: =IF(U10="","",IF(U10>79,"A",IF(U10>64,"B",IF(U10>49,"C",IF(U10>34,"D",IF(U10<35,"E",)))))) -> B | W10: =IF('Patrak C'!AH10="","",'Patrak C'!AH10) -> 30 | X10: =IF('Patrak C'!AI10="","",'Patrak C'!AI10) -> 30 | Y10: =IF('Patrak C'!AJ10="","",'Patrak C'!AJ10) -> 10 | Z10: =IF((AND(W10="",X10="",Y10="")),"",SUM(W10:Y10)) -> 70 | AA10: =IF(Z10="","",IF(Z10>79,"A",IF(Z10>64,"B",IF(Z10>49,"C",IF(Z10>34,"D",IF(Z10<35,"E",)))))) -> B | AB10: =IF('Patrak C'!AP10="","",'Patrak C'!AP10) -> 30 | AC10: =IF('Patrak C'!AQ10="","",'Patrak C'!AQ10) -> 30 | AD10: =IF('Patrak C'!AR10="","",'Patrak C'!AR10) -> 10 | AE10: =IF((AND(AB10="",AC10="",AD10="")),"",SUM(AB10:AD10)) -> 70 | AF10: =IF(AE10="","",IF(AE10>79,"A",IF(AE10>64,"B",IF(AE10>49,"C",IF(AE10>34,"D",IF(AE10<35,"E",)))))) -> B | AG10: =IF('Patrak C'!AY10="","",'Patrak C'!AY10) -> 30 | AH10: =IF('Patrak C'!AZ10="","",'Patrak C'!AZ10) -> 30 | AI10: =IF('Patrak C'!BA10="","",'Patrak C'!BA10) -> 10 | AJ10: =IF((AND(AG10="",AH10="",AI10="")),"",SUM(AG10:AI10)) -> 70 | AK10: =IF(AJ10="","",IF(AJ10>79,"A",IF(AJ10>64,"B",IF(AJ10>49,"C",IF(AJ10>34,"D",IF(AJ10<35,"E",)))))) -> B | AL10: =A10 -> 2 | AM10: =IF('Patrak C'!BG10="","",'Patrak C'!BG10) -> 30 | AN10: =IF('Patrak C'!BH10="","",'Patrak C'!BH10) -> 30 | AO10: =IF('Patrak C'!BI10="","",'Patrak C'!BI10) -> 10 | AP10: =IF((AND(AM10="",AN10="",AO10="")),"",SUM(AM10:AO10)) -> 70 | AQ10: =IF(AP10="","",IF(AP10>79,"A",IF(AP10>64,"B",IF(AP10>49,"C",IF(AP10>34,"D",IF(AP10<35,"E",)))))) -> B | AR10: ='Patrak B'!AS12 -> 45 | AS10: =IF(AR10="","",IF(AR10>319,"A",IF(AR10>259,"B",IF(AR10>199,"C",IF(AR10>139,"D",IF(AR10<140,"E",)))))) -> E | AT10: =IF(AND(J10="",O10="",U10="",Z10="",AE10="",AJ10="",AP10="",AR10=""),"",SUM(J10,O10,U10,Z10,AE10,AJ10,AP10,AR10)) -> 535 | AU10: =IF(AT10="","",IF(AT10>879,"A",IF(AT10>714,"B",IF(AT10>549,"C",IF(AT10>384,"D",IF(AT10<385,"E",)))))) -> D
A11: ='Student Data'!A10 | B11: =IF('Student Data'!B10="","",'Student Data'!B10) | C11: =IF('Student Data'!C10="","",'Student Data'!C10) | D11: =IF('Student Data'!D10="","",'Student Data'!D10) | E11: ='Student Data'!E10 -> F | F11: ='Student Data'!F10 -> ST | G11: =IF('Patrak C'!H11="","",'Patrak C'!H11) | H11: =IF('Patrak C'!I11="","",'Patrak C'!I11) | I11: =IF('Patrak C'!J11="","",'Patrak C'!J11) | J11: =IF((AND(G11="",H11="",I11="")),"",SUM(G11:I11)) | K11: =IF(J11="","",IF(J11>79,"A",IF(J11>64,"B",IF(J11>49,"C",IF(J11>34,"D",IF(J11<35,"E",)))))) | L11: =IF('Patrak C'!Q11="","",'Patrak C'!Q11) | M11: =IF('Patrak C'!R11="","",'Patrak C'!R11) | N11: =IF('Patrak C'!S11="","",'Patrak C'!S11) | O11: =IF((AND(L11="",M11="",N11="")),"",SUM(L11:N11)) | P11: =IF(O11="","",IF(O11>79,"A",IF(O11>64,"B",IF(O11>49,"C",IF(O11>34,"D",IF(O11<35,"E",)))))) | Q11: =A11 | R11: =IF('Patrak C'!Y11="","",'Patrak C'!Y11) | S11: =IF('Patrak C'!Z11="","",'Patrak C'!Z11) | T11: =IF('Patrak C'!AA11="","",'Patrak C'!AA11) | U11: =IF((AND(R11="",S11="",T11="")),"",SUM(R11:T11)) | V11: =IF(U11="","",IF(U11>79,"A",IF(U11>64,"B",IF(U11>49,"C",IF(U11>34,"D",IF(U11<35,"E",)))))) | W11: =IF('Patrak C'!AH11="","",'Patrak C'!AH11) | X11: =IF('Patrak C'!AI11="","",'Patrak C'!AI11) | Y11: =IF('Patrak C'!AJ11="","",'Patrak C'!AJ11) | Z11: =IF((AND(W11="",X11="",Y11="")),"",SUM(W11:Y11)) | AA11: =IF(Z11="","",IF(Z11>79,"A",IF(Z11>64,"B",IF(Z11>49,"C",IF(Z11>34,"D",IF(Z11<35,"E",)))))) | AB11: =IF('Patrak C'!AP11="","",'Patrak C'!AP11) | AC11: =IF('Patrak C'!AQ11="","",'Patrak C'!AQ11) | AD11: =IF('Patrak C'!AR11="","",'Patrak C'!AR11) | AE11: =IF((AND(AB11="",AC11="",AD11="")),"",SUM(AB11:AD11)) | AF11: =IF(AE11="","",IF(AE11>79,"A",IF(AE11>64,"B",IF(AE11>49,"C",IF(AE11>34,"D",IF(AE11<35,"E",)))))) | AG11: =IF('Patrak C'!AY11="","",'Patrak C'!AY11) | AH11: =IF('Patrak C'!AZ11="","",'Patrak C'!AZ11) | AI11: =IF('Patrak C'!BA11="","",'Patrak C'!BA11) | AJ11: =IF((AND(AG11="",AH11="",AI11="")),"",SUM(AG11:AI11)) | AK11: =IF(AJ11="","",IF(AJ11>79,"A",IF(AJ11>64,"B",IF(AJ11>49,"C",IF(AJ11>34,"D",IF(AJ11<35,"E",)))))) | AL11: =A11 | AM11: =IF('Patrak C'!BG11="","",'Patrak C'!BG11) | AN11: =IF('Patrak C'!BH11="","",'Patrak C'!BH11) | AO11: =IF('Patrak C'!BI11="","",'Patrak C'!BI11) | AP11: =IF((AND(AM11="",AN11="",AO11="")),"",SUM(AM11:AO11)) | AQ11: =IF(AP11="","",IF(AP11>79,"A",IF(AP11>64,"B",IF(AP11>49,"C",IF(AP11>34,"D",IF(AP11<35,"E",)))))) | AR11: ='Patrak B'!AS14 | AS11: =IF(AR11="","",IF(AR11>319,"A",IF(AR11>259,"B",IF(AR11>199,"C",IF(AR11>139,"D",IF(AR11<140,"E",)))))) | AT11: =IF(AND(J11="",O11="",U11="",Z11="",AE11="",AJ11="",AP11="",AR11=""),"",SUM(J11,O11,U11,Z11,AE11,AJ11,AP11,AR11)) | AU11: =IF(AT11="","",IF(AT11>879,"A",IF(AT11>714,"B",IF(AT11>549,"C",IF(AT11>384,"D",IF(AT11<385,"E",))))))
A12: ='Student Data'!A11 | B12: =IF('Student Data'!B11="","",'Student Data'!B11) | C12: =IF('Student Data'!C11="","",'Student Data'!C11) | D12: =IF('Student Data'!D11="","",'Student Data'!D11) | E12: ='Student Data'!E11 -> M | F12: ='Student Data'!F11 -> ST | G12: =IF('Patrak C'!H12="","",'Patrak C'!H12) | H12: =IF('Patrak C'!I12="","",'Patrak C'!I12) | I12: =IF('Patrak C'!J12="","",'Patrak C'!J12) | J12: =IF((AND(G12="",H12="",I12="")),"",SUM(G12:I12)) | K12: =IF(J12="","",IF(J12>79,"A",IF(J12>64,"B",IF(J12>49,"C",IF(J12>34,"D",IF(J12<35,"E",)))))) | L12: =IF('Patrak C'!Q12="","",'Patrak C'!Q12) | M12: =IF('Patrak C'!R12="","",'Patrak C'!R12) | N12: =IF('Patrak C'!S12="","",'Patrak C'!S12) | O12: =IF((AND(L12="",M12="",N12="")),"",SUM(L12:N12)) | P12: =IF(O12="","",IF(O12>79,"A",IF(O12>64,"B",IF(O12>49,"C",IF(O12>34,"D",IF(O12<35,"E",)))))) | Q12: =A12 | R12: =IF('Patrak C'!Y12="","",'Patrak C'!Y12) | S12: =IF('Patrak C'!Z12="","",'Patrak C'!Z12) | T12: =IF('Patrak C'!AA12="","",'Patrak C'!AA12) | U12: =IF((AND(R12="",S12="",T12="")),"",SUM(R12:T12)) | V12: =IF(U12="","",IF(U12>79,"A",IF(U12>64,"B",IF(U12>49,"C",IF(U12>34,"D",IF(U12<35,"E",)))))) | W12: =IF('Patrak C'!AH12="","",'Patrak C'!AH12) | X12: =IF('Patrak C'!AI12="","",'Patrak C'!AI12) | Y12: =IF('Patrak C'!AJ12="","",'Patrak C'!AJ12) | Z12: =IF((AND(W12="",X12="",Y12="")),"",SUM(W12:Y12)) | AA12: =IF(Z12="","",IF(Z12>79,"A",IF(Z12>64,"B",IF(Z12>49,"C",IF(Z12>34,"D",IF(Z12<35,"E",)))))) | AB12: =IF('Patrak C'!AP12="","",'Patrak C'!AP12) | AC12: =IF('Patrak C'!AQ12="","",'Patrak C'!AQ12) | AD12: =IF('Patrak C'!AR12="","",'Patrak C'!AR12) | AE12: =IF((AND(AB12="",AC12="",AD12="")),"",SUM(AB12:AD12)) | AF12: =IF(AE12="","",IF(AE12>79,"A",IF(AE12>64,"B",IF(AE12>49,"C",IF(AE12>34,"D",IF(AE12<35,"E",)))))) | AG12: =IF('Patrak C'!AY12="","",'Patrak C'!AY12) | AH12: =IF('Patrak C'!AZ12="","",'Patrak C'!AZ12) | AI12: =IF('Patrak C'!BA12="","",'Patrak C'!BA12) | AJ12: =IF((AND(AG12="",AH12="",AI12="")),"",SUM(AG12:AI12)) | AK12: =IF(AJ12="","",IF(AJ12>79,"A",IF(AJ12>64,"B",IF(AJ12>49,"C",IF(AJ12>34,"D",IF(AJ12<35,"E",)))))) | AL12: =A12 | AM12: =IF('Patrak C'!BG12="","",'Patrak C'!BG12) | AN12: =IF('Patrak C'!BH12="","",'Patrak C'!BH12) | AO12: =IF('Patrak C'!BI12="","",'Patrak C'!BI12) | AP12: =IF((AND(AM12="",AN12="",AO12="")),"",SUM(AM12:AO12)) | AQ12: =IF(AP12="","",IF(AP12>79,"A",IF(AP12>64,"B",IF(AP12>49,"C",IF(AP12>34,"D",IF(AP12<35,"E",)))))) | AR12: ='Patrak B'!AS16 | AS12: =IF(AR12="","",IF(AR12>319,"A",IF(AR12>259,"B",IF(AR12>199,"C",IF(AR12>139,"D",IF(AR12<140,"E",)))))) | AT12: =IF(AND(J12="",O12="",U12="",Z12="",AE12="",AJ12="",AP12="",AR12=""),"",SUM(J12,O12,U12,Z12,AE12,AJ12,AP12,AR12)) | AU12: =IF(AT12="","",IF(AT12>879,"A",IF(AT12>714,"B",IF(AT12>549,"C",IF(AT12>384,"D",IF(AT12<385,"E",))))))
A13: ='Student Data'!A12 | B13: =IF('Student Data'!B12="","",'Student Data'!B12) | C13: =IF('Student Data'!C12="","",'Student Data'!C12) | D13: =IF('Student Data'!D12="","",'Student Data'!D12) | E13: ='Student Data'!E12 -> M | F13: ='Student Data'!F12 -> SC | G13: =IF('Patrak C'!H13="","",'Patrak C'!H13) | H13: =IF('Patrak C'!I13="","",'Patrak C'!I13) | I13: =IF('Patrak C'!J13="","",'Patrak C'!J13) | J13: =IF((AND(G13="",H13="",I13="")),"",SUM(G13:I13)) | K13: =IF(J13="","",IF(J13>79,"A",IF(J13>64,"B",IF(J13>49,"C",IF(J13>34,"D",IF(J13<35,"E",)))))) | L13: =IF('Patrak C'!Q13="","",'Patrak C'!Q13) | M13: =IF('Patrak C'!R13="","",'Patrak C'!R13) | N13: =IF('Patrak C'!S13="","",'Patrak C'!S13) | O13: =IF((AND(L13="",M13="",N13="")),"",SUM(L13:N13)) | P13: =IF(O13="","",IF(O13>79,"A",IF(O13>64,"B",IF(O13>49,"C",IF(O13>34,"D",IF(O13<35,"E",)))))) | Q13: =A13 | R13: =IF('Patrak C'!Y13="","",'Patrak C'!Y13) | S13: =IF('Patrak C'!Z13="","",'Patrak C'!Z13) | T13: =IF('Patrak C'!AA13="","",'Patrak C'!AA13) | U13: =IF((AND(R13="",S13="",T13="")),"",SUM(R13:T13)) | V13: =IF(U13="","",IF(U13>79,"A",IF(U13>64,"B",IF(U13>49,"C",IF(U13>34,"D",IF(U13<35,"E",)))))) | W13: =IF('Patrak C'!AH13="","",'Patrak C'!AH13) | X13: =IF('Patrak C'!AI13="","",'Patrak C'!AI13) | Y13: =IF('Patrak C'!AJ13="","",'Patrak C'!AJ13) | Z13: =IF((AND(W13="",X13="",Y13="")),"",SUM(W13:Y13)) | AA13: =IF(Z13="","",IF(Z13>79,"A",IF(Z13>64,"B",IF(Z13>49,"C",IF(Z13>34,"D",IF(Z13<35,"E",)))))) | AB13: =IF('Patrak C'!AP13="","",'Patrak C'!AP13) | AC13: =IF('Patrak C'!AQ13="","",'Patrak C'!AQ13) | AD13: =IF('Patrak C'!AR13="","",'Patrak C'!AR13) | AE13: =IF((AND(AB13="",AC13="",AD13="")),"",SUM(AB13:AD13)) | AF13: =IF(AE13="","",IF(AE13>79,"A",IF(AE13>64,"B",IF(AE13>49,"C",IF(AE13>34,"D",IF(AE13<35,"E",)))))) | AG13: =IF('Patrak C'!AY13="","",'Patrak C'!AY13) | AH13: =IF('Patrak C'!AZ13="","",'Patrak C'!AZ13) | AI13: =IF('Patrak C'!BA13="","",'Patrak C'!BA13) | AJ13: =IF((AND(AG13="",AH13="",AI13="")),"",SUM(AG13:AI13)) | AK13: =IF(AJ13="","",IF(AJ13>79,"A",IF(AJ13>64,"B",IF(AJ13>49,"C",IF(AJ13>34,"D",IF(AJ13<35,"E",)))))) | AL13: =A13 | AM13: =IF('Patrak C'!BG13="","",'Patrak C'!BG13) | AN13: =IF('Patrak C'!BH13="","",'Patrak C'!BH13) | AO13: =IF('Patrak C'!BI13="","",'Patrak C'!BI13) | AP13: =IF((AND(AM13="",AN13="",AO13="")),"",SUM(AM13:AO13)) | AQ13: =IF(AP13="","",IF(AP13>79,"A",IF(AP13>64,"B",IF(AP13>49,"C",IF(AP13>34,"D",IF(AP13<35,"E",)))))) | AR13: ='Patrak B'!AS18 | AS13: =IF(AR13="","",IF(AR13>319,"A",IF(AR13>259,"B",IF(AR13>199,"C",IF(AR13>139,"D",IF(AR13<140,"E",)))))) | AT13: =IF(AND(J13="",O13="",U13="",Z13="",AE13="",AJ13="",AP13="",AR13=""),"",SUM(J13,O13,U13,Z13,AE13,AJ13,AP13,AR13)) | AU13: =IF(AT13="","",IF(AT13>879,"A",IF(AT13>714,"B",IF(AT13>549,"C",IF(AT13>384,"D",IF(AT13<385,"E",))))))
A14: ='Student Data'!A13 | B14: =IF('Student Data'!B13="","",'Student Data'!B13) | C14: =IF('Student Data'!C13="","",'Student Data'!C13) | D14: =IF('Student Data'!D13="","",'Student Data'!D13) | E14: ='Student Data'!E13 -> M | F14: ='Student Data'!F13 -> OBC | G14: =IF('Patrak C'!H14="","",'Patrak C'!H14) | H14: =IF('Patrak C'!I14="","",'Patrak C'!I14) | I14: =IF('Patrak C'!J14="","",'Patrak C'!J14) | J14: =IF((AND(G14="",H14="",I14="")),"",SUM(G14:I14)) | K14: =IF(J14="","",IF(J14>79,"A",IF(J14>64,"B",IF(J14>49,"C",IF(J14>34,"D",IF(J14<35,"E",)))))) | L14: =IF('Patrak C'!Q14="","",'Patrak C'!Q14) | M14: =IF('Patrak C'!R14="","",'Patrak C'!R14) | N14: =IF('Patrak C'!S14="","",'Patrak C'!S14) | O14: =IF((AND(L14="",M14="",N14="")),"",SUM(L14:N14)) | P14: =IF(O14="","",IF(O14>79,"A",IF(O14>64,"B",IF(O14>49,"C",IF(O14>34,"D",IF(O14<35,"E",)))))) | Q14: =A14 | R14: =IF('Patrak C'!Y14="","",'Patrak C'!Y14) | S14: =IF('Patrak C'!Z14="","",'Patrak C'!Z14) | T14: =IF('Patrak C'!AA14="","",'Patrak C'!AA14) | U14: =IF((AND(R14="",S14="",T14="")),"",SUM(R14:T14)) | V14: =IF(U14="","",IF(U14>79,"A",IF(U14>64,"B",IF(U14>49,"C",IF(U14>34,"D",IF(U14<35,"E",)))))) | W14: =IF('Patrak C'!AH14="","",'Patrak C'!AH14) | X14: =IF('Patrak C'!AI14="","",'Patrak C'!AI14) | Y14: =IF('Patrak C'!AJ14="","",'Patrak C'!AJ14) | Z14: =IF((AND(W14="",X14="",Y14="")),"",SUM(W14:Y14)) | AA14: =IF(Z14="","",IF(Z14>79,"A",IF(Z14>64,"B",IF(Z14>49,"C",IF(Z14>34,"D",IF(Z14<35,"E",)))))) | AB14: =IF('Patrak C'!AP14="","",'Patrak C'!AP14) | AC14: =IF('Patrak C'!AQ14="","",'Patrak C'!AQ14) | AD14: =IF('Patrak C'!AR14="","",'Patrak C'!AR14) | AE14: =IF((AND(AB14="",AC14="",AD14="")),"",SUM(AB14:AD14)) | AF14: =IF(AE14="","",IF(AE14>79,"A",IF(AE14>64,"B",IF(AE14>49,"C",IF(AE14>34,"D",IF(AE14<35,"E",)))))) | AG14: =IF('Patrak C'!AY14="","",'Patrak C'!AY14) | AH14: =IF('Patrak C'!AZ14="","",'Patrak C'!AZ14) | AI14: =IF('Patrak C'!BA14="","",'Patrak C'!BA14) | AJ14: =IF((AND(AG14="",AH14="",AI14="")),"",SUM(AG14:AI14)) | AK14: =IF(AJ14="","",IF(AJ14>79,"A",IF(AJ14>64,"B",IF(AJ14>49,"C",IF(AJ14>34,"D",IF(AJ14<35,"E",)))))) | AL14: =A14 | AM14: =IF('Patrak C'!BG14="","",'Patrak C'!BG14) | AN14: =IF('Patrak C'!BH14="","",'Patrak C'!BH14) | AO14: =IF('Patrak C'!BI14="","",'Patrak C'!BI14) | AP14: =IF((AND(AM14="",AN14="",AO14="")),"",SUM(AM14:AO14)) | AQ14: =IF(AP14="","",IF(AP14>79,"A",IF(AP14>64,"B",IF(AP14>49,"C",IF(AP14>34,"D",IF(AP14<35,"E",)))))) | AR14: ='Patrak B'!AS20 | AS14: =IF(AR14="","",IF(AR14>319,"A",IF(AR14>259,"B",IF(AR14>199,"C",IF(AR14>139,"D",IF(AR14<140,"E",)))))) | AT14: =IF(AND(J14="",O14="",U14="",Z14="",AE14="",AJ14="",AP14="",AR14=""),"",SUM(J14,O14,U14,Z14,AE14,AJ14,AP14,AR14)) | AU14: =IF(AT14="","",IF(AT14>879,"A",IF(AT14>714,"B",IF(AT14>549,"C",IF(AT14>384,"D",IF(AT14<385,"E",))))))
A15: ='Student Data'!A14 | B15: =IF('Student Data'!B14="","",'Student Data'!B14) | C15: =IF('Student Data'!C14="","",'Student Data'!C14) | D15: =IF('Student Data'!D14="","",'Student Data'!D14) | E15: ='Student Data'!E14 -> M | F15: ='Student Data'!F14 -> OTHER | G15: =IF('Patrak C'!H15="","",'Patrak C'!H15) | H15: =IF('Patrak C'!I15="","",'Patrak C'!I15) | I15: =IF('Patrak C'!J15="","",'Patrak C'!J15) | J15: =IF((AND(G15="",H15="",I15="")),"",SUM(G15:I15)) | K15: =IF(J15="","",IF(J15>79,"A",IF(J15>64,"B",IF(J15>49,"C",IF(J15>34,"D",IF(J15<35,"E",)))))) | L15: =IF('Patrak C'!Q15="","",'Patrak C'!Q15) | M15: =IF('Patrak C'!R15="","",'Patrak C'!R15) | N15: =IF('Patrak C'!S15="","",'Patrak C'!S15) | O15: =IF((AND(L15="",M15="",N15="")),"",SUM(L15:N15)) | P15: =IF(O15="","",IF(O15>79,"A",IF(O15>64,"B",IF(O15>49,"C",IF(O15>34,"D",IF(O15<35,"E",)))))) | Q15: =A15 | R15: =IF('Patrak C'!Y15="","",'Patrak C'!Y15) | S15: =IF('Patrak C'!Z15="","",'Patrak C'!Z15) | T15: =IF('Patrak C'!AA15="","",'Patrak C'!AA15) | U15: =IF((AND(R15="",S15="",T15="")),"",SUM(R15:T15)) | V15: =IF(U15="","",IF(U15>79,"A",IF(U15>64,"B",IF(U15>49,"C",IF(U15>34,"D",IF(U15<35,"E",)))))) | W15: =IF('Patrak C'!AH15="","",'Patrak C'!AH15) | X15: =IF('Patrak C'!AI15="","",'Patrak C'!AI15) | Y15: =IF('Patrak C'!AJ15="","",'Patrak C'!AJ15) | Z15: =IF((AND(W15="",X15="",Y15="")),"",SUM(W15:Y15)) | AA15: =IF(Z15="","",IF(Z15>79,"A",IF(Z15>64,"B",IF(Z15>49,"C",IF(Z15>34,"D",IF(Z15<35,"E",)))))) | AB15: =IF('Patrak C'!AP15="","",'Patrak C'!AP15) | AC15: =IF('Patrak C'!AQ15="","",'Patrak C'!AQ15) | AD15: =IF('Patrak C'!AR15="","",'Patrak C'!AR15) | AE15: =IF((AND(AB15="",AC15="",AD15="")),"",SUM(AB15:AD15)) | AF15: =IF(AE15="","",IF(AE15>79,"A",IF(AE15>64,"B",IF(AE15>49,"C",IF(AE15>34,"D",IF(AE15<35,"E",)))))) | AG15: =IF('Patrak C'!AY15="","",'Patrak C'!AY15) | AH15: =IF('Patrak C'!AZ15="","",'Patrak C'!AZ15) | AI15: =IF('Patrak C'!BA15="","",'Patrak C'!BA15) | AJ15: =IF((AND(AG15="",AH15="",AI15="")),"",SUM(AG15:AI15)) | AK15: =IF(AJ15="","",IF(AJ15>79,"A",IF(AJ15>64,"B",IF(AJ15>49,"C",IF(AJ15>34,"D",IF(AJ15<35,"E",)))))) | AL15: =A15 | AM15: =IF('Patrak C'!BG15="","",'Patrak C'!BG15) | AN15: =IF('Patrak C'!BH15="","",'Patrak C'!BH15) | AO15: =IF('Patrak C'!BI15="","",'Patrak C'!BI15) | AP15: =IF((AND(AM15="",AN15="",AO15="")),"",SUM(AM15:AO15)) | AQ15: =IF(AP15="","",IF(AP15>79,"A",IF(AP15>64,"B",IF(AP15>49,"C",IF(AP15>34,"D",IF(AP15<35,"E",)))))) | AR15: ='Patrak B'!AS22 | AS15: =IF(AR15="","",IF(AR15>319,"A",IF(AR15>259,"B",IF(AR15>199,"C",IF(AR15>139,"D",IF(AR15<140,"E",)))))) | AT15: =IF(AND(J15="",O15="",U15="",Z15="",AE15="",AJ15="",AP15="",AR15=""),"",SUM(J15,O15,U15,Z15,AE15,AJ15,AP15,AR15)) | AU15: =IF(AT15="","",IF(AT15>879,"A",IF(AT15>714,"B",IF(AT15>549,"C",IF(AT15>384,"D",IF(AT15<385,"E",))))))
A16: ='Student Data'!A15 | B16: =IF('Student Data'!B15="","",'Student Data'!B15) | C16: =IF('Student Data'!C15="","",'Student Data'!C15) | D16: =IF('Student Data'!D15="","",'Student Data'!D15) | E16: ='Student Data'!E15 -> M | F16: ='Student Data'!F15 -> 0 | G16: =IF('Patrak C'!H16="","",'Patrak C'!H16) | H16: =IF('Patrak C'!I16="","",'Patrak C'!I16) | I16: =IF('Patrak C'!J16="","",'Patrak C'!J16) | J16: =IF((AND(G16="",H16="",I16="")),"",SUM(G16:I16)) | K16: =IF(J16="","",IF(J16>79,"A",IF(J16>64,"B",IF(J16>49,"C",IF(J16>34,"D",IF(J16<35,"E",)))))) | L16: =IF('Patrak C'!Q16="","",'Patrak C'!Q16) | M16: =IF('Patrak C'!R16="","",'Patrak C'!R16) | N16: =IF('Patrak C'!S16="","",'Patrak C'!S16) | O16: =IF((AND(L16="",M16="",N16="")),"",SUM(L16:N16)) | P16: =IF(O16="","",IF(O16>79,"A",IF(O16>64,"B",IF(O16>49,"C",IF(O16>34,"D",IF(O16<35,"E",)))))) | Q16: =A16 | R16: =IF('Patrak C'!Y16="","",'Patrak C'!Y16) | S16: =IF('Patrak C'!Z16="","",'Patrak C'!Z16) | T16: =IF('Patrak C'!AA16="","",'Patrak C'!AA16) | U16: =IF((AND(R16="",S16="",T16="")),"",SUM(R16:T16)) | V16: =IF(U16="","",IF(U16>79,"A",IF(U16>64,"B",IF(U16>49,"C",IF(U16>34,"D",IF(U16<35,"E",)))))) | W16: =IF('Patrak C'!AH16="","",'Patrak C'!AH16) | X16: =IF('Patrak C'!AI16="","",'Patrak C'!AI16) | Y16: =IF('Patrak C'!AJ16="","",'Patrak C'!AJ16) | Z16: =IF((AND(W16="",X16="",Y16="")),"",SUM(W16:Y16)) | AA16: =IF(Z16="","",IF(Z16>79,"A",IF(Z16>64,"B",IF(Z16>49,"C",IF(Z16>34,"D",IF(Z16<35,"E",)))))) | AB16: =IF('Patrak C'!AP16="","",'Patrak C'!AP16) | AC16: =IF('Patrak C'!AQ16="","",'Patrak C'!AQ16) | AD16: =IF('Patrak C'!AR16="","",'Patrak C'!AR16) | AE16: =IF((AND(AB16="",AC16="",AD16="")),"",SUM(AB16:AD16)) | AF16: =IF(AE16="","",IF(AE16>79,"A",IF(AE16>64,"B",IF(AE16>49,"C",IF(AE16>34,"D",IF(AE16<35,"E",)))))) | AG16: =IF('Patrak C'!AY16="","",'Patrak C'!AY16) | AH16: =IF('Patrak C'!AZ16="","",'Patrak C'!AZ16) | AI16: =IF('Patrak C'!BA16="","",'Patrak C'!BA16) | AJ16: =IF((AND(AG16="",AH16="",AI16="")),"",SUM(AG16:AI16)) | AK16: =IF(AJ16="","",IF(AJ16>79,"A",IF(AJ16>64,"B",IF(AJ16>49,"C",IF(AJ16>34,"D",IF(AJ16<35,"E",)))))) | AL16: =A16 | AM16: =IF('Patrak C'!BG16="","",'Patrak C'!BG16) | AN16: =IF('Patrak C'!BH16="","",'Patrak C'!BH16) | AO16: =IF('Patrak C'!BI16="","",'Patrak C'!BI16) | AP16: =IF((AND(AM16="",AN16="",AO16="")),"",SUM(AM16:AO16)) | AQ16: =IF(AP16="","",IF(AP16>79,"A",IF(AP16>64,"B",IF(AP16>49,"C",IF(AP16>34,"D",IF(AP16<35,"E",)))))) | AR16: ='Patrak B'!AS24 | AS16: =IF(AR16="","",IF(AR16>319,"A",IF(AR16>259,"B",IF(AR16>199,"C",IF(AR16>139,"D",IF(AR16<140,"E",)))))) | AT16: =IF(AND(J16="",O16="",U16="",Z16="",AE16="",AJ16="",AP16="",AR16=""),"",SUM(J16,O16,U16,Z16,AE16,AJ16,AP16,AR16)) | AU16: =IF(AT16="","",IF(AT16>879,"A",IF(AT16>714,"B",IF(AT16>549,"C",IF(AT16>384,"D",IF(AT16<385,"E",))))))
A17: ='Student Data'!A16 | B17: =IF('Student Data'!B16="","",'Student Data'!B16) | C17: =IF('Student Data'!C16="","",'Student Data'!C16) | D17: =IF('Student Data'!D16="","",'Student Data'!D16) | E17: ='Student Data'!E16 -> M | F17: ='Student Data'!F16 -> 0 | G17: =IF('Patrak C'!H17="","",'Patrak C'!H17) | H17: =IF('Patrak C'!I17="","",'Patrak C'!I17) | I17: =IF('Patrak C'!J17="","",'Patrak C'!J17) | J17: =IF((AND(G17="",H17="",I17="")),"",SUM(G17:I17)) | K17: =IF(J17="","",IF(J17>79,"A",IF(J17>64,"B",IF(J17>49,"C",IF(J17>34,"D",IF(J17<35,"E",)))))) | L17: =IF('Patrak C'!Q17="","",'Patrak C'!Q17) | M17: =IF('Patrak C'!R17="","",'Patrak C'!R17) | N17: =IF('Patrak C'!S17="","",'Patrak C'!S17) | O17: =IF((AND(L17="",M17="",N17="")),"",SUM(L17:N17)) | P17: =IF(O17="","",IF(O17>79,"A",IF(O17>64,"B",IF(O17>49,"C",IF(O17>34,"D",IF(O17<35,"E",)))))) | Q17: =A17 | R17: =IF('Patrak C'!Y17="","",'Patrak C'!Y17) | S17: =IF('Patrak C'!Z17="","",'Patrak C'!Z17) | T17: =IF('Patrak C'!AA17="","",'Patrak C'!AA17) | U17: =IF((AND(R17="",S17="",T17="")),"",SUM(R17:T17)) | V17: =IF(U17="","",IF(U17>79,"A",IF(U17>64,"B",IF(U17>49,"C",IF(U17>34,"D",IF(U17<35,"E",)))))) | W17: =IF('Patrak C'!AH17="","",'Patrak C'!AH17) | X17: =IF('Patrak C'!AI17="","",'Patrak C'!AI17) | Y17: =IF('Patrak C'!AJ17="","",'Patrak C'!AJ17) | Z17: =IF((AND(W17="",X17="",Y17="")),"",SUM(W17:Y17)) | AA17: =IF(Z17="","",IF(Z17>79,"A",IF(Z17>64,"B",IF(Z17>49,"C",IF(Z17>34,"D",IF(Z17<35,"E",)))))) | AB17: =IF('Patrak C'!AP17="","",'Patrak C'!AP17) | AC17: =IF('Patrak C'!AQ17="","",'Patrak C'!AQ17) | AD17: =IF('Patrak C'!AR17="","",'Patrak C'!AR17) | AE17: =IF((AND(AB17="",AC17="",AD17="")),"",SUM(AB17:AD17)) | AF17: =IF(AE17="","",IF(AE17>79,"A",IF(AE17>64,"B",IF(AE17>49,"C",IF(AE17>34,"D",IF(AE17<35,"E",)))))) | AG17: =IF('Patrak C'!AY17="","",'Patrak C'!AY17) | AH17: =IF('Patrak C'!AZ17="","",'Patrak C'!AZ17) | AI17: =IF('Patrak C'!BA17="","",'Patrak C'!BA17) | AJ17: =IF((AND(AG17="",AH17="",AI17="")),"",SUM(AG17:AI17)) | AK17: =IF(AJ17="","",IF(AJ17>79,"A",IF(AJ17>64,"B",IF(AJ17>49,"C",IF(AJ17>34,"D",IF(AJ17<35,"E",)))))) | AL17: =A17 | AM17: =IF('Patrak C'!BG17="","",'Patrak C'!BG17) | AN17: =IF('Patrak C'!BH17="","",'Patrak C'!BH17) | AO17: =IF('Patrak C'!BI17="","",'Patrak C'!BI17) | AP17: =IF((AND(AM17="",AN17="",AO17="")),"",SUM(AM17:AO17)) | AQ17: =IF(AP17="","",IF(AP17>79,"A",IF(AP17>64,"B",IF(AP17>49,"C",IF(AP17>34,"D",IF(AP17<35,"E",)))))) | AR17: ='Patrak B'!AS26 | AS17: =IF(AR17="","",IF(AR17>319,"A",IF(AR17>259,"B",IF(AR17>199,"C",IF(AR17>139,"D",IF(AR17<140,"E",)))))) | AT17: =IF(AND(J17="",O17="",U17="",Z17="",AE17="",AJ17="",AP17="",AR17=""),"",SUM(J17,O17,U17,Z17,AE17,AJ17,AP17,AR17)) | AU17: =IF(AT17="","",IF(AT17>879,"A",IF(AT17>714,"B",IF(AT17>549,"C",IF(AT17>384,"D",IF(AT17<385,"E",))))))
A18: ='Student Data'!A17 | B18: =IF('Student Data'!B17="","",'Student Data'!B17) | C18: =IF('Student Data'!C17="","",'Student Data'!C17) | D18: =IF('Student Data'!D17="","",'Student Data'!D17) | E18: ='Student Data'!E17 -> 0 | F18: ='Student Data'!F17 -> 0 | G18: =IF('Patrak C'!H18="","",'Patrak C'!H18) | H18: =IF('Patrak C'!I18="","",'Patrak C'!I18) | I18: =IF('Patrak C'!J18="","",'Patrak C'!J18) | J18: =IF((AND(G18="",H18="",I18="")),"",SUM(G18:I18)) | K18: =IF(J18="","",IF(J18>79,"A",IF(J18>64,"B",IF(J18>49,"C",IF(J18>34,"D",IF(J18<35,"E",)))))) | L18: =IF('Patrak C'!Q18="","",'Patrak C'!Q18) | M18: =IF('Patrak C'!R18="","",'Patrak C'!R18) | N18: =IF('Patrak C'!S18="","",'Patrak C'!S18) | O18: =IF((AND(L18="",M18="",N18="")),"",SUM(L18:N18)) | P18: =IF(O18="","",IF(O18>79,"A",IF(O18>64,"B",IF(O18>49,"C",IF(O18>34,"D",IF(O18<35,"E",)))))) | Q18: =A18 | R18: =IF('Patrak C'!Y18="","",'Patrak C'!Y18) | S18: =IF('Patrak C'!Z18="","",'Patrak C'!Z18) | T18: =IF('Patrak C'!AA18="","",'Patrak C'!AA18) | U18: =IF((AND(R18="",S18="",T18="")),"",SUM(R18:T18)) | V18: =IF(U18="","",IF(U18>79,"A",IF(U18>64,"B",IF(U18>49,"C",IF(U18>34,"D",IF(U18<35,"E",)))))) | W18: =IF('Patrak C'!AH18="","",'Patrak C'!AH18) | X18: =IF('Patrak C'!AI18="","",'Patrak C'!AI18) | Y18: =IF('Patrak C'!AJ18="","",'Patrak C'!AJ18) | Z18: =IF((AND(W18="",X18="",Y18="")),"",SUM(W18:Y18)) | AA18: =IF(Z18="","",IF(Z18>79,"A",IF(Z18>64,"B",IF(Z18>49,"C",IF(Z18>34,"D",IF(Z18<35,"E",)))))) | AB18: =IF('Patrak C'!AP18="","",'Patrak C'!AP18) | AC18: =IF('Patrak C'!AQ18="","",'Patrak C'!AQ18) | AD18: =IF('Patrak C'!AR18="","",'Patrak C'!AR18) | AE18: =IF((AND(AB18="",AC18="",AD18="")),"",SUM(AB18:AD18)) | AF18: =IF(AE18="","",IF(AE18>79,"A",IF(AE18>64,"B",IF(AE18>49,"C",IF(AE18>34,"D",IF(AE18<35,"E",)))))) | AG18: =IF('Patrak C'!AY18="","",'Patrak C'!AY18) | AH18: =IF('Patrak C'!AZ18="","",'Patrak C'!AZ18) | AI18: =IF('Patrak C'!BA18="","",'Patrak C'!BA18) | AJ18: =IF((AND(AG18="",AH18="",AI18="")),"",SUM(AG18:AI18)) | AK18: =IF(AJ18="","",IF(AJ18>79,"A",IF(AJ18>64,"B",IF(AJ18>49,"C",IF(AJ18>34,"D",IF(AJ18<35,"E",)))))) | AL18: =A18 | AM18: =IF('Patrak C'!BG18="","",'Patrak C'!BG18) | AN18: =IF('Patrak C'!BH18="","",'Patrak C'!BH18) | AO18: =IF('Patrak C'!BI18="","",'Patrak C'!BI18) | AP18: =IF((AND(AM18="",AN18="",AO18="")),"",SUM(AM18:AO18)) | AQ18: =IF(AP18="","",IF(AP18>79,"A",IF(AP18>64,"B",IF(AP18>49,"C",IF(AP18>34,"D",IF(AP18<35,"E",)))))) | AR18: ='Patrak B'!AS28 | AS18: =IF(AR18="","",IF(AR18>319,"A",IF(AR18>259,"B",IF(AR18>199,"C",IF(AR18>139,"D",IF(AR18<140,"E",)))))) | AT18: =IF(AND(J18="",O18="",U18="",Z18="",AE18="",AJ18="",AP18="",AR18=""),"",SUM(J18,O18,U18,Z18,AE18,AJ18,AP18,AR18)) | AU18: =IF(AT18="","",IF(AT18>879,"A",IF(AT18>714,"B",IF(AT18>549,"C",IF(AT18>384,"D",IF(AT18<385,"E",))))))
