Workbook
Name CAST: [1]Sheet1!$E$2:$E$5
Name gender: [1]Sheet1!$D$2:$D$3

Sheet School Data
A2: પરિણામ પત્રક ધો - 6, 7 માટે
A4: Created by : - | B4: Hitesh Ahjoliya
A6: For Download Visit - | B6: www.hiteshahjoliya.blogspot.com | G6: New Updated
A8: અન્ય ઉપયોગી શૈક્ષણિક મટીરીયલ માટે Visit -- | C8: www.hiteshahjoliya.blogspot.com
A9: → પરિણામપત્રક બનાવતા પહેલા નીચેની સૂચના વાંચો :
A10: ● સૌ પ્રથમ School Data અને Student Data માં જરુરી તમામ માહિતી ભરો. Shruti ફોન્ટનો ઉપયોગ કરવો.
A11: ● Patrak B માં સત્ર મુજબ મેળવેલ ગુણ લખવા. જે Patrak - C માં લખાઈ જશે.
A12: ● Patrak C માં સત્ર મુજબ પ્રથમ સત્રનાં 40 + 40 + 20 અને બીજા સત્રનાં 40 + 40 + 20 માંથી મેળવેલ ગુણ મેન્યુઅલી લખવા.
A13: ● નિષ્પતિઓ સાથેના પત્રક - A www.hiteshahjoliya.blogspot.com માં જઈ ડાઉનલોડ કરી શકશો.
A14: ● માત્ર પ્રથમ સત્રનું પરિણામ પત્રક બનાવવા માટે Sem 1 Patrak C અને Sem 1 Heading ની પ્રિન્ટ લેવી તે માટે પ્રથમ Patrak C માં પ્રથમ સત્રના મેળવેલ ગુણ લખવા.
A15: → Patrak C ની પ્રિન્ટ કાઢવાની રીત :- સૌ પ્રથમ Heading ની પ્રિન્ટ કાઢવી. ત્યારબાદ તેની પાછળ વિદ્યાર્થીઓની સંખ્યા મુજબ જરૂરી પેજની પ્રિન્ટ કાઢવી.
A16: ● Marksheet ની પ્રિન્ટ કાઢવાની રીત :- સૌ પ્રથમ Front Page શીટમાં જે વિદ્યાર્થીની માર્કશીટની પ્રિન્ટ કાઢવી હોય તેનો નંબર ( માત્ર એકી અંક ) લખો અને પ્રિન્ટ કરો. ત્યારબાદ તેને ઉલટાવી પાછળનાં ભાગની પ્રિન્ટ કાઢવા Back Page Sheet માં જઈ તે નંબર લખી તેની પ્રિન્ટ કાઢવી.
A17: ● માર્કશીટની પ્રિન્ટ Legal Page અથવા A4 Size એમ બન્ને રીતે કાઢી શકાશે. જેના માટે અલગ અલગ શીટ છે. એક સાથે બે વિદ્યાર્થીની માર્કશીટ પ્રિન્ટ થશે.
A18: ● Student Data Sheet નાં છેલ્લા કોલમમાં વિદ્યાર્થીને આપવાની સૂચના લખી શકાશે જે તેની માર્કશીટમાં પ્રિન્ટ થશે.
A20: શાળાની માહિતી
A21: શિક્ષણ સમિતિનું નામ :- | B21: જિલ્લા પંચાયત શિક્ષણ સમિતિ, અમદાવાદ
A22: શાળાનું નામ :- | B22: ચાંગોદર પે સે શાળા
A23: ધોરણ :- | B23: 7
A24: વર્ગ :- | B24: -
A25: વર્ષ :- | B25: 2025-26
A26: ગામ :- | B26: ચાંગોદર
A27: તાલુકો :- | B27: સાણંદ
A28: જિલ્લો :- | B28: અમદાવાદ
A29: પે સેન્ટર :- | B29: ચાંગોદર
A30: પરિણામની તારીખ :- | B30: -
A31: વર્ગ શિક્ષકનું નામ :- | B31: હિતેશભાઇ પી આહજોલિયા
A32: સી.આર.સી :- | B32: ચાંગોદર
B49: Create By : Hitesh Ahjoliya

Sheet Student Data
B2: Created by - Hitesh Ahjoliya
D3: ધોરણ :- | E3: ='School Data'!B23 -> 7 | H3: વિધાર્થીની વિગત
A4: ક્રમ નંબર લખવા નહિ. નામ લખશો એટલે તે લખાઈ જશે.
A6: 1 | B6: 2 | C6: 3 | D6: 4 | E6: Select ê | G6: 7 | H6: 8 | I6: 9 | J6: 10 | K6: 11 | L6: 12 | M6: 13 | N6: 14 | O6: 15 | P6: 16 | Q6: 17 | R6: 18
A7: ક્રમ | B7: વિધાર્થીનું નામ | C7: જી.આર.નંબર | D7: જન્મ તા. | E7: જાતિ M/F | F7: જ્ઞાતિ | G7: હાજર દિવસ | H7: પિતાનું નામ | I7: માતાનું નામ | J7: સરનામું | K7: મોબાઈલ નંબર | L7: આધારડાયસ નંબર | M7: આધારકાર્ડ નંબર | N7: બેંક એકાઉન્ટ નંબર | O7: Bank Name | P7: Bank IFSC Code | Q7: Bank Branch Name | R7: વિદ્યાર્થીને આપવાની સૂચના
A8: =IF(B8="","",1) -> 1 | B8: રાજ ભીખાભાઈ સોલંકી | C8: 1234 | D8: 38479 | E8: M | F8: OBC | G8: - | H8: ભીખાભાઈ સોલંકી | I8: રમીલાબેન | J8: મું.ચાંગોદર, તા- સાણંદ, જિ- અમદાવાદ. | K8: 9426402420 | L8: 240704010011210030 | M8: 1111 2222 3333 | N8: 003010100123456 | O8: State Bank Of India | P8: SBIN0004564 | Q8: Changodar | R8: ખૂબ સરસ, અભિનંદન સૂચના :- શાળાનું નવુ સત્ર તા- / /20 ને વારે શરૂ થશે.
A9: =IF(B9="","",A8+1) -> 2 | B9: રમેશ | C9: 5678 | D9: 38719 | E9: M | F9: OTHER | G9: - | H9: - | I9: - | J9: - | K9: - | L9: - | M9: - | N9: - | O9: - | P9: - | Q9: - | R9: સૂચના :- શાળાનું નવુ સત્ર તા- / /20 ને વારે શરૂ થશે.
A10: =IF(B10="","",A9+1) | E10: F | F10: ST
A11: =IF(B11="","",A10+1) | E11: M | F11: ST
A12: =IF(B12="","",A11+1) | E12: M | F12: SC
A13: =IF(B13="","",A12+1) | E13: M | F13: OBC
A14: =IF(B14="","",A13+1) | E14: M | F14: OTHER
A15: =IF(B15="","",A14+1) | E15: M
A16: =IF(B16="","",A15+1) | E16: M
A17: =IF(B17="","",A16+1)
A18: =IF(B18="","",A17+1)
A19: =IF(B19="","",A18+1)
A20: =IF(B20="","",A19+1)
A21: =IF(B21="","",A20+1)
A22: =IF(B22="","",A21+1)
A23: =IF(B23="","",A22+1)
A24: =IF(B24="","",A23+1)
A25: =IF(B25="","",A24+1)
A26: =IF(B26="","",A25+1)
A27: =IF(B27="","",A26+1)
A28: =IF(B28="","",A27+1)
... A72: =IF(B72="","",A71+1)
E76: M | F76: SC
E77: F | F77: ST
F78: OBC
F79: OTHER

Sheet Heading
C4: ='School Data'!B21 -> જિલ્લા પંચાયત શિક્ષણ સમિતિ, અમદાવાદ
C6: શાળાકીય સર્વગ્રાહી મૂલ્યાંકન
C7: (SCE)
C8: પરિણામપત્રક
J9: પત્રક C
I10: ધોરણ:- | L10: ='School Data'!B23 -> 7 | M10: ='School Data'!B24 -> -
I12: વર્ષ:- | K12: ='School Data'!B25 -> 2025-26
C14: શાળાનુ નામ | E14: :- | F14: ='School Data'!B22 -> ચાંગોદર પે સે શાળા
C15: ગામ | E15: :- | F15: ='School Data'!B26 -> ચાંગોદર
C16: તાલુકો | E16: :- | F16: ='School Data'!B27 -> સાણંદ
C17: જિલ્લો | E17: :- | F17: ='School Data'!B28 -> અમદાવાદ
C18: પે સેન્ટર | E18: :- | F18: ='School Data'!B29 -> ચાંગોદર
C19: પરિણામ તારીખ | E19: :- | F19: ='School Data'!B30 -> -
C20: વર્ગશિક્ષકનું નામ | E20: :- | F20: ='School Data'!B31 -> હિતેશભાઇ પી આહજોલિયા
C21: સી. આર. સી. | E21: :- | F21: ='School Data'!B32 -> ચાંગોદર
C23: જાતિ | D23: રજીસ્ટર | G23: મેળવેલ એકંદરે ગ્રેડ | V23: નોંધ
D24: સંખ્યા | G24: A | J24: B | M24: C | P24: D | S24: E
D25: કુમાર | E25: કન્યા | F25: કુલ | G25: કુમાર | H25: કન્યા | I25: કુલ | J25: કુમાર | K25: કન્યા | L25: કુલ | M25: કુમાર | N25: કન્યા | O25: કુલ | P25: કુમાર | Q25: કન્યા | R25: કુલ | S25: કુમાર | T25: કન્યા | U25: કુલ
C26: અનુ. જાતિ | D26: =G26+J26+M26+P26+S26 -> 0 | E26: =H26+K26+N26+Q26+T26 -> 0 | F26: =SUM(D26:E26) -> 0 | G26: =COUNTIFS('Patrak C'!$E$9:$E$73,"=M",'Patrak C'!$F$9:$F$73,"=SC",'Patrak C'!$BR$9:$BR$73,"=A") -> 0 | H26: =COUNTIFS('Patrak C'!$E$9:$E$73,"=F",'Patrak C'!$F$9:$F$73,"=SC",'Patrak C'!$BR$9:$BR$73,"=A") -> 0 | I26: =SUM(G26:H26) -> 0 | J26: =COUNTIFS('Patrak C'!$E$9:$E$73,"=M",'Patrak C'!$F$9:$F$73,"=SC",'Patrak C'!$BR$9:$BR$73,"=B") -> 0 | K26: =COUNTIFS('Patrak C'!$E$9:$E$73,"=F",'Patrak C'!$F$9:$F$73,"=SC",'Patrak C'!$BR$9:$BR$73,"=B") -> 0 | L26: =SUM(J26:K26) -> 0 | M26: =COUNTIFS('Patrak C'!$E$9:$E$73,"=M",'Patrak C'!$F$9:$F$73,"=SC",'Patrak C'!$BR$9:$BR$73,"=C") -> 0 | N26: =COUNTIFS('Patrak C'!$E$9:$E$73,"=F",'Patrak C'!$F$9:$F$73,"=SC",'Patrak C'!$BR$9:$BR$73,"=C") -> 0 | O26: =SUM(M26:N26) -> 0 | P26: =COUNTIFS('Patrak C'!$E$9:$E$73,"=M",'Patrak C'!$F$9:$F$73,"=SC",'Patrak C'!$BR$9:$BR$73,"=D") -> 0 | Q26: =COUNTIFS('Patrak C'!$E$9:$E$73,"=F",'Patrak C'!$F$9:$F$73,"=SC",'Patrak C'!$BR$9:$BR$73,"=D") -> 0 | R26: =SUM(P26:Q26) -> 0 | S26: =COUNTIFS('Patrak C'!$E$9:$E$73,"=M",'Patrak C'!$F$9:$F$73,"=SC",'Patrak C'!$BR$9:$BR$73,"=E") -> 0 | T26: =COUNTIFS('Patrak C'!$E$9:$E$73,"=F",'Patrak C'!$F$9:$F$73,"=SC",'Patrak C'!$BR$9:$BR$73,"=E") -> 0 | U26: =SUM(S26:T26) -> 0
C27: અનુ. જનજાતિ | D27: =G27+J27+M27+P27+S27 -> 0 | E27: =H27+K27+N27+Q27+T27 -> 0 | F27: =SUM(D27:E27) -> 0 | G27: =COUNTIFS('Patrak C'!$E$9:$E$73,"=M",'Patrak C'!$F$9:$F$73,"=ST",'Patrak C'!$BR$9:$BR$73,"=A") -> 0 | H27: =COUNTIFS('Patrak C'!$E$9:$E$73,"=F",'Patrak C'!$F$9:$F$73,"=ST",'Patrak C'!$BR$9:$BR$73,"=A") -> 0 | I27: =SUM(G27:H27) -> 0 | J27: =COUNTIFS('Patrak C'!$E$9:$E$73,"=M",'Patrak C'!$F$9:$F$73,"=ST",'Patrak C'!$BR$9:$BR$73,"=B") -> 0 | K27: =COUNTIFS('Patrak C'!$E$9:$E$73,"=F",'Patrak C'!$F$9:$F$73,"=ST",'Patrak C'!$BR$9:$BR$73,"=B") -> 0 | L27: =SUM(J27:K27) -> 0 | M27: =COUNTIFS('Patrak C'!$E$9:$E$73,"=M",'Patrak C'!$F$9:$F$73,"=ST",'Patrak C'!$BR$9:$BR$73,"=C") -> 0 | N27: =COUNTIFS('Patrak C'!$E$9:$E$73,"=F",'Patrak C'!$F$9:$F$73,"=ST",'Patrak C'!$BR$9:$BR$73,"=C") -> 0 | O27: =SUM(M27:N27) -> 0 | P27: =COUNTIFS('Patrak C'!$E$9:$E$73,"=M",'Patrak C'!$F$9:$F$73,"=ST",'Patrak C'!$BR$9:$BR$73,"=D") -> 0 | Q27: =COUNTIFS('Patrak C'!$E$9:$E$73,"=F",'Patrak C'!$F$9:$F$73,"=ST",'Patrak C'!$BR$9:$BR$73,"=D") -> 0 | R27: =SUM(P27:Q27) -> 0 | S27: =COUNTIFS('Patrak C'!$E$9:$E$73,"=M",'Patrak C'!$F$9:$F$73,"=ST",'Patrak C'!$BR$9:$BR$73,"=E") -> 0 | T27: =COUNTIFS('Patrak C'!$E$9:$E$73,"=F",'Patrak C'!$F$9:$F$73,"=ST",'Patrak C'!$BR$9:$BR$73,"=E") -> 0 | U27: =SUM(S27:T27) -> 0
C28: શા. શૈ. પછાત | D28: =G28+J28+M28+P28+S28 -> 1 | E28: =H28+K28+N28+Q28+T28 -> 0 | F28: =SUM(D28:E28) -> 1 | G28: =COUNTIFS('Patrak C'!$E$9:$E$73,"=M",'Patrak C'!$F$9:$F$73,"=OBC",'Patrak C'!$BR$9:$BR$73,"=A") -> 0 | H28: =COUNTIFS('Patrak C'!$E$9:$E$73,"=F",'Patrak C'!$F$9:$F$73,"=OBC",'Patrak C'!$BR$9:$BR$73,"=A") -> 0 | I28: =SUM(G28:H28) -> 0 | J28: =COUNTIFS('Patrak C'!$E$9:$E$73,"=M",'Patrak C'!$F$9:$F$73,"=OBC",'Patrak C'!$BR$9:$BR$73,"=B") -> 1 | K28: =COUNTIFS('Patrak C'!$E$9:$E$73,"=F",'Patrak C'!$F$9:$F$73,"=OBC",'Patrak C'!$BR$9:$BR$73,"=B") -> 0 | L28: =SUM(J28:K28) -> 1 | M28: =COUNTIFS('Patrak C'!$E$9:$E$73,"=M",'Patrak C'!$F$9:$F$73,"=OBC",'Patrak C'!$BR$9:$BR$73,"=C") -> 0 | N28: =COUNTIFS('Patrak C'!$E$9:$E$73,"=F",'Patrak C'!$F$9:$F$73,"=OBC",'Patrak C'!$BR$9:$BR$73,"=C") -> 0 | O28: =SUM(M28:N28) -> 0 | P28: =COUNTIFS('Patrak C'!$E$9:$E$73,"=M",'Patrak C'!$F$9:$F$73,"=OBC",'Patrak C'!$BR$9:$BR$73,"=D") -> 0 | Q28: =COUNTIFS('Patrak C'!$E$9:$E$73,"=F",'Patrak C'!$F$9:$F$73,"=OBC",'Patrak C'!$BR$9:$BR$73,"=D") -> 0 | R28: =SUM(P28:Q28) -> 0 | S28: =COUNTIFS('Patrak C'!$E$9:$E$73,"=M",'Patrak C'!$F$9:$F$73,"=OBC",'Patrak C'!$BR$9:$BR$73,"=E") -> 0 | T28: =COUNTIFS('Patrak C'!$E$9:$E$73,"=F",'Patrak C'!$F$9:$F$73,"=OBC",'Patrak C'!$BR$9:$BR$73,"=E") -> 0 | U28: =SUM(S28:T28) -> 0
C29: અન્ય | D29: =G29+J29+M29+P29+S29 -> 1 | E29: =H29+K29+N29+Q29+T29 -> 0 | F29: =SUM(D29:E29) -> 1 | G29: =COUNTIFS('Patrak C'!$E$9:$E$73,"=M",'Patrak C'!$F$9:$F$73,"=OTHER",'Patrak C'!$BR$9:$BR$73,"=A") -> 0 | H29: =COUNTIFS('Patrak C'!$E$9:$E$73,"=F",'Patrak C'!$F$9:$F$73,"=OTHER",'Patrak C'!$BR$9:$BR$73,"=A") -> 0 | I29: =SUM(G29:H29) -> 0 | J29: =COUNTIFS('Patrak C'!$E$9:$E$73,"=M",'Patrak C'!$F$9:$F$73,"=OTHER",'Patrak C'!$BR$9:$BR$73,"=B") -> 0 | K29: =COUNTIFS('Patrak C'!$E$9:$E$73,"=F",'Patrak C'!$F$9:$F$73,"=OTHER",'Patrak C'!$BR$9:$BR$73,"=B") -> 0 | L29: =SUM(J29:K29) -> 0 | M29: =COUNTIFS('Patrak C'!$E$9:$E$73,"=M",'Patrak C'!$F$9:$F$73,"=OTHER",'Patrak C'!$BR$9:$BR$73,"=C") -> 1 | N29: =COUNTIFS('Patrak C'!$E$9:$E$73,"=F",'Patrak C'!$F$9:$F$73,"=OTHER",'Patrak C'!$BR$9:$BR$73,"=C") -> 0 | O29: =SUM(M29:N29) -> 1 | P29: =COUNTIFS('Patrak C'!$E$9:$E$73,"=M",'Patrak C'!$F$9:$F$73,"=OTHER",'Patrak C'!$BR$9:$BR$73,"=D") -> 0 | Q29: =COUNTIFS('Patrak C'!$E$9:$E$73,"=F",'Patrak C'!$F$9:$F$73,"=OTHER",'Patrak C'!$BR$9:$BR$73,"=D") -> 0 | R29: =SUM(P29:Q29) -> 0 | S29: =COUNTIFS('Patrak C'!$E$9:$E$73,"=M",'Patrak C'!$F$9:$F$73,"=OTHER",'Patrak C'!$BR$9:$BR$73,"=E") -> 0 | T29: =COUNTIFS('Patrak C'!$E$9:$E$73,"=F",'Patrak C'!$F$9:$F$73,"=OTHER",'Patrak C'!$BR$9:$BR$73,"=E") -> 0 | U29: =SUM(S29:T29) -> 0
C30: કુલ | D30: =SUM(D26:D29) -> 2 | E30: =SUM(E26:E29) -> 0 | F30: =SUM(F26:F29) -> 2 | G30: =SUM(G26:G29) -> 0 | H30: =SUM(H26:H29) -> 0 | I30: =SUM(I26:I29) -> 0 | J30: =SUM(J26:J29) -> 1 | K30: =SUM(K26:K29) -> 0 | ... U30: =SUM(U26:U29) -> 0
C32: વર્ગશિક્ષકની સહી | Q32: આચાર્યની સહી
B35: www.hiteshahjoliya.blogspot.com | P35: Format By - Hitesh Ahjoliya

Sheet Patrak B
A1: Print On A4 Paper
B3: પત્રક - B વ્યક્તિત્વ વિકાસ પત્રક
B4: ધોરણ :- | D4: ='School Data'!B23 -> 7 | G4: વર્ગ:- | I4: ='School Data'!B24 -> - | W4: વર્ષ:- | Y4: ='School Data'!B25 -> 2025-26 | AJ4: www.hiteshahjoliya.blogspot.com
B5: ક્રમ | C5: વિદ્યાર્થીનું નામ | D5: સત્ર | E5: ક્ષેત્ર - 1 | J5: ક્ષેત્ર -2 | O5: ક્ષેત્ર - 3 વિદ્યાર્થીના રસના ક્ષેત્રો | AB5: ક્ષેત્ર - 4 | AI5: ક્ષેત્ર - 5 ભારતીય જ્ઞાન પ્રણાલી | AS5: કુલ ગુણ સત્ર-1 | AT5: કુલ ગુણ સત્ર-2 | AU5: સરેરાશ ગુણ ( બન્ને સત્રના આધારે વર્ષાંતે )
E6: વ્યક્તિગત અને સમાજિક ગુણો | J6: વિદ્યાર્થીના વલણો | O6: સાહિત્ય | R6: સંગીત અને કલા | V6: શારીરિક શિક્ષણ અને યોગ | Z6: સા. શિક્ષણ/યોગ | AB6: સહ શૈ. પ્રવ્રુત્તિઓ | AE6: કાર્યાનુભવ
E8: પ્રાર્થના સંમેલનમાં નિયમિત સામેલ થાય છે. | F8: શાળાની સ્વચ્છતા જાળવે છે . | G8: બીજા વિદ્યાર્થીઓને મદદરુપ થાય છે. | H8: સોપેલુ કાર્ય સારી રીતે કરે છે . | I8: કોઇપણ કાર્ય કરવામા તત્પરતા દાખવે છે. | J8: શિક્ષણ પ્રત્યે હકારાત્મક વલણ ધરાવે છે . | K8: શાળા મિલકતની જાળવણી રાખે છે . | L8: સહાધ્યાયી પ્રત્યે સહયોગ દાખવે છે . | M8: વ્યક્તિગત સ્વચ્છતા અને સુઘડતા જાળવે છે . | N8: પર્યાવરણની સમતુલા જાળવવામાં ઉપયોગી થાય છે. | O8: ઇતર વાંચન | P8: ભાષાશુદ્ધિ સાથેનું મરોડદાર અક્ષરે લેખન | Q8: મૌલિક વાર્તા કથન / વક્તવ્ય | R8: ગાન / વાદન ( અભિનય, બાળગીત વગેરે ) | S8: નાટ્ય / નૃત્ય / વેશભુષા / અભિનય | T8: ચિત્રમા રેખાંકન સ્પષ્ટ અને સુંદર કરે છે . | U8: ચિત્રમા રંગપૂરણી સારી રીતે કરે છે . | V8: યોગિક ક્રિયાઓ ઉત્સાહપૂર્વક કરે છે. | W8: સરળ આસનો ઉત્સાહપૂર્વક કરે છે. | X8: સાંધિક રમતો કૌશલ્યપૂર્વક રમે છે. | Y8: ખેલકુદ અને જિમ્નાસ્ટિક લયબદ્ઘ રીતે કરે છે. | Z8: ઉત્સવ ઉજવણી | AA8: વિશેષ દિન ઉજવણી | AB8: પ્રશ્નમંચ ( ક્વિઝ ) માં ભાગીદારી | AC8: મૂલ્ય શિક્ષણની પ્રવ્રુતિઓમાં ભાગીદારી | AD8: વિવિધ સ્પર્ધાઓ | AE8: ઇકોક્લબની પ્રવ્રુત્તિઓ | AF8: પ્રવાસ / પર્યટન / મુલાકાત | AG8: માટીકામ / બાગકામ / શાળા સુશોભન | AH8: કાગળકામ / ટી.એલ. એમ નિર્માણમાં સહયોગ | AI8: અભ્યાસ સામગ્રીમાંથી ભા.સાં.વારસાની સમજમેળવેછે. | AJ8: શ્લોક કંઠસ્થ કરે છે અને સમૂહગાન કરે છે. | AK8: અભ્યાસ સામગ્રીને સંવાદ કે નાટક સ્વરૂપે રજૂ કરે છે. | AL8: અભ્યાસ સામગ્રી વિષયક ચિંતન અને તર્ક કરે છે. | AM8: સામગ્રીમાં રહેલા ભાવને ઓળખે છે અને રજૂ કરે છે. | AN8: અભ્યાસ સામગ્રી આ. વિવિધ પ્રવૃતિઓમાં ભાગ લે છે. | AO8: અ.સા.ના મૂલ્યો અને સિધ્ધાંતોને પોતાના જીવન સાથે સાંકળે છે | AP8: ભા. સંસ્કૃતિ અને જ્ઞા.પ્ર. ના મૂલ્યો વિશે સંવાદ/ચર્ચામાં ભાગલેછે | AQ8: અભ્યાસ સામગ્રી આધા. વિવિધ સ્પર્ધાઓમાં ભાગ લેછે. | AR8: વિવિધ શબ્દોના અર્થ સા. સંદર્ભ સહિત ઓળખે/જાણે છે.
E9: 1 | F9: 2 | G9: 3 | H9: 4 | I9: 5 | J9: 6 | K9: 7 | L9: 8 | M9: 9 | N9: 10 | O9: 11 | P9: 12 | Q9: 13 | R9: 14 | S9: 15 | T9: 16 | U9: 17 | V9: 18 | W9: 19 | X9: 20 | Y9: 21 | Z9: 22 | AA9: 23 | AB9: 24 | AC9: 25 | AD9: 26 | AE9: 27 | AF9: 28 | AG9: 29 | AH9: 30 | AI9: 31 | AJ9: 32 | AK9: 33 | AL9: 34 | AM9: 35 | AN9: 36 | AO9: 37 | AP9: 38 | AQ9: 39 | AR9: 40
B10: ='Student Data'!A8 -> 1 | C10: ='Student Data'!B8 -> રાજ ભીખાભાઈ સોલંકી | D10: 1 | E10: 8 | F10: 6 | G10: 7 | H10: 8 | I10: 9 | J10: 10 | AS10: =SUM(E10:AR10) -> 48 | AT10: =SUM(E11:AR11) -> 21 | AU10: =ROUND(AT10/2+AS10/2,0) -> 35
D11: 2 | E11: 1 | F11: 2 | G11: 3 | H11: 4 | I11: 5 | J11: 6
B12: ='Student Data'!A9 -> 2 | C12: =IF('Student Data'!B9="","",'Student Data'!B9) -> રમેશ | D12: 1 | E12: 9 | F12: 9 | G12: 9 | H12: 9 | I12: 9 | AS12: =IF(SUM(E12:AR12)=0,"",SUM(E12:AR12)) -> 45 | AT12: =IF(SUM(E13:AR13)=0,"",SUM(E13:AR13)) | AU12: =IF(AT12="",IF(AS12="","",ROUND(AS12/2,0)),IF(AS12="",ROUND(AT12/2,0),ROUND(AT12/2+AS12/2,0))) -> 23
D13: 2
B14: ='Student Data'!A10 | C14: =IF('Student Data'!B10="","",'Student Data'!B10) | D14: 1 | AS14: =IF(SUM(E14:AR14)=0,"",SUM(E14:AR14)) | AT14: =IF(SUM(E15:AR15)=0,"",SUM(E15:AR15)) | AU14: =IF(AT14="",IF(AS14="","",ROUND(AS14/2,0)),IF(AS14="",ROUND(AT14/2,0),ROUND(AT14/2+AS14/2,0)))
D15: 2
B16: ='Student Data'!A11 | C16: =IF('Student Data'!B11="","",'Student Data'!B11) | D16: 1 | AS16: =IF(SUM(E16:AR16)=0,"",SUM(E16:AR16)) | AT16: =IF(SUM(E17:AR17)=0,"",SUM(E17:AR17)) | AU16: =IF(AT16="",IF(AS16="","",ROUND(AS16/2,0)),IF(AS16="",ROUND(AT16/2,0),ROUND(AT16/2+AS16/2,0)))
D17: 2
B18: ='Student Data'!A12 | C18: =IF('Student Data'!B12="","",'Student Data'!B12) | D18: 1 | AS18: =IF(SUM(E18:AR18)=0,"",SUM(E18:AR18)) | AT18: =IF(SUM(E19:AR19)=0,"",SUM(E19:AR19)) | AU18: =IF(AT18="",IF(AS18="","",ROUND(AS18/2,0)),IF(AS18="",ROUND(AT18/2,0),ROUND(AT18/2+AS18/2,0)))
D19: 2
B20: ='Student Data'!A13 | C20: =IF('Student Data'!B13="","",'Student Data'!B13) | D20: 1 | AS20: =IF(SUM(E20:AR20)=0,"",SUM(E20:AR20)) | AT20: =IF(SUM(E21:AR21)=0,"",SUM(E21:AR21)) | AU20: =IF(AT20="",IF(AS20="","",ROUND(AS20/2,0)),IF(AS20="",ROUND(AT20/2,0),ROUND(AT20/2+AS20/2,0)))
D21: 2
B22: ='Student Data'!A14 | C22: =IF('Student Data'!B14="","",'Student Data'!B14) | D22: 1 | AS22: =IF(SUM(E22:AR22)=0,"",SUM(E22:AR22)) | AT22: =IF(SUM(E23:AR23)=0,"",SUM(E23:AR23)) | AU22: =IF(AT22="",IF(AS22="","",ROUND(AS22/2,0)),IF(AS22="",ROUND(AT22/2,0),ROUND(AT22/2+AS22/2,0)))
D23: 2
B24: ='Student Data'!A15 | C24: =IF('Student Data'!B15="","",'Student Data'!B15) | D24: 1 | AS24: =IF(SUM(E24:AR24)=0,"",SUM(E24:AR24)) | AT24: =IF(SUM(E25:AR25)=0,"",SUM(E25:AR25)) | AU24: =IF(AT24="",IF(AS24="","",ROUND(AS24/2,0)),IF(AS24="",ROUND(AT24/2,0),ROUND(AT24/2+AS24/2,0)))
D25: 2
B26: ='Student Data'!A16 | C26: =IF('Student Data'!B16="","",'Student Data'!B16) | D26: 1 | AS26: =IF(SUM(E26:AR26)=0,"",SUM(E26:AR26)) | AT26: =IF(SUM(E27:AR27)=0,"",SUM(E27:AR27)) | AU26: =IF(AT26="",IF(AS26="","",ROUND(AS26/2,0)),IF(AS26="",ROUND(AT26/2,0),ROUND(AT26/2+AS26/2,0)))
D27: 2
B28: ='Student Data'!A17 | C28: =IF('Student Data'!B17="","",'Student Data'!B17) | D28: 1 | AS28: =IF(SUM(E28:AR28)=0,"",SUM(E28:AR28)) | AT28: =IF(SUM(E29:AR29)=0,"",SUM(E29:AR29)) | AU28: =IF(AT28="",IF(AS28="","",ROUND(AS28/2,0)),IF(AS28="",ROUND(AT28/2,0),ROUND(AT28/2+AS28/2,0)))
D29: 2
B30: ='Student Data'!A18 | C30: =IF('Student Data'!B18="","",'Student Data'!B18) | D30: 1 | AS30: =IF(SUM(E30:AR30)=0,"",SUM(E30:AR30)) | AT30: =IF(SUM(E31:AR31)=0,"",SUM(E31:AR31)) | AU30: =IF(AT30="",IF(AS30="","",ROUND(AS30/2,0)),IF(AS30="",ROUND(AT30/2,0),ROUND(AT30/2+AS30/2,0)))
D31: 2
B32: ='Student Data'!A19 | C32: =IF('Student Data'!B19="","",'Student Data'!B19) | D32: 1 | AS32: =IF(SUM(E32:AR32)=0,"",SUM(E32:AR32)) | AT32: =IF(SUM(E33:AR33)=0,"",SUM(E33:AR33)) | AU32: =IF(AT32="",IF(AS32="","",ROUND(AS32/2,0)),IF(AS32="",ROUND(AT32/2,0),ROUND(AT32/2+AS32/2,0)))
D33: 2
B34: ='Student Data'!A20 | C34: =IF('Student Data'!B20="","",'Student Data'!B20) | D34: 1 | AS34: =IF(SUM(E34:AR34)=0,"",SUM(E34:AR34)) | AT34: =IF(SUM(E35:AR35)=0,"",SUM(E35:AR35)) | AU34: =IF(AT34="",IF(AS34="","",ROUND(AS34/2,0)),IF(AS34="",ROUND(AT34/2,0),ROUND(AT34/2+AS34/2,0)))
D35: 2
B36: ='Student Data'!A21 | C36: =IF('Student Data'!B21="","",'Student Data'!B21) | D36: 1 | AS36: =IF(SUM(E36:AR36)=0,"",SUM(E36:AR36)) | AT36: =IF(SUM(E37:AR37)=0,"",SUM(E37:AR37)) | AU36: =IF(AT36="",IF(AS36="","",ROUND(AS36/2,0)),IF(AS36="",ROUND(AT36/2,0),ROUND(AT36/2+AS36/2,0)))
D37: 2
B38: ='Student Data'!A22 | C38: =IF('Student Data'!B22="","",'Student Data'!B22) | D38: 1 | AS38: =IF(SUM(E38:AR38)=0,"",SUM(E38:AR38)) | AT38: =IF(SUM(E39:AR39)=0,"",SUM(E39:AR39)) | AU38: =IF(AT38="",IF(AS38="","",ROUND(AS38/2,0)),IF(AS38="",ROUND(AT38/2,0),ROUND(AT38/2+AS38/2,0)))
D39: 2
B40: ='Student Data'!A23 | C40: =IF('Student Data'!B23="","",'Student Data'!B23) | D40: 1 | AS40: =IF(SUM(E40:AR40)=0,"",SUM(E40:AR40)) | AT40: =IF(SUM(E41:AR41)=0,"",SUM(E41:AR41)) | AU40: =IF(AT40="",IF(AS40="","",ROUND(AS40/2,0)),IF(AS40="",ROUND(AT40/2,0),ROUND(AT40/2+AS40/2,0)))
D41: 2
B42: ='Student Data'!A24 | C42: =IF('Student Data'!B24="","",'Student Data'!B24) | D42: 1 | AS42: =IF(SUM(E42:AR42)=0,"",SUM(E42:AR42)) | AT42: =IF(SUM(E43:AR43)=0,"",SUM(E43:AR43)) | AU42: =IF(AT42="",IF(AS42="","",ROUND(AS42/2,0)),IF(AS42="",ROUND(AT42/2,0),ROUND(AT42/2+AS42/2,0)))
...

Sheet Patrak C
B1: પત્રક - C | D1: માત્ર રંગીન ભાગમાં જ ગુણ લખવા.
A3: www.hiteshahjoliya.blogspot.com | D3: પત્રક - C | L3: ધોરણ- | N3: ='School Data'!B23 -> 7 | O3: ='School Data'!B24 -> - | X3: =D3 -> પત્રક - C | AC3: ધોરણ- | AE3: ='School Data'!B23 -> 7 | AF3: ='School Data'!B24 -> - | AO3: =X3 -> પત્રક - C | AT3: ધોરણ- | AV3: ='School Data'!B23 -> 7 | AW3: ='School Data'!B24 -> - | AX3: =A3 -> www.hiteshahjoliya.blogspot.com | BO3: ધોરણ- | BQ3: ='School Data'!B23 -> 7 | BR3: ='School Data'!B24 -> -
H4: ગુજરાતી | Q4: ગણિત | Y4: હિન્દી | AH4: અંગ્રેજી | AP4: વિજ્ઞાન અને ટેક્નોલોજી | AY4: સામાજિક વિજ્ઞાન | BG4: સંસ્કૃત | BO4: પત્રક - B : વ્યક્તિત્વ વિકાસ પત્રક | BP4: ગ્રેડ | BQ4: તમામ વિષયોના + પત્રક B ના કુલ ગુણ | BR4: સરેરાશ ગ્રેડ | BS4: ટકા %
A5: ક્રમ | B5: વિદ્યાર્થીનુ નામ | C5: જ . ર . નંબર | D5: જન્મ તારીખ | G5: હાજર દિવસ | H5: પ્રથમ સત્ર | K5: દ્વિતીય સત્ર | N5: કુલ ગુણ 200 માથી મેળવેલ ગુણ | O5: ગ્રેડ | P5: ક્રમ | Q5: પ્રથમ સત્ર | T5: દ્વિતીય સત્ર | W5: કુલ ગુણ 200 માથી મેળવેલ ગુણ | X5: ગ્રેડ | Y5: પ્રથમ સત્ર | AB5: દ્વિતીય સત્ર | AE5: કુલ ગુણ 200 માથી મેળવેલ ગુણ | AF5: ગ્રેડ | AG5: ક્રમ | AH5: પ્રથમ સત્ર | AK5: દ્વિતીય સત્ર | AN5: કુલ ગુણ 200 માથી મેળવેલ ગુણ | AO5: ગ્રેડ | AP5: પ્રથમ સત્ર | AS5: દ્વિતીય સત્ર | AV5: કુલ ગુણ 200 માથી મેળવેલ ગુણ | AW5: ગ્રેડ | AX5: ક્રમ | AY5: પ્રથમ સત્ર | BB5: દ્વિતીય સત્ર | BE5: કુલ ગુણ 200 માથી મેળવેલ ગુણ | BF5: ગ્રેડ | BG5: પ્રથમ સત્ર | BJ5: દ્વિતીય સત્ર | BM5: કુલ ગુણ 200 માથી મેળવેલ ગુણ | BN5: ગ્રેડ
E6: ='Student Data'!E7 -> જાતિ M/F | F6: ='Student Data'!F7 -> જ્ઞાતિ | H6: રચનાત્મક મૂલ્યાંકન | I6: સંત્રાત મૂલ્યાંકન | J6: સ્વ-અધ્યયન કાર્યના આધારે મૂલ્યાંકન | K6: રચનાત્મક મૂલ્યાંકન | L6: સંત્રાત મૂલ્યાંકન | M6: =J6 -> સ્વ-અધ્યયન કાર્યના આધારે મૂલ્યાંકન | Q6: રચનાત્મક મૂલ્યાંકન | R6: સંત્રાત મૂલ્યાંકન | S6: સ્વ-અધ્યયન કાર્યના આધારે મૂલ્યાંકન | T6: રચનાત્મક મૂલ્યાંકન | U6: સંત્રાત મૂલ્યાંકન | V6: સ્વ-અધ્યયન કાર્યના આધારે મૂલ્યાંકન | Y6: રચનાત્મક મૂલ્યાંકન | Z6: સંત્રાત મૂલ્યાંકન | AA6: સ્વ-અધ્યયન કાર્યના આધારે મૂલ્યાંકન | AB6: રચનાત્મક મૂલ્યાંકન | AC6: સંત્રાત મૂલ્યાંકન | AD6: સ્વ-અધ્યયન કાર્યના આધારે મૂલ્યાંકન | AH6: રચનાત્મક મૂલ્યાંકન | AI6: સંત્રાત મૂલ્યાંકન | AJ6: સ્વ-અધ્યયન કાર્યના આધારે મૂલ્યાંકન | AK6: રચનાત્મક મૂલ્યાંકન | AL6: સંત્રાત મૂલ્યાંકન | AM6: સ્વ-અધ્યયન કાર્યના આધારે મૂલ્યાંકન | AP6: રચનાત્મક મૂલ્યાંકન | AQ6: સંત્રાત મૂલ્યાંકન | AR6: સ્વ-અધ્યયન કાર્યના આધારે મૂલ્યાંકન | AS6: રચનાત્મક મૂલ્યાંકન | AT6: સંત્રાત મૂલ્યાંકન | AU6: સ્વ-અધ્યયન કાર્યના આધારે મૂલ્યાંકન | AY6: રચનાત્મક મૂલ્યાંકન | AZ6: સંત્રાત મૂલ્યાંકન | BA6: સ્વ-અધ્યયન કાર્યના આધારે મૂલ્યાંકન | BB6: રચનાત્મક મૂલ્યાંકન | BC6: સંત્રાત મૂલ્યાંકન | BD6: સ્વ-અધ્યયન કાર્યના આધારે મૂલ્યાંકન | BG6: રચનાત્મક મૂલ્યાંકન | BH6: સંત્રાત મૂલ્યાંકન | BI6: સ્વ-અધ્યયન કાર્યના આધારે મૂલ્યાંકન | BJ6: રચનાત્મક મૂલ્યાંકન | BK6: સંત્રાત મૂલ્યાંકન | BL6: સ્વ-અધ્યયન કાર્યના આધારે મૂલ્યાંકન
H7: 40 ગુણ | I7: 40 ગુણ | J7: 20 ગુણ | K7: 40 ગુણ | L7: 40 ગુણ | M7: 20 ગુણ | Q7: 40 ગુણ | R7: 40 ગુણ | S7: 20 ગુણ | T7: 40 ગુણ | U7: 40 ગુણ | V7: 20 ગુણ | Y7: 40 ગુણ | Z7: 40 ગુણ | AA7: 20 ગુણ | AB7: 40 ગુણ | AC7: 40 ગુણ | AD7: 20 ગુણ | AH7: 40 ગુણ | AI7: 40 ગુણ | AJ7: 20 ગુણ | AK7: 40 ગુણ | AL7: 40 ગુણ | AM7: 20 ગુણ | AP7: 40 ગુણ | AQ7: 40 ગુણ | AR7: 20 ગુણ | AS7: 40 ગુણ | AT7: 40 ગુણ | AU7: 20 ગુણ | AY7: 40 ગુણ | AZ7: 40 ગુણ | BA7: 20 ગુણ | BB7: 40 ગુણ | BC7: 40 ગુણ | BD7: 20 ગુણ | BG7: 40 ગુણ | BH7: 40 ગુણ | BI7: 20 ગુણ | BJ7: 40 ગુણ | BK7: 40 ગુણ | BL7: 20 ગુણ | BO7: 400 | BQ7: 1800
A8: 1 | B8: 2 | C8: 3 | D8: 4 | G8: 5 | H8: 6 | I8: 7 | J8: 8 | K8: 9 | L8: 10 | M8: 11 | N8: 12 | O8: 13 | P8: 14 | Q8: 15 | R8: 16 | S8: 17 | T8: 18 | U8: 19 | V8: 20 | W8: 21 | X8: 22 | Y8: 23 | Z8: 24 | AA8: 25 | AB8: 26 | AC8: 27 | AD8: 28 | AE8: 29 | AF8: 30 | AG8: 31 | AH8: 32 | AI8: 33 | AJ8: 34 | AK8: 35 | AL8: 36 | AM8: 37 | AN8: 38 | AO8: 39 | AP8: 40 | AQ8: 41 | AR8: 42 | AS8: 43 | AT8: 44 | AU8: 45 | AV8: 46 | AW8: 47 | AX8: 48 | AY8: 49 | AZ8: 50 | BA8: 51 | BB8: 52 | BC8: 53 | BD8: 54 | BE8: 55 | BF8: 56 | BG8: 57 | BH8: 58 | BI8: 59 | BJ8: 60 | BK8: 61 | BL8: 62 | BM8: 63 | BN8: 64 | BO8: 65 | BP8: 66 | BQ8: 67 | BR8: 68 | BS8: 69
A9: ='Student Data'!A8 -> 1 | B9: ='Student Data'!B8 -> રાજ ભીખાભાઈ સોલંકી | C9: ='Student Data'!C8 -> 1234 | D9: ='Student Data'!D8 -> 38479 | E9: ='Student Data'!E8 -> M | F9: ='Student Data'!F8 -> OBC | G9: ='Student Data'!G8 -> - | H9: 40 | I9: 40 | J9: 20 | K9: 40 | L9: 40 | M9: 20 | N9: =SUM(H9:M9) -> 200 | O9: =IF(N9>159,"A",IF(N9>129,"B",IF(N9>99,"C",IF(N9>69,"D",IF(N9<70,"E",))))) -> A | P9: =A9 -> 1 | Q9: 40 | R9: 40 | S9: 20 | T9: 40 | U9: 40 | V9: 20 | W9: =SUM(Q9:V9) -> 200 | X9: =IF(W9>159,"A",IF(W9>129,"B",IF(W9>99,"C",IF(W9>69,"D",IF(W9<70,"E",))))) -> A | Y9: 40 | Z9: 40 | AA9: 20 | AB9: 40 | AC9: 40 | AD9: 20 | AE9: =SUM(Y9:AD9) -> 200 | AF9: =IF(AE9>159,"A",IF(AE9>129,"B",IF(AE9>99,"C",IF(AE9>69,"D",IF(AE9<70,"E",))))) -> A | AG9: =A9 -> 1 | AH9: 40 | AI9: 40 | AJ9: 20 | AK9: 40 | AL9: 40 | AM9: 20 | AN9: =SUM(AH9:AM9) -> 200 | AO9: =IF(AN9>159,"A",IF(AN9>129,"B",IF(AN9>99,"C",IF(AN9>69,"D",IF(AN9<70,"E",))))) -> A | AP9: 40 | AQ9: 40 | AR9: 20 | AS9: 40 | AT9: 40 | AU9: 20 | AV9: =SUM(AP9:AU9) -> 200 | AW9: =IF(AV9>159,"A",IF(AV9>129,"B",IF(AV9>99,"C",IF(AV9>69,"D",IF(AV9<70,"E",))))) -> A | AX9: =A9 -> 1 | AY9: 40 | AZ9: 40 | BA9: 20 | BB9: 40 | BC9: 40 | BD9: 20 | BE9: =SUM(AY9:BD9) -> 200 | BF9: =IF(BE9>159,"A",IF(BE9>129,"B",IF(BE9>99,"C",IF(BE9>69,"D",IF(BE9<70,"E",))))) -> A | BG9: 40 | BH9: 40 | BI9: 20 | BJ9: 40 | BK9: 40 | BL9: 20 | BM9: =SUM(BG9:BL9) -> 200 | BN9: =IF(BM9>159,"A",IF(BM9>129,"B",IF(BM9>99,"C",IF(BM9>69,"D",IF(BM9<70,"E",))))) -> A | BO9: ='Patrak B'!AU10 -> 35 | BP9: =IF(BO9>319,"A",IF(BO9>259,"B",IF(BO9>199,"C",IF(BO9>139,"D",IF(BO9<140,"E",))))) -> E | BQ9: =N9+W9+AE9+AN9+AV9+BE9+BM9+BO9 -> 1435 | BR9: =IF(BQ9>1439,"A",IF(BQ9>1169,"B",IF(BQ9>899,"C",IF(BQ9>629,"D",IF(BQ9<630,"E",))))) -> B | BS9: =IF(OR(ISBLANK(BQ9), BQ9=0, BQ9=""), "", BQ9*100/$BQ$7) -> 79.722222
A10: ='Student Data'!A9 -> 2 | B10: =IF('Student Data'!B9="","",'Student Data'!B9) -> રમેશ | C10: =IF('Student Data'!C9="","",'Student Data'!C9) -> 5678 | D10: =IF('Student Data'!D9="","",'Student Data'!D9) -> 38719 | E10: ='Student Data'!E9 -> M | F10: ='Student Data'!F9 -> OTHER | G10: =IF('Student Data'!G9="","",'Student Data'!G9) -> - | H10: 30 | I10: 30 | J10: 10 | K10: 30 | L10: 30 | M10: 10 | N10: =IF((AND(H10="",I10="",J10="",K10="",L10="",M10="")),"",SUM(H10:M10)) -> 140 | O10: =IF(N10="","",IF(N10>159,"A",IF(N10>129,"B",IF(N10>99,"C",IF(N10>69,"D",IF(N10<70,"E",)))))) -> B | P10: =A10 -> 2 | Q10: 30 | R10: 30 | S10: 10 | T10: 30 | U10: 30 | V10: 10 | W10: =IF((AND(Q10="",R10="",S10="",T10="",U10="",V10="")),"",SUM(Q10:V10)) -> 140 | X10: =IF(W10="","",IF(W10>159,"A",IF(W10>129,"B",IF(W10>99,"C",IF(W10>69,"D",IF(W10<70,"E",)))))) -> B | Y10: 30 | Z10: 30 | AA10: 10 | AB10: 30 | AC10: 30 | AD10: 10 | AE10: =IF((AND(Y10="",Z10="",AA10="",AB10="",AC10="",AD10="")),"",SUM(Y10:AD10)) -> 140 | AF10: =IF(AE10="","",IF(AE10>159,"A",IF(AE10>129,"B",IF(AE10>99,"C",IF(AE10>69,"D",IF(AE10<70,"E",)))))) -> B | AG10: =A10 -> 2 | AH10: 30 | AI10: 30 | AJ10: 10 | AK10: 30 | AL10: 30 | AM10: 10 | AN10: =IF((AND(AH10="",AI10="",AJ10="",AK10="",AL10="",AM10="")),"",SUM(AH10:AM10)) -> 140 | AO10: =IF(AN10="","",IF(AN10>159,"A",IF(AN10>129,"B",IF(AN10>99,"C",IF(AN10>69,"D",IF(AN10<70,"E",)))))) -> B | AP10: 30 | AQ10: 30 | AR10: 10 | AS10: 30 | AT10: 30 | AU10: 10 | AV10: =IF((AND(AP10="",AQ10="",AR10="",AS10="",AT10="",AU10="")),"",SUM(AP10:AU10)) -> 140 | AW10: =IF(AV10="","",IF(AV10>159,"A",IF(AV10>129,"B",IF(AV10>99,"C",IF(AV10>69,"D",IF(AV10<70,"E",)))))) -> B | AX10: =A10 -> 2 | AY10: 30 | AZ10: 30 | BA10: 10 | BB10: 30 | BC10: 30 | BD10: 10 | BE10: =IF((AND(AY10="",AZ10="",BA10="",BB10="",BC10="",BD10="")),"",SUM(AY10:BD10)) -> 140 | BF10: =IF(BE10="","",IF(BE10>159,"A",IF(BE10>129,"B",IF(BE10>99,"C",IF(BE10>69,"D",IF(BE10<70,"E",)))))) -> B | BG10: 30 | BH10: 30 | BI10: 10 | BJ10: 30 | BK10: 30 | BL10: 10 | BM10: =IF((AND(BG10="",BH10="",BI10="",BJ10="",BK10="",BL10="")),"",SUM(BG10:BL10)) -> 140 | BN10: =IF(BM10="","",IF(BM10>159,"A",IF(BM10>129,"B",IF(BM10>99,"C",IF(BM10>69,"D",IF(BM10<70,"E",)))))) -> B | BO10: ='Patrak B'!AU12 -> 23 | BP10: =IF(BO10="","",IF(BO10>319,"A",IF(BO10>259,"B",IF(BO10>199,"C",IF(BO10>139,"D",IF(BO10<140,"E",)))))) -> E | BQ10: =IF(AND(N10="",W10="",AE10="",AN10="",AV10="",BE10="",BM10="",BO10=""),"",SUM(N10,W10,AE10,AN10,AV10,BE10,BM10,BO10)) -> 1003 | BR10: =IF(BQ10="","",IF(BQ10>1439,"A",IF(BQ10>1169,"B",IF(BQ10>899,"C",IF(BQ10>629,"D",IF(BQ10<630,"E",)))))) -> C | BS10: =IF(OR(ISBLANK(BQ10), BQ10=0, BQ10=""), "", BQ10*100/$BQ$7) -> 55.722222
A11: ='Student Data'!A10 | B11: =IF('Student Data'!B10="","",'Student Data'!B10) | C11: =IF('Student Data'!C10="","",'Student Data'!C10) | D11: =IF('Student Data'!D10="","",'Student Data'!D10) | E11: ='Student Data'!E10 -> F | F11: ='Student Data'!F10 -> ST | G11: =IF('Student Data'!G10="","",'Student Data'!G10) | N11: =IF((AND(H11="",I11="",J11="",K11="",L11="",M11="")),"",SUM(H11:M11)) | O11: =IF(N11="","",IF(N11>159,"A",IF(N11>129,"B",IF(N11>99,"C",IF(N11>69,"D",IF(N11<70,"E",)))))) | P11: =A11 | W11: =IF((AND(Q11="",R11="",S11="",T11="",U11="",V11="")),"",SUM(Q11:V11)) | X11: =IF(W11="","",IF(W11>159,"A",IF(W11>129,"B",IF(W11>99,"C",IF(W11>69,"D",IF(W11<70,"E",)))))) | AE11: =IF((AND(Y11="",Z11="",AA11="",AB11="",AC11="",AD11="")),"",SUM(Y11:AD11)) | AF11: =IF(AE11="","",IF(AE11>159,"A",IF(AE11>129,"B",IF(AE11>99,"C",IF(AE11>69,"D",IF(AE11<70,"E",)))))) | AG11: =A11 | AN11: =IF((AND(AH11="",AI11="",AJ11="",AK11="",AL11="",AM11="")),"",SUM(AH11:AM11)) | AO11: =IF(AN11="","",IF(AN11>159,"A",IF(AN11>129,"B",IF(AN11>99,"C",IF(AN11>69,"D",IF(AN11<70,"E",)))))) | AV11: =IF((AND(AP11="",AQ11="",AR11="",AS11="",AT11="",AU11="")),"",SUM(AP11:AU11)) | AW11: =IF(AV11="","",IF(AV11>159,"A",IF(AV11>129,"B",IF(AV11>99,"C",IF(AV11>69,"D",IF(AV11<70,"E",)))))) | AX11: =A11 | BE11: =IF((AND(AY11="",AZ11="",BA11="",BB11="",BC11="",BD11="")),"",SUM(AY11:BD11)) | BF11: =IF(BE11="","",IF(BE11>159,"A",IF(BE11>129,"B",IF(BE11>99,"C",IF(BE11>69,"D",IF(BE11<70,"E",)))))) | BM11: =IF((AND(BG11="",BH11="",BI11="",BJ11="",BK11="",BL11="")),"",SUM(BG11:BL11)) | BN11: =IF(BM11="","",IF(BM11>159,"A",IF(BM11>129,"B",IF(BM11>99,"C",IF(BM11>69,"D",IF(BM11<70,"E",)))))) | BO11: ='Patrak B'!AU14 | BP11: =IF(BO11="","",IF(BO11>319,"A",IF(BO11>259,"B",IF(BO11>199,"C",IF(BO11>139,"D",IF(BO11<140,"E",)))))) | BQ11: =IF(AND(N11="",W11="",AE11="",AN11="",AV11="",BE11="",BM11="",BO11=""),"",SUM(N11,W11,AE11,AN11,AV11,BE11,BM11,BO11)) | BR11: =IF(BQ11="","",IF(BQ11>1439,"A",IF(BQ11>1169,"B",IF(BQ11>899,"C",IF(BQ11>629,"D",IF(BQ11<630,"E",)))))) | BS11: =IF(OR(ISBLANK(BQ11), BQ11=0, BQ11=""), "", BQ11*100/$BQ$7)
A12: ='Student Data'!A11 | B12: =IF('Student Data'!B11="","",'Student Data'!B11) | C12: =IF('Student Data'!C11="","",'Student Data'!C11) | D12: =IF('Student Data'!D11="","",'Student Data'!D11) | E12: ='Student Data'!E11 -> M | F12: ='Student Data'!F11 -> ST | G12: =IF('Student Data'!G11="","",'Student Data'!G11) | N12: =IF((AND(H12="",I12="",J12="",K12="",L12="",M12="")),"",SUM(H12:M12)) | O12: =IF(N12="","",IF(N12>159,"A",IF(N12>129,"B",IF(N12>99,"C",IF(N12>69,"D",IF(N12<70,"E",)))))) | P12: =A12 | W12: =IF((AND(Q12="",R12="",S12="",T12="",U12="",V12="")),"",SUM(Q12:V12)) | X12: =IF(W12="","",IF(W12>159,"A",IF(W12>129,"B",IF(W12>99,"C",IF(W12>69,"D",IF(W12<70,"E",)))))) | AE12: =IF((AND(Y12="",Z12="",AA12="",AB12="",AC12="",AD12="")),"",SUM(Y12:AD12)) | AF12: =IF(AE12="","",IF(AE12>159,"A",IF(AE12>129,"B",IF(AE12>99,"C",IF(AE12>69,"D",IF(AE12<70,"E",)))))) | AG12: =A12 | AN12: =IF((AND(AH12="",AI12="",AJ12="",AK12="",AL12="",AM12="")),"",SUM(AH12:AM12)) | AO12: =IF(AN12="","",IF(AN12>159,"A",IF(AN12>129,"B",IF(AN12>99,"C",IF(AN12>69,"D",IF(AN12<70,"E",)))))) | AV12: =IF((AND(AP12="",AQ12="",AR12="",AS12="",AT12="",AU12="")),"",SUM(AP12:AU12)) | AW12: =IF(AV12="","",IF(AV12>159,"A",IF(AV12>129,"B",IF(AV12>99,"C",IF(AV12>69,"D",IF(AV12<70,"E",)))))) | AX12: =A12 | BE12: =IF((AND(AY12="",AZ12="",BA12="",BB12="",BC12="",BD12="")),"",SUM(AY12:BD12)) | BF12: =IF(BE12="","",IF(BE12>159,"A",IF(BE12>129,"B",IF(BE12>99,"C",IF(BE12>69,"D",IF(BE12<70,"E",)))))) | BM12: =IF((AND(BG12="",BH12="",BI12="",BJ12="",BK12="",BL12="")),"",SUM(BG12:BL12)) | BN12: =IF(BM12="","",IF(BM12>159,"A",IF(BM12>129,"B",IF(BM12>99,"C",IF(BM12>69,"D",IF(BM12<70,"E",)))))) | BO12: ='Patrak B'!AU16 | BP12: =IF(BO12="","",IF(BO12>319,"A",IF(BO12>259,"B",IF(BO12>199,"C",IF(BO12>139,"D",IF(BO12<140,"E",)))))) | BQ12: =IF(AND(N12="",W12="",AE12="",AN12="",AV12="",BE12="",BM12="",BO12=""),"",SUM(N12,W12,AE12,AN12,AV12,BE12,BM12,BO12)) | BR12: =IF(BQ12="","",IF(BQ12>1439,"A",IF(BQ12>1169,"B",IF(BQ12>899,"C",IF(BQ12>629,"D",IF(BQ12<630,"E",)))))) | BS12: =IF(OR(ISBLANK(BQ12), BQ12=0, BQ12=""), "", BQ12*100/$BQ$7)
A13: ='Student Data'!A12 | B13: =IF('Student Data'!B12="","",'Student Data'!B12) | C13: =IF('Student Data'!C12="","",'Student Data'!C12) | D13: =IF('Student Data'!D12="","",'Student Data'!D12) | E13: ='Student Data'!E12 -> M | F13: ='Student Data'!F12 -> SC | G13: =IF('Student Data'!G12="","",'Student Data'!G12) | N13: =IF((AND(H13="",I13="",J13="",K13="",L13="",M13="")),"",SUM(H13:M13)) | O13: =IF(N13="","",IF(N13>159,"A",IF(N13>129,"B",IF(N13>99,"C",IF(N13>69,"D",IF(N13<70,"E",)))))) | P13: =A13 | W13: =IF((AND(Q13="",R13="",S13="",T13="",U13="",V13="")),"",SUM(Q13:V13)) | X13: =IF(W13="","",IF(W13>159,"A",IF(W13>129,"B",IF(W13>99,"C",IF(W13>69,"D",IF(W13<70,"E",)))))) | AE13: =IF((AND(Y13="",Z13="",AA13="",AB13="",AC13="",AD13="")),"",SUM(Y13:AD13)) | AF13: =IF(AE13="","",IF(AE13>159,"A",IF(AE13>129,"B",IF(AE13>99,"C",IF(AE13>69,"D",IF(AE13<70,"E",)))))) | AG13: =A13 | AN13: =IF((AND(AH13="",AI13="",AJ13="",AK13="",AL13="",AM13="")),"",SUM(AH13:AM13)) | AO13: =IF(AN13="","",IF(AN13>159,"A",IF(AN13>129,"B",IF(AN13>99,"C",IF(AN13>69,"D",IF(AN13<70,"E",)))))) | AV13: =IF((AND(AP13="",AQ13="",AR13="",AS13="",AT13="",AU13="")),"",SUM(AP13:AU13)) | AW13: =IF(AV13="","",IF(AV13>159,"A",IF(AV13>129,"B",IF(AV13>99,"C",IF(AV13>69,"D",IF(AV13<70,"E",)))))) | AX13: =A13 | BE13: =IF((AND(AY13="",AZ13="",BA13="",BB13="",BC13="",BD13="")),"",SUM(AY13:BD13)) | BF13: =IF(BE13="","",IF(BE13>159,"A",IF(BE13>129,"B",IF(BE13>99,"C",IF(BE13>69,"D",IF(BE13<70,"E",)))))) | BM13: =IF((AND(BG13="",BH13="",BI13="",BJ13="",BK13="",BL13="")),"",SUM(BG13:BL13)) | BN13: =IF(BM13="","",IF(BM13>159,"A",IF(BM13>129,"B",IF(BM13>99,"C",IF(BM13>69,"D",IF(BM13<70,"E",)))))) | BO13: ='Patrak B'!AU18 | BP13: =IF(BO13="","",IF(BO13>319,"A",IF(BO13>259,"B",IF(BO13>199,"C",IF(BO13>139,"D",IF(BO13<140,"E",)))))) | BQ13: =IF(AND(N13="",W13="",AE13="",AN13="",AV13="",BE13="",BM13="",BO13=""),"",SUM(N13,W13,AE13,AN13,AV13,BE13,BM13,BO13)) | BR13: =IF(BQ13="","",IF(BQ13>1439,"A",IF(BQ13>1169,"B",IF(BQ13>899,"C",IF(BQ13>629,"D",IF(BQ13<630,"E",)))))) | BS13: =IF(OR(ISBLANK(BQ13), BQ13=0, BQ13=""), "", BQ13*100/$BQ$7)
A14: ='Student Data'!A13 | B14: =IF('Student Data'!B13="","",'Student Data'!B13) | C14: =IF('Student Data'!C13="","",'Student Data'!C13) | D14: =IF('Student Data'!D13="","",'Student Data'!D13) | E14: ='Student Data'!E13 -> M | F14: ='Student Data'!F13 -> OBC | G14: =IF('Student Data'!G13="","",'Student Data'!G13) | N14: =IF((AND(H14="",I14="",J14="",K14="",L14="",M14="")),"",SUM(H14:M14)) | O14: =IF(N14="","",IF(N14>159,"A",IF(N14>129,"B",IF(N14>99,"C",IF(N14>69,"D",IF(N14<70,"E",)))))) | P14: =A14 | W14: =IF((AND(Q14="",R14="",S14="",T14="",U14="",V14="")),"",SUM(Q14:V14)) | X14: =IF(W14="","",IF(W14>159,"A",IF(W14>129,"B",IF(W14>99,"C",IF(W14>69,"D",IF(W14<70,"E",)))))) | AE14: =IF((AND(Y14="",Z14="",AA14="",AB14="",AC14="",AD14="")),"",SUM(Y14:AD14)) | AF14: =IF(AE14="","",IF(AE14>159,"A",IF(AE14>129,"B",IF(AE14>99,"C",IF(AE14>69,"D",IF(AE14<70,"E",)))))) | AG14: =A14 | AN14: =IF((AND(AH14="",AI14="",AJ14="",AK14="",AL14="",AM14="")),"",SUM(AH14:AM14)) | AO14: =IF(AN14="","",IF(AN14>159,"A",IF(AN14>129,"B",IF(AN14>99,"C",IF(AN14>69,"D",IF(AN14<70,"E",)))))) | AV14: =IF((AND(AP14="",AQ14="",AR14="",AS14="",AT14="",AU14="")),"",SUM(AP14:AU14)) | AW14: =IF(AV14="","",IF(AV14>159,"A",IF(AV14>129,"B",IF(AV14>99,"C",IF(AV14>69,"D",IF(AV14<70,"E",)))))) | AX14: =A14 | BE14: =IF((AND(AY14="",AZ14="",BA14="",BB14="",BC14="",BD14="")),"",SUM(AY14:BD14)) | BF14: =IF(BE14="","",IF(BE14>159,"A",IF(BE14>129,"B",IF(BE14>99,"C",IF(BE14>69,"D",IF(BE14<70,"E",)))))) | BM14: =IF((AND(BG14="",BH14="",BI14="",BJ14="",BK14="",BL14="")),"",SUM(BG14:BL14)) | BN14: =IF(BM14="","",IF(BM14>159,"A",IF(BM14>129,"B",IF(BM14>99,"C",IF(BM14>69,"D",IF(BM14<70,"E",)))))) | BO14: ='Patrak B'!AU20 | BP14: =IF(BO14="","",IF(BO14>319,"A",IF(BO14>259,"B",IF(BO14>199,"C",IF(BO14>139,"D",IF(BO14<140,"E",)))))) | BQ14: =IF(AND(N14="",W14="",AE14="",AN14="",AV14="",BE14="",BM14="",BO14=""),"",SUM(N14,W14,AE14,AN14,AV14,BE14,BM14,BO14)) | BR14: =IF(BQ14="","",IF(BQ14>1439,"A",IF(BQ14>1169,"B",IF(BQ14>899,"C",IF(BQ14>629,"D",IF(BQ14<630,"E",)))))) | BS14: =IF(OR(ISBLANK(BQ14), BQ14=0, BQ14=""), "", BQ14*100/$BQ$7)
A15: ='Student Data'!A14 | B15: =IF('Student Data'!B14="","",'Student Data'!B14) | C15: =IF('Student Data'!C14="","",'Student Data'!C14) | D15: =IF('Student Data'!D14="","",'Student Data'!D14) | E15: ='Student Data'!E14 -> M | F15: ='Student Data'!F14 -> OTHER | G15: =IF('Student Data'!G14="","",'Student Data'!G14) | N15: =IF((AND(H15="",I15="",J15="",K15="",L15="",M15="")),"",SUM(H15:M15)) | O15: =IF(N15="","",IF(N15>159,"A",IF(N15>129,"B",IF(N15>99,"C",IF(N15>69,"D",IF(N15<70,"E",)))))) | P15: =A15 | W15: =IF((AND(Q15="",R15="",S15="",T15="",U15="",V15="")),"",SUM(Q15:V15)) | X15: =IF(W15="","",IF(W15>159,"A",IF(W15>129,"B",IF(W15>99,"C",IF(W15>69,"D",IF(W15<70,"E",)))))) | AE15: =IF((AND(Y15="",Z15="",AA15="",AB15="",AC15="",AD15="")),"",SUM(Y15:AD15)) | AF15: =IF(AE15="","",IF(AE15>159,"A",IF(AE15>129,"B",IF(AE15>99,"C",IF(AE15>69,"D",IF(AE15<70,"E",)))))) | AG15: =A15 | AN15: =IF((AND(AH15="",AI15="",AJ15="",AK15="",AL15="",AM15="")),"",SUM(AH15:AM15)) | AO15: =IF(AN15="","",IF(AN15>159,"A",IF(AN15>129,"B",IF(AN15>99,"C",IF(AN15>69,"D",IF(AN15<70,"E",)))))) | AV15: =IF((AND(AP15="",AQ15="",AR15="",AS15="",AT15="",AU15="")),"",SUM(AP15:AU15)) | AW15: =IF(AV15="","",IF(AV15>159,"A",IF(AV15>129,"B",IF(AV15>99,"C",IF(AV15>69,"D",IF(AV15<70,"E",)))))) | AX15: =A15 | BE15: =IF((AND(AY15="",AZ15="",BA15="",BB15="",BC15="",BD15="")),"",SUM(AY15:BD15)) | BF15: =IF(BE15="","",IF(BE15>159,"A",IF(BE15>129,"B",IF(BE15>99,"C",IF(BE15>69,"D",IF(BE15<70,"E",)))))) | BM15: =IF((AND(BG15="",BH15="",BI15="",BJ15="",BK15="",BL15="")),"",SUM(BG15:BL15)) | BN15: =IF(BM15="","",IF(BM15>159,"A",IF(BM15>129,"B",IF(BM15>99,"C",IF(BM15>69,"D",IF(BM15<70,"E",)))))) | BO15: ='Patrak B'!AU22 | BP15: =IF(BO15="","",IF(BO15>319,"A",IF(BO15>259,"B",IF(BO15>199,"C",IF(BO15>139,"D",IF(BO15<140,"E",)))))) | BQ15: =IF(AND(N15="",W15="",AE15="",AN15="",AV15="",BE15="",BM15="",BO15=""),"",SUM(N15,W15,AE15,AN15,AV15,BE15,BM15,BO15)) | BR15: =IF(BQ15="","",IF(BQ15>1439,"A",IF(BQ15>1169,"B",IF(BQ15>899,"C",IF(BQ15>629,"D",IF(BQ15<630,"E",)))))) | BS15: =IF(OR(ISBLANK(BQ15), BQ15=0, BQ15=""), "", BQ15*100/$BQ$7)
A16: ='Student Data'!A15 | B16: =IF('Student Data'!B15="","",'Student Data'!B15) | C16: =IF('Student Data'!C15="","",'Student Data'!C15) | D16: =IF('Student Data'!D15="","",'Student Data'!D15) | E16: ='Student Data'!E15 -> M | F16: ='Student Data'!F15 -> 0 | G16: =IF('Student Data'!G15="","",'Student Data'!G15) | N16: =IF((AND(H16="",I16="",J16="",K16="",L16="",M16="")),"",SUM(H16:M16)) | O16: =IF(N16="","",IF(N16>159,"A",IF(N16>129,"B",IF(N16>99,"C",IF(N16>69,"D",IF(N16<70,"E",)))))) | P16: =A16 | W16: =IF((AND(Q16="",R16="",S16="",T16="",U16="",V16="")),"",SUM(Q16:V16)) | X16: =IF(W16="","",IF(W16>159,"A",IF(W16>129,"B",IF(W16>99,"C",IF(W16>69,"D",IF(W16<70,"E",)))))) | AE16: =IF((AND(Y16="",Z16="",AA16="",AB16="",AC16="",AD16="")),"",SUM(Y16:AD16)) | AF16: =IF(AE16="","",IF(AE16>159,"A",IF(AE16>129,"B",IF(AE16>99,"C",IF(AE16>69,"D",IF(AE16<70,"E",)))))) | AG16: =A16 | AN16: =IF((AND(AH16="",AI16="",AJ16="",AK16="",AL16="",AM16="")),"",SUM(AH16:AM16)) | AO16: =IF(AN16="","",IF(AN16>159,"A",IF(AN16>129,"B",IF(AN16>99,"C",IF(AN16>69,"D",IF(AN16<70,"E",)))))) | AV16: =IF((AND(AP16="",AQ16="",AR16="",AS16="",AT16="",AU16="")),"",SUM(AP16:AU16)) | AW16: =IF(AV16="","",IF(AV16>159,"A",IF(AV16>129,"B",IF(AV16>99,"C",IF(AV16>69,"D",IF(AV16<70,"E",)))))) | AX16: =A16 | BE16: =IF((AND(AY16="",AZ16="",BA16="",BB16="",BC16="",BD16="")),"",SUM(AY16:BD16)) | BF16: =IF(BE16="","",IF(BE16>159,"A",IF(BE16>129,"B",IF(BE16>99,"C",IF(BE16>69,"D",IF(BE16<70,"E",)))))) | BM16: =IF((AND(BG16="",BH16="",BI16="",BJ16="",BK16="",BL16="")),"",SUM(BG16:BL16)) | BN16: =IF(BM16="","",IF(BM16>159,"A",IF(BM16>129,"B",IF(BM16>99,"C",IF(BM16>69,"D",IF(BM16<70,"E",)))))) | BO16: ='Patrak B'!AU24 | BP16: =IF(BO16="","",IF(BO16>319,"A",IF(BO16>259,"B",IF(BO16>199,"C",IF(BO16>139,"D",IF(BO16<140,"E",)))))) | BQ16: =IF(AND(N16="",W16="",AE16="",AN16="",AV16="",BE16="",BM16="",BO16=""),"",SUM(N16,W16,AE16,AN16,AV16,BE16,BM16,BO16)) | BR16: =IF(BQ16="","",IF(BQ16>1439,"A",IF(BQ16>1169,"B",IF(BQ16>899,"C",IF(BQ16>629,"D",IF(BQ16<630,"E",)))))) | BS16: =IF(OR(ISBLANK(BQ16), BQ16=0, BQ16=""), "", BQ16*100/$BQ$7)
A17: ='Student Data'!A16 | B17: =IF('Student Data'!B16="","",'Student Data'!B16) | C17: =IF('Student Data'!C16="","",'Student Data'!C16) | D17: =IF('Student Data'!D16="","",'Student Data'!D16) | E17: ='Student Data'!E16 -> M | F17: ='Student Data'!F16 -> 0 | G17: =IF('Student Data'!G16="","",'Student Data'!G16) | N17: =IF((AND(H17="",I17="",J17="",K17="",L17="",M17="")),"",SUM(H17:M17)) | O17: =IF(N17="","",IF(N17>159,"A",IF(N17>129,"B",IF(N17>99,"C",IF(N17>69,"D",IF(N17<70,"E",)))))) | P17: =A17 | W17: =IF((AND(Q17="",R17="",S17="",T17="",U17="",V17="")),"",SUM(Q17:V17)) | X17: =IF(W17="","",IF(W17>159,"A",IF(W17>129,"B",IF(W17>99,"C",IF(W17>69,"D",IF(W17<70,"E",)))))) | AE17: =IF((AND(Y17="",Z17="",AA17="",AB17="",AC17="",AD17="")),"",SUM(Y17:AD17)) | AF17: =IF(AE17="","",IF(AE17>159,"A",IF(AE17>129,"B",IF(AE17>99,"C",IF(AE17>69,"D",IF(AE17<70,"E",)))))) | AG17: =A17 | AN17: =IF((AND(AH17="",AI17="",AJ17="",AK17="",AL17="",AM17="")),"",SUM(AH17:AM17)) | AO17: =IF(AN17="","",IF(AN17>159,"A",IF(AN17>129,"B",IF(AN17>99,"C",IF(AN17>69,"D",IF(AN17<70,"E",)))))) | AV17: =IF((AND(AP17="",AQ17="",AR17="",AS17="",AT17="",AU17="")),"",SUM(AP17:AU17)) | AW17: =IF(AV17="","",IF(AV17>159,"A",IF(AV17>129,"B",IF(AV17>99,"C",IF(AV17>69,"D",IF(AV17<70,"E",)))))) | AX17: =A17 | BE17: =IF((AND(AY17="",AZ17="",BA17="",BB17="",BC17="",BD17="")),"",SUM(AY17:BD17)) | BF17: =IF(BE17="","",IF(BE17>159,"A",IF(BE17>129,"B",IF(BE17>99,"C",IF(BE17>69,"D",IF(BE17<70,"E",)))))) | BM17: =IF((AND(BG17="",BH17="",BI17="",BJ17="",BK17="",BL17="")),"",SUM(BG17:BL17)) | BN17: =IF(BM17="","",IF(BM17>159,"A",IF(BM17>129,"B",IF(BM17>99,"C",IF(BM17>69,"D",IF(BM17<70,"E",)))))) | BO17: ='Patrak B'!AU26 | BP17: =IF(BO17="","",IF(BO17>319,"A",IF(BO17>259,"B",IF(BO17>199,"C",IF(BO17>139,"D",IF(BO17<140,"E",)))))) | BQ17: =IF(AND(N17="",W17="",AE17="",AN17="",AV17="",BE17="",BM17="",BO17=""),"",SUM(N17,W17,AE17,AN17,AV17,BE17,BM17,BO17)) | BR17: =IF(BQ17="","",IF(BQ17>1439,"A",IF(BQ17>1169,"B",IF(BQ17>899,"C",IF(BQ17>629,"D",IF(BQ17<630,"E",)))))) | BS17: =IF(OR(ISBLANK(BQ17), BQ17=0, BQ17=""), "", BQ17*100/$BQ$7)
A18: ='Student Data'!A17 | B18: =IF('Student Data'!B17="","",'Student Data'!B17) | C18: =IF('Student Data'!C17="","",'Student Data'!C17) | D18: =IF('Student Data'!D17="","",'Student Data'!D17) | E18: ='Student Data'!E17 -> 0 | F18: ='Student Data'!F17 -> 0 | G18: =IF('Student Data'!G17="","",'Student Data'!G17) | N18: =IF((AND(H18="",I18="",J18="",K18="",L18="",M18="")),"",SUM(H18:M18)) | O18: =IF(N18="","",IF(N18>159,"A",IF(N18>129,"B",IF(N18>99,"C",IF(N18>69,"D",IF(N18<70,"E",)))))) | P18: =A18 | W18: =IF((AND(Q18="",R18="",S18="",T18="",U18="",V18="")),"",SUM(Q18:V18)) | X18: =IF(W18="","",IF(W18>159,"A",IF(W18>129,"B",IF(W18>99,"C",IF(W18>69,"D",IF(W18<70,"E",)))))) | AE18: =IF((AND(Y18="",Z18="",AA18="",AB18="",AC18="",AD18="")),"",SUM(Y18:AD18)) | AF18: =IF(AE18="","",IF(AE18>159,"A",IF(AE18>129,"B",IF(AE18>99,"C",IF(AE18>69,"D",IF(AE18<70,"E",)))))) | AG18: =A18 | AN18: =IF((AND(AH18="",AI18="",AJ18="",AK18="",AL18="",AM18="")),"",SUM(AH18:AM18)) | AO18: =IF(AN18="","",IF(AN18>159,"A",IF(AN18>129,"B",IF(AN18>99,"C",IF(AN18>69,"D",IF(AN18<70,"E",)))))) | AV18: =IF((AND(AP18="",AQ18="",AR18="",AS18="",AT18="",AU18="")),"",SUM(AP18:AU18)) | AW18: =IF(AV18="","",IF(AV18>159,"A",IF(AV18>129,"B",IF(AV18>99,"C",IF(AV18>69,"D",IF(AV18<70,"E",)))))) | AX18: =A18 | BE18: =IF((AND(AY18="",AZ18="",BA18="",BB18="",BC18="",BD18="")),"",SUM(AY18:BD18)) | BF18: =IF(BE18="","",IF(BE18>159,"A",IF(BE18>129,"B",IF(BE18>99,"C",IF(BE18>69,"D",IF(BE18<70,"E",)))))) | BM18: =IF((AND(BG18="",BH18="",BI18="",BJ18="",BK18="",BL18="")),"",SUM(BG18:BL18)) | BN18: =IF(BM18="","",IF(BM18>159,"A",IF(BM18>129,"B",IF(BM18>99,"C",IF(BM18>69,"D",IF(BM18<70,"E",)))))) | BO18: ='Patrak B'!AU28 | BP18: =IF(BO18="","",IF(BO18>319,"A",IF(BO18>259,"B",IF(BO18>199,"C",IF(BO18>139,"D",IF(BO18<140,"E",)))))) | BQ18: =IF(AND(N18="",W18="",AE18="",AN18="",AV18="",BE18="",BM18="",BO18=""),"",SUM(N18,W18,AE18,AN18,AV18,BE18,BM18,BO18)) | BR18: =IF(BQ18="","",IF(BQ18>1439,"A",IF(BQ18>1169,"B",IF(BQ18>899,"C",IF(BQ18>629,"D",IF(BQ18<630,"E",)))))) | BS18: =IF(OR(ISBLANK(BQ18), BQ18=0, BQ18=""), "", BQ18*100/$BQ$7)
A19: ='Student Data'!A18 | B19: =IF('Student Data'!B18="","",'Student Data'!B18) | C19: =IF('Student Data'!C18="","",'Student Data'!C18) | D19: =IF('Student Data'!D18="","",'Student Data'!D18) | E19: ='Student Data'!E18 -> 0 | F19: ='Student Data'!F18 -> 0 | G19: =IF('Student Data'!G18="","",'Student Data'!G18) | N19: =IF((AND(H19="",I19="",J19="",K19="",L19="",M19="")),"",SUM(H19:M19)) | O19: =IF(N19="","",IF(N19>159,"A",IF(N19>129,"B",IF(N19>99,"C",IF(N19>69,"D",IF(N19<70,"E",)))))) | P19: =A19 | W19: =IF((AND(Q19="",R19="",S19="",T19="",U19="",V19="")),"",SUM(Q19:V19)) | X19: =IF(W19="","",IF(W19>159,"A",IF(W19>129,"B",IF(W19>99,"C",IF(W19>69,"D",IF(W19<70,"E",)))))) | AE19: =IF((AND(Y19="",Z19="",AA19="",AB19="",AC19="",AD19="")),"",SUM(Y19:AD19)) | AF19: =IF(AE19="","",IF(AE19>159,"A",IF(AE19>129,"B",IF(AE19>99,"C",IF(AE19>69,"D",IF(AE19<70,"E",)))))) | AG19: =A19 | AN19: =IF((AND(AH19="",AI19="",AJ19="",AK19="",AL19="",AM19="")),"",SUM(AH19:AM19)) | AO19: =IF(AN19="","",IF(AN19>159,"A",IF(AN19>129,"B",IF(AN19>99,"C",IF(AN19>69,"D",IF(AN19<70,"E",)))))) | AV19: =IF((AND(AP19="",AQ19="",AR19="",AS19="",AT19="",AU19="")),"",SUM(AP19:AU19)) | AW19: =IF(AV19="","",IF(AV19>159,"A",IF(AV19>129,"B",IF(AV19>99,"C",IF(AV19>69,"D",IF(AV19<70,"E",)))))) | AX19: =A19 | BE19: =IF((AND(AY19="",AZ19="",BA19="",BB19="",BC19="",BD19="")),"",SUM(AY19:BD19)) | BF19: =IF(BE19="","",IF(BE19>159,"A",IF(BE19>129,"B",IF(BE19>99,"C",IF(BE19>69,"D",IF(BE19<70,"E",)))))) | BM19: =IF((AND(BG19="",BH19="",BI19="",BJ19="",BK19="",BL19="")),"",SUM(BG19:BL19)) | BN19: =IF(BM19="","",IF(BM19>159,"A",IF(BM19>129,"B",IF(BM19>99,"C",IF(BM19>69,"D",IF(BM19<70,"E",)))))) | BO19: ='Patrak B'!AU30 | BP19: =IF(BO19="","",IF(BO19>319,"A",IF(BO19>259,"B",IF(BO19>199,"C",IF(BO19>139,"D",IF(BO19<140,"E",)))))) | BQ19: =IF(AND(N19="",W19="",AE19="",AN19="",AV19="",BE19="",BM19="",BO19=""),"",SUM(N19,W19,AE19,AN19,AV19,BE19,BM19,BO19)) | BR19: =IF(BQ19="","",IF(BQ19>1439,"A",IF(BQ19>1169,"B",IF(BQ19>899,"C",IF(BQ19>629,"D",IF(BQ19<630,"E",)))))) | BS19: =IF(OR(ISBLANK(BQ19), BQ19=0, BQ19=""), "", BQ19*100/$BQ$7)
A20: ='Student Data'!A19 | B20: =IF('Student Data'!B19="","",'Student Data'!B19) | C20: =IF('Student Data'!C19="","",'Student Data'!C19) | D20: =IF('Student Data'!D19="","",'Student Data'!D19) | E20: ='Student Data'!E19 -> 0 | F20: ='Student Data'!F19 -> 0 | G20: =IF('Student Data'!G19="","",'Student Data'!G19) | N20: =IF((AND(H20="",I20="",J20="",K20="",L20="",M20="")),"",SUM(H20:M20)) | O20: =IF(N20="","",IF(N20>159,"A",IF(N20>129,"B",IF(N20>99,"C",IF(N20>69,"D",IF(N20<70,"E",)))))) | P20: =A20 | W20: =IF((AND(Q20="",R20="",S20="",T20="",U20="",V20="")),"",SUM(Q20:V20)) | X20: =IF(W20="","",IF(W20>159,"A",IF(W20>129,"B",IF(W20>99,"C",IF(W20>69,"D",IF(W20<70,"E",)))))) | AE20: =IF((AND(Y20="",Z20="",AA20="",AB20="",AC20="",AD20="")),"",SUM(Y20:AD20)) | AF20: =IF(AE20="","",IF(AE20>159,"A",IF(AE20>129,"B",IF(AE20>99,"C",IF(AE20>69,"D",IF(AE20<70,"E",)))))) | AG20: =A20 | AN20: =IF((AND(AH20="",AI20="",AJ20="",AK20="",AL20="",AM20="")),"",SUM(AH20:AM20)) | AO20: =IF(AN20="","",IF(AN20>159,"A",IF(AN20>129,"B",IF(AN20>99,"C",IF(AN20>69,"D",IF(AN20<70,"E",)))))) | AV20: =IF((AND(AP20="",AQ20="",AR20="",AS20="",AT20="",AU20="")),"",SUM(AP20:AU20)) | AW20: =IF(AV20="","",IF(AV20>159,"A",IF(AV20>129,"B",IF(AV20>99,"C",IF(AV20>69,"D",IF(AV20<70,"E",)))))) | AX20: =A20 | BE20: =IF((AND(AY20="",AZ20="",BA20="",BB20="",BC20="",BD20="")),"",SUM(AY20:BD20)) | BF20: =IF(BE20="","",IF(BE20>159,"A",IF(BE20>129,"B",IF(BE20>99,"C",IF(BE20>69,"D",IF(BE20<70,"E",)))))) | BM20: =IF((AND(BG20="",BH20="",BI20="",BJ20="",BK20="",BL20="")),"",SUM(BG20:BL20)) | BN20: =IF(BM20="","",IF(BM20>159,"A",IF(BM20>129,"B",IF(BM20>99,"C",IF(BM20>69,"D",IF(BM20<70,"E",)))))) | BO20: ='Patrak B'!AU32 | BP20: =IF(BO20="","",IF(BO20>319,"A",IF(BO20>259,"B",IF(BO20>199,"C",IF(BO20>139,"D",IF(BO20<140,"E",)))))) | BQ20: =IF(AND(N20="",W20="",AE20="",AN20="",AV20="",BE20="",BM20="",BO20=""),"",SUM(N20,W20,AE20,AN20,AV20,BE20,BM20,BO20)) | BR20: =IF(BQ20="","",IF(BQ20>1439,"A",IF(BQ20>1169,"B",IF(BQ20>899,"C",IF(BQ20>629,"D",IF(BQ20<630,"E",)))))) | BS20: =IF(OR(ISBLANK(BQ20), BQ20=0, BQ20=""), "", BQ20*100/$BQ$7)
A21: ='Student Data'!A20 | B21: =IF('Student Data'!B20="","",'Student Data'!B20) | C21: =IF('Student Data'!C20="","",'Student Data'!C20) | D21: =IF('Student Data'!D20="","",'Student Data'!D20) | E21: ='Student Data'!E20 -> 0 | F21: ='Student Data'!F20 -> 0 | G21: =IF('Student Data'!G20="","",'Student Data'!G20) | N21: =IF((AND(H21="",I21="",J21="",K21="",L21="",M21="")),"",SUM(H21:M21)) | O21: =IF(N21="","",IF(N21>159,"A",IF(N21>129,"B",IF(N21>99,"C",IF(N21>69,"D",IF(N21<70,"E",)))))) | P21: =A21 | W21: =IF((AND(Q21="",R21="",S21="",T21="",U21="",V21="")),"",SUM(Q21:V21)) | X21: =IF(W21="","",IF(W21>159,"A",IF(W21>129,"B",IF(W21>99,"C",IF(W21>69,"D",IF(W21<70,"E",)))))) | AE21: =IF((AND(Y21="",Z21="",AA21="",AB21="",AC21="",AD21="")),"",SUM(Y21:AD21)) | AF21: =IF(AE21="","",IF(AE21>159,"A",IF(AE21>129,"B",IF(AE21>99,"C",IF(AE21>69,"D",IF(AE21<70,"E",)))))) | AG21: =A21 | AN21: =IF((AND(AH21="",AI21="",AJ21="",AK21="",AL21="",AM21="")),"",SUM(AH21:AM21)) | AO21: =IF(AN21="","",IF(AN21>159,"A",IF(AN21>129,"B",IF(AN21>99,"C",IF(AN21>69,"D",IF(AN21<70,"E",)))))) | AV21: =IF((AND(AP21="",AQ21="",AR21="",AS21="",AT21="",AU21="")),"",SUM(AP21:AU21)) | AW21: =IF(AV21="","",IF(AV21>159,"A",IF(AV21>129,"B",IF(AV21>99,"C",IF(AV21>69,"D",IF(AV21<70,"E",)))))) | AX21: =A21 | BE21: =IF((AND(AY21="",AZ21="",BA21="",BB21="",BC21="",BD21="")),"",SUM(AY21:BD21)) | BF21: =IF(BE21="","",IF(BE21>159,"A",IF(BE21>129,"B",IF(BE21>99,"C",IF(BE21>69,"D",IF(BE21<70,"E",)))))) | BM21: =IF((AND(BG21="",BH21="",BI21="",BJ21="",BK21="",BL21="")),"",SUM(BG21:BL21)) | BN21: =IF(BM21="","",IF(BM21>159,"A",IF(BM21>129,"B",IF(BM21>99,"C",IF(BM21>69,"D",IF(BM21<70,"E",)))))) | BO21: ='Patrak B'!AU34 | BP21: =IF(BO21="","",IF(BO21>319,"A",IF(BO21>259,"B",IF(BO21>199,"C",IF(BO21>139,"D",IF(BO21<140,"E",)))))) | BQ21: =IF(AND(N21="",W21="",AE21="",AN21="",AV21="",BE21="",BM21="",BO21=""),"",SUM(N21,W21,AE21,AN21,AV21,BE21,BM21,BO21)) | BR21: =IF(BQ21="","",IF(BQ21>1439,"A",IF(BQ21>1169,"B",IF(BQ21>899,"C",IF(BQ21>629,"D",IF(BQ21<630,"E",)))))) | BS21: =IF(OR(ISBLANK(BQ21), BQ21=0, BQ21=""), "", BQ21*100/$BQ$7)
A22: ='Student Data'!A21 | B22: =IF('Student Data'!B21="","",'Student Data'!B21) | C22: =IF('Student Data'!C21="","",'Student Data'!C21) | D22: =IF('Student Data'!D21="","",'Student Data'!D21) | E22: ='Student Data'!E21 -> 0 | F22: ='Student Data'!F21 -> 0 | G22: =IF('Student Data'!G21="","",'Student Data'!G21) | N22: =IF((AND(H22="",I22="",J22="",K22="",L22="",M22="")),"",SUM(H22:M22)) | O22: =IF(N22="","",IF(N22>159,"A",IF(N22>129,"B",IF(N22>99,"C",IF(N22>69,"D",IF(N22<70,"E",)))))) | P22: =A22 | W22: =IF((AND(Q22="",R22="",S22="",T22="",U22="",V22="")),"",SUM(Q22:V22)) | X22: =IF(W22="","",IF(W22>159,"A",IF(W22>129,"B",IF(W22>99,"C",IF(W22>69,"D",IF(W22<70,"E",)))))) | AE22: =IF((AND(Y22="",Z22="",AA22="",AB22="",AC22="",AD22="")),"",SUM(Y22:AD22)) | AF22: =IF(AE22="","",IF(AE22>159,"A",IF(AE22>129,"B",IF(AE22>99,"C",IF(AE22>69,"D",IF(AE22<70,"E",)))))) | AG22: =A22 | AN22: =IF((AND(AH22="",AI22="",AJ22="",AK22="",AL22="",AM22="")),"",SUM(AH22:AM22)) | AO22: =IF(AN22="","",IF(AN22>159,"A",IF(AN22>129,"B",IF(AN22>99,"C",IF(AN22>69,"D",IF(AN22<70,"E",)))))) | AV22: =IF((AND(AP22="",AQ22="",AR22="",AS22="",AT22="",AU22="")),"",SUM(AP22:AU22)) | AW22: =IF(AV22="","",IF(AV22>159,"A",IF(AV22>129,"B",IF(AV22>99,"C",IF(AV22>69,"D",IF(AV22<70,"E",)))))) | AX22: =A22 | BE22: =IF((AND(AY22="",AZ22="",BA22="",BB22="",BC22="",BD22="")),"",SUM(AY22:BD22)) | BF22: =IF(BE22="","",IF(BE22>159,"A",IF(BE22>129,"B",IF(BE22>99,"C",IF(BE22>69,"D",IF(BE22<70,"E",)))))) | BM22: =IF((AND(BG22="",BH22="",BI22="",BJ22="",BK22="",BL22="")),"",SUM(BG22:BL22)) | BN22: =IF(BM22="","",IF(BM22>159,"A",IF(BM22>129,"B",IF(BM22>99,"C",IF(BM22>69,"D",IF(BM22<70,"E",)))))) | BO22: ='Patrak B'!AU36 | BP22: =IF(BO22="","",IF(BO22>319,"A",IF(BO22>259,"B",IF(BO22>199,"C",IF(BO22>139,"D",IF(BO22<140,"E",)))))) | BQ22: =IF(AND(N22="",W22="",AE22="",AN22="",AV22="",BE22="",BM22="",BO22=""),"",SUM(N22,W22,AE22,AN22,AV22,BE22,BM22,BO22)) | BR22: =IF(BQ22="","",IF(BQ22>1439,"A",IF(BQ22>1169,"B",IF(BQ22>899,"C",IF(BQ22>629,"D",IF(BQ22<630,"E",)))))) | BS22: =IF(OR(ISBLANK(BQ22), BQ22=0, BQ22=""), "", BQ22*100/$BQ$7)
A23: ='Student Data'!A22 | B23: =IF('Student Data'!B22="","",'Student Data'!B22) | C23: =IF('Student Data'!C22="","",'Student Data'!C22) | D23: =IF('Student Data'!D22="","",'Student Data'!D22) | E23: ='Student Data'!E22 -> 0 | F23: ='Student Data'!F22 -> 0 | G23: =IF('Student Data'!G22="","",'Student Data'!G22) | N23: =IF((AND(H23="",I23="",J23="",K23="",L23="",M23="")),"",SUM(H23:M23)) | O23: =IF(N23="","",IF(N23>159,"A",IF(N23>129,"B",IF(N23>99,"C",IF(N23>69,"D",IF(N23<70,"E",)))))) | P23: =A23 | W23: =IF((AND(Q23="",R23="",S23="",T23="",U23="",V23="")),"",SUM(Q23:V23)) | X23: =IF(W23="","",IF(W23>159,"A",IF(W23>129,"B",IF(W23>99,"C",IF(W23>69,"D",IF(W23<70,"E",)))))) | AE23: =IF((AND(Y23="",Z23="",AA23="",AB23="",AC23="",AD23="")),"",SUM(Y23:AD23)) | AF23: =IF(AE23="","",IF(AE23>159,"A",IF(AE23>129,"B",IF(AE23>99,"C",IF(AE23>69,"D",IF(AE23<70,"E",)))))) | AG23: =A23 | AN23: =IF((AND(AH23="",AI23="",AJ23="",AK23="",AL23="",AM23="")),"",SUM(AH23:AM23)) | AO23: =IF(AN23="","",IF(AN23>159,"A",IF(AN23>129,"B",IF(AN23>99,"C",IF(AN23>69,"D",IF(AN23<70,"E",)))))) | AV23: =IF((AND(AP23="",AQ23="",AR23="",AS23="",AT23="",AU23="")),"",SUM(AP23:AU23)) | AW23: =IF(AV23="","",IF(AV23>159,"A",IF(AV23>129,"B",IF(AV23>99,"C",IF(AV23>69,"D",IF(AV23<70,"E",)))))) | AX23: =A23 | BE23: =IF((AND(AY23="",AZ23="",BA23="",BB23="",BC23="",BD23="")),"",SUM(AY23:BD23)) | BF23: =IF(BE23="","",IF(BE23>159,"A",IF(BE23>129,"B",IF(BE23>99,"C",IF(BE23>69,"D",IF(BE23<70,"E",)))))) | BM23: =IF((AND(BG23="",BH23="",BI23="",BJ23="",BK23="",BL23="")),"",SUM(BG23:BL23)) | BN23: =IF(BM23="","",IF(BM23>159,"A",IF(BM23>129,"B",IF(BM23>99,"C",IF(BM23>69,"D",IF(BM23<70,"E",)))))) | BO23: ='Patrak B'!AU38 | BP23: =IF(BO23="","",IF(BO23>319,"A",IF(BO23>259,"B",IF(BO23>199,"C",IF(BO23>139,"D",IF(BO23<140,"E",)))))) | BQ23: =IF(AND(N23="",W23="",AE23="",AN23="",AV23="",BE23="",BM23="",BO23=""),"",SUM(N23,W23,AE23,AN23,AV23,BE23,BM23,BO23)) | BR23: =IF(BQ23="","",IF(BQ23>1439,"A",IF(BQ23>1169,"B",IF(BQ23>899,"C",IF(BQ23>629,"D",IF(BQ23<630,"E",)))))) | BS23: =IF(OR(ISBLANK(BQ23), BQ23=0, BQ23=""), "", BQ23*100/$BQ$7)
A24: ='Student Data'!A23 | B24: =IF('Student Data'!B23="","",'Student Data'!B23) | C24: =IF('Student Data'!C23="","",'Student Data'!C23) | D24: =IF('Student Data'!D23="","",'Student Data'!D23) | E24: ='Student Data'!E23 -> 0 | F24: ='Student Data'!F23 -> 0 | G24: =IF('Student Data'!G23="","",'Student Data'!G23) | N24: =IF((AND(H24="",I24="",J24="",K24="",L24="",M24="")),"",SUM(H24:M24)) | O24: =IF(N24="","",IF(N24>159,"A",IF(N24>129,"B",IF(N24>99,"C",IF(N24>69,"D",IF(N24<70,"E",)))))) | P24: =A24 | W24: =IF((AND(Q24="",R24="",S24="",T24="",U24="",V24="")),"",SUM(Q24:V24)) | X24: =IF(W24="","",IF(W24>159,"A",IF(W24>129,"B",IF(W24>99,"C",IF(W24>69,"D",IF(W24<70,"E",)))))) | AE24: =IF((AND(Y24="",Z24="",AA24="",AB24="",AC24="",AD24="")),"",SUM(Y24:AD24)) | AF24: =IF(AE24="","",IF(AE24>159,"A",IF(AE24>129,"B",IF(AE24>99,"C",IF(AE24>69,"D",IF(AE24<70,"E",)))))) | AG24: =A24 | AN24: =IF((AND(AH24="",AI24="",AJ24="",AK24="",AL24="",AM24="")),"",SUM(AH24:AM24)) | AO24: =IF(AN24="","",IF(AN24>159,"A",IF(AN24>129,"B",IF(AN24>99,"C",IF(AN24>69,"D",IF(AN24<70,"E",)))))) | AV24: =IF((AND(AP24="",AQ24="",AR24="",AS24="",AT24="",AU24="")),"",SUM(AP24:AU24)) | AW24: =IF(AV24="","",IF(AV24>159,"A",IF(AV24>129,"B",IF(AV24>99,"C",IF(AV24>69,"D",IF(AV24<70,"E",)))))) | AX24: =A24 | BE24: =IF((AND(AY24="",AZ24="",BA24="",BB24="",BC24="",BD24="")),"",SUM(AY24:BD24)) | BF24: =IF(BE24="","",IF(BE24>159,"A",IF(BE24>129,"B",IF(BE24>99,"C",IF(BE24>69,"D",IF(BE24<70,"E",)))))) | BM24: =IF((AND(BG24="",BH24="",BI24="",BJ24="",BK24="",BL24="")),"",SUM(BG24:BL24)) | BN24: =IF(BM24="","",IF(BM24>159,"A",IF(BM24>129,"B",IF(BM24>99,"C",IF(BM24>69,"D",IF(BM24<70,"E",)))))) | BO24: ='Patrak B'!AU40 | BP24: =IF(BO24="","",IF(BO24>319,"A",IF(BO24>259,"B",IF(BO24>199,"C",IF(BO24>139,"D",IF(BO24<140,"E",)))))) | BQ24: =IF(AND(N24="",W24="",AE24="",AN24="",AV24="",BE24="",BM24="",BO24=""),"",SUM(N24,W24,AE24,AN24,AV24,BE24,BM24,BO24)) | BR24: =IF(BQ24="","",IF(BQ24>1439,"A",IF(BQ24>1169,"B",IF(BQ24>899,"C",IF(BQ24>629,"D",IF(BQ24<630,"E",)))))) | BS24: =IF(OR(ISBLANK(BQ24), BQ24=0, BQ24=""), "", BQ24*100/$BQ$7)
A25: ='Student Data'!A24 | B25: =IF('Student Data'!B24="","",'Student Data'!B24) | C25: =IF('Student Data'!C24="","",'Student Data'!C24) | D25: =IF('Student Data'!D24="","",'Student Data'!D24) | E25: ='Student Data'!E24 -> 0 | F25: ='Student Data'!F24 -> 0 | G25: =IF('Student Data'!G24="","",'Student Data'!G24) | N25: =IF((AND(H25="",I25="",J25="",K25="",L25="",M25="")),"",SUM(H25:M25)) | O25: =IF(N25="","",IF(N25>159,"A",IF(N25>129,"B",IF(N25>99,"C",IF(N25>69,"D",IF(N25<70,"E",)))))) | P25: =A25 | W25: =IF((AND(Q25="",R25="",S25="",T25="",U25="",V25="")),"",SUM(Q25:V25)) | X25: =IF(W25="","",IF(W25>159,"A",IF(W25>129,"B",IF(W25>99,"C",IF(W25>69,"D",IF(W25<70,"E",)))))) | AE25: =IF((AND(Y25="",Z25="",AA25="",AB25="",AC25="",AD25="")),"",SUM(Y25:AD25)) | AF25: =IF(AE25="","",IF(AE25>159,"A",IF(AE25>129,"B",IF(AE25>99,"C",IF(AE25>69,"D",IF(AE25<70,"E",)))))) | AG25: =A25 | AN25: =IF((AND(AH25="",AI25="",AJ25="",AK25="",AL25="",AM25="")),"",SUM(AH25:AM25)) | AO25: =IF(AN25="","",IF(AN25>159,"A",IF(AN25>129,"B",IF(AN25>99,"C",IF(AN25>69,"D",IF(AN25<70,"E",)))))) | AV25: =IF((AND(AP25="",AQ25="",AR25="",AS25="",AT25="",AU25="")),"",SUM(AP25:AU25)) | AW25: =IF(AV25="","",IF(AV25>159,"A",IF(AV25>129,"B",IF(AV25>99,"C",IF(AV25>69,"D",IF(AV25<70,"E",)))))) | AX25: =A25 | BE25: =IF((AND(AY25="",AZ25="",BA25="",BB25="",BC25="",BD25="")),"",SUM(AY25:BD25)) | BF25: =IF(BE25="","",IF(BE25>159,"A",IF(BE25>129,"B",IF(BE25>99,"C",IF(BE25>69,"D",IF(BE25<70,"E",)))))) | BM25: =IF((AND(BG25="",BH25="",BI25="",BJ25="",BK25="",BL25="")),"",SUM(BG25:BL25)) | BN25: =IF(BM25="","",IF(BM25>159,"A",IF(BM25>129,"B",IF(BM25>99,"C",IF(BM25>69,"D",IF(BM25<70,"E",)))))) | BO25: ='Patrak B'!AU42 | BP25: =IF(BO25="","",IF(BO25>319,"A",IF(BO25>259,"B",IF(BO25>199,"C",IF(BO25>139,"D",IF(BO25<140,"E",)))))) | BQ25: =IF(AND(N25="",W25="",AE25="",AN25="",AV25="",BE25="",BM25="",BO25=""),"",SUM(N25,W25,AE25,AN25,AV25,BE25,BM25,BO25)) | BR25: =IF(BQ25="","",IF(BQ25>1439,"A",IF(BQ25>1169,"B",IF(BQ25>899,"C",IF(BQ25>629,"D",IF(BQ25<630,"E",)))))) | BS25: =IF(OR(ISBLANK(BQ25), BQ25=0, BQ25=""), "", BQ25*100/$BQ$7)
