Workbook
Name CAST: [1]Sheet1!$E$2:$E$5
Name gender: [1]Sheet1!$D$2:$D$3

Sheet School Data
A2: પરિણામ પત્રક ધોરણ - 3 માટે
A4: Created by : - | B4: Hitesh Ahjoliya
A6: For Download Visit - | B6: www.hiteshahjoliya.blogspot.com
A8: અન્ય ઉપયોગી શૈક્ષણિક મટીરીયલ માટે Visit -- | C8: www.hiteshahjoliya.blogspot.com
A9: → પરિણામપત્રક બનાવતા પહેલા નીચેની સૂચના વાંચો :
A10: ● સૌ પ્રથમ School Data અને Student Data માં જરુરી તમામ માહિતી ભરો. Shruti ફોન્ટનો ઉપયોગ કરવો.
A11: ● Patrak B માં સત્ર મુજબ મેળવેલ ગુણ લખવા. જે Patrak C માં લખાઈ જશે.
A12: ● Patrak C માં સત્ર મુજબ પ્રથમ સત્રનાં 40 + 40 + 20 અને બીજા સત્રનાં 40 + 40 + 20 માંથી મેળવેલ ગુણ મેન્યુઅલી લખવા.
A13: ● નિષ્પતિઓ સાથેના પત્રક - A www.hiteshahjoliya.blogspot.com માં જઈ ડાઉનલોડ કરી શકશો.
A14: ● માત્ર પ્રથમ સત્રનું પરિણામ પત્રક બનાવવા માટે Sem 1 Patrak C અને Sem 1Heading ની પ્રિન્ટ લેવી તે માટે પ્રથમ Patrak C માં પ્રથમ સત્રનાં 40 + 40 + 20 માંથી મેળવેલ ગુણ લખવા.
A15: → Patrak C ની પ્રિન્ટ કાઢવાની રીત :- સૌ પ્રથમ Heading ની પ્રિન્ટ વર્ગની સંખ્યા મુજબ કાઢવી. ત્યારબાદ તેની બેકસાઈડ Patrak C માં જઈ વિદ્યાર્થીઓની સંખ્યા મુજબ પેજ જોઈ પ્રિન્ટ કાઢવી.
A16: ● Marksheet ની પ્રિન્ટ કાઢવાની રીત :- સૌ પ્રથમ Front Page શીટમાં જે વિદ્યાર્થીની માર્કશીટની પ્રિન્ટ કાઢવી હોય તેનો નંબર ( માત્ર એકી અંક) લખો અને પ્રિન્ટ કરો. ત્યારબાદ તેને ઉલટાવી પાછળનાં ભાગની પ્રિન્ટ કાઢવા Back Side માં જઈ તે નંબર લખી તેની પ્રિન્ટ કાઢવી. એક સાથે બે વિદ્યાર્થીની માર્કશીટ પ્રિન્ટ થશે.
A17: ● માર્કશીટની પ્રિન્ટ Legal Page અથવા A4 Size એમ બન્ને રીતે કાઢી શકાશે. જેના માટે અલગ અલગ શીટ છે. એક સાથે બે વિદ્યાર્થીની માર્કશીટ પ્રિન્ટ થશે.
A18: ● Student Data નાં છેલ્લા કોલમમાં વિદ્યાર્થીને આપવાની સૂચના લખી શકાશે જે તેની માર્કશીટમાં પ્રિન્ટ થશે.
A20: શાળાની માહિતી
A21: શિક્ષણ સમિતિનું નામ- | B21: જિલ્લા પંચાયત શિક્ષણ સમિતિ, અમદાવાદ
A22: શાળાનું નામ- | B22: ચાંગોદર પે સે શાળા
A23: ધોરણ- | B23: 3
A24: વર્ગ- | B24: -
A25: વર્ષ- | B25: 2025-26
A26: ગામ- | B26: ચાંગોદર
A27: તાલુકો- | B27: સાણંદ
A28: જિલ્લો- | B28: અમદાવાદ
A29: પે સેન્ટર- | B29: ચાંગોદર
A30: પરિણામની તારીખ- | B30: -
A31: વર્ગ શિક્ષકનું નામ- | B31: હિતેશભાઇ પી આહજોલિયા
A32: સી.આર.સી / ક્લસ્ટર - | B32: ચાંગોદર
A50: s
B55: Create By Hitesh Ahjoliya

Sheet Student Data
B1: Created by - Hitesh Ahjoliya
B2: ધોરણ- | C2: ='School Data'!B23 -> 3 | D2: વિધાર્થીની વિગત
A3: ક્રમ નંબર લખવા નહિ. નામ લખશો એટલે તે લખાઈ જશે.
A5: ક્રમ | B5: વિધાર્થીનું નામ | C5: જી.આર.નંબર | D5: જન્મ તા. | E5: જાતિ M/F | F5: જ્ઞાતિ | G5: હાજર દિવસ | H5: પિતાનું નામ | I5: માતાનું નામ | J5: સરનામું | K5: મોબાઈલ નંબર | L5: આધારડાયસ નંબર | M5: આધારકાર્ડ નંબર | N5: બેંક એકાઉન્ટ નંબર | O5: Bank Name | P5: Bank IFSC Code | Q5: Bank Branch Name | R5: વિદ્યાર્થીને આપવાની સૂચના
A6: =IF(B6="","",1) -> 1 | B6: રાજ ભીખાભાઈ સોલંકી | C6: 1234 | D6: 38454 | E6: M | F6: OBC | G6: 220 | H6: ભીખાભાઈ સોલંકી | I6: રમીલાબેન | J6: મું.ચાંગોદર, તા- સાણંદ, જિ- અમદાવાદ. | K6: 9426402420 | L6: 240704010011510015 | M6: 1111 2222 3333 | N6: 111111111111111 | O6: State Bank Of India | P6: SBIN0004564 | Q6: CHAANGODAR | R6: ખૂબ સરસ, અભિનંદન સૂચના :- શાળાનું નવુ સત્ર તા- / /20 ને વારે શરૂ થશે.
A7: =IF(B7="","",A6+1) -> 2 | B7: કરણ મહેશભાઈ વાઘેલા | C7: 1234 | D7: 38454 | E7: M | F7: OBC | G7: 220 | H7: ભીખાભાઈ સોલંકી | I7: રમીલાબેન | J7: મું.ચાંગોદર, તા- સાણંદ, જિ- અમદાવાદ. | K7: 9426402420 | L7: 240704010011510015 | M7: 1111 2222 3333 | N7: 111111111111111 | O7: State Bank Of India | P7: SBIN0004564 | Q7: CHAANGODAR
A8: =IF(B8="","",A7+1)
A9: =IF(B9="","",A8+1)
A10: =IF(B10="","",A9+1)
A11: =IF(B11="","",A10+1)
A12: =IF(B12="","",A11+1)
A13: =IF(B13="","",A12+1)
A14: =IF(B14="","",A13+1)
A15: =IF(B15="","",A14+1)
A16: =IF(B16="","",A15+1)
A17: =IF(B17="","",A16+1)
A18: =IF(B18="","",A17+1)
A19: =IF(B19="","",A18+1)
... A70: =IF(B70="","",A69+1)
E73: M | F73: SC
E74: F | F74: ST
F75: OBC
F76: OTHER

Sheet Heading
C4: ='School Data'!B21 -> જિલ્લા પંચાયત શિક્ષણ સમિતિ, અમદાવાદ
C6: શાળાકીય સર્વગ્રાહી મૂલ્યાંકન
I8: ધોરણ :- | L8: ='School Data'!B23 -> 3 | M8: ='School Data'!B24 -> -
I10: વર્ષ :- | K10: ='School Data'!B25 -> 2025-26
C12: શાળાનું નામ | E12: :- | F12: ='School Data'!B22 -> ચાંગોદર પે સે શાળા
C13: ગામ | E13: :- | F13: ='School Data'!B26 -> ચાંગોદર
C14: તાલુકો | E14: :- | F14: ='School Data'!B27 -> સાણંદ
C15: જિલ્લો | E15: :- | F15: ='School Data'!B28 -> અમદાવાદ
C16: પે સેન્ટર | E16: :- | F16: ='School Data'!B29 -> ચાંગોદર
C17: પરિણામ તારીખ | E17: :- | F17: ='School Data'!B30 -> -
C18: વર્ગશિક્ષકનું નામ | E18: :- | F18: ='School Data'!B31 -> હિતેશભાઇ પી આહજોલિયા
C19: સી. આર. સી. | E19: :- | F19: ='School Data'!B32 -> ચાંગોદર
C21: જાતિ | D21: રજિ . | G21: મેળવેલ એકદરે ગ્રેડ | V21: નોધ
D22: સંખ્યા | G22: A | J22: B | M22: C | P22: D | S22: E
D23: કુમાર | E23: કન્યા | F23: કુલ | G23: કુમાર | H23: કન્યા | I23: કુલ | J23: કુમાર | K23: કન્યા | L23: કુલ | M23: કુમાર | N23: કન્યા | O23: કુલ | P23: કુમાર | Q23: કન્યા | R23: કુલ | S23: કુમાર | T23: કન્યા | U23: કુલ
C24: અનુ. જાતિ | D24: =G24+J24+M24+P24+S24 -> 0 | E24: =H24+K24+N24+Q24+T24 -> 0 | F24: =SUM(D24:E24) -> 0 | G24: =COUNTIFS('Patrak C'!$E$9:$E$73,"=M",'Patrak C'!$F$9:$F$73,"=SC",'Patrak C'!$AS$9:$AS$73,"=A") -> 0 | H24: =COUNTIFS('Patrak C'!$E$9:$E$73,"=F",'Patrak C'!$F$9:$F$73,"=SC",'Patrak C'!$AS$9:$AS$73,"=A") -> 0 | I24: =SUM(G24:H24) -> 0 | J24: =COUNTIFS('Patrak C'!$E$9:$E$73,"=M",'Patrak C'!$F$9:$F$73,"=SC",'Patrak C'!$AS$9:$AS$73,"=B") -> 0 | K24: =COUNTIFS('Patrak C'!$E$9:$E$73,"=F",'Patrak C'!$F$9:$F$73,"=SC",'Patrak C'!$AS$9:$AS$73,"=B") -> 0 | L24: =SUM(J24:K24) -> 0 | M24: =COUNTIFS('Patrak C'!$E$9:$E$73,"=M",'Patrak C'!$F$9:$F$73,"=SC",'Patrak C'!$AS$9:$AS$73,"=C") -> 0 | N24: =COUNTIFS('Patrak C'!$E$9:$E$73,"=F",'Patrak C'!$F$9:$F$73,"=SC",'Patrak C'!$AS$9:$AS$73,"=C") -> 0 | O24: =SUM(M24:N24) -> 0 | P24: =COUNTIFS('Patrak C'!$E$9:$E$73,"=M",'Patrak C'!$F$9:$F$73,"=SC",'Patrak C'!$AS$9:$AS$73,"=D") -> 0 | Q24: =COUNTIFS('Patrak C'!$E$9:$E$73,"=F",'Patrak C'!$F$9:$F$73,"=SC",'Patrak C'!$AS$9:$AS$73,"=D") -> 0 | R24: =SUM(P24:Q24) -> 0 | S24: =COUNTIFS('Patrak C'!$E$9:$E$73,"=M",'Patrak C'!$F$9:$F$73,"=SC",'Patrak C'!$AS$9:$AS$73,"=E") -> 0 | T24: =COUNTIFS('Patrak C'!$E$9:$E$73,"=F",'Patrak C'!$F$9:$F$73,"=SC",'Patrak C'!$AS$9:$AS$73,"=E") -> 0 | U24: =SUM(S24:T24) -> 0
C25: અનુ. જનજાતિ | D25: =G25+J25+M25+P25+S25 -> 0 | E25: =H25+K25+N25+Q25+T25 -> 0 | F25: =SUM(D25:E25) -> 0 | G25: =COUNTIFS('Patrak C'!$E$9:$E$73,"=M",'Patrak C'!$F$9:$F$73,"=ST",'Patrak C'!$AS$9:$AS$73,"=A") -> 0 | H25: =COUNTIFS('Patrak C'!$E$9:$E$73,"=F",'Patrak C'!$F$9:$F$73,"=ST",'Patrak C'!$AS$9:$AS$73,"=A") -> 0 | I25: =SUM(G25:H25) -> 0 | J25: =COUNTIFS('Patrak C'!$E$9:$E$73,"=M",'Patrak C'!$F$9:$F$73,"=ST",'Patrak C'!$AS$9:$AS$73,"=B") -> 0 | K25: =COUNTIFS('Patrak C'!$E$9:$E$73,"=F",'Patrak C'!$F$9:$F$73,"=ST",'Patrak C'!$AS$9:$AS$73,"=B") -> 0 | L25: =SUM(J25:K25) -> 0 | M25: =COUNTIFS('Patrak C'!$E$9:$E$73,"=M",'Patrak C'!$F$9:$F$73,"=ST",'Patrak C'!$AS$9:$AS$73,"=C") -> 0 | N25: =COUNTIFS('Patrak C'!$E$9:$E$73,"=F",'Patrak C'!$F$9:$F$73,"=ST",'Patrak C'!$AS$9:$AS$73,"=C") -> 0 | O25: =SUM(M25:N25) -> 0 | P25: =COUNTIFS('Patrak C'!$E$9:$E$73,"=M",'Patrak C'!$F$9:$F$73,"=ST",'Patrak C'!$AS$9:$AS$73,"=D") -> 0 | Q25: =COUNTIFS('Patrak C'!$E$9:$E$73,"=F",'Patrak C'!$F$9:$F$73,"=ST",'Patrak C'!$AS$9:$AS$73,"=D") -> 0 | R25: =SUM(P25:Q25) -> 0 | S25: =COUNTIFS('Patrak C'!$E$9:$E$73,"=M",'Patrak C'!$F$9:$F$73,"=ST",'Patrak C'!$AS$9:$AS$73,"=E") -> 0 | T25: =COUNTIFS('Patrak C'!$E$9:$E$73,"=F",'Patrak C'!$F$9:$F$73,"=ST",'Patrak C'!$AS$9:$AS$73,"=E") -> 0 | U25: =SUM(S25:T25) -> 0
C26: સા. શૈ. પછાત | D26: =G26+J26+M26+P26+S26 -> 2 | E26: =H26+K26+N26+Q26+T26 -> 0 | F26: =SUM(D26:E26) -> 2 | G26: =COUNTIFS('Patrak C'!$E$9:$E$73,"=M",'Patrak C'!$F$9:$F$73,"=OBC",'Patrak C'!$AS$9:$AS$73,"=A") -> 1 | H26: =COUNTIFS('Patrak C'!$E$9:$E$73,"=F",'Patrak C'!$F$9:$F$73,"=OBC",'Patrak C'!$AS$9:$AS$73,"=A") -> 0 | I26: =SUM(G26:H26) -> 1 | J26: =COUNTIFS('Patrak C'!$E$9:$E$73,"=M",'Patrak C'!$F$9:$F$73,"=OBC",'Patrak C'!$AS$9:$AS$73,"=B") -> 0 | K26: =COUNTIFS('Patrak C'!$E$9:$E$73,"=F",'Patrak C'!$F$9:$F$73,"=OBC",'Patrak C'!$AS$9:$AS$73,"=B") -> 0 | L26: =SUM(J26:K26) -> 0 | M26: =COUNTIFS('Patrak C'!$E$9:$E$73,"=M",'Patrak C'!$F$9:$F$73,"=OBC",'Patrak C'!$AS$9:$AS$73,"=C") -> 1 | N26: =COUNTIFS('Patrak C'!$E$9:$E$73,"=F",'Patrak C'!$F$9:$F$73,"=OBC",'Patrak C'!$AS$9:$AS$73,"=C") -> 0 | O26: =SUM(M26:N26) -> 1 | P26: =COUNTIFS('Patrak C'!$E$9:$E$73,"=M",'Patrak C'!$F$9:$F$73,"=OBC",'Patrak C'!$AS$9:$AS$73,"=D") -> 0 | Q26: =COUNTIFS('Patrak C'!$E$9:$E$73,"=F",'Patrak C'!$F$9:$F$73,"=OBC",'Patrak C'!$AS$9:$AS$73,"=D") -> 0 | R26: =SUM(P26:Q26) -> 0 | S26: =COUNTIFS('Patrak C'!$E$9:$E$73,"=M",'Patrak C'!$F$9:$F$73,"=OBC",'Patrak C'!$AS$9:$AS$73,"=E") -> 0 | T26: =COUNTIFS('Patrak C'!$E$9:$E$73,"=F",'Patrak C'!$F$9:$F$73,"=OBC",'Patrak C'!$AS$9:$AS$73,"=E") -> 0 | U26: =SUM(S26:T26) -> 0
C27: અન્ય | D27: =G27+J27+M27+P27+S27 -> 0 | E27: =H27+K27+N27+Q27+T27 -> 0 | F27: =SUM(D27:E27) -> 0 | G27: =COUNTIFS('Patrak C'!$E$9:$E$73,"=M",'Patrak C'!$F$9:$F$73,"=OTHER",'Patrak C'!$AS$9:$AS$73,"=A") -> 0 | H27: =COUNTIFS('Patrak C'!$E$9:$E$73,"=F",'Patrak C'!$F$9:$F$73,"=OTHER",'Patrak C'!$AS$9:$AS$73,"=A") -> 0 | I27: =SUM(G27:H27) -> 0 | J27: =COUNTIFS('Patrak C'!$E$9:$E$73,"=M",'Patrak C'!$F$9:$F$73,"=OTHER",'Patrak C'!$AS$9:$AS$73,"=B") -> 0 | K27: =COUNTIFS('Patrak C'!$E$9:$E$73,"=F",'Patrak C'!$F$9:$F$73,"=OTHER",'Patrak C'!$AS$9:$AS$73,"=B") -> 0 | L27: =SUM(J27:K27) -> 0 | M27: =COUNTIFS('Patrak C'!$E$9:$E$73,"=M",'Patrak C'!$F$9:$F$73,"=OTHER",'Patrak C'!$AS$9:$AS$73,"=C") -> 0 | N27: =COUNTIFS('Patrak C'!$E$9:$E$73,"=F",'Patrak C'!$F$9:$F$73,"=OTHER",'Patrak C'!$AS$9:$AS$73,"=C") -> 0 | O27: =SUM(M27:N27) -> 0 | P27: =COUNTIFS('Patrak C'!$E$9:$E$73,"=M",'Patrak C'!$F$9:$F$73,"=OTHER",'Patrak C'!$AS$9:$AS$73,"=D") -> 0 | Q27: =COUNTIFS('Patrak C'!$E$9:$E$73,"=F",'Patrak C'!$F$9:$F$73,"=OTHER",'Patrak C'!$AS$9:$AS$73,"=D") -> 0 | R27: =SUM(P27:Q27) -> 0 | S27: =COUNTIFS('Patrak C'!$E$9:$E$73,"=M",'Patrak C'!$F$9:$F$73,"=OTHER",'Patrak C'!$AS$9:$AS$73,"=E") -> 0 | T27: =COUNTIFS('Patrak C'!$E$9:$E$73,"=F",'Patrak C'!$F$9:$F$73,"=OTHER",'Patrak C'!$AS$9:$AS$73,"=E") -> 0 | U27: =SUM(S27:T27) -> 0
C28: કુલ | D28: =SUM(D24:D27) -> 2 | E28: =SUM(E24:E27) -> 0 | F28: =SUM(F24:F27) -> 2 | G28: =SUM(G24:G27) -> 1 | H28: =SUM(H24:H27) -> 0 | I28: =SUM(I24:I27) -> 1 | J28: =SUM(J24:J27) -> 0 | K28: =SUM(K24:K27) -> 0 | ... U28: =SUM(U24:U27) -> 0
C30: વર્ગશિક્ષકની સહી | Q30: આચાર્યની સહી
B33: www.hiteshahjoliya.blogspot.com | P33: Format By - Hitesh Ahjoliya

Sheet Patrak B
A1: Print On A4 Size Paper.
B3: પત્રક- B વ્યક્તિત્વ વિકાસ પત્રક
B4: ધોરણ :- | D4: ='School Data'!B23 -> 3 | G4: વર્ગ:- | I4: ='School Data'!B24 -> - | W4: વર્ષ:- | Y4: ='School Data'!B25 -> 2025-26 | AK4: www.hiteshahjoliya.blogspot.com
B5: ક્રમ | C5: વિદ્યાર્થીનુ નામ | D5: સત્ર | E5: ક્ષેત્ર - 1 | M5: ક્ષેત્ર -2 | S5: ક્ષેત્ર -3 વિદ્યાર્થીના રસના ક્ષેત્રો | AJ5: ક્ષેત્ર -4 | AS5: કુલ ગુણ સત્ર-1 | AT5: કુલ ગુણ સત્ર-2 | AU5: સરેરાશ ગુણ ( બન્ને સત્રના આધારે વર્ષાંતે )
E6: વ્યક્તિગત અને સમાજિક ગુણો | M6: વિદ્યાર્થીના વલણો | S6: સાહિત્ય | W6: સંગીત અને કલા | AB6: શારીરિક શિક્ષણ | AG6: સાંસ્કૃતિક | AJ6: સહ શૈક્ષણિક | AN6: કાર્યાનુભવ
AB7: અને યોગ | AG7: કાર્યક્રમ | AJ7: પ્રવ્રુત્તિઓ
E8: શાળામા નિયમિત આવે છે . | F8: પ્રાર્થના સમેલનમા નિયમિત સામેલ થાય છે . | G8: શાળાની સ્વચ્છતા જાળવે છે . | H8: બીજા વિદ્યાર્થીઓને મદદરુપ થાય છે . | I8: સોપેલુ કાર્ય સારી રીતે કરે છે . | J8: કોઇ પણ કાર્ય કરવામા તત્પરતા દાખવે છે . | K8: શિક્ષકોનો આદર જાળવે છે . | L8: દરેક કાર્યમા સમયનુ પાલન કરે છે . | M8: શિક્ષણ પ્રત્યે હકારાત્મક વલણ ધરાવે છે . | N8: શાળા મિલકતની જાળવણી રાખે છે . | O8: સહાધ્યાયી પ્રત્યે સહયોગ દાખવે છે . | P8: વ્યક્તિગત સ્વચ્છતા અને સુઘડતા જાળવે છે . | Q8: પર્યાવરણની સમતુલા જાળવવામા ઉપયોગી થાય છે. | R8: નવિન બાબત ઉત્સાહપૂર્વક શીખે છે . | S8: ઇતર વાચન | T8: ભાષાશુદ્ધિ સાથેનુ મરોડદાર અક્ષરે લેખન | U8: મૌલિક વાર્તા કથન / વક્તવ્ય | V8: સર્જનાત્મક લેખન | W8: ગાન / વાદન ( અભિનય , બાળગીત વગેરે ) | X8: નાટ્ય / ન્રૂત્ય / વેશભુષા / અભિનય | Y8: ચિત્રમા રેખાંકન સ્પષ્ટ અને સુંદર કરે છે . | Z8: ચિત્રમા રંગપૂરણી સારી રીતે કરે છે . | AA8: સંગીત કલામા રસ ધરાવે છે . | AB8: યોગ ક્રિયાઓ ઉત્સાહપૂર્વક કરે છે . | AC8: સરળ આસનો ઉત્સાહપૂર્વક કરે છે . | AD8: સાન્ધિક રમતો કૌશલ્યપૂર્વક કરે છે . | AE8: ખેલકુદ અને જિમ્નાસ્ટિક લયબદ્ઘ રીતે કરે છે | AF8: રમત ગમત | AG8: ઉત્સવ ઉજવણી | AH8: વિશેષ દિન ઉજવણી | AI8: સાંસ્ક્રુતિક કાર્યક્રમમા ભાગીદારી | AJ8: પ્રસ્નમંચ ( ક્વિઝ ) મા ભાગીદારી | AK8: મૂલ્ય શિક્ષણની પ્રવ્રુતિઓમા ભાગીદારી | AL8: વિવિધ સ્પર્ધાઓ | AM8: પ્રોજેક્ટ કાર્યમા ભાગીદારી | AN8: ઇકોક્લબ ની પ્રવ્રુત્તિ | AO8: પ્રવાસ / પર્યટન / મુલાકાત | AP8: માટીકામ / બાગકામ / શાળા સુશોભન | AQ8: કાગળકામ / ટી.એલ. એમ નિર્માણમા સહયોગ | AR8: પ્રયોગ ગણિત/વિ. પ્રદર્શનમા ભાગીદારી
E9: 1 | F9: 2 | G9: 3 | H9: 4 | I9: 5 | J9: 6 | K9: 7 | L9: 8 | M9: 9 | N9: 10 | O9: 11 | P9: 12 | Q9: 13 | R9: 14 | S9: 15 | T9: 16 | U9: 17 | V9: 18 | W9: 19 | X9: 20 | Y9: 21 | Z9: 22 | AA9: 23 | AB9: 24 | AC9: 25 | AD9: 26 | AE9: 27 | AF9: 28 | AG9: 29 | AH9: 30 | AI9: 31 | AJ9: 32 | AK9: 33 | AL9: 34 | AM9: 35 | AN9: 36 | AO9: 37 | AP9: 38 | AQ9: 39 | AR9: 40
B10: ='Student Data'!A6 -> 1 | C10: ='Student Data'!B6 -> રાજ ભીખાભાઈ સોલંકી | D10: 1 | E10: 5 | F10: 4 | G10: 4 | H10: 4 | I10: 4 | J10: 3 | K10: 4 | L10: 4 | AS10: =SUM(E10:AR10) -> 32 | AT10: =SUM(E11:AR11) -> 0 | AU10: =ROUND(AT10/2+AS10/2,0) -> 16
D11: 2
B12: ='Student Data'!A7 -> 2 | C12: =IF('Student Data'!B7="","",'Student Data'!B7) -> કરણ મહેશભાઈ વાઘેલા | D12: 1 | E12: 5 | F12: 5 | G12: 5 | H12: 5 | I12: 5 | J12: 5 | K12: 5 | AS12: =IF(SUM(E12:AR12)=0,"",SUM(E12:AR12)) -> 35 | AT12: =IF(SUM(E13:AR13)=0,"",SUM(E13:AR13)) | AU12: =IF(AT12="",IF(AS12="","",ROUND(AS12/2,0)),IF(AS12="",ROUND(AT12/2,0),ROUND(AT12/2+AS12/2,0))) -> 18
D13: 2
B14: ='Student Data'!A8 | C14: =IF('Student Data'!B8="","",'Student Data'!B8) | D14: 1 | AS14: =IF(SUM(E14:AR14)=0,"",SUM(E14:AR14)) | AT14: =IF(SUM(E15:AR15)=0,"",SUM(E15:AR15)) | AU14: =IF(AT14="",IF(AS14="","",ROUND(AS14/2,0)),IF(AS14="",ROUND(AT14/2,0),ROUND(AT14/2+AS14/2,0)))
D15: 2
B16: ='Student Data'!A9 | C16: =IF('Student Data'!B9="","",'Student Data'!B9) | D16: 1 | AS16: =IF(SUM(E16:AR16)=0,"",SUM(E16:AR16)) | AT16: =IF(SUM(E17:AR17)=0,"",SUM(E17:AR17)) | AU16: =IF(AT16="",IF(AS16="","",ROUND(AS16/2,0)),IF(AS16="",ROUND(AT16/2,0),ROUND(AT16/2+AS16/2,0)))
D17: 2
B18: ='Student Data'!A10 | C18: =IF('Student Data'!B10="","",'Student Data'!B10) | D18: 1 | AS18: =IF(SUM(E18:AR18)=0,"",SUM(E18:AR18)) | AT18: =IF(SUM(E19:AR19)=0,"",SUM(E19:AR19)) | AU18: =IF(AT18="",IF(AS18="","",ROUND(AS18/2,0)),IF(AS18="",ROUND(AT18/2,0),ROUND(AT18/2+AS18/2,0)))
D19: 2
B20: ='Student Data'!A11 | C20: =IF('Student Data'!B11="","",'Student Data'!B11) | D20: 1 | AS20: =IF(SUM(E20:AR20)=0,"",SUM(E20:AR20)) | AT20: =IF(SUM(E21:AR21)=0,"",SUM(E21:AR21)) | AU20: =IF(AT20="",IF(AS20="","",ROUND(AS20/2,0)),IF(AS20="",ROUND(AT20/2,0),ROUND(AT20/2+AS20/2,0)))
D21: 2
B22: ='Student Data'!A12 | C22: =IF('Student Data'!B12="","",'Student Data'!B12) | D22: 1 | AS22: =IF(SUM(E22:AR22)=0,"",SUM(E22:AR22)) | AT22: =IF(SUM(E23:AR23)=0,"",SUM(E23:AR23)) | AU22: =IF(AT22="",IF(AS22="","",ROUND(AS22/2,0)),IF(AS22="",ROUND(AT22/2,0),ROUND(AT22/2+AS22/2,0)))
D23: 2
B24: ='Student Data'!A13 | C24: =IF('Student Data'!B13="","",'Student Data'!B13) | D24: 1 | AS24: =IF(SUM(E24:AR24)=0,"",SUM(E24:AR24)) | AT24: =IF(SUM(E25:AR25)=0,"",SUM(E25:AR25)) | AU24: =IF(AT24="",IF(AS24="","",ROUND(AS24/2,0)),IF(AS24="",ROUND(AT24/2,0),ROUND(AT24/2+AS24/2,0)))
D25: 2
B26: ='Student Data'!A14 | C26: =IF('Student Data'!B14="","",'Student Data'!B14) | D26: 1 | AS26: =IF(SUM(E26:AR26)=0,"",SUM(E26:AR26)) | AT26: =IF(SUM(E27:AR27)=0,"",SUM(E27:AR27)) | AU26: =IF(AT26="",IF(AS26="","",ROUND(AS26/2,0)),IF(AS26="",ROUND(AT26/2,0),ROUND(AT26/2+AS26/2,0)))
D27: 2
B28: ='Student Data'!A15 | C28: =IF('Student Data'!B15="","",'Student Data'!B15) | D28: 1 | AS28: =IF(SUM(E28:AR28)=0,"",SUM(E28:AR28)) | AT28: =IF(SUM(E29:AR29)=0,"",SUM(E29:AR29)) | AU28: =IF(AT28="",IF(AS28="","",ROUND(AS28/2,0)),IF(AS28="",ROUND(AT28/2,0),ROUND(AT28/2+AS28/2,0)))
D29: 2
B30: ='Student Data'!A16 | C30: =IF('Student Data'!B16="","",'Student Data'!B16) | D30: 1 | AS30: =IF(SUM(E30:AR30)=0,"",SUM(E30:AR30)) | AT30: =IF(SUM(E31:AR31)=0,"",SUM(E31:AR31)) | AU30: =IF(AT30="",IF(AS30="","",ROUND(AS30/2,0)),IF(AS30="",ROUND(AT30/2,0),ROUND(AT30/2+AS30/2,0)))
D31: 2
B32: ='Student Data'!A17 | C32: =IF('Student Data'!B17="","",'Student Data'!B17) | D32: 1 | AS32: =IF(SUM(E32:AR32)=0,"",SUM(E32:AR32)) | AT32: =IF(SUM(E33:AR33)=0,"",SUM(E33:AR33)) | AU32: =IF(AT32="",IF(AS32="","",ROUND(AS32/2,0)),IF(AS32="",ROUND(AT32/2,0),ROUND(AT32/2+AS32/2,0)))
D33: 2
B34: ='Student Data'!A18 | C34: =IF('Student Data'!B18="","",'Student Data'!B18) | D34: 1 | AS34: =IF(SUM(E34:AR34)=0,"",SUM(E34:AR34)) | AT34: =IF(SUM(E35:AR35)=0,"",SUM(E35:AR35)) | AU34: =IF(AT34="",IF(AS34="","",ROUND(AS34/2,0)),IF(AS34="",ROUND(AT34/2,0),ROUND(AT34/2+AS34/2,0)))
D35: 2
B36: ='Student Data'!A19 | C36: =IF('Student Data'!B19="","",'Student Data'!B19) | D36: 1 | AS36: =IF(SUM(E36:AR36)=0,"",SUM(E36:AR36)) | AT36: =IF(SUM(E37:AR37)=0,"",SUM(E37:AR37)) | AU36: =IF(AT36="",IF(AS36="","",ROUND(AS36/2,0)),IF(AS36="",ROUND(AT36/2,0),ROUND(AT36/2+AS36/2,0)))
D37: 2
B38: ='Student Data'!A20 | C38: =IF('Student Data'!B20="","",'Student Data'!B20) | D38: 1 | AS38: =IF(SUM(E38:AR38)=0,"",SUM(E38:AR38)) | AT38: =IF(SUM(E39:AR39)=0,"",SUM(E39:AR39)) | AU38: =IF(AT38="",IF(AS38="","",ROUND(AS38/2,0)),IF(AS38="",ROUND(AT38/2,0),ROUND(AT38/2+AS38/2,0)))
D39: 2
B40: ='Student Data'!A21 | C40: =IF('Student Data'!B21="","",'Student Data'!B21) | D40: 1 | AS40: =IF(SUM(E40:AR40)=0,"",SUM(E40:AR40)) | AT40: =IF(SUM(E41:AR41)=0,"",SUM(E41:AR41)) | AU40: =IF(AT40="",IF(AS40="","",ROUND(AS40/2,0)),IF(AS40="",ROUND(AT40/2,0),ROUND(AT40/2+AS40/2,0)))
D41: 2
B42: ='Student Data'!A22 | C42: =IF('Student Data'!B22="","",'Student Data'!B22) | D42: 1 | AS42: =IF(SUM(E42:AR42)=0,"",SUM(E42:AR42)) | AT42: =IF(SUM(E43:AR43)=0,"",SUM(E43:AR43)) | AU42: =IF(AT42="",IF(AS42="","",ROUND(AS42/2,0)),IF(AS42="",ROUND(AT42/2,0),ROUND(AT42/2+AS42/2,0)))
D43: 2
B44: ='Student Data'!A23 | C44: =IF('Student Data'!B23="","",'Student Data'!B23) | D44: 1 | AS44: =IF(SUM(E44:AR44)=0,"",SUM(E44:AR44)) | AT44: =IF(SUM(E45:AR45)=0,"",SUM(E45:AR45)) | AU44: =IF(AT44="",IF(AS44="","",ROUND(AS44/2,0)),IF(AS44="",ROUND(AT44/2,0),ROUND(AT44/2+AS44/2,0)))
D45: 2
B46: ='Student Data'!A24 | C46: =IF('Student Data'!B24="","",'Student Data'!B24) | D46: 1 | AS46: =IF(SUM(E46:AR46)=0,"",SUM(E46:AR46)) | AT46: =IF(SUM(E47:AR47)=0,"",SUM(E47:AR47)) | AU46: =IF(AT46="",IF(AS46="","",ROUND(AS46/2,0)),IF(AS46="",ROUND(AT46/2,0),ROUND(AT46/2+AS46/2,0)))
D47: 2
B48: ='Student Data'!A25 | C48: =IF('Student Data'!B25="","",'Student Data'!B25) | D48: 1 | AS48: =IF(SUM(E48:AR48)=0,"",SUM(E48:AR48)) | AT48: =IF(SUM(E49:AR49)=0,"",SUM(E49:AR49)) | AU48: =IF(AT48="",IF(AS48="","",ROUND(AS48/2,0)),IF(AS48="",ROUND(AT48/2,0),ROUND(AT48/2+AS48/2,0)))
D49: 2
B50: ='Student Data'!A26 | C50: =IF('Student Data'!B26="","",'Student Data'!B26) | D50: 1 | AS50: =IF(SUM(E50:AR50)=0,"",SUM(E50:AR50)) | AT50: =IF(SUM(E51:AR51)=0,"",SUM(E51:AR51)) | AU50: =IF(AT50="",IF(AS50="","",ROUND(AS50/2,0)),IF(AS50="",ROUND(AT50/2,0),ROUND(AT50/2+AS50/2,0)))
D51: 2
B52: ='Student Data'!A27 | C52: =IF('Student Data'!B27="","",'Student Data'!B27) | D52: 1 | AS52: =IF(SUM(E52:AR52)=0,"",SUM(E52:AR52)) | AT52: =IF(SUM(E53:AR53)=0,"",SUM(E53:AR53)) | AU52: =IF(AT52="",IF(AS52="","",ROUND(AS52/2,0)),IF(AS52="",ROUND(AT52/2,0),ROUND(AT52/2+AS52/2,0)))
D53: 2
B54: ='Student Data'!A28 | C54: =IF('Student Data'!B28="","",'Student Data'!B28) | D54: 1 | AS54: =IF(SUM(E54:AR54)=0,"",SUM(E54:AR54)) | AT54: =IF(SUM(E55:AR55)=0,"",SUM(E55:AR55)) | AU54: =IF(AT54="",IF(AS54="","",ROUND(AS54/2,0)),IF(AS54="",ROUND(AT54/2,0),ROUND(AT54/2+AS54/2,0)))
D55: 2
B56: ='Student Data'!A29 | C56: =IF('Student Data'!B29="","",'Student Data'!B29) | D56: 1 | AS56: =IF(SUM(E56:AR56)=0,"",SUM(E56:AR56)) | AT56: =IF(SUM(E57:AR57)=0,"",SUM(E57:AR57)) | AU56: =IF(AT56="",IF(AS56="","",ROUND(AS56/2,0)),IF(AS56="",ROUND(AT56/2,0),ROUND(AT56/2+AS56/2,0)))
D57: 2
B58: ='Student Data'!A30 | C58: =IF('Student Data'!B30="","",'Student Data'!B30) | D58: 1 | AS58: =IF(SUM(E58:AR58)=0,"",SUM(E58:AR58)) | AT58: =IF(SUM(E59:AR59)=0,"",SUM(E59:AR59)) | AU58: =IF(AT58="",IF(AS58="","",ROUND(AS58/2,0)),IF(AS58="",ROUND(AT58/2,0),ROUND(AT58/2+AS58/2,0)))
D59: 2
B60: ='Student Data'!A31 | C60: =IF('Student Data'!B31="","",'Student Data'!B31) | D60: 1 | AS60: =IF(SUM(E60:AR60)=0,"",SUM(E60:AR60)) | AT60: =IF(SUM(E61:AR61)=0,"",SUM(E61:AR61)) | AU60: =IF(AT60="",IF(AS60="","",ROUND(AS60/2,0)),IF(AS60="",ROUND(AT60/2,0),ROUND(AT60/2+AS60/2,0)))
D61: 2
B62: ='Student Data'!A32 | C62: =IF('Student Data'!B32="","",'Student Data'!B32) | D62: 1 | AS62: =IF(SUM(E62:AR62)=0,"",SUM(E62:AR62)) | AT62: =IF(SUM(E63:AR63)=0,"",SUM(E63:AR63)) | AU62: =IF(AT62="",IF(AS62="","",ROUND(AS62/2,0)),IF(AS62="",ROUND(AT62/2,0),ROUND(AT62/2+AS62/2,0)))
D63: 2
B64: ='Student Data'!A33 | C64: =IF('Student Data'!B33="","",'Student Data'!B33) | D64: 1 | AS64: =IF(SUM(E64:AR64)=0,"",SUM(E64:AR64)) | AT64: =IF(SUM(E65:AR65)=0,"",SUM(E65:AR65)) | AU64: =IF(AT64="",IF(AS64="","",ROUND(AS64/2,0)),IF(AS64="",ROUND(AT64/2,0),ROUND(AT64/2+AS64/2,0)))
D65: 2
B66: ='Student Data'!A34 | C66: =IF('Student Data'!B34="","",'Student Data'!B34) | D66: 1 | AS66: =IF(SUM(E66:AR66)=0,"",SUM(E66:AR66)) | AT66: =IF(SUM(E67:AR67)=0,"",SUM(E67:AR67)) | AU66: =IF(AT66="",IF(AS66="","",ROUND(AS66/2,0)),IF(AS66="",ROUND(AT66/2,0),ROUND(AT66/2+AS66/2,0)))
D67: 2
B68: ='Student Data'!A35 | C68: =IF('Student Data'!B35="","",'Student Data'!B35) | D68: 1 | AS68: =IF(SUM(E68:AR68)=0,"",SUM(E68:AR68)) | AT68: =IF(SUM(E69:AR69)=0,"",SUM(E69:AR69)) | AU68: =IF(AT68="",IF(AS68="","",ROUND(AS68/2,0)),IF(AS68="",ROUND(AT68/2,0),ROUND(AT68/2+AS68/2,0)))
D69: 2
B70: ='Student Data'!A36 | C70: =IF('Student Data'!B36="","",'Student Data'!B36) | D70: 1 | AS70: =IF(SUM(E70:AR70)=0,"",SUM(E70:AR70)) | AT70: =IF(SUM(E71:AR71)=0,"",SUM(E71:AR71)) | AU70: =IF(AT70="",IF(AS70="","",ROUND(AS70/2,0)),IF(AS70="",ROUND(AT70/2,0),ROUND(AT70/2+AS70/2,0)))
D71: 2
B72: ='Student Data'!A37 | C72: =IF('Student Data'!B37="","",'Student Data'!B37) | D72: 1 | AS72: =IF(SUM(E72:AR72)=0,"",SUM(E72:AR72)) | AT72: =IF(SUM(E73:AR73)=0,"",SUM(E73:AR73)) | AU72: =IF(AT72="",IF(AS72="","",ROUND(AS72/2,0)),IF(AS72="",ROUND(AT72/2,0),ROUND(AT72/2+AS72/2,0)))
D73: 2
B74: ='Student Data'!A38 | C74: =IF('Student Data'!B38="","",'Student Data'!B38) | D74: 1 | AS74: =IF(SUM(E74:AR74)=0,"",SUM(E74:AR74)) | AT74: =IF(SUM(E75:AR75)=0,"",SUM(E75:AR75)) | AU74: =IF(AT74="",IF(AS74="","",ROUND(AS74/2,0)),IF(AS74="",ROUND(AT74/2,0),ROUND(AT74/2+AS74/2,0)))
D75: 2
B76: ='Student Data'!A39 | C76: =IF('Student Data'!B39="","",'Student Data'!B39) | D76: 1 | AS76: =IF(SUM(E76:AR76)=0,"",SUM(E76:AR76)) | AT76: =IF(SUM(E77:AR77)=0,"",SUM(E77:AR77)) | AU76: =IF(AT76="",IF(AS76="","",ROUND(AS76/2,0)),IF(AS76="",ROUND(AT76/2,0),ROUND(AT76/2+AS76/2,0)))
D77: 2
B78: ='Student Data'!A40 | C78: =IF('Student Data'!B40="","",'Student Data'!B40) | D78: 1 | AS78: =IF(SUM(E78:AR78)=0,"",SUM(E78:AR78)) | AT78: =IF(SUM(E79:AR79)=0,"",SUM(E79:AR79)) | AU78: =IF(AT78="",IF(AS78="","",ROUND(AS78/2,0)),IF(AS78="",ROUND(AT78/2,0),ROUND(AT78/2+AS78/2,0)))
D79: 2
B80: ='Student Data'!A41 | C80: =IF('Student Data'!B41="","",'Student Data'!B41) | D80: 1 | AS80: =IF(SUM(E80:AR80)=0,"",SUM(E80:AR80)) | AT80: =IF(SUM(E81:AR81)=0,"",SUM(E81:AR81)) | AU80: =IF(AT80="",IF(AS80="","",ROUND(AS80/2,0)),IF(AS80="",ROUND(AT80/2,0),ROUND(AT80/2+AS80/2,0)))
D81: 2
B82: ='Student Data'!A42 | C82: =IF('Student Data'!B42="","",'Student Data'!B42) | D82: 1 | AS82: =IF(SUM(E82:AR82)=0,"",SUM(E82:AR82)) | AT82: =IF(SUM(E83:AR83)=0,"",SUM(E83:AR83)) | AU82: =IF(AT82="",IF(AS82="","",ROUND(AS82/2,0)),IF(AS82="",ROUND(AT82/2,0),ROUND(AT82/2+AS82/2,0)))
D83: 2
B84: ='Student Data'!A43 | C84: =IF('Student Data'!B43="","",'Student Data'!B43) | D84: 1 | AS84: =IF(SUM(E84:AR84)=0,"",SUM(E84:AR84)) | AT84: =IF(SUM(E85:AR85)=0,"",SUM(E85:AR85)) | AU84: =IF(AT84="",IF(AS84="","",ROUND(AS84/2,0)),IF(AS84="",ROUND(AT84/2,0),ROUND(AT84/2+AS84/2,0)))
D85: 2
B86: ='Student Data'!A44 | C86: =IF('Student Data'!B44="","",'Student Data'!B44) | D86: 1 | AS86: =IF(SUM(E86:AR86)=0,"",SUM(E86:AR86)) | AT86: =IF(SUM(E87:AR87)=0,"",SUM(E87:AR87)) | AU86: =IF(AT86="",IF(AS86="","",ROUND(AS86/2,0)),IF(AS86="",ROUND(AT86/2,0),ROUND(AT86/2+AS86/2,0)))
D87: 2
B88: ='Student Data'!A45 | C88: =IF('Student Data'!B45="","",'Student Data'!B45) | D88: 1 | AS88: =IF(SUM(E88:AR88)=0,"",SUM(E88:AR88)) | AT88: =IF(SUM(E89:AR89)=0,"",SUM(E89:AR89)) | AU88: =IF(AT88="",IF(AS88="","",ROUND(AS88/2,0)),IF(AS88="",ROUND(AT88/2,0),ROUND(AT88/2+AS88/2,0)))
D89: 2
B90: ='Student Data'!A46 | C90: =IF('Student Data'!B46="","",'Student Data'!B46) | D90: 1 | AS90: =IF(SUM(E90:AR90)=0,"",SUM(E90:AR90)) | AT90: =IF(SUM(E91:AR91)=0,"",SUM(E91:AR91)) | AU90: =IF(AT90="",IF(AS90="","",ROUND(AS90/2,0)),IF(AS90="",ROUND(AT90/2,0),ROUND(AT90/2+AS90/2,0)))
D91: 2
B92: ='Student Data'!A47 | C92: =IF('Student Data'!B47="","",'Student Data'!B47) | D92: 1 | AS92: =IF(SUM(E92:AR92)=0,"",SUM(E92:AR92)) | AT92: =IF(SUM(E93:AR93)=0,"",SUM(E93:AR93)) | AU92: =IF(AT92="",IF(AS92="","",ROUND(AS92/2,0)),IF(AS92="",ROUND(AT92/2,0),ROUND(AT92/2+AS92/2,0)))
D93: 2
B94: ='Student Data'!A48 | C94: =IF('Student Data'!B48="","",'Student Data'!B48) | D94: 1 | AS94: =IF(SUM(E94:AR94)=0,"",SUM(E94:AR94)) | AT94: =IF(SUM(E95:AR95)=0,"",SUM(E95:AR95)) | AU94: =IF(AT94="",IF(AS94="","",ROUND(AS94/2,0)),IF(AS94="",ROUND(AT94/2,0),ROUND(AT94/2+AS94/2,0)))
D95: 2
B96: ='Student Data'!A49 | C96: =IF('Student Data'!B49="","",'Student Data'!B49) | D96: 1 | AS96: =IF(SUM(E96:AR96)=0,"",SUM(E96:AR96)) | AT96: =IF(SUM(E97:AR97)=0,"",SUM(E97:AR97)) | AU96: =IF(AT96="",IF(AS96="","",ROUND(AS96/2,0)),IF(AS96="",ROUND(AT96/2,0),ROUND(AT96/2+AS96/2,0)))
D97: 2
B98: ='Student Data'!A50 | C98: =IF('Student Data'!B50="","",'Student Data'!B50) | D98: 1 | AS98: =IF(SUM(E98:AR98)=0,"",SUM(E98:AR98)) | AT98: =IF(SUM(E99:AR99)=0,"",SUM(E99:AR99)) | AU98: =IF(AT98="",IF(AS98="","",ROUND(AS98/2,0)),IF(AS98="",ROUND(AT98/2,0),ROUND(AT98/2+AS98/2,0)))
D99: 2
B100: ='Student Data'!A51 | C100: =IF('Student Data'!B51="","",'Student Data'!B51) | D100: 1 | AS100: =IF(SUM(E100:AR100)=0,"",SUM(E100:AR100)) | AT100: =IF(SUM(E101:AR101)=0,"",SUM(E101:AR101)) | AU100: =IF(AT100="",IF(AS100="","",ROUND(AS100/2,0)),IF(AS100="",ROUND(AT100/2,0),ROUND(AT100/2+AS100/2,0)))
D101: 2
...

Sheet Patrak C
B2: પત્રક - C | D2: માત્ર રંગીન ભાગમાં જ ગુણ લખવા.
A3: www.hiteshahjoliya.blogspot.com | D3: પત્રક - C | L3: ધોરણ- | N3: ='School Data'!B23 -> 3 | O3: ='School Data'!B24 -> - | X3: =D3 -> પત્રક - C | AP3: ધોરણ- | AR3: ='School Data'!B23 -> 3 | AS3: ='School Data'!B24 -> -
H4: ગુજરાતી | Q4: ગણિત | Y4: પર્યાવરણ | AH4: અંગ્રેજી | AP4: પત્રક - B : વ્યક્તિત્વ વિકાસ પત્રક | AQ4: ગ્રેડ | AR4: તમામ વિષયોના + પત્રક B ના કુલ ગુણ | AS4: સરેરાશ ગ્રેડ | AT4: ટકા % | AU4: નોંધ
A5: ક્રમ | B5: વિદ્યાર્થીનુ નામ | C5: જ . ર . નંબર | D5: જન્મ તારીખ | G5: હાજર દિવસ | H5: પ્રથમ સત્ર | K5: દ્વિતીય સત્ર | N5: કુલ ગુણ 200 માથી મેળવેલ ગુણ | O5: ગ્રેડ | P5: ક્રમ | Q5: પ્રથમ સત્ર | T5: દ્વિતીય સત્ર | W5: =N5 -> કુલ ગુણ 200 માથી મેળવેલ ગુણ | X5: ગ્રેડ | Y5: પ્રથમ સત્ર | AB5: દ્વિતીય સત્ર | AE5: =W5 -> કુલ ગુણ 200 માથી મેળવેલ ગુણ | AF5: ગ્રેડ | AG5: ક્રમ | AH5: પ્રથમ સત્ર | AK5: દ્વિતીય સત્ર | AN5: =AE5 -> કુલ ગુણ 200 માથી મેળવેલ ગુણ | AO5: ગ્રેડ
E6: ='Student Data'!E5 -> જાતિ M/F | F6: ='Student Data'!F5 -> જ્ઞાતિ | H6: રચનાત્મક મૂલ્યાંકન | I6: સંત્રાત મૂલ્યાંકન | J6: સ્વ-અધ્યયન કાર્યના આધારે મૂલ્યાંકન | K6: રચનાત્મક મૂલ્યાંકન | L6: સંત્રાત મૂલ્યાંકન | M6: સ્વ- અધ્યયન કાર્યના આધારે મૂલ્યાંકન | Q6: રચનાત્મક મૂલ્યાંકન | R6: સંત્રાત મૂલ્યાંકન | S6: સ્વ- અધ્યયન કાર્યના આધારે મૂલ્યાંકન | T6: રચનાત્મક મૂલ્યાંકન | U6: સંત્રાત મૂલ્યાંકન | V6: સ્વ- અધ્યયન કાર્યના આધારે મૂલ્યાંકન | Y6: રચનાત્મક મૂલ્યાંકન | Z6: સંત્રાત મૂલ્યાંકન | AA6: સ્વ- અધ્યયન કાર્યના આધારે મૂલ્યાંકન | AB6: રચનાત્મક મૂલ્યાંકન | AC6: સંત્રાત મૂલ્યાંકન | AD6: સ્વ- અધ્યયન કાર્યના આધારે મૂલ્યાંકન | AH6: રચનાત્મક મૂલ્યાંકન | AI6: સંત્રાત મૂલ્યાંકન | AJ6: સ્વ- અધ્યયન કાર્યના આધારે મૂલ્યાંકન | AK6: રચનાત્મક મૂલ્યાંકન | AL6: સંત્રાત મૂલ્યાંકન | AM6: સ્વ- અધ્યયન કાર્યના આધારે મૂલ્યાંકન
H7: 40 ગુણ | I7: 40 ગુણ | J7: 20 ગુણ | K7: 40 ગુણ | L7: 40 ગુણ | M7: 20 ગુણ | Q7: 40 ગુણ | R7: 40 ગુણ | S7: 20 ગુણ | T7: 40 ગુણ | U7: 40 ગુણ | V7: 20 ગુણ | Y7: 40 ગુણ | Z7: 40 ગુણ | AA7: 20 ગુણ | AB7: 40 ગુણ | AC7: 40 ગુણ | AD7: 20 ગુણ | AH7: 40 ગુણ | AI7: 40 ગુણ | AJ7: 20 ગુણ | AK7: 40 ગુણ | AL7: 40 ગુણ | AM7: 20 ગુણ | AP7: 200 | AR7: 1000
A8: 1 | B8: 2 | C8: 3 | D8: 4 | G8: 5 | H8: 6 | I8: 7 | J8: 8 | K8: 9 | L8: 10 | M8: 11 | N8: 12 | O8: 13 | P8: 14 | Q8: 15 | R8: 16 | S8: 17 | T8: 18 | U8: 19 | V8: 20 | W8: 21 | X8: 22 | Y8: 23 | Z8: 24 | AA8: 25 | AB8: 26 | AC8: 27 | AD8: 28 | AE8: 29 | AF8: 30 | AG8: 14 | AH8: 15 | AI8: 16 | AJ8: 17 | AK8: 18 | AL8: 19 | AM8: 20 | AN8: 21 | AO8: 22 | AP8: 31 | AQ8: 32 | AR8: 33 | AS8: 34 | AT8: 35 | AU8: 36
A9: ='Student Data'!A6 -> 1 | B9: ='Student Data'!B6 -> રાજ ભીખાભાઈ સોલંકી | C9: ='Student Data'!C6 -> 1234 | D9: ='Student Data'!D6 -> 38454 | E9: ='Student Data'!E6 -> M | F9: ='Student Data'!F6 -> OBC | G9: ='Student Data'!G6 -> 220 | H9: 40 | I9: 40 | J9: 20 | K9: 40 | L9: 40 | M9: 20 | N9: =SUM(H9:M9) -> 200 | O9: =IF(N9>159,"A",IF(N9>129,"B",IF(N9>99,"C",IF(N9>69,"D",IF(N9<70,"E",))))) -> A | P9: =A9 -> 1 | Q9: 40 | R9: 40 | S9: 20 | T9: 40 | U9: 40 | V9: 20 | W9: =SUM(Q9:V9) -> 200 | X9: =IF(W9>159,"A",IF(W9>129,"B",IF(W9>99,"C",IF(W9>69,"D",IF(W9<70,"E",))))) -> A | Y9: 40 | Z9: 40 | AA9: 20 | AB9: 40 | AC9: 40 | AD9: 20 | AE9: =SUM(Y9:AD9) -> 200 | AF9: =IF(AE9>159,"A",IF(AE9>129,"B",IF(AE9>99,"C",IF(AE9>69,"D",IF(AE9<70,"E",))))) -> A | AG9: =P9 -> 1 | AH9: 35 | AI9: 35 | AJ9: 15 | AK9: 40 | AL9: 40 | AM9: 20 | AN9: =SUM(AH9:AM9) -> 185 | AO9: =IF(AN9>159,"A",IF(AN9>129,"B",IF(AN9>99,"C",IF(AN9>69,"D",IF(AN9<70,"E",))))) -> A | AP9: ='Patrak B'!AU10 -> 16 | AQ9: =IF(AP9>159,"A",IF(AP9>129,"B",IF(AP9>99,"C",IF(AP9>69,"D",IF(AP9<70,"E",))))) -> E | AR9: =N9+W9+AE9+AP9+AN9 -> 801 | AS9: =IF(AR9>799,"A",IF(AR9>649,"B",IF(AR9>499,"C",IF(AR9>349,"D",IF(AR9<350,"E",))))) -> A | AT9: =IF(OR(ISBLANK(AR9), AR9=0, AR9=""), "", AR9*100/$AR$7) -> 80.1
A10: ='Student Data'!A7 -> 2 | B10: =IF('Student Data'!B7="","",'Student Data'!B7) -> કરણ મહેશભાઈ વાઘેલા | C10: =IF('Student Data'!C7="","",'Student Data'!C7) -> 1234 | D10: =IF('Student Data'!D7="","",'Student Data'!D7) -> 38454 | E10: ='Student Data'!E7 -> M | F10: ='Student Data'!F7 -> OBC | G10: =IF('Student Data'!G7="","",'Student Data'!G7) -> 220 | H10: 30 | I10: 30 | J10: 10 | K10: 30 | L10: 30 | M10: 20 | N10: =IF((AND(H10="",I10="",J10="",K10="",L10="",M10="")),"",SUM(H10:M10)) -> 150 | O10: =IF(N10="","",IF(N10>159,"A",IF(N10>129,"B",IF(N10>99,"C",IF(N10>69,"D",IF(N10<70,"E",)))))) -> B | P10: =A10 -> 2 | Q10: 30 | R10: 30 | S10: 10 | T10: 30 | U10: 30 | V10: 10 | W10: =IF((AND(Q10="",R10="",S10="",T10="",U10="",V10="")),"",SUM(Q10:V10)) -> 140 | X10: =IF(W10="","",IF(W10>159,"A",IF(W10>129,"B",IF(W10>99,"C",IF(W10>69,"D",IF(W10<70,"E",)))))) -> B | Y10: 30 | Z10: 30 | AA10: 10 | AB10: 30 | AC10: 30 | AD10: 10 | AE10: =IF((AND(Y10="",Z10="",AA10="",AB10="",AC10="",AD10="")),"",SUM(Y10:AD10)) -> 140 | AF10: =IF(AE10="","",IF(AE10>159,"A",IF(AE10>129,"B",IF(AE10>99,"C",IF(AE10>69,"D",IF(AE10<70,"E",)))))) -> B | AG10: =P10 -> 2 | AH10: 30 | AI10: 30 | AJ10: 10 | AK10: 10 | AL10: 10 | AM10: 10 | AN10: =IF((AND(AH10="",AI10="",AJ10="",AK10="",AL10="",AM10="")),"",SUM(AH10:AM10)) -> 100 | AO10: =IF(AN10="","",IF(AN10>159,"A",IF(AN10>129,"B",IF(AN10>99,"C",IF(AN10>69,"D",IF(AN10<70,"E",)))))) -> C | AP10: ='Patrak B'!AU12 -> 18 | AQ10: =IF(AP10="","",IF(AP10>159,"A",IF(AP10>129,"B",IF(AP10>99,"C",IF(AP10>69,"D",IF(AP10<70,"E",)))))) -> E | AR10: =IF(AND(N10="",W10="",AE10="",AN10="",AP10=""),"",SUM(N10,W10,AE10,AN10,,AP10)) -> 548 | AS10: =IF(AR10="","",IF(AR10>799,"A",IF(AR10>649,"B",IF(AR10>499,"C",IF(AR10>349,"D",IF(AR10<350,"E",)))))) -> C | AT10: =IF(OR(ISBLANK(AR10), AR10=0, AR10=""), "", AR10*100/$AR$7) -> 54.8
A11: ='Student Data'!A8 | B11: =IF('Student Data'!B8="","",'Student Data'!B8) | C11: =IF('Student Data'!C8="","",'Student Data'!C8) | D11: =IF('Student Data'!D8="","",'Student Data'!D8) | E11: ='Student Data'!E8 -> 0 | F11: ='Student Data'!F8 -> 0 | G11: =IF('Student Data'!G8="","",'Student Data'!G8) | N11: =IF((AND(H11="",I11="",J11="",K11="",L11="",M11="")),"",SUM(H11:M11)) | O11: =IF(N11="","",IF(N11>159,"A",IF(N11>129,"B",IF(N11>99,"C",IF(N11>69,"D",IF(N11<70,"E",)))))) | P11: =A11 | W11: =IF((AND(Q11="",R11="",S11="",T11="",U11="",V11="")),"",SUM(Q11:V11)) | X11: =IF(W11="","",IF(W11>159,"A",IF(W11>129,"B",IF(W11>99,"C",IF(W11>69,"D",IF(W11<70,"E",)))))) | AE11: =IF((AND(Y11="",Z11="",AA11="",AB11="",AC11="",AD11="")),"",SUM(Y11:AD11)) | AF11: =IF(AE11="","",IF(AE11>159,"A",IF(AE11>129,"B",IF(AE11>99,"C",IF(AE11>69,"D",IF(AE11<70,"E",)))))) | AG11: =P11 | AN11: =IF((AND(AH11="",AI11="",AJ11="",AK11="",AL11="",AM11="")),"",SUM(AH11:AM11)) | AO11: =IF(AN11="","",IF(AN11>159,"A",IF(AN11>129,"B",IF(AN11>99,"C",IF(AN11>69,"D",IF(AN11<70,"E",)))))) | AP11: ='Patrak B'!AU14 | AQ11: =IF(AP11="","",IF(AP11>159,"A",IF(AP11>129,"B",IF(AP11>99,"C",IF(AP11>69,"D",IF(AP11<70,"E",)))))) | AR11: =IF(AND(N11="",W11="",AE11="",AN11="",AP11=""),"",SUM(N11,W11,AE11,AN11,,AP11)) | AS11: =IF(AR11="","",IF(AR11>799,"A",IF(AR11>649,"B",IF(AR11>499,"C",IF(AR11>349,"D",IF(AR11<350,"E",)))))) | AT11: =IF(OR(ISBLANK(AR11), AR11=0, AR11=""), "", AR11*100/$AR$7)
A12: ='Student Data'!A9 | B12: =IF('Student Data'!B9="","",'Student Data'!B9) | C12: =IF('Student Data'!C9="","",'Student Data'!C9) | D12: =IF('Student Data'!D9="","",'Student Data'!D9) | E12: ='Student Data'!E9 -> 0 | F12: ='Student Data'!F9 -> 0 | G12: =IF('Student Data'!G9="","",'Student Data'!G9) | N12: =IF((AND(H12="",I12="",J12="",K12="",L12="",M12="")),"",SUM(H12:M12)) | O12: =IF(N12="","",IF(N12>159,"A",IF(N12>129,"B",IF(N12>99,"C",IF(N12>69,"D",IF(N12<70,"E",)))))) | P12: =A12 | W12: =IF((AND(Q12="",R12="",S12="",T12="",U12="",V12="")),"",SUM(Q12:V12)) | X12: =IF(W12="","",IF(W12>159,"A",IF(W12>129,"B",IF(W12>99,"C",IF(W12>69,"D",IF(W12<70,"E",)))))) | AE12: =IF((AND(Y12="",Z12="",AA12="",AB12="",AC12="",AD12="")),"",SUM(Y12:AD12)) | AF12: =IF(AE12="","",IF(AE12>159,"A",IF(AE12>129,"B",IF(AE12>99,"C",IF(AE12>69,"D",IF(AE12<70,"E",)))))) | AG12: =P12 | AN12: =IF((AND(AH12="",AI12="",AJ12="",AK12="",AL12="",AM12="")),"",SUM(AH12:AM12)) | AO12: =IF(AN12="","",IF(AN12>159,"A",IF(AN12>129,"B",IF(AN12>99,"C",IF(AN12>69,"D",IF(AN12<70,"E",)))))) | AP12: ='Patrak B'!AU16 | AQ12: =IF(AP12="","",IF(AP12>159,"A",IF(AP12>129,"B",IF(AP12>99,"C",IF(AP12>69,"D",IF(AP12<70,"E",)))))) | AR12: =IF(AND(N12="",W12="",AE12="",AN12="",AP12=""),"",SUM(N12,W12,AE12,AN12,,AP12)) | AS12: =IF(AR12="","",IF(AR12>799,"A",IF(AR12>649,"B",IF(AR12>499,"C",IF(AR12>349,"D",IF(AR12<350,"E",)))))) | AT12: =IF(OR(ISBLANK(AR12), AR12=0, AR12=""), "", AR12*100/$AR$7)
A13: ='Student Data'!A10 | B13: =IF('Student Data'!B10="","",'Student Data'!B10) | C13: =IF('Student Data'!C10="","",'Student Data'!C10) | D13: =IF('Student Data'!D10="","",'Student Data'!D10) | E13: ='Student Data'!E10 -> 0 | F13: ='Student Data'!F10 -> 0 | G13: =IF('Student Data'!G10="","",'Student Data'!G10) | N13: =IF((AND(H13="",I13="",J13="",K13="",L13="",M13="")),"",SUM(H13:M13)) | O13: =IF(N13="","",IF(N13>159,"A",IF(N13>129,"B",IF(N13>99,"C",IF(N13>69,"D",IF(N13<70,"E",)))))) | P13: =A13 | W13: =IF((AND(Q13="",R13="",S13="",T13="",U13="",V13="")),"",SUM(Q13:V13)) | X13: =IF(W13="","",IF(W13>159,"A",IF(W13>129,"B",IF(W13>99,"C",IF(W13>69,"D",IF(W13<70,"E",)))))) | AE13: =IF((AND(Y13="",Z13="",AA13="",AB13="",AC13="",AD13="")),"",SUM(Y13:AD13)) | AF13: =IF(AE13="","",IF(AE13>159,"A",IF(AE13>129,"B",IF(AE13>99,"C",IF(AE13>69,"D",IF(AE13<70,"E",)))))) | AG13: =P13 | AN13: =IF((AND(AH13="",AI13="",AJ13="",AK13="",AL13="",AM13="")),"",SUM(AH13:AM13)) | AO13: =IF(AN13="","",IF(AN13>159,"A",IF(AN13>129,"B",IF(AN13>99,"C",IF(AN13>69,"D",IF(AN13<70,"E",)))))) | AP13: ='Patrak B'!AU18 | AQ13: =IF(AP13="","",IF(AP13>159,"A",IF(AP13>129,"B",IF(AP13>99,"C",IF(AP13>69,"D",IF(AP13<70,"E",)))))) | AR13: =IF(AND(N13="",W13="",AE13="",AN13="",AP13=""),"",SUM(N13,W13,AE13,AN13,,AP13)) | AS13: =IF(AR13="","",IF(AR13>799,"A",IF(AR13>649,"B",IF(AR13>499,"C",IF(AR13>349,"D",IF(AR13<350,"E",)))))) | AT13: =IF(OR(ISBLANK(AR13), AR13=0, AR13=""), "", AR13*100/$AR$7)
A14: ='Student Data'!A11 | B14: =IF('Student Data'!B11="","",'Student Data'!B11) | C14: =IF('Student Data'!C11="","",'Student Data'!C11) | D14: =IF('Student Data'!D11="","",'Student Data'!D11) | E14: ='Student Data'!E11 -> 0 | F14: ='Student Data'!F11 -> 0 | G14: =IF('Student Data'!G11="","",'Student Data'!G11) | N14: =IF((AND(H14="",I14="",J14="",K14="",L14="",M14="")),"",SUM(H14:M14)) | O14: =IF(N14="","",IF(N14>159,"A",IF(N14>129,"B",IF(N14>99,"C",IF(N14>69,"D",IF(N14<70,"E",)))))) | P14: =A14 | W14: =IF((AND(Q14="",R14="",S14="",T14="",U14="",V14="")),"",SUM(Q14:V14)) | X14: =IF(W14="","",IF(W14>159,"A",IF(W14>129,"B",IF(W14>99,"C",IF(W14>69,"D",IF(W14<70,"E",)))))) | AE14: =IF((AND(Y14="",Z14="",AA14="",AB14="",AC14="",AD14="")),"",SUM(Y14:AD14)) | AF14: =IF(AE14="","",IF(AE14>159,"A",IF(AE14>129,"B",IF(AE14>99,"C",IF(AE14>69,"D",IF(AE14<70,"E",)))))) | AG14: =P14 | AN14: =IF((AND(AH14="",AI14="",AJ14="",AK14="",AL14="",AM14="")),"",SUM(AH14:AM14)) | AO14: =IF(AN14="","",IF(AN14>159,"A",IF(AN14>129,"B",IF(AN14>99,"C",IF(AN14>69,"D",IF(AN14<70,"E",)))))) | AP14: ='Patrak B'!AU20 | AQ14: =IF(AP14="","",IF(AP14>159,"A",IF(AP14>129,"B",IF(AP14>99,"C",IF(AP14>69,"D",IF(AP14<70,"E",)))))) | AR14: =IF(AND(N14="",W14="",AE14="",AN14="",AP14=""),"",SUM(N14,W14,AE14,AN14,,AP14)) | AS14: =IF(AR14="","",IF(AR14>799,"A",IF(AR14>649,"B",IF(AR14>499,"C",IF(AR14>349,"D",IF(AR14<350,"E",)))))) | AT14: =IF(OR(ISBLANK(AR14), AR14=0, AR14=""), "", AR14*100/$AR$7)
A15: ='Student Data'!A12 | B15: =IF('Student Data'!B12="","",'Student Data'!B12) | C15: =IF('Student Data'!C12="","",'Student Data'!C12) | D15: =IF('Student Data'!D12="","",'Student Data'!D12) | E15: ='Student Data'!E12 -> 0 | F15: ='Student Data'!F12 -> 0 | G15: =IF('Student Data'!G12="","",'Student Data'!G12) | N15: =IF((AND(H15="",I15="",J15="",K15="",L15="",M15="")),"",SUM(H15:M15)) | O15: =IF(N15="","",IF(N15>159,"A",IF(N15>129,"B",IF(N15>99,"C",IF(N15>69,"D",IF(N15<70,"E",)))))) | P15: =A15 | W15: =IF((AND(Q15="",R15="",S15="",T15="",U15="",V15="")),"",SUM(Q15:V15)) | X15: =IF(W15="","",IF(W15>159,"A",IF(W15>129,"B",IF(W15>99,"C",IF(W15>69,"D",IF(W15<70,"E",)))))) | AE15: =IF((AND(Y15="",Z15="",AA15="",AB15="",AC15="",AD15="")),"",SUM(Y15:AD15)) | AF15: =IF(AE15="","",IF(AE15>159,"A",IF(AE15>129,"B",IF(AE15>99,"C",IF(AE15>69,"D",IF(AE15<70,"E",)))))) | AG15: =P15 | AN15: =IF((AND(AH15="",AI15="",AJ15="",AK15="",AL15="",AM15="")),"",SUM(AH15:AM15)) | AO15: =IF(AN15="","",IF(AN15>159,"A",IF(AN15>129,"B",IF(AN15>99,"C",IF(AN15>69,"D",IF(AN15<70,"E",)))))) | AP15: ='Patrak B'!AU22 | AQ15: =IF(AP15="","",IF(AP15>159,"A",IF(AP15>129,"B",IF(AP15>99,"C",IF(AP15>69,"D",IF(AP15<70,"E",)))))) | AR15: =IF(AND(N15="",W15="",AE15="",AN15="",AP15=""),"",SUM(N15,W15,AE15,AN15,,AP15)) | AS15: =IF(AR15="","",IF(AR15>799,"A",IF(AR15>649,"B",IF(AR15>499,"C",IF(AR15>349,"D",IF(AR15<350,"E",)))))) | AT15: =IF(OR(ISBLANK(AR15), AR15=0, AR15=""), "", AR15*100/$AR$7)
A16: ='Student Data'!A13 | B16: =IF('Student Data'!B13="","",'Student Data'!B13) | C16: =IF('Student Data'!C13="","",'Student Data'!C13) | D16: =IF('Student Data'!D13="","",'Student Data'!D13) | E16: ='Student Data'!E13 -> 0 | F16: ='Student Data'!F13 -> 0 | G16: =IF('Student Data'!G13="","",'Student Data'!G13) | N16: =IF((AND(H16="",I16="",J16="",K16="",L16="",M16="")),"",SUM(H16:M16)) | O16: =IF(N16="","",IF(N16>159,"A",IF(N16>129,"B",IF(N16>99,"C",IF(N16>69,"D",IF(N16<70,"E",)))))) | P16: =A16 | W16: =IF((AND(Q16="",R16="",S16="",T16="",U16="",V16="")),"",SUM(Q16:V16)) | X16: =IF(W16="","",IF(W16>159,"A",IF(W16>129,"B",IF(W16>99,"C",IF(W16>69,"D",IF(W16<70,"E",)))))) | AE16: =IF((AND(Y16="",Z16="",AA16="",AB16="",AC16="",AD16="")),"",SUM(Y16:AD16)) | AF16: =IF(AE16="","",IF(AE16>159,"A",IF(AE16>129,"B",IF(AE16>99,"C",IF(AE16>69,"D",IF(AE16<70,"E",)))))) | AG16: =P16 | AN16: =IF((AND(AH16="",AI16="",AJ16="",AK16="",AL16="",AM16="")),"",SUM(AH16:AM16)) | AO16: =IF(AN16="","",IF(AN16>159,"A",IF(AN16>129,"B",IF(AN16>99,"C",IF(AN16>69,"D",IF(AN16<70,"E",)))))) | AP16: ='Patrak B'!AU24 | AQ16: =IF(AP16="","",IF(AP16>159,"A",IF(AP16>129,"B",IF(AP16>99,"C",IF(AP16>69,"D",IF(AP16<70,"E",)))))) | AR16: =IF(AND(N16="",W16="",AE16="",AN16="",AP16=""),"",SUM(N16,W16,AE16,AN16,,AP16)) | AS16: =IF(AR16="","",IF(AR16>799,"A",IF(AR16>649,"B",IF(AR16>499,"C",IF(AR16>349,"D",IF(AR16<350,"E",)))))) | AT16: =IF(OR(ISBLANK(AR16), AR16=0, AR16=""), "", AR16*100/$AR$7)
A17: ='Student Data'!A14 | B17: =IF('Student Data'!B14="","",'Student Data'!B14) | C17: =IF('Student Data'!C14="","",'Student Data'!C14) | D17: =IF('Student Data'!D14="","",'Student Data'!D14) | E17: ='Student Data'!E14 -> 0 | F17: ='Student Data'!F14 -> 0 | G17: =IF('Student Data'!G14="","",'Student Data'!G14) | N17: =IF((AND(H17="",I17="",J17="",K17="",L17="",M17="")),"",SUM(H17:M17)) | O17: =IF(N17="","",IF(N17>159,"A",IF(N17>129,"B",IF(N17>99,"C",IF(N17>69,"D",IF(N17<70,"E",)))))) | P17: =A17 | W17: =IF((AND(Q17="",R17="",S17="",T17="",U17="",V17="")),"",SUM(Q17:V17)) | X17: =IF(W17="","",IF(W17>159,"A",IF(W17>129,"B",IF(W17>99,"C",IF(W17>69,"D",IF(W17<70,"E",)))))) | AE17: =IF((AND(Y17="",Z17="",AA17="",AB17="",AC17="",AD17="")),"",SUM(Y17:AD17)) | AF17: =IF(AE17="","",IF(AE17>159,"A",IF(AE17>129,"B",IF(AE17>99,"C",IF(AE17>69,"D",IF(AE17<70,"E",)))))) | AG17: =P17 | AN17: =IF((AND(AH17="",AI17="",AJ17="",AK17="",AL17="",AM17="")),"",SUM(AH17:AM17)) | AO17: =IF(AN17="","",IF(AN17>159,"A",IF(AN17>129,"B",IF(AN17>99,"C",IF(AN17>69,"D",IF(AN17<70,"E",)))))) | AP17: ='Patrak B'!AU26 | AQ17: =IF(AP17="","",IF(AP17>159,"A",IF(AP17>129,"B",IF(AP17>99,"C",IF(AP17>69,"D",IF(AP17<70,"E",)))))) | AR17: =IF(AND(N17="",W17="",AE17="",AN17="",AP17=""),"",SUM(N17,W17,AE17,AN17,,AP17)) | AS17: =IF(AR17="","",IF(AR17>799,"A",IF(AR17>649,"B",IF(AR17>499,"C",IF(AR17>349,"D",IF(AR17<350,"E",)))))) | AT17: =IF(OR(ISBLANK(AR17), AR17=0, AR17=""), "", AR17*100/$AR$7)
A18: ='Student Data'!A15 | B18: =IF('Student Data'!B15="","",'Student Data'!B15) | C18: =IF('Student Data'!C15="","",'Student Data'!C15) | D18: =IF('Student Data'!D15="","",'Student Data'!D15) | E18: ='Student Data'!E15 -> 0 | F18: ='Student Data'!F15 -> 0 | G18: =IF('Student Data'!G15="","",'Student Data'!G15) | N18: =IF((AND(H18="",I18="",J18="",K18="",L18="",M18="")),"",SUM(H18:M18)) | O18: =IF(N18="","",IF(N18>159,"A",IF(N18>129,"B",IF(N18>99,"C",IF(N18>69,"D",IF(N18<70,"E",)))))) | P18: =A18 | W18: =IF((AND(Q18="",R18="",S18="",T18="",U18="",V18="")),"",SUM(Q18:V18)) | X18: =IF(W18="","",IF(W18>159,"A",IF(W18>129,"B",IF(W18>99,"C",IF(W18>69,"D",IF(W18<70,"E",)))))) | AE18: =IF((AND(Y18="",Z18="",AA18="",AB18="",AC18="",AD18="")),"",SUM(Y18:AD18)) | AF18: =IF(AE18="","",IF(AE18>159,"A",IF(AE18>129,"B",IF(AE18>99,"C",IF(AE18>69,"D",IF(AE18<70,"E",)))))) | AG18: =P18 | AN18: =IF((AND(AH18="",AI18="",AJ18="",AK18="",AL18="",AM18="")),"",SUM(AH18:AM18)) | AO18: =IF(AN18="","",IF(AN18>159,"A",IF(AN18>129,"B",IF(AN18>99,"C",IF(AN18>69,"D",IF(AN18<70,"E",)))))) | AP18: ='Patrak B'!AU28 | AQ18: =IF(AP18="","",IF(AP18>159,"A",IF(AP18>129,"B",IF(AP18>99,"C",IF(AP18>69,"D",IF(AP18<70,"E",)))))) | AR18: =IF(AND(N18="",W18="",AE18="",AN18="",AP18=""),"",SUM(N18,W18,AE18,AN18,,AP18)) | AS18: =IF(AR18="","",IF(AR18>799,"A",IF(AR18>649,"B",IF(AR18>499,"C",IF(AR18>349,"D",IF(AR18<350,"E",)))))) | AT18: =IF(OR(ISBLANK(AR18), AR18=0, AR18=""), "", AR18*100/$AR$7)
A19: ='Student Data'!A16 | B19: =IF('Student Data'!B16="","",'Student Data'!B16) | C19: =IF('Student Data'!C16="","",'Student Data'!C16) | D19: =IF('Student Data'!D16="","",'Student Data'!D16) | E19: ='Student Data'!E16 -> 0 | F19: ='Student Data'!F16 -> 0 | G19: =IF('Student Data'!G16="","",'Student Data'!G16) | N19: =IF((AND(H19="",I19="",J19="",K19="",L19="",M19="")),"",SUM(H19:M19)) | O19: =IF(N19="","",IF(N19>159,"A",IF(N19>129,"B",IF(N19>99,"C",IF(N19>69,"D",IF(N19<70,"E",)))))) | P19: =A19 | W19: =IF((AND(Q19="",R19="",S19="",T19="",U19="",V19="")),"",SUM(Q19:V19)) | X19: =IF(W19="","",IF(W19>159,"A",IF(W19>129,"B",IF(W19>99,"C",IF(W19>69,"D",IF(W19<70,"E",)))))) | AE19: =IF((AND(Y19="",Z19="",AA19="",AB19="",AC19="",AD19="")),"",SUM(Y19:AD19)) | AF19: =IF(AE19="","",IF(AE19>159,"A",IF(AE19>129,"B",IF(AE19>99,"C",IF(AE19>69,"D",IF(AE19<70,"E",)))))) | AG19: =P19 | AN19: =IF((AND(AH19="",AI19="",AJ19="",AK19="",AL19="",AM19="")),"",SUM(AH19:AM19)) | AO19: =IF(AN19="","",IF(AN19>159,"A",IF(AN19>129,"B",IF(AN19>99,"C",IF(AN19>69,"D",IF(AN19<70,"E",)))))) | AP19: ='Patrak B'!AU30 | AQ19: =IF(AP19="","",IF(AP19>159,"A",IF(AP19>129,"B",IF(AP19>99,"C",IF(AP19>69,"D",IF(AP19<70,"E",)))))) | AR19: =IF(AND(N19="",W19="",AE19="",AN19="",AP19=""),"",SUM(N19,W19,AE19,AN19,,AP19)) | AS19: =IF(AR19="","",IF(AR19>799,"A",IF(AR19>649,"B",IF(AR19>499,"C",IF(AR19>349,"D",IF(AR19<350,"E",)))))) | AT19: =IF(OR(ISBLANK(AR19), AR19=0, AR19=""), "", AR19*100/$AR$7)
A20: ='Student Data'!A17 | B20: =IF('Student Data'!B17="","",'Student Data'!B17) | C20: =IF('Student Data'!C17="","",'Student Data'!C17) | D20: =IF('Student Data'!D17="","",'Student Data'!D17) | E20: ='Student Data'!E17 -> 0 | F20: ='Student Data'!F17 -> 0 | G20: =IF('Student Data'!G17="","",'Student Data'!G17) | N20: =IF((AND(H20="",I20="",J20="",K20="",L20="",M20="")),"",SUM(H20:M20)) | O20: =IF(N20="","",IF(N20>159,"A",IF(N20>129,"B",IF(N20>99,"C",IF(N20>69,"D",IF(N20<70,"E",)))))) | P20: =A20 | W20: =IF((AND(Q20="",R20="",S20="",T20="",U20="",V20="")),"",SUM(Q20:V20)) | X20: =IF(W20="","",IF(W20>159,"A",IF(W20>129,"B",IF(W20>99,"C",IF(W20>69,"D",IF(W20<70,"E",)))))) | AE20: =IF((AND(Y20="",Z20="",AA20="",AB20="",AC20="",AD20="")),"",SUM(Y20:AD20)) | AF20: =IF(AE20="","",IF(AE20>159,"A",IF(AE20>129,"B",IF(AE20>99,"C",IF(AE20>69,"D",IF(AE20<70,"E",)))))) | AG20: =P20 | AN20: =IF((AND(AH20="",AI20="",AJ20="",AK20="",AL20="",AM20="")),"",SUM(AH20:AM20)) | AO20: =IF(AN20="","",IF(AN20>159,"A",IF(AN20>129,"B",IF(AN20>99,"C",IF(AN20>69,"D",IF(AN20<70,"E",)))))) | AP20: ='Patrak B'!AU32 | AQ20: =IF(AP20="","",IF(AP20>159,"A",IF(AP20>129,"B",IF(AP20>99,"C",IF(AP20>69,"D",IF(AP20<70,"E",)))))) | AR20: =IF(AND(N20="",W20="",AE20="",AN20="",AP20=""),"",SUM(N20,W20,AE20,AN20,,AP20)) | AS20: =IF(AR20="","",IF(AR20>799,"A",IF(AR20>649,"B",IF(AR20>499,"C",IF(AR20>349,"D",IF(AR20<350,"E",)))))) | AT20: =IF(OR(ISBLANK(AR20), AR20=0, AR20=""), "", AR20*100/$AR$7)
A21: ='Student Data'!A18 | B21: =IF('Student Data'!B18="","",'Student Data'!B18) | C21: =IF('Student Data'!C18="","",'Student Data'!C18) | D21: =IF('Student Data'!D18="","",'Student Data'!D18) | E21: ='Student Data'!E18 -> 0 | F21: ='Student Data'!F18 -> 0 | G21: =IF('Student Data'!G18="","",'Student Data'!G18) | N21: =IF((AND(H21="",I21="",J21="",K21="",L21="",M21="")),"",SUM(H21:M21)) | O21: =IF(N21="","",IF(N21>159,"A",IF(N21>129,"B",IF(N21>99,"C",IF(N21>69,"D",IF(N21<70,"E",)))))) | P21: =A21 | W21: =IF((AND(Q21="",R21="",S21="",T21="",U21="",V21="")),"",SUM(Q21:V21)) | X21: =IF(W21="","",IF(W21>159,"A",IF(W21>129,"B",IF(W21>99,"C",IF(W21>69,"D",IF(W21<70,"E",)))))) | AE21: =IF((AND(Y21="",Z21="",AA21="",AB21="",AC21="",AD21="")),"",SUM(Y21:AD21)) | AF21: =IF(AE21="","",IF(AE21>159,"A",IF(AE21>129,"B",IF(AE21>99,"C",IF(AE21>69,"D",IF(AE21<70,"E",)))))) | AG21: =P21 | AN21: =IF((AND(AH21="",AI21="",AJ21="",AK21="",AL21="",AM21="")),"",SUM(AH21:AM21)) | AO21: =IF(AN21="","",IF(AN21>159,"A",IF(AN21>129,"B",IF(AN21>99,"C",IF(AN21>69,"D",IF(AN21<70,"E",)))))) | AP21: ='Patrak B'!AU34 | AQ21: =IF(AP21="","",IF(AP21>159,"A",IF(AP21>129,"B",IF(AP21>99,"C",IF(AP21>69,"D",IF(AP21<70,"E",)))))) | AR21: =IF(AND(N21="",W21="",AE21="",AN21="",AP21=""),"",SUM(N21,W21,AE21,AN21,,AP21)) | AS21: =IF(AR21="","",IF(AR21>799,"A",IF(AR21>649,"B",IF(AR21>499,"C",IF(AR21>349,"D",IF(AR21<350,"E",)))))) | AT21: =IF(OR(ISBLANK(AR21), AR21=0, AR21=""), "", AR21*100/$AR$7)
A22: ='Student Data'!A19 | B22: =IF('Student Data'!B19="","",'Student Data'!B19) | C22: =IF('Student Data'!C19="","",'Student Data'!C19) | D22: =IF('Student Data'!D19="","",'Student Data'!D19) | E22: ='Student Data'!E19 -> 0 | F22: ='Student Data'!F19 -> 0 | G22: =IF('Student Data'!G19="","",'Student Data'!G19) | N22: =IF((AND(H22="",I22="",J22="",K22="",L22="",M22="")),"",SUM(H22:M22)) | O22: =IF(N22="","",IF(N22>159,"A",IF(N22>129,"B",IF(N22>99,"C",IF(N22>69,"D",IF(N22<70,"E",)))))) | P22: =A22 | W22: =IF((AND(Q22="",R22="",S22="",T22="",U22="",V22="")),"",SUM(Q22:V22)) | X22: =IF(W22="","",IF(W22>159,"A",IF(W22>129,"B",IF(W22>99,"C",IF(W22>69,"D",IF(W22<70,"E",)))))) | AE22: =IF((AND(Y22="",Z22="",AA22="",AB22="",AC22="",AD22="")),"",SUM(Y22:AD22)) | AF22: =IF(AE22="","",IF(AE22>159,"A",IF(AE22>129,"B",IF(AE22>99,"C",IF(AE22>69,"D",IF(AE22<70,"E",)))))) | AG22: =P22 | AN22: =IF((AND(AH22="",AI22="",AJ22="",AK22="",AL22="",AM22="")),"",SUM(AH22:AM22)) | AO22: =IF(AN22="","",IF(AN22>159,"A",IF(AN22>129,"B",IF(AN22>99,"C",IF(AN22>69,"D",IF(AN22<70,"E",)))))) | AP22: ='Patrak B'!AU36 | AQ22: =IF(AP22="","",IF(AP22>159,"A",IF(AP22>129,"B",IF(AP22>99,"C",IF(AP22>69,"D",IF(AP22<70,"E",)))))) | AR22: =IF(AND(N22="",W22="",AE22="",AN22="",AP22=""),"",SUM(N22,W22,AE22,AN22,,AP22)) | AS22: =IF(AR22="","",IF(AR22>799,"A",IF(AR22>649,"B",IF(AR22>499,"C",IF(AR22>349,"D",IF(AR22<350,"E",)))))) | AT22: =IF(OR(ISBLANK(AR22), AR22=0, AR22=""), "", AR22*100/$AR$7)
A23: ='Student Data'!A20 | B23: =IF('Student Data'!B20="","",'Student Data'!B20) | C23: =IF('Student Data'!C20="","",'Student Data'!C20) | D23: =IF('Student Data'!D20="","",'Student Data'!D20) | E23: ='Student Data'!E20 -> 0 | F23: ='Student Data'!F20 -> 0 | G23: =IF('Student Data'!G20="","",'Student Data'!G20) | N23: =IF((AND(H23="",I23="",J23="",K23="",L23="",M23="")),"",SUM(H23:M23)) | O23: =IF(N23="","",IF(N23>159,"A",IF(N23>129,"B",IF(N23>99,"C",IF(N23>69,"D",IF(N23<70,"E",)))))) | P23: =A23 | W23: =IF((AND(Q23="",R23="",S23="",T23="",U23="",V23="")),"",SUM(Q23:V23)) | X23: =IF(W23="","",IF(W23>159,"A",IF(W23>129,"B",IF(W23>99,"C",IF(W23>69,"D",IF(W23<70,"E",)))))) | AE23: =IF((AND(Y23="",Z23="",AA23="",AB23="",AC23="",AD23="")),"",SUM(Y23:AD23)) | AF23: =IF(AE23="","",IF(AE23>159,"A",IF(AE23>129,"B",IF(AE23>99,"C",IF(AE23>69,"D",IF(AE23<70,"E",)))))) | AG23: =P23 | AN23: =IF((AND(AH23="",AI23="",AJ23="",AK23="",AL23="",AM23="")),"",SUM(AH23:AM23)) | AO23: =IF(AN23="","",IF(AN23>159,"A",IF(AN23>129,"B",IF(AN23>99,"C",IF(AN23>69,"D",IF(AN23<70,"E",)))))) | AP23: ='Patrak B'!AU38 | AQ23: =IF(AP23="","",IF(AP23>159,"A",IF(AP23>129,"B",IF(AP23>99,"C",IF(AP23>69,"D",IF(AP23<70,"E",)))))) | AR23: =IF(AND(N23="",W23="",AE23="",AN23="",AP23=""),"",SUM(N23,W23,AE23,AN23,,AP23)) | AS23: =IF(AR23="","",IF(AR23>799,"A",IF(AR23>649,"B",IF(AR23>499,"C",IF(AR23>349,"D",IF(AR23<350,"E",)))))) | AT23: =IF(OR(ISBLANK(AR23), AR23=0, AR23=""), "", AR23*100/$AR$7)
A24: ='Student Data'!A21 | B24: =IF('Student Data'!B21="","",'Student Data'!B21) | C24: =IF('Student Data'!C21="","",'Student Data'!C21) | D24: =IF('Student Data'!D21="","",'Student Data'!D21) | E24: ='Student Data'!E21 -> 0 | F24: ='Student Data'!F21 -> 0 | G24: =IF('Student Data'!G21="","",'Student Data'!G21) | N24: =IF((AND(H24="",I24="",J24="",K24="",L24="",M24="")),"",SUM(H24:M24)) | O24: =IF(N24="","",IF(N24>159,"A",IF(N24>129,"B",IF(N24>99,"C",IF(N24>69,"D",IF(N24<70,"E",)))))) | P24: =A24 | W24: =IF((AND(Q24="",R24="",S24="",T24="",U24="",V24="")),"",SUM(Q24:V24)) | X24: =IF(W24="","",IF(W24>159,"A",IF(W24>129,"B",IF(W24>99,"C",IF(W24>69,"D",IF(W24<70,"E",)))))) | AE24: =IF((AND(Y24="",Z24="",AA24="",AB24="",AC24="",AD24="")),"",SUM(Y24:AD24)) | AF24: =IF(AE24="","",IF(AE24>159,"A",IF(AE24>129,"B",IF(AE24>99,"C",IF(AE24>69,"D",IF(AE24<70,"E",)))))) | AG24: =P24 | AN24: =IF((AND(AH24="",AI24="",AJ24="",AK24="",AL24="",AM24="")),"",SUM(AH24:AM24)) | AO24: =IF(AN24="","",IF(AN24>159,"A",IF(AN24>129,"B",IF(AN24>99,"C",IF(AN24>69,"D",IF(AN24<70,"E",)))))) | AP24: ='Patrak B'!AU40 | AQ24: =IF(AP24="","",IF(AP24>159,"A",IF(AP24>129,"B",IF(AP24>99,"C",IF(AP24>69,"D",IF(AP24<70,"E",)))))) | AR24: =IF(AND(N24="",W24="",AE24="",AN24="",AP24=""),"",SUM(N24,W24,AE24,AN24,,AP24)) | AS24: =IF(AR24="","",IF(AR24>799,"A",IF(AR24>649,"B",IF(AR24>499,"C",IF(AR24>349,"D",IF(AR24<350,"E",)))))) | AT24: =IF(OR(ISBLANK(AR24), AR24=0, AR24=""), "", AR24*100/$AR$7)
A25: ='Student Data'!A22 | B25: =IF('Student Data'!B22="","",'Student Data'!B22) | C25: =IF('Student Data'!C22="","",'Student Data'!C22) | D25: =IF('Student Data'!D22="","",'Student Data'!D22) | E25: ='Student Data'!E22 -> 0 | F25: ='Student Data'!F22 -> 0 | G25: =IF('Student Data'!G22="","",'Student Data'!G22) | N25: =IF((AND(H25="",I25="",J25="",K25="",L25="",M25="")),"",SUM(H25:M25)) | O25: =IF(N25="","",IF(N25>159,"A",IF(N25>129,"B",IF(N25>99,"C",IF(N25>69,"D",IF(N25<70,"E",)))))) | P25: =A25 | W25: =IF((AND(Q25="",R25="",S25="",T25="",U25="",V25="")),"",SUM(Q25:V25)) | X25: =IF(W25="","",IF(W25>159,"A",IF(W25>129,"B",IF(W25>99,"C",IF(W25>69,"D",IF(W25<70,"E",)))))) | AE25: =IF((AND(Y25="",Z25="",AA25="",AB25="",AC25="",AD25="")),"",SUM(Y25:AD25)) | AF25: =IF(AE25="","",IF(AE25>159,"A",IF(AE25>129,"B",IF(AE25>99,"C",IF(AE25>69,"D",IF(AE25<70,"E",)))))) | AG25: =P25 | AN25: =IF((AND(AH25="",AI25="",AJ25="",AK25="",AL25="",AM25="")),"",SUM(AH25:AM25)) | AO25: =IF(AN25="","",IF(AN25>159,"A",IF(AN25>129,"B",IF(AN25>99,"C",IF(AN25>69,"D",IF(AN25<70,"E",)))))) | AP25: ='Patrak B'!AU42 | AQ25: =IF(AP25="","",IF(AP25>159,"A",IF(AP25>129,"B",IF(AP25>99,"C",IF(AP25>69,"D",IF(AP25<70,"E",)))))) | AR25: =IF(AND(N25="",W25="",AE25="",AN25="",AP25=""),"",SUM(N25,W25,AE25,AN25,,AP25)) | AS25: =IF(AR25="","",IF(AR25>799,"A",IF(AR25>649,"B",IF(AR25>499,"C",IF(AR25>349,"D",IF(AR25<350,"E",)))))) | AT25: =IF(OR(ISBLANK(AR25), AR25=0, AR25=""), "", AR25*100/$AR$7)
A26: ='Student Data'!A23 | B26: =IF('Student Data'!B23="","",'Student Data'!B23) | C26: =IF('Student Data'!C23="","",'Student Data'!C23) | D26: =IF('Student Data'!D23="","",'Student Data'!D23) | E26: ='Student Data'!E23 -> 0 | F26: ='Student Data'!F23 -> 0 | G26: =IF('Student Data'!G23="","",'Student Data'!G23) | N26: =IF((AND(H26="",I26="",J26="",K26="",L26="",M26="")),"",SUM(H26:M26)) | O26: =IF(N26="","",IF(N26>159,"A",IF(N26>129,"B",IF(N26>99,"C",IF(N26>69,"D",IF(N26<70,"E",)))))) | P26: =A26 | W26: =IF((AND(Q26="",R26="",S26="",T26="",U26="",V26="")),"",SUM(Q26:V26)) | X26: =IF(W26="","",IF(W26>159,"A",IF(W26>129,"B",IF(W26>99,"C",IF(W26>69,"D",IF(W26<70,"E",)))))) | AE26: =IF((AND(Y26="",Z26="",AA26="",AB26="",AC26="",AD26="")),"",SUM(Y26:AD26)) | AF26: =IF(AE26="","",IF(AE26>159,"A",IF(AE26>129,"B",IF(AE26>99,"C",IF(AE26>69,"D",IF(AE26<70,"E",)))))) | AG26: =P26 | AN26: =IF((AND(AH26="",AI26="",AJ26="",AK26="",AL26="",AM26="")),"",SUM(AH26:AM26)) | AO26: =IF(AN26="","",IF(AN26>159,"A",IF(AN26>129,"B",IF(AN26>99,"C",IF(AN26>69,"D",IF(AN26<70,"E",)))))) | AP26: ='Patrak B'!AU44 | AQ26: =IF(AP26="","",IF(AP26>159,"A",IF(AP26>129,"B",IF(AP26>99,"C",IF(AP26>69,"D",IF(AP26<70,"E",)))))) | AR26: =IF(AND(N26="",W26="",AE26="",AN26="",AP26=""),"",SUM(N26,W26,AE26,AN26,,AP26)) | AS26: =IF(AR26="","",IF(AR26>799,"A",IF(AR26>649,"B",IF(AR26>499,"C",IF(AR26>349,"D",IF(AR26<350,"E",)))))) | AT26: =IF(OR(ISBLANK(AR26), AR26=0, AR26=""), "", AR26*100/$AR$7)
A27: ='Student Data'!A24 | B27: =IF('Student Data'!B24="","",'Student Data'!B24) | C27: =IF('Student Data'!C24="","",'Student Data'!C24) | D27: =IF('Student Data'!D24="","",'Student Data'!D24) | E27: ='Student Data'!E24 -> 0 | F27: ='Student Data'!F24 -> 0 | G27: =IF('Student Data'!G24="","",'Student Data'!G24) | N27: =IF((AND(H27="",I27="",J27="",K27="",L27="",M27="")),"",SUM(H27:M27)) | O27: =IF(N27="","",IF(N27>159,"A",IF(N27>129,"B",IF(N27>99,"C",IF(N27>69,"D",IF(N27<70,"E",)))))) | P27: =A27 | W27: =IF((AND(Q27="",R27="",S27="",T27="",U27="",V27="")),"",SUM(Q27:V27)) | X27: =IF(W27="","",IF(W27>159,"A",IF(W27>129,"B",IF(W27>99,"C",IF(W27>69,"D",IF(W27<70,"E",)))))) | AE27: =IF((AND(Y27="",Z27="",AA27="",AB27="",AC27="",AD27="")),"",SUM(Y27:AD27)) | AF27: =IF(AE27="","",IF(AE27>159,"A",IF(AE27>129,"B",IF(AE27>99,"C",IF(AE27>69,"D",IF(AE27<70,"E",)))))) | AG27: =P27 | AN27: =IF((AND(AH27="",AI27="",AJ27="",AK27="",AL27="",AM27="")),"",SUM(AH27:AM27)) | AO27: =IF(AN27="","",IF(AN27>159,"A",IF(AN27>129,"B",IF(AN27>99,"C",IF(AN27>69,"D",IF(AN27<70,"E",)))))) | AP27: ='Patrak B'!AU46 | AQ27: =IF(AP27="","",IF(AP27>159,"A",IF(AP27>129,"B",IF(AP27>99,"C",IF(AP27>69,"D",IF(AP27<70,"E",)))))) | AR27: =IF(AND(N27="",W27="",AE27="",AN27="",AP27=""),"",SUM(N27,W27,AE27,AN27,,AP27)) | AS27: =IF(AR27="","",IF(AR27>799,"A",IF(AR27>649,"B",IF(AR27>499,"C",IF(AR27>349,"D",IF(AR27<350,"E",)))))) | AT27: =IF(OR(ISBLANK(AR27), AR27=0, AR27=""), "", AR27*100/$AR$7)
A28: ='Student Data'!A25 | B28: =IF('Student Data'!B25="","",'Student Data'!B25) | C28: =IF('Student Data'!C25="","",'Student Data'!C25) | D28: =IF('Student Data'!D25="","",'Student Data'!D25) | E28: ='Student Data'!E25 -> 0 | F28: ='Student Data'!F25 -> 0 | G28: =IF('Student Data'!G25="","",'Student Data'!G25) | N28: =IF((AND(H28="",I28="",J28="",K28="",L28="",M28="")),"",SUM(H28:M28)) | O28: =IF(N28="","",IF(N28>159,"A",IF(N28>129,"B",IF(N28>99,"C",IF(N28>69,"D",IF(N28<70,"E",)))))) | P28: =A28 | W28: =IF((AND(Q28="",R28="",S28="",T28="",U28="",V28="")),"",SUM(Q28:V28)) | X28: =IF(W28="","",IF(W28>159,"A",IF(W28>129,"B",IF(W28>99,"C",IF(W28>69,"D",IF(W28<70,"E",)))))) | AE28: =IF((AND(Y28="",Z28="",AA28="",AB28="",AC28="",AD28="")),"",SUM(Y28:AD28)) | AF28: =IF(AE28="","",IF(AE28>159,"A",IF(AE28>129,"B",IF(AE28>99,"C",IF(AE28>69,"D",IF(AE28<70,"E",)))))) | AG28: =P28 | AN28: =IF((AND(AH28="",AI28="",AJ28="",AK28="",AL28="",AM28="")),"",SUM(AH28:AM28)) | AO28: =IF(AN28="","",IF(AN28>159,"A",IF(AN28>129,"B",IF(AN28>99,"C",IF(AN28>69,"D",IF(AN28<70,"E",)))))) | AP28: ='Patrak B'!AU48 | AQ28: =IF(AP28="","",IF(AP28>159,"A",IF(AP28>129,"B",IF(AP28>99,"C",IF(AP28>69,"D",IF(AP28<70,"E",)))))) | AR28: =IF(AND(N28="",W28="",AE28="",AN28="",AP28=""),"",SUM(N28,W28,AE28,AN28,,AP28)) | AS28: =IF(AR28="","",IF(AR28>799,"A",IF(AR28>649,"B",IF(AR28>499,"C",IF(AR28>349,"D",IF(AR28<350,"E",)))))) | AT28: =IF(OR(ISBLANK(AR28), AR28=0, AR28=""), "", AR28*100/$AR$7)
A29: ='Student Data'!A26 | B29: =IF('Student Data'!B26="","",'Student Data'!B26) | C29: =IF('Student Data'!C26="","",'Student Data'!C26) | D29: =IF('Student Data'!D26="","",'Student Data'!D26) | E29: ='Student Data'!E26 -> 0 | F29: ='Student Data'!F26 -> 0 | G29: =IF('Student Data'!G26="","",'Student Data'!G26) | N29: =IF((AND(H29="",I29="",J29="",K29="",L29="",M29="")),"",SUM(H29:M29)) | O29: =IF(N29="","",IF(N29>159,"A",IF(N29>129,"B",IF(N29>99,"C",IF(N29>69,"D",IF(N29<70,"E",)))))) | P29: =A29 | W29: =IF((AND(Q29="",R29="",S29="",T29="",U29="",V29="")),"",SUM(Q29:V29)) | X29: =IF(W29="","",IF(W29>159,"A",IF(W29>129,"B",IF(W29>99,"C",IF(W29>69,"D",IF(W29<70,"E",)))))) | AE29: =IF((AND(Y29="",Z29="",AA29="",AB29="",AC29="",AD29="")),"",SUM(Y29:AD29)) | AF29: =IF(AE29="","",IF(AE29>159,"A",IF(AE29>129,"B",IF(AE29>99,"C",IF(AE29>69,"D",IF(AE29<70,"E",)))))) | AG29: =P29 | AN29: =IF((AND(AH29="",AI29="",AJ29="",AK29="",AL29="",AM29="")),"",SUM(AH29:AM29)) | AO29: =IF(AN29="","",IF(AN29>159,"A",IF(AN29>129,"B",IF(AN29>99,"C",IF(AN29>69,"D",IF(AN29<70,"E",)))))) | AP29: ='Patrak B'!AU50 | AQ29: =IF(AP29="","",IF(AP29>159,"A",IF(AP29>129,"B",IF(AP29>99,"C",IF(AP29>69,"D",IF(AP29<70,"E",)))))) | AR29: =IF(AND(N29="",W29="",AE29="",AN29="",AP29=""),"",SUM(N29,W29,AE29,AN29,,AP29)) | AS29: =IF(AR29="","",IF(AR29>799,"A",IF(AR29>649,"B",IF(AR29>499,"C",IF(AR29>349,"D",IF(AR29<350,"E",)))))) | AT29: =IF(OR(ISBLANK(AR29), AR29=0, AR29=""), "", AR29*100/$AR$7)
A30: ='Student Data'!A27 | B30: =IF('Student Data'!B27="","",'Student Data'!B27) | C30: =IF('Student Data'!C27="","",'Student Data'!C27) | D30: =IF('Student Data'!D27="","",'Student Data'!D27) | E30: ='Student Data'!E27 -> 0 | F30: ='Student Data'!F27 -> 0 | G30: =IF('Student Data'!G27="","",'Student Data'!G27) | N30: =IF((AND(H30="",I30="",J30="",K30="",L30="",M30="")),"",SUM(H30:M30)) | O30: =IF(N30="","",IF(N30>159,"A",IF(N30>129,"B",IF(N30>99,"C",IF(N30>69,"D",IF(N30<70,"E",)))))) | P30: =A30 | W30: =IF((AND(Q30="",R30="",S30="",T30="",U30="",V30="")),"",SUM(Q30:V30)) | X30: =IF(W30="","",IF(W30>159,"A",IF(W30>129,"B",IF(W30>99,"C",IF(W30>69,"D",IF(W30<70,"E",)))))) | AE30: =IF((AND(Y30="",Z30="",AA30="",AB30="",AC30="",AD30="")),"",SUM(Y30:AD30)) | AF30: =IF(AE30="","",IF(AE30>159,"A",IF(AE30>129,"B",IF(AE30>99,"C",IF(AE30>69,"D",IF(AE30<70,"E",)))))) | AG30: =P30 | AN30: =IF((AND(AH30="",AI30="",AJ30="",AK30="",AL30="",AM30="")),"",SUM(AH30:AM30)) | AO30: =IF(AN30="","",IF(AN30>159,"A",IF(AN30>129,"B",IF(AN30>99,"C",IF(AN30>69,"D",IF(AN30<70,"E",)))))) | AP30: ='Patrak B'!AU52 | AQ30: =IF(AP30="","",IF(AP30>159,"A",IF(AP30>129,"B",IF(AP30>99,"C",IF(AP30>69,"D",IF(AP30<70,"E",)))))) | AR30: =IF(AND(N30="",W30="",AE30="",AN30="",AP30=""),"",SUM(N30,W30,AE30,AN30,,AP30)) | AS30: =IF(AR30="","",IF(AR30>799,"A",IF(AR30>649,"B",IF(AR30>499,"C",IF(AR30>349,"D",IF(AR30<350,"E",)))))) | AT30: =IF(OR(ISBLANK(AR30), AR30=0, AR30=""), "", AR30*100/$AR$7)
A31: ='Student Data'!A28 | B31: =IF('Student Data'!B28="","",'Student Data'!B28) | C31: =IF('Student Data'!C28="","",'Student Data'!C28) | D31: =IF('Student Data'!D28="","",'Student Data'!D28) | E31: ='Student Data'!E28 -> 0 | F31: ='Student Data'!F28 -> 0 | G31: =IF('Student Data'!G28="","",'Student Data'!G28) | N31: =IF((AND(H31="",I31="",J31="",K31="",L31="",M31="")),"",SUM(H31:M31)) | O31: =IF(N31="","",IF(N31>159,"A",IF(N31>129,"B",IF(N31>99,"C",IF(N31>69,"D",IF(N31<70,"E",)))))) | P31: =A31 | W31: =IF((AND(Q31="",R31="",S31="",T31="",U31="",V31="")),"",SUM(Q31:V31)) | X31: =IF(W31="","",IF(W31>159,"A",IF(W31>129,"B",IF(W31>99,"C",IF(W31>69,"D",IF(W31<70,"E",)))))) | AE31: =IF((AND(Y31="",Z31="",AA31="",AB31="",AC31="",AD31="")),"",SUM(Y31:AD31)) | AF31: =IF(AE31="","",IF(AE31>159,"A",IF(AE31>129,"B",IF(AE31>99,"C",IF(AE31>69,"D",IF(AE31<70,"E",)))))) | AG31: =P31 | AN31: =IF((AND(AH31="",AI31="",AJ31="",AK31="",AL31="",AM31="")),"",SUM(AH31:AM31)) | AO31: =IF(AN31="","",IF(AN31>159,"A",IF(AN31>129,"B",IF(AN31>99,"C",IF(AN31>69,"D",IF(AN31<70,"E",)))))) | AP31: ='Patrak B'!AU54 | AQ31: =IF(AP31="","",IF(AP31>159,"A",IF(AP31>129,"B",IF(AP31>99,"C",IF(AP31>69,"D",IF(AP31<70,"E",)))))) | AR31: =IF(AND(N31="",W31="",AE31="",AN31="",AP31=""),"",SUM(N31,W31,AE31,AN31,,AP31)) | AS31: =IF(AR31="","",IF(AR31>799,"A",IF(AR31>649,"B",IF(AR31>499,"C",IF(AR31>349,"D",IF(AR31<350,"E",)))))) | AT31: =IF(OR(ISBLANK(AR31), AR31=0, AR31=""), "", AR31*100/$AR$7)
A32: ='Student Data'!A29 | B32: =IF('Student Data'!B29="","",'Student Data'!B29) | C32: =IF('Student Data'!C29="","",'Student Data'!C29) | D32: =IF('Student Data'!D29="","",'Student Data'!D29) | E32: ='Student Data'!E29 -> 0 | F32: ='Student Data'!F29 -> 0 | G32: =IF('Student Data'!G29="","",'Student Data'!G29) | N32: =IF((AND(H32="",I32="",J32="",K32="",L32="",M32="")),"",SUM(H32:M32)) | O32: =IF(N32="","",IF(N32>159,"A",IF(N32>129,"B",IF(N32>99,"C",IF(N32>69,"D",IF(N32<70,"E",)))))) | P32: =A32 | W32: =IF((AND(Q32="",R32="",S32="",T32="",U32="",V32="")),"",SUM(Q32:V32)) | X32: =IF(W32="","",IF(W32>159,"A",IF(W32>129,"B",IF(W32>99,"C",IF(W32>69,"D",IF(W32<70,"E",)))))) | AE32: =IF((AND(Y32="",Z32="",AA32="",AB32="",AC32="",AD32="")),"",SUM(Y32:AD32)) | AF32: =IF(AE32="","",IF(AE32>159,"A",IF(AE32>129,"B",IF(AE32>99,"C",IF(AE32>69,"D",IF(AE32<70,"E",)))))) | AG32: =P32 | AN32: =IF((AND(AH32="",AI32="",AJ32="",AK32="",AL32="",AM32="")),"",SUM(AH32:AM32)) | AO32: =IF(AN32="","",IF(AN32>159,"A",IF(AN32>129,"B",IF(AN32>99,"C",IF(AN32>69,"D",IF(AN32<70,"E",)))))) | AP32: ='Patrak B'!AU56 | AQ32: =IF(AP32="","",IF(AP32>159,"A",IF(AP32>129,"B",IF(AP32>99,"C",IF(AP32>69,"D",IF(AP32<70,"E",)))))) | AR32: =IF(AND(N32="",W32="",AE32="",AN32="",AP32=""),"",SUM(N32,W32,AE32,AN32,,AP32)) | AS32: =IF(AR32="","",IF(AR32>799,"A",IF(AR32>649,"B",IF(AR32>499,"C",IF(AR32>349,"D",IF(AR32<350,"E",)))))) | AT32: =IF(OR(ISBLANK(AR32), AR32=0, AR32=""), "", AR32*100/$AR$7)
A33: ='Student Data'!A30 | B33: =IF('Student Data'!B30="","",'Student Data'!B30) | C33: =IF('Student Data'!C30="","",'Student Data'!C30) | D33: =IF('Student Data'!D30="","",'Student Data'!D30) | E33: ='Student Data'!E30 -> 0 | F33: ='Student Data'!F30 -> 0 | G33: =IF('Student Data'!G30="","",'Student Data'!G30) | N33: =IF((AND(H33="",I33="",J33="",K33="",L33="",M33="")),"",SUM(H33:M33)) | O33: =IF(N33="","",IF(N33>159,"A",IF(N33>129,"B",IF(N33>99,"C",IF(N33>69,"D",IF(N33<70,"E",)))))) | P33: =A33 | W33: =IF((AND(Q33="",R33="",S33="",T33="",U33="",V33="")),"",SUM(Q33:V33)) | X33: =IF(W33="","",IF(W33>159,"A",IF(W33>129,"B",IF(W33>99,"C",IF(W33>69,"D",IF(W33<70,"E",)))))) | AE33: =IF((AND(Y33="",Z33="",AA33="",AB33="",AC33="",AD33="")),"",SUM(Y33:AD33)) | AF33: =IF(AE33="","",IF(AE33>159,"A",IF(AE33>129,"B",IF(AE33>99,"C",IF(AE33>69,"D",IF(AE33<70,"E",)))))) | AG33: =P33 | AN33: =IF((AND(AH33="",AI33="",AJ33="",AK33="",AL33="",AM33="")),"",SUM(AH33:AM33)) | AO33: =IF(AN33="","",IF(AN33>159,"A",IF(AN33>129,"B",IF(AN33>99,"C",IF(AN33>69,"D",IF(AN33<70,"E",)))))) | AP33: ='Patrak B'!AU58 | AQ33: =IF(AP33="","",IF(AP33>159,"A",IF(AP33>129,"B",IF(AP33>99,"C",IF(AP33>69,"D",IF(AP33<70,"E",)))))) | AR33: =IF(AND(N33="",W33="",AE33="",AN33="",AP33=""),"",SUM(N33,W33,AE33,AN33,,AP33)) | AS33: =IF(AR33="","",IF(AR33>799,"A",IF(AR33>649,"B",IF(AR33>499,"C",IF(AR33>349,"D",IF(AR33<350,"E",)))))) | AT33: =IF(OR(ISBLANK(AR33), AR33=0, AR33=""), "", AR33*100/$AR$7)
A34: ='Student Data'!A31 | B34: =IF('Student Data'!B31="","",'Student Data'!B31) | C34: =IF('Student Data'!C31="","",'Student Data'!C31) | D34: =IF('Student Data'!D31="","",'Student Data'!D31) | E34: ='Student Data'!E31 -> 0 | F34: ='Student Data'!F31 -> 0 | G34: =IF('Student Data'!G31="","",'Student Data'!G31) | N34: =IF((AND(H34="",I34="",J34="",K34="",L34="",M34="")),"",SUM(H34:M34)) | O34: =IF(N34="","",IF(N34>159,"A",IF(N34>129,"B",IF(N34>99,"C",IF(N34>69,"D",IF(N34<70,"E",)))))) | P34: =A34 | W34: =IF((AND(Q34="",R34="",S34="",T34="",U34="",V34="")),"",SUM(Q34:V34)) | X34: =IF(W34="","",IF(W34>159,"A",IF(W34>129,"B",IF(W34>99,"C",IF(W34>69,"D",IF(W34<70,"E",)))))) | AE34: =IF((AND(Y34="",Z34="",AA34="",AB34="",AC34="",AD34="")),"",SUM(Y34:AD34)) | AF34: =IF(AE34="","",IF(AE34>159,"A",IF(AE34>129,"B",IF(AE34>99,"C",IF(AE34>69,"D",IF(AE34<70,"E",)))))) | AG34: =P34 | AN34: =IF((AND(AH34="",AI34="",AJ34="",AK34="",AL34="",AM34="")),"",SUM(AH34:AM34)) | AO34: =IF(AN34="","",IF(AN34>159,"A",IF(AN34>129,"B",IF(AN34>99,"C",IF(AN34>69,"D",IF(AN34<70,"E",)))))) | AP34: ='Patrak B'!AU60 | AQ34: =IF(AP34="","",IF(AP34>159,"A",IF(AP34>129,"B",IF(AP34>99,"C",IF(AP34>69,"D",IF(AP34<70,"E",)))))) | AR34: =IF(AND(N34="",W34="",AE34="",AN34="",AP34=""),"",SUM(N34,W34,AE34,AN34,,AP34)) | AS34: =IF(AR34="","",IF(AR34>799,"A",IF(AR34>649,"B",IF(AR34>499,"C",IF(AR34>349,"D",IF(AR34<350,"E",)))))) | AT34: =IF(OR(ISBLANK(AR34), AR34=0, AR34=""), "", AR34*100/$AR$7)
A35: ='Student Data'!A32 | B35: =IF('Student Data'!B32="","",'Student Data'!B32) | C35: =IF('Student Data'!C32="","",'Student Data'!C32) | D35: =IF('Student Data'!D32="","",'Student Data'!D32) | E35: ='Student Data'!E32 -> 0 | F35: ='Student Data'!F32 -> 0 | G35: =IF('Student Data'!G32="","",'Student Data'!G32) | N35: =IF((AND(H35="",I35="",J35="",K35="",L35="",M35="")),"",SUM(H35:M35)) | O35: =IF(N35="","",IF(N35>159,"A",IF(N35>129,"B",IF(N35>99,"C",IF(N35>69,"D",IF(N35<70,"E",)))))) | P35: =A35 | W35: =IF((AND(Q35="",R35="",S35="",T35="",U35="",V35="")),"",SUM(Q35:V35)) | X35: =IF(W35="","",IF(W35>159,"A",IF(W35>129,"B",IF(W35>99,"C",IF(W35>69,"D",IF(W35<70,"E",)))))) | AE35: =IF((AND(Y35="",Z35="",AA35="",AB35="",AC35="",AD35="")),"",SUM(Y35:AD35)) | AF35: =IF(AE35="","",IF(AE35>159,"A",IF(AE35>129,"B",IF(AE35>99,"C",IF(AE35>69,"D",IF(AE35<70,"E",)))))) | AG35: =P35 | AN35: =IF((AND(AH35="",AI35="",AJ35="",AK35="",AL35="",AM35="")),"",SUM(AH35:AM35)) | AO35: =IF(AN35="","",IF(AN35>159,"A",IF(AN35>129,"B",IF(AN35>99,"C",IF(AN35>69,"D",IF(AN35<70,"E",)))))) | AP35: ='Patrak B'!AU62 | AQ35: =IF(AP35="","",IF(AP35>159,"A",IF(AP35>129,"B",IF(AP35>99,"C",IF(AP35>69,"D",IF(AP35<70,"E",)))))) | AR35: =IF(AND(N35="",W35="",AE35="",AN35="",AP35=""),"",SUM(N35,W35,AE35,AN35,,AP35)) | AS35: =IF(AR35="","",IF(AR35>799,"A",IF(AR35>649,"B",IF(AR35>499,"C",IF(AR35>349,"D",IF(AR35<350,"E",)))))) | AT35: =IF(OR(ISBLANK(AR35), AR35=0, AR35=""), "", AR35*100/$AR$7)
A36: ='Student Data'!A33 | B36: =IF('Student Data'!B33="","",'Student Data'!B33) | C36: =IF('Student Data'!C33="","",'Student Data'!C33) | D36: =IF('Student Data'!D33="","",'Student Data'!D33) | E36: ='Student Data'!E33 -> 0 | F36: ='Student Data'!F33 -> 0 | G36: =IF('Student Data'!G33="","",'Student Data'!G33) | N36: =IF((AND(H36="",I36="",J36="",K36="",L36="",M36="")),"",SUM(H36:M36)) | O36: =IF(N36="","",IF(N36>159,"A",IF(N36>129,"B",IF(N36>99,"C",IF(N36>69,"D",IF(N36<70,"E",)))))) | P36: =A36 | W36: =IF((AND(Q36="",R36="",S36="",T36="",U36="",V36="")),"",SUM(Q36:V36)) | X36: =IF(W36="","",IF(W36>159,"A",IF(W36>129,"B",IF(W36>99,"C",IF(W36>69,"D",IF(W36<70,"E",)))))) | AE36: =IF((AND(Y36="",Z36="",AA36="",AB36="",AC36="",AD36="")),"",SUM(Y36:AD36)) | AF36: =IF(AE36="","",IF(AE36>159,"A",IF(AE36>129,"B",IF(AE36>99,"C",IF(AE36>69,"D",IF(AE36<70,"E",)))))) | AG36: =P36 | AN36: =IF((AND(AH36="",AI36="",AJ36="",AK36="",AL36="",AM36="")),"",SUM(AH36:AM36)) | AO36: =IF(AN36="","",IF(AN36>159,"A",IF(AN36>129,"B",IF(AN36>99,"C",IF(AN36>69,"D",IF(AN36<70,"E",)))))) | AP36: ='Patrak B'!AU64 | AQ36: =IF(AP36="","",IF(AP36>159,"A",IF(AP36>129,"B",IF(AP36>99,"C",IF(AP36>69,"D",IF(AP36<70,"E",)))))) | AR36: =IF(AND(N36="",W36="",AE36="",AN36="",AP36=""),"",SUM(N36,W36,AE36,AN36,,AP36)) | AS36: =IF(AR36="","",IF(AR36>799,"A",IF(AR36>649,"B",IF(AR36>499,"C",IF(AR36>349,"D",IF(AR36<350,"E",)))))) | AT36: =IF(OR(ISBLANK(AR36), AR36=0, AR36=""), "", AR36*100/$AR$7)
A37: ='Student Data'!A34 | B37: =IF('Student Data'!B34="","",'Student Data'!B34) | C37: =IF('Student Data'!C34="","",'Student Data'!C34) | D37: =IF('Student Data'!D34="","",'Student Data'!D34) | E37: ='Student Data'!E34 -> 0 | F37: ='Student Data'!F34 -> 0 | G37: =IF('Student Data'!G34="","",'Student Data'!G34) | N37: =IF((AND(H37="",I37="",J37="",K37="",L37="",M37="")),"",SUM(H37:M37)) | O37: =IF(N37="","",IF(N37>159,"A",IF(N37>129,"B",IF(N37>99,"C",IF(N37>69,"D",IF(N37<70,"E",)))))) | P37: =A37 | W37: =IF((AND(Q37="",R37="",S37="",T37="",U37="",V37="")),"",SUM(Q37:V37)) | X37: =IF(W37="","",IF(W37>159,"A",IF(W37>129,"B",IF(W37>99,"C",IF(W37>69,"D",IF(W37<70,"E",)))))) | AE37: =IF((AND(Y37="",Z37="",AA37="",AB37="",AC37="",AD37="")),"",SUM(Y37:AD37)) | AF37: =IF(AE37="","",IF(AE37>159,"A",IF(AE37>129,"B",IF(AE37>99,"C",IF(AE37>69,"D",IF(AE37<70,"E",)))))) | AG37: =P37 | AN37: =IF((AND(AH37="",AI37="",AJ37="",AK37="",AL37="",AM37="")),"",SUM(AH37:AM37)) | AO37: =IF(AN37="","",IF(AN37>159,"A",IF(AN37>129,"B",IF(AN37>99,"C",IF(AN37>69,"D",IF(AN37<70,"E",)))))) | AP37: ='Patrak B'!AU66 | AQ37: =IF(AP37="","",IF(AP37>159,"A",IF(AP37>129,"B",IF(AP37>99,"C",IF(AP37>69,"D",IF(AP37<70,"E",)))))) | AR37: =IF(AND(N37="",W37="",AE37="",AN37="",AP37=""),"",SUM(N37,W37,AE37,AN37,,AP37)) | AS37: =IF(AR37="","",IF(AR37>799,"A",IF(AR37>649,"B",IF(AR37>499,"C",IF(AR37>349,"D",IF(AR37<350,"E",)))))) | AT37: =IF(OR(ISBLANK(AR37), AR37=0, AR37=""), "", AR37*100/$AR$7)
A38: ='Student Data'!A35 | B38: =IF('Student Data'!B35="","",'Student Data'!B35) | C38: =IF('Student Data'!C35="","",'Student Data'!C35) | D38: =IF('Student Data'!D35="","",'Student Data'!D35) | E38: ='Student Data'!E35 -> 0 | F38: ='Student Data'!F35 -> 0 | G38: =IF('Student Data'!G35="","",'Student Data'!G35) | N38: =IF((AND(H38="",I38="",J38="",K38="",L38="",M38="")),"",SUM(H38:M38)) | O38: =IF(N38="","",IF(N38>159,"A",IF(N38>129,"B",IF(N38>99,"C",IF(N38>69,"D",IF(N38<70,"E",)))))) | P38: =A38 | W38: =IF((AND(Q38="",R38="",S38="",T38="",U38="",V38="")),"",SUM(Q38:V38)) | X38: =IF(W38="","",IF(W38>159,"A",IF(W38>129,"B",IF(W38>99,"C",IF(W38>69,"D",IF(W38<70,"E",)))))) | AE38: =IF((AND(Y38="",Z38="",AA38="",AB38="",AC38="",AD38="")),"",SUM(Y38:AD38)) | AF38: =IF(AE38="","",IF(AE38>159,"A",IF(AE38>129,"B",IF(AE38>99,"C",IF(AE38>69,"D",IF(AE38<70,"E",)))))) | AG38: =P38 | AN38: =IF((AND(AH38="",AI38="",AJ38="",AK38="",AL38="",AM38="")),"",SUM(AH38:AM38)) | AO38: =IF(AN38="","",IF(AN38>159,"A",IF(AN38>129,"B",IF(AN38>99,"C",IF(AN38>69,"D",IF(AN38<70,"E",)))))) | AP38: ='Patrak B'!AU68 | AQ38: =IF(AP38="","",IF(AP38>159,"A",IF(AP38>129,"B",IF(AP38>99,"C",IF(AP38>69,"D",IF(AP38<70,"E",)))))) | AR38: =IF(AND(N38="",W38="",AE38="",AN38="",AP38=""),"",SUM(N38,W38,AE38,AN38,,AP38)) | AS38: =IF(AR38="","",IF(AR38>799,"A",IF(AR38>649,"B",IF(AR38>499,"C",IF(AR38>349,"D",IF(AR38<350,"E",)))))) | AT38: =IF(OR(ISBLANK(AR38), AR38=0, AR38=""), "", AR38*100/$AR$7)
A39: ='Student Data'!A36 | B39: =IF('Student Data'!B36="","",'Student Data'!B36) | C39: =IF('Student Data'!C36="","",'Student Data'!C36) | D39: =IF('Student Data'!D36="","",'Student Data'!D36) | E39: ='Student Data'!E36 -> 0 | F39: ='Student Data'!F36 -> 0 | G39: =IF('Student Data'!G36="","",'Student Data'!G36) | N39: =IF((AND(H39="",I39="",J39="",K39="",L39="",M39="")),"",SUM(H39:M39)) | O39: =IF(N39="","",IF(N39>159,"A",IF(N39>129,"B",IF(N39>99,"C",IF(N39>69,"D",IF(N39<70,"E",)))))) | P39: =A39 | W39: =IF((AND(Q39="",R39="",S39="",T39="",U39="",V39="")),"",SUM(Q39:V39)) | X39: =IF(W39="","",IF(W39>159,"A",IF(W39>129,"B",IF(W39>99,"C",IF(W39>69,"D",IF(W39<70,"E",)))))) | AE39: =IF((AND(Y39="",Z39="",AA39="",AB39="",AC39="",AD39="")),"",SUM(Y39:AD39)) | AF39: =IF(AE39="","",IF(AE39>159,"A",IF(AE39>129,"B",IF(AE39>99,"C",IF(AE39>69,"D",IF(AE39<70,"E",)))))) | AG39: =P39 | AN39: =IF((AND(AH39="",AI39="",AJ39="",AK39="",AL39="",AM39="")),"",SUM(AH39:AM39)) | AO39: =IF(AN39="","",IF(AN39>159,"A",IF(AN39>129,"B",IF(AN39>99,"C",IF(AN39>69,"D",IF(AN39<70,"E",)))))) | AP39: ='Patrak B'!AU70 | AQ39: =IF(AP39="","",IF(AP39>159,"A",IF(AP39>129,"B",IF(AP39>99,"C",IF(AP39>69,"D",IF(AP39<70,"E",)))))) | AR39: =IF(AND(N39="",W39="",AE39="",AN39="",AP39=""),"",SUM(N39,W39,AE39,AN39,,AP39)) | AS39: =IF(AR39="","",IF(AR39>799,"A",IF(AR39>649,"B",IF(AR39>499,"C",IF(AR39>349,"D",IF(AR39<350,"E",)))))) | AT39: =IF(OR(ISBLANK(AR39), AR39=0, AR39=""), "", AR39*100/$AR$7)
A40: ='Student Data'!A37 | B40: =IF('Student Data'!B37="","",'Student Data'!B37) | C40: =IF('Student Data'!C37="","",'Student Data'!C37) | D40: =IF('Student Data'!D37="","",'Student Data'!D37) | E40: ='Student Data'!E37 -> 0 | F40: ='Student Data'!F37 -> 0 | G40: =IF('Student Data'!G37="","",'Student Data'!G37) | N40: =IF((AND(H40="",I40="",J40="",K40="",L40="",M40="")),"",SUM(H40:M40)) | O40: =IF(N40="","",IF(N40>159,"A",IF(N40>129,"B",IF(N40>99,"C",IF(N40>69,"D",IF(N40<70,"E",)))))) | P40: =A40 | W40: =IF((AND(Q40="",R40="",S40="",T40="",U40="",V40="")),"",SUM(Q40:V40)) | X40: =IF(W40="","",IF(W40>159,"A",IF(W40>129,"B",IF(W40>99,"C",IF(W40>69,"D",IF(W40<70,"E",)))))) | AE40: =IF((AND(Y40="",Z40="",AA40="",AB40="",AC40="",AD40="")),"",SUM(Y40:AD40)) | AF40: =IF(AE40="","",IF(AE40>159,"A",IF(AE40>129,"B",IF(AE40>99,"C",IF(AE40>69,"D",IF(AE40<70,"E",)))))) | AG40: =P40 | AN40: =IF((AND(AH40="",AI40="",AJ40="",AK40="",AL40="",AM40="")),"",SUM(AH40:AM40)) | AO40: =IF(AN40="","",IF(AN40>159,"A",IF(AN40>129,"B",IF(AN40>99,"C",IF(AN40>69,"D",IF(AN40<70,"E",)))))) | AP40: ='Patrak B'!AU72 | AQ40: =IF(AP40="","",IF(AP40>159,"A",IF(AP40>129,"B",IF(AP40>99,"C",IF(AP40>69,"D",IF(AP40<70,"E",)))))) | AR40: =IF(AND(N40="",W40="",AE40="",AN40="",AP40=""),"",SUM(N40,W40,AE40,AN40,,AP40)) | AS40: =IF(AR40="","",IF(AR40>799,"A",IF(AR40>649,"B",IF(AR40>499,"C",IF(AR40>349,"D",IF(AR40<350,"E",)))))) | AT40: =IF(OR(ISBLANK(AR40), AR40=0, AR40=""), "", AR40*100/$AR$7)
A41: ='Student Data'!A38 | B41: =IF('Student Data'!B38="","",'Student Data'!B38) | C41: =IF('Student Data'!C38="","",'Student Data'!C38) | D41: =IF('Student Data'!D38="","",'Student Data'!D38) | E41: ='Student Data'!E38 -> 0 | F41: ='Student Data'!F38 -> 0 | G41: =IF('Student Data'!G38="","",'Student Data'!G38) | N41: =IF((AND(H41="",I41="",J41="",K41="",L41="",M41="")),"",SUM(H41:M41)) | O41: =IF(N41="","",IF(N41>159,"A",IF(N41>129,"B",IF(N41>99,"C",IF(N41>69,"D",IF(N41<70,"E",)))))) | P41: =A41 | W41: =IF((AND(Q41="",R41="",S41="",T41="",U41="",V41="")),"",SUM(Q41:V41)) | X41: =IF(W41="","",IF(W41>159,"A",IF(W41>129,"B",IF(W41>99,"C",IF(W41>69,"D",IF(W41<70,"E",)))))) | AE41: =IF((AND(Y41="",Z41="",AA41="",AB41="",AC41="",AD41="")),"",SUM(Y41:AD41)) | AF41: =IF(AE41="","",IF(AE41>159,"A",IF(AE41>129,"B",IF(AE41>99,"C",IF(AE41>69,"D",IF(AE41<70,"E",)))))) | AG41: =P41 | AN41: =IF((AND(AH41="",AI41="",AJ41="",AK41="",AL41="",AM41="")),"",SUM(AH41:AM41)) | AO41: =IF(AN41="","",IF(AN41>159,"A",IF(AN41>129,"B",IF(AN41>99,"C",IF(AN41>69,"D",IF(AN41<70,"E",)))))) | AP41: ='Patrak B'!AU74 | AQ41: =IF(AP41="","",IF(AP41>159,"A",IF(AP41>129,"B",IF(AP41>99,"C",IF(AP41>69,"D",IF(AP41<70,"E",)))))) | AR41: =IF(AND(N41="",W41="",AE41="",AN41="",AP41=""),"",SUM(N41,W41,AE41,AN41,,AP41)) | AS41: =IF(AR41="","",IF(AR41>799,"A",IF(AR41>649,"B",IF(AR41>499,"C",IF(AR41>349,"D",IF(AR41<350,"E",)))))) | AT41: =IF(OR(ISBLANK(AR41), AR41=0, AR41=""), "", AR41*100/$AR$7)
A42: ='Student Data'!A39 | B42: =IF('Student Data'!B39="","",'Student Data'!B39) | C42: =IF('Student Data'!C39="","",'Student Data'!C39) | D42: =IF('Student Data'!D39="","",'Student Data'!D39) | E42: ='Student Data'!E39 -> 0 | F42: ='Student Data'!F39 -> 0 | G42: =IF('Student Data'!G39="","",'Student Data'!G39) | N42: =IF((AND(H42="",I42="",J42="",K42="",L42="",M42="")),"",SUM(H42:M42)) | O42: =IF(N42="","",IF(N42>159,"A",IF(N42>129,"B",IF(N42>99,"C",IF(N42>69,"D",IF(N42<70,"E",)))))) | P42: =A42 | W42: =IF((AND(Q42="",R42="",S42="",T42="",U42="",V42="")),"",SUM(Q42:V42)) | X42: =IF(W42="","",IF(W42>159,"A",IF(W42>129,"B",IF(W42>99,"C",IF(W42>69,"D",IF(W42<70,"E",)))))) | AE42: =IF((AND(Y42="",Z42="",AA42="",AB42="",AC42="",AD42="")),"",SUM(Y42:AD42)) | AF42: =IF(AE42="","",IF(AE42>159,"A",IF(AE42>129,"B",IF(AE42>99,"C",IF(AE42>69,"D",IF(AE42<70,"E",)))))) | AG42: =P42 | AN42: =IF((AND(AH42="",AI42="",AJ42="",AK42="",AL42="",AM42="")),"",SUM(AH42:AM42)) | AO42: =IF(AN42="","",IF(AN42>159,"A",IF(AN42>129,"B",IF(AN42>99,"C",IF(AN42>69,"D",IF(AN42<70,"E",)))))) | AP42: ='Patrak B'!AU76 | AQ42: =IF(AP42="","",IF(AP42>159,"A",IF(AP42>129,"B",IF(AP42>99,"C",IF(AP42>69,"D",IF(AP42<70,"E",)))))) | AR42: =IF(AND(N42="",W42="",AE42="",AN42="",AP42=""),"",SUM(N42,W42,AE42,AN42,,AP42)) | AS42: =IF(AR42="","",IF(AR42>799,"A",IF(AR42>649,"B",IF(AR42>499,"C",IF(AR42>349,"D",IF(AR42<350,"E",)))))) | AT42: =IF(OR(ISBLANK(AR42), AR42=0, AR42=""), "", AR42*100/$AR$7)
A43: ='Student Data'!A40 | B43: =IF('Student Data'!B40="","",'Student Data'!B40) | C43: =IF('Student Data'!C40="","",'Student Data'!C40) | D43: =IF('Student Data'!D40="","",'Student Data'!D40) | E43: ='Student Data'!E40 -> 0 | F43: ='Student Data'!F40 -> 0 | G43: =IF('Student Data'!G40="","",'Student Data'!G40) | N43: =IF((AND(H43="",I43="",J43="",K43="",L43="",M43="")),"",SUM(H43:M43)) | O43: =IF(N43="","",IF(N43>159,"A",IF(N43>129,"B",IF(N43>99,"C",IF(N43>69,"D",IF(N43<70,"E",)))))) | P43: =A43 | W43: =IF((AND(Q43="",R43="",S43="",T43="",U43="",V43="")),"",SUM(Q43:V43)) | X43: =IF(W43="","",IF(W43>159,"A",IF(W43>129,"B",IF(W43>99,"C",IF(W43>69,"D",IF(W43<70,"E",)))))) | AE43: =IF((AND(Y43="",Z43="",AA43="",AB43="",AC43="",AD43="")),"",SUM(Y43:AD43)) | AF43: =IF(AE43="","",IF(AE43>159,"A",IF(AE43>129,"B",IF(AE43>99,"C",IF(AE43>69,"D",IF(AE43<70,"E",)))))) | AG43: =P43 | AN43: =IF((AND(AH43="",AI43="",AJ43="",AK43="",AL43="",AM43="")),"",SUM(AH43:AM43)) | AO43: =IF(AN43="","",IF(AN43>159,"A",IF(AN43>129,"B",IF(AN43>99,"C",IF(AN43>69,"D",IF(AN43<70,"E",)))))) | AP43: ='Patrak B'!AU78 | AQ43: =IF(AP43="","",IF(AP43>159,"A",IF(AP43>129,"B",IF(AP43>99,"C",IF(AP43>69,"D",IF(AP43<70,"E",)))))) | AR43: =IF(AND(N43="",W43="",AE43="",AN43="",AP43=""),"",SUM(N43,W43,AE43,AN43,,AP43)) | AS43: =IF(AR43="","",IF(AR43>799,"A",IF(AR43>649,"B",IF(AR43>499,"C",IF(AR43>349,"D",IF(AR43<350,"E",)))))) | AT43: =IF(OR(ISBLANK(AR43), AR43=0, AR43=""), "", AR43*100/$AR$7)
A44: ='Student Data'!A41 | B44: =IF('Student Data'!B41="","",'Student Data'!B41) | C44: =IF('Student Data'!C41="","",'Student Data'!C41) | D44: =IF('Student Data'!D41="","",'Student Data'!D41) | E44: ='Student Data'!E41 -> 0 | F44: ='Student Data'!F41 -> 0 | G44: =IF('Student Data'!G41="","",'Student Data'!G41) | N44: =IF((AND(H44="",I44="",J44="",K44="",L44="",M44="")),"",SUM(H44:M44)) | O44: =IF(N44="","",IF(N44>159,"A",IF(N44>129,"B",IF(N44>99,"C",IF(N44>69,"D",IF(N44<70,"E",)))))) | P44: =A44 | W44: =IF((AND(Q44="",R44="",S44="",T44="",U44="",V44="")),"",SUM(Q44:V44)) | X44: =IF(W44="","",IF(W44>159,"A",IF(W44>129,"B",IF(W44>99,"C",IF(W44>69,"D",IF(W44<70,"E",)))))) | AE44: =IF((AND(Y44="",Z44="",AA44="",AB44="",AC44="",AD44="")),"",SUM(Y44:AD44)) | AF44: =IF(AE44="","",IF(AE44>159,"A",IF(AE44>129,"B",IF(AE44>99,"C",IF(AE44>69,"D",IF(AE44<70,"E",)))))) | AG44: =P44 | AN44: =IF((AND(AH44="",AI44="",AJ44="",AK44="",AL44="",AM44="")),"",SUM(AH44:AM44)) | AO44: =IF(AN44="","",IF(AN44>159,"A",IF(AN44>129,"B",IF(AN44>99,"C",IF(AN44>69,"D",IF(AN44<70,"E",)))))) | AP44: ='Patrak B'!AU80 | AQ44: =IF(AP44="","",IF(AP44>159,"A",IF(AP44>129,"B",IF(AP44>99,"C",IF(AP44>69,"D",IF(AP44<70,"E",)))))) | AR44: =IF(AND(N44="",W44="",AE44="",AN44="",AP44=""),"",SUM(N44,W44,AE44,AN44,,AP44)) | AS44: =IF(AR44="","",IF(AR44>799,"A",IF(AR44>649,"B",IF(AR44>499,"C",IF(AR44>349,"D",IF(AR44<350,"E",)))))) | AT44: =IF(OR(ISBLANK(AR44), AR44=0, AR44=""), "", AR44*100/$AR$7)
A45: ='Student Data'!A42 | B45: =IF('Student Data'!B42="","",'Student Data'!B42) | C45: =IF('Student Data'!C42="","",'Student Data'!C42) | D45: =IF('Student Data'!D42="","",'Student Data'!D42) | E45: ='Student Data'!E42 -> 0 | F45: ='Student Data'!F42 -> 0 | G45: =IF('Student Data'!G42="","",'Student Data'!G42) | N45: =IF((AND(H45="",I45="",J45="",K45="",L45="",M45="")),"",SUM(H45:M45)) | O45: =IF(N45="","",IF(N45>159,"A",IF(N45>129,"B",IF(N45>99,"C",IF(N45>69,"D",IF(N45<70,"E",)))))) | P45: =A45 | W45: =IF((AND(Q45="",R45="",S45="",T45="",U45="",V45="")),"",SUM(Q45:V45)) | X45: =IF(W45="","",IF(W45>159,"A",IF(W45>129,"B",IF(W45>99,"C",IF(W45>69,"D",IF(W45<70,"E",)))))) | AE45: =IF((AND(Y45="",Z45="",AA45="",AB45="",AC45="",AD45="")),"",SUM(Y45:AD45)) | AF45: =IF(AE45="","",IF(AE45>159,"A",IF(AE45>129,"B",IF(AE45>99,"C",IF(AE45>69,"D",IF(AE45<70,"E",)))))) | AG45: =P45 | AN45: =IF((AND(AH45="",AI45="",AJ45="",AK45="",AL45="",AM45="")),"",SUM(AH45:AM45)) | AO45: =IF(AN45="","",IF(AN45>159,"A",IF(AN45>129,"B",IF(AN45>99,"C",IF(AN45>69,"D",IF(AN45<70,"E",)))))) | AP45: ='Patrak B'!AU82 | AQ45: =IF(AP45="","",IF(AP45>159,"A",IF(AP45>129,"B",IF(AP45>99,"C",IF(AP45>69,"D",IF(AP45<70,"E",)))))) | AR45: =IF(AND(N45="",W45="",AE45="",AN45="",AP45=""),"",SUM(N45,W45,AE45,AN45,,AP45)) | AS45: =IF(AR45="","",IF(AR45>799,"A",IF(AR45>649,"B",IF(AR45>499,"C",IF(AR45>349,"D",IF(AR45<350,"E",)))))) | AT45: =IF(OR(ISBLANK(AR45), AR45=0, AR45=""), "", AR45*100/$AR$7)
A46: ='Student Data'!A43 | B46: =IF('Student Data'!B43="","",'Student Data'!B43) | C46: =IF('Student Data'!C43="","",'Student Data'!C43) | D46: =IF('Student Data'!D43="","",'Student Data'!D43) | E46: ='Student Data'!E43 -> 0 | F46: ='Student Data'!F43 -> 0 | G46: =IF('Student Data'!G43="","",'Student Data'!G43) | N46: =IF((AND(H46="",I46="",J46="",K46="",L46="",M46="")),"",SUM(H46:M46)) | O46: =IF(N46="","",IF(N46>159,"A",IF(N46>129,"B",IF(N46>99,"C",IF(N46>69,"D",IF(N46<70,"E",)))))) | P46: =A46 | W46: =IF((AND(Q46="",R46="",S46="",T46="",U46="",V46="")),"",SUM(Q46:V46)) | X46: =IF(W46="","",IF(W46>159,"A",IF(W46>129,"B",IF(W46>99,"C",IF(W46>69,"D",IF(W46<70,"E",)))))) | AE46: =IF((AND(Y46="",Z46="",AA46="",AB46="",AC46="",AD46="")),"",SUM(Y46:AD46)) | AF46: =IF(AE46="","",IF(AE46>159,"A",IF(AE46>129,"B",IF(AE46>99,"C",IF(AE46>69,"D",IF(AE46<70,"E",)))))) | AG46: =P46 | AN46: =IF((AND(AH46="",AI46="",AJ46="",AK46="",AL46="",AM46="")),"",SUM(AH46:AM46)) | AO46: =IF(AN46="","",IF(AN46>159,"A",IF(AN46>129,"B",IF(AN46>99,"C",IF(AN46>69,"D",IF(AN46<70,"E",)))))) | AP46: ='Patrak B'!AU84 | AQ46: =IF(AP46="","",IF(AP46>159,"A",IF(AP46>129,"B",IF(AP46>99,"C",IF(AP46>69,"D",IF(AP46<70,"E",)))))) | AR46: =IF(AND(N46="",W46="",AE46="",AN46="",AP46=""),"",SUM(N46,W46,AE46,AN46,,AP46)) | AS46: =IF(AR46="","",IF(AR46>799,"A",IF(AR46>649,"B",IF(AR46>499,"C",IF(AR46>349,"D",IF(AR46<350,"E",)))))) | AT46: =IF(OR(ISBLANK(AR46), AR46=0, AR46=""), "", AR46*100/$AR$7)
A47: ='Student Data'!A44 | B47: =IF('Student Data'!B44="","",'Student Data'!B44) | C47: =IF('Student Data'!C44="","",'Student Data'!C44) | D47: =IF('Student Data'!D44="","",'Student Data'!D44) | E47: ='Student Data'!E44 -> 0 | F47: ='Student Data'!F44 -> 0 | G47: =IF('Student Data'!G44="","",'Student Data'!G44) | N47: =IF((AND(H47="",I47="",J47="",K47="",L47="",M47="")),"",SUM(H47:M47)) | O47: =IF(N47="","",IF(N47>159,"A",IF(N47>129,"B",IF(N47>99,"C",IF(N47>69,"D",IF(N47<70,"E",)))))) | P47: =A47 | W47: =IF((AND(Q47="",R47="",S47="",T47="",U47="",V47="")),"",SUM(Q47:V47)) | X47: =IF(W47="","",IF(W47>159,"A",IF(W47>129,"B",IF(W47>99,"C",IF(W47>69,"D",IF(W47<70,"E",)))))) | AE47: =IF((AND(Y47="",Z47="",AA47="",AB47="",AC47="",AD47="")),"",SUM(Y47:AD47)) | AF47: =IF(AE47="","",IF(AE47>159,"A",IF(AE47>129,"B",IF(AE47>99,"C",IF(AE47>69,"D",IF(AE47<70,"E",)))))) | AG47: =P47 | AN47: =IF((AND(AH47="",AI47="",AJ47="",AK47="",AL47="",AM47="")),"",SUM(AH47:AM47)) | AO47: =IF(AN47="","",IF(AN47>159,"A",IF(AN47>129,"B",IF(AN47>99,"C",IF(AN47>69,"D",IF(AN47<70,"E",)))))) | AP47: ='Patrak B'!AU86 | AQ47: =IF(AP47="","",IF(AP47>159,"A",IF(AP47>129,"B",IF(AP47>99,"C",IF(AP47>69,"D",IF(AP47<70,"E",)))))) | AR47: =IF(AND(N47="",W47="",AE47="",AN47="",AP47=""),"",SUM(N47,W47,AE47,AN47,,AP47)) | AS47: =IF(AR47="","",IF(AR47>799,"A",IF(AR47>649,"B",IF(AR47>499,"C",IF(AR47>349,"D",IF(AR47<350,"E",)))))) | AT47: =IF(OR(ISBLANK(AR47), AR47=0, AR47=""), "", AR47*100/$AR$7)
A48: ='Student Data'!A45 | B48: =IF('Student Data'!B45="","",'Student Data'!B45) | C48: =IF('Student Data'!C45="","",'Student Data'!C45) | D48: =IF('Student Data'!D45="","",'Student Data'!D45) | E48: ='Student Data'!E45 -> 0 | F48: ='Student Data'!F45 -> 0 | G48: =IF('Student Data'!G45="","",'Student Data'!G45) | N48: =IF((AND(H48="",I48="",J48="",K48="",L48="",M48="")),"",SUM(H48:M48)) | O48: =IF(N48="","",IF(N48>159,"A",IF(N48>129,"B",IF(N48>99,"C",IF(N48>69,"D",IF(N48<70,"E",)))))) | P48: =A48 | W48: =IF((AND(Q48="",R48="",S48="",T48="",U48="",V48="")),"",SUM(Q48:V48)) | X48: =IF(W48="","",IF(W48>159,"A",IF(W48>129,"B",IF(W48>99,"C",IF(W48>69,"D",IF(W48<70,"E",)))))) | AE48: =IF((AND(Y48="",Z48="",AA48="",AB48="",AC48="",AD48="")),"",SUM(Y48:AD48)) | AF48: =IF(AE48="","",IF(AE48>159,"A",IF(AE48>129,"B",IF(AE48>99,"C",IF(AE48>69,"D",IF(AE48<70,"E",)))))) | AG48: =P48 | AN48: =IF((AND(AH48="",AI48="",AJ48="",AK48="",AL48="",AM48="")),"",SUM(AH48:AM48)) | AO48: =IF(AN48="","",IF(AN48>159,"A",IF(AN48>129,"B",IF(AN48>99,"C",IF(AN48>69,"D",IF(AN48<70,"E",)))))) | AP48: ='Patrak B'!AU88 | AQ48: =IF(AP48="","",IF(AP48>159,"A",IF(AP48>129,"B",IF(AP48>99,"C",IF(AP48>69,"D",IF(AP48<70,"E",)))))) | AR48: =IF(AND(N48="",W48="",AE48="",AN48="",AP48=""),"",SUM(N48,W48,AE48,AN48,,AP48)) | AS48: =IF(AR48="","",IF(AR48>799,"A",IF(AR48>649,"B",IF(AR48>499,"C",IF(AR48>349,"D",IF(AR48<350,"E",)))))) | AT48: =IF(OR(ISBLANK(AR48), AR48=0, AR48=""), "", AR48*100/$AR$7)
A49: ='Student Data'!A46 | B49: =IF('Student Data'!B46="","",'Student Data'!B46) | C49: =IF('Student Data'!C46="","",'Student Data'!C46) | D49: =IF('Student Data'!D46="","",'Student Data'!D46) | E49: ='Student Data'!E46 -> 0 | F49: ='Student Data'!F46 -> 0 | G49: =IF('Student Data'!G46="","",'Student Data'!G46) | N49: =IF((AND(H49="",I49="",J49="",K49="",L49="",M49="")),"",SUM(H49:M49)) | O49: =IF(N49="","",IF(N49>159,"A",IF(N49>129,"B",IF(N49>99,"C",IF(N49>69,"D",IF(N49<70,"E",)))))) | P49: =A49 | W49: =IF((AND(Q49="",R49="",S49="",T49="",U49="",V49="")),"",SUM(Q49:V49)) | X49: =IF(W49="","",IF(W49>159,"A",IF(W49>129,"B",IF(W49>99,"C",IF(W49>69,"D",IF(W49<70,"E",)))))) | AE49: =IF((AND(Y49="",Z49="",AA49="",AB49="",AC49="",AD49="")),"",SUM(Y49:AD49)) | AF49: =IF(AE49="","",IF(AE49>159,"A",IF(AE49>129,"B",IF(AE49>99,"C",IF(AE49>69,"D",IF(AE49<70,"E",)))))) | AG49: =P49 | AN49: =IF((AND(AH49="",AI49="",AJ49="",AK49="",AL49="",AM49="")),"",SUM(AH49:AM49)) | AO49: =IF(AN49="","",IF(AN49>159,"A",IF(AN49>129,"B",IF(AN49>99,"C",IF(AN49>69,"D",IF(AN49<70,"E",)))))) | AP49: ='Patrak B'!AU90 | AQ49: =IF(AP49="","",IF(AP49>159,"A",IF(AP49>129,"B",IF(AP49>99,"C",IF(AP49>69,"D",IF(AP49<70,"E",)))))) | AR49: =IF(AND(N49="",W49="",AE49="",AN49="",AP49=""),"",SUM(N49,W49,AE49,AN49,,AP49)) | AS49: =IF(AR49="","",IF(AR49>799,"A",IF(AR49>649,"B",IF(AR49>499,"C",IF(AR49>349,"D",IF(AR49<350,"E",)))))) | AT49: =IF(OR(ISBLANK(AR49), AR49=0, AR49=""), "", AR49*100/$AR$7)
A50: ='Student Data'!A47 | B50: =IF('Student Data'!B47="","",'Student Data'!B47) | C50: =IF('Student Data'!C47="","",'Student Data'!C47) | D50: =IF('Student Data'!D47="","",'Student Data'!D47) | E50: ='Student Data'!E47 -> 0 | F50: ='Student Data'!F47 -> 0 | G50: =IF('Student Data'!G47="","",'Student Data'!G47) | N50: =IF((AND(H50="",I50="",J50="",K50="",L50="",M50="")),"",SUM(H50:M50)) | O50: =IF(N50="","",IF(N50>159,"A",IF(N50>129,"B",IF(N50>99,"C",IF(N50>69,"D",IF(N50<70,"E",)))))) | P50: =A50 | W50: =IF((AND(Q50="",R50="",S50="",T50="",U50="",V50="")),"",SUM(Q50:V50)) | X50: =IF(W50="","",IF(W50>159,"A",IF(W50>129,"B",IF(W50>99,"C",IF(W50>69,"D",IF(W50<70,"E",)))))) | AE50: =IF((AND(Y50="",Z50="",AA50="",AB50="",AC50="",AD50="")),"",SUM(Y50:AD50)) | AF50: =IF(AE50="","",IF(AE50>159,"A",IF(AE50>129,"B",IF(AE50>99,"C",IF(AE50>69,"D",IF(AE50<70,"E",)))))) | AG50: =P50 | AN50: =IF((AND(AH50="",AI50="",AJ50="",AK50="",AL50="",AM50="")),"",SUM(AH50:AM50)) | AO50: =IF(AN50="","",IF(AN50>159,"A",IF(AN50>129,"B",IF(AN50>99,"C",IF(AN50>69,"D",IF(AN50<70,"E",)))))) | AP50: ='Patrak B'!AU92 | AQ50: =IF(AP50="","",IF(AP50>159,"A",IF(AP50>129,"B",IF(AP50>99,"C",IF(AP50>69,"D",IF(AP50<70,"E",)))))) | AR50: =IF(AND(N50="",W50="",AE50="",AN50="",AP50=""),"",SUM(N50,W50,AE50,AN50,,AP50)) | AS50: =IF(AR50="","",IF(AR50>799,"A",IF(AR50>649,"B",IF(AR50>499,"C",IF(AR50>349,"D",IF(AR50<350,"E",)))))) | AT50: =IF(OR(ISBLANK(AR50), AR50=0, AR50=""), "", AR50*100/$AR$7)
A51: ='Student Data'!A48 | B51: =IF('Student Data'!B48="","",'Student Data'!B48) | C51: =IF('Student Data'!C48="","",'Student Data'!C48) | D51: =IF('Student Data'!D48="","",'Student Data'!D48) | E51: ='Student Data'!E48 -> 0 | F51: ='Student Data'!F48 -> 0 | G51: =IF('Student Data'!G48="","",'Student Data'!G48) | N51: =IF((AND(H51="",I51="",J51="",K51="",L51="",M51="")),"",SUM(H51:M51)) | O51: =IF(N51="","",IF(N51>159,"A",IF(N51>129,"B",IF(N51>99,"C",IF(N51>69,"D",IF(N51<70,"E",)))))) | P51: =A51 | W51: =IF((AND(Q51="",R51="",S51="",T51="",U51="",V51="")),"",SUM(Q51:V51)) | X51: =IF(W51="","",IF(W51>159,"A",IF(W51>129,"B",IF(W51>99,"C",IF(W51>69,"D",IF(W51<70,"E",)))))) | AE51: =IF((AND(Y51="",Z51="",AA51="",AB51="",AC51="",AD51="")),"",SUM(Y51:AD51)) | AF51: =IF(AE51="","",IF(AE51>159,"A",IF(AE51>129,"B",IF(AE51>99,"C",IF(AE51>69,"D",IF(AE51<70,"E",)))))) | AG51: =P51 | AN51: =IF((AND(AH51="",AI51="",AJ51="",AK51="",AL51="",AM51="")),"",SUM(AH51:AM51)) | AO51: =IF(AN51="","",IF(AN51>159,"A",IF(AN51>129,"B",IF(AN51>99,"C",IF(AN51>69,"D",IF(AN51<70,"E",)))))) | AP51: ='Patrak B'!AU94 | AQ51: =IF(AP51="","",IF(AP51>159,"A",IF(AP51>129,"B",IF(AP51>99,"C",IF(AP51>69,"D",IF(AP51<70,"E",)))))) | AR51: =IF(AND(N51="",W51="",AE51="",AN51="",AP51=""),"",SUM(N51,W51,AE51,AN51,,AP51)) | AS51: =IF(AR51="","",IF(AR51>799,"A",IF(AR51>649,"B",IF(AR51>499,"C",IF(AR51>349,"D",IF(AR51<350,"E",)))))) | AT51: =IF(OR(ISBLANK(AR51), AR51=0, AR51=""), "", AR51*100/$AR$7)
A52: ='Student Data'!A49 | B52: =IF('Student Data'!B49="","",'Student Data'!B49) | C52: =IF('Student Data'!C49="","",'Student Data'!C49) | D52: =IF('Student Data'!D49="","",'Student Data'!D49) | E52: ='Student Data'!E49 -> 0 | F52: ='Student Data'!F49 -> 0 | G52: =IF('Student Data'!G49="","",'Student Data'!G49) | N52: =IF((AND(H52="",I52="",J52="",K52="",L52="",M52="")),"",SUM(H52:M52)) | O52: =IF(N52="","",IF(N52>159,"A",IF(N52>129,"B",IF(N52>99,"C",IF(N52>69,"D",IF(N52<70,"E",)))))) | P52: =A52 | W52: =IF((AND(Q52="",R52="",S52="",T52="",U52="",V52="")),"",SUM(Q52:V52)) | X52: =IF(W52="","",IF(W52>159,"A",IF(W52>129,"B",IF(W52>99,"C",IF(W52>69,"D",IF(W52<70,"E",)))))) | AE52: =IF((AND(Y52="",Z52="",AA52="",AB52="",AC52="",AD52="")),"",SUM(Y52:AD52)) | AF52: =IF(AE52="","",IF(AE52>159,"A",IF(AE52>129,"B",IF(AE52>99,"C",IF(AE52>69,"D",IF(AE52<70,"E",)))))) | AG52: =P52 | AN52: =IF((AND(AH52="",AI52="",AJ52="",AK52="",AL52="",AM52="")),"",SUM(AH52:AM52)) | AO52: =IF(AN52="","",IF(AN52>159,"A",IF(AN52>129,"B",IF(AN52>99,"C",IF(AN52>69,"D",IF(AN52<70,"E",)))))) | AP52: ='Patrak B'!AU96 | AQ52: =IF(AP52="","",IF(AP52>159,"A",IF(AP52>129,"B",IF(AP52>99,"C",IF(AP52>69,"D",IF(AP52<70,"E",)))))) | AR52: =IF(AND(N52="",W52="",AE52="",AN52="",AP52=""),"",SUM(N52,W52,AE52,AN52,,AP52)) | AS52: =IF(AR52="","",IF(AR52>799,"A",IF(AR52>649,"B",IF(AR52>499,"C",IF(AR52>349,"D",IF(AR52<350,"E",)))))) | AT52: =IF(OR(ISBLANK(AR52), AR52=0, AR52=""), "", AR52*100/$AR$7)
A53: ='Student Data'!A50 | B53: =IF('Student Data'!B50="","",'Student Data'!B50) | C53: =IF('Student Data'!C50="","",'Student Data'!C50) | D53: =IF('Student Data'!D50="","",'Student Data'!D50) | E53: ='Student Data'!E50 -> 0 | F53: ='Student Data'!F50 -> 0 | G53: =IF('Student Data'!G50="","",'Student Data'!G50) | N53: =IF((AND(H53="",I53="",J53="",K53="",L53="",M53="")),"",SUM(H53:M53)) | O53: =IF(N53="","",IF(N53>159,"A",IF(N53>129,"B",IF(N53>99,"C",IF(N53>69,"D",IF(N53<70,"E",)))))) | P53: =A53 | W53: =IF((AND(Q53="",R53="",S53="",T53="",U53="",V53="")),"",SUM(Q53:V53)) | X53: =IF(W53="","",IF(W53>159,"A",IF(W53>129,"B",IF(W53>99,"C",IF(W53>69,"D",IF(W53<70,"E",)))))) | AE53: =IF((AND(Y53="",Z53="",AA53="",AB53="",AC53="",AD53="")),"",SUM(Y53:AD53)) | AF53: =IF(AE53="","",IF(AE53>159,"A",IF(AE53>129,"B",IF(AE53>99,"C",IF(AE53>69,"D",IF(AE53<70,"E",)))))) | AG53: =P53 | AN53: =IF((AND(AH53="",AI53="",AJ53="",AK53="",AL53="",AM53="")),"",SUM(AH53:AM53)) | AO53: =IF(AN53="","",IF(AN53>159,"A",IF(AN53>129,"B",IF(AN53>99,"C",IF(AN53>69,"D",IF(AN53<70,"E",)))))) | AP53: ='Patrak B'!AU98 | AQ53: =IF(AP53="","",IF(AP53>159,"A",IF(AP53>129,"B",IF(AP53>99,"C",IF(AP53>69,"D",IF(AP53<70,"E",)))))) | AR53: =IF(AND(N53="",W53="",AE53="",AN53="",AP53=""),"",SUM(N53,W53,AE53,AN53,,AP53)) | AS53: =IF(AR53="","",IF(AR53>799,"A",IF(AR53>649,"B",IF(AR53>499,"C",IF(AR53>349,"D",IF(AR53<350,"E",)))))) | AT53: =IF(OR(ISBLANK(AR53), AR53=0, AR53=""), "", AR53*100/$AR$7)
A54: ='Student Data'!A51 | B54: =IF('Student Data'!B51="","",'Student Data'!B51) | C54: =IF('Student Data'!C51="","",'Student Data'!C51) | D54: =IF('Student Data'!D51="","",'Student Data'!D51) | E54: ='Student Data'!E51 -> 0 | F54: ='Student Data'!F51 -> 0 | G54: =IF('Student Data'!G51="","",'Student Data'!G51) | N54: =IF((AND(H54="",I54="",J54="",K54="",L54="",M54="")),"",SUM(H54:M54)) | O54: =IF(N54="","",IF(N54>159,"A",IF(N54>129,"B",IF(N54>99,"C",IF(N54>69,"D",IF(N54<70,"E",)))))) | P54: =A54 | W54: =IF((AND(Q54="",R54="",S54="",T54="",U54="",V54="")),"",SUM(Q54:V54)) | X54: =IF(W54="","",IF(W54>159,"A",IF(W54>129,"B",IF(W54>99,"C",IF(W54>69,"D",IF(W54<70,"E",)))))) | AE54: =IF((AND(Y54="",Z54="",AA54="",AB54="",AC54="",AD54="")),"",SUM(Y54:AD54)) | AF54: =IF(AE54="","",IF(AE54>159,"A",IF(AE54>129,"B",IF(AE54>99,"C",IF(AE54>69,"D",IF(AE54<70,"E",)))))) | AG54: =P54 | AN54: =IF((AND(AH54="",AI54="",AJ54="",AK54="",AL54="",AM54="")),"",SUM(AH54:AM54)) | AO54: =IF(AN54="","",IF(AN54>159,"A",IF(AN54>129,"B",IF(AN54>99,"C",IF(AN54>69,"D",IF(AN54<70,"E",)))))) | AP54: ='Patrak B'!AU100 | AQ54: =IF(AP54="","",IF(AP54>159,"A",IF(AP54>129,"B",IF(AP54>99,"C",IF(AP54>69,"D",IF(AP54<70,"E",)))))) | AR54: =IF(AND(N54="",W54="",AE54="",AN54="",AP54=""),"",SUM(N54,W54,AE54,AN54,,AP54)) | AS54: =IF(AR54="","",IF(AR54>799,"A",IF(AR54>649,"B",IF(AR54>499,"C",IF(AR54>349,"D",IF(AR54<350,"E",)))))) | AT54: =IF(OR(ISBLANK(AR54), AR54=0, AR54=""), "", AR54*100/$AR$7)
A55: ='Student Data'!A52 | B55: =IF('Student Data'!B52="","",'Student Data'!B52) | C55: =IF('Student Data'!C52="","",'Student Data'!C52) | D55: =IF('Student Data'!D52="","",'Student Data'!D52) | E55: ='Student Data'!E52 -> 0 | F55: ='Student Data'!F52 -> 0 | G55: =IF('Student Data'!G52="","",'Student Data'!G52) | N55: =IF((AND(H55="",I55="",J55="",K55="",L55="",M55="")),"",SUM(H55:M55)) | O55: =IF(N55="","",IF(N55>159,"A",IF(N55>129,"B",IF(N55>99,"C",IF(N55>69,"D",IF(N55<70,"E",)))))) | P55: =A55 | W55: =IF((AND(Q55="",R55="",S55="",T55="",U55="",V55="")),"",SUM(Q55:V55)) | X55: =IF(W55="","",IF(W55>159,"A",IF(W55>129,"B",IF(W55>99,"C",IF(W55>69,"D",IF(W55<70,"E",)))))) | AE55: =IF((AND(Y55="",Z55="",AA55="",AB55="",AC55="",AD55="")),"",SUM(Y55:AD55)) | AF55: =IF(AE55="","",IF(AE55>159,"A",IF(AE55>129,"B",IF(AE55>99,"C",IF(AE55>69,"D",IF(AE55<70,"E",)))))) | AG55: =P55 | AN55: =IF((AND(AH55="",AI55="",AJ55="",AK55="",AL55="",AM55="")),"",SUM(AH55:AM55)) | AO55: =IF(AN55="","",IF(AN55>159,"A",IF(AN55>129,"B",IF(AN55>99,"C",IF(AN55>69,"D",IF(AN55<70,"E",)))))) | AP55: ='Patrak B'!AU102 | AQ55: =IF(AP55="","",IF(AP55>159,"A",IF(AP55>129,"B",IF(AP55>99,"C",IF(AP55>69,"D",IF(AP55<70,"E",)))))) | AR55: =IF(AND(N55="",W55="",AE55="",AN55="",AP55=""),"",SUM(N55,W55,AE55,AN55,,AP55)) | AS55: =IF(AR55="","",IF(AR55>799,"A",IF(AR55>649,"B",IF(AR55>499,"C",IF(AR55>349,"D",IF(AR55<350,"E",)))))) | AT55: =IF(OR(ISBLANK(AR55), AR55=0, AR55=""), "", AR55*100/$AR$7)
A56: ='Student Data'!A53 | B56: =IF('Student Data'!B53="","",'Student Data'!B53) | C56: =IF('Student Data'!C53="","",'Student Data'!C53) | D56: =IF('Student Data'!D53="","",'Student Data'!D53) | E56: ='Student Data'!E53 -> 0 | F56: ='Student Data'!F53 -> 0 | G56: =IF('Student Data'!G53="","",'Student Data'!G53) | N56: =IF((AND(H56="",I56="",J56="",K56="",L56="",M56="")),"",SUM(H56:M56)) | O56: =IF(N56="","",IF(N56>159,"A",IF(N56>129,"B",IF(N56>99,"C",IF(N56>69,"D",IF(N56<70,"E",)))))) | P56: =A56 | W56: =IF((AND(Q56="",R56="",S56="",T56="",U56="",V56="")),"",SUM(Q56:V56)) | X56: =IF(W56="","",IF(W56>159,"A",IF(W56>129,"B",IF(W56>99,"C",IF(W56>69,"D",IF(W56<70,"E",)))))) | AE56: =IF((AND(Y56="",Z56="",AA56="",AB56="",AC56="",AD56="")),"",SUM(Y56:AD56)) | AF56: =IF(AE56="","",IF(AE56>159,"A",IF(AE56>129,"B",IF(AE56>99,"C",IF(AE56>69,"D",IF(AE56<70,"E",)))))) | AG56: =P56 | AN56: =IF((AND(AH56="",AI56="",AJ56="",AK56="",AL56="",AM56="")),"",SUM(AH56:AM56)) | AO56: =IF(AN56="","",IF(AN56>159,"A",IF(AN56>129,"B",IF(AN56>99,"C",IF(AN56>69,"D",IF(AN56<70,"E",)))))) | AP56: ='Patrak B'!AU104 | AQ56: =IF(AP56="","",IF(AP56>159,"A",IF(AP56>129,"B",IF(AP56>99,"C",IF(AP56>69,"D",IF(AP56<70,"E",)))))) | AR56: =IF(AND(N56="",W56="",AE56="",AN56="",AP56=""),"",SUM(N56,W56,AE56,AN56,,AP56)) | AS56: =IF(AR56="","",IF(AR56>799,"A",IF(AR56>649,"B",IF(AR56>499,"C",IF(AR56>349,"D",IF(AR56<350,"E",)))))) | AT56: =IF(OR(ISBLANK(AR56), AR56=0, AR56=""), "", AR56*100/$AR$7)
A57: ='Student Data'!A54 | B57: =IF('Student Data'!B54="","",'Student Data'!B54) | C57: =IF('Student Data'!C54="","",'Student Data'!C54) | D57: =IF('Student Data'!D54="","",'Student Data'!D54) | E57: ='Student Data'!E54 -> 0 | F57: ='Student Data'!F54 -> 0 | G57: =IF('Student Data'!G54="","",'Student Data'!G54) | N57: =IF((AND(H57="",I57="",J57="",K57="",L57="",M57="")),"",SUM(H57:M57)) | O57: =IF(N57="","",IF(N57>159,"A",IF(N57>129,"B",IF(N57>99,"C",IF(N57>69,"D",IF(N57<70,"E",)))))) | P57: =A57 | W57: =IF((AND(Q57="",R57="",S57="",T57="",U57="",V57="")),"",SUM(Q57:V57)) | X57: =IF(W57="","",IF(W57>159,"A",IF(W57>129,"B",IF(W57>99,"C",IF(W57>69,"D",IF(W57<70,"E",)))))) | AE57: =IF((AND(Y57="",Z57="",AA57="",AB57="",AC57="",AD57="")),"",SUM(Y57:AD57)) | AF57: =IF(AE57="","",IF(AE57>159,"A",IF(AE57>129,"B",IF(AE57>99,"C",IF(AE57>69,"D",IF(AE57<70,"E",)))))) | AG57: =P57 | AN57: =IF((AND(AH57="",AI57="",AJ57="",AK57="",AL57="",AM57="")),"",SUM(AH57:AM57)) | AO57: =IF(AN57="","",IF(AN57>159,"A",IF(AN57>129,"B",IF(AN57>99,"C",IF(AN57>69,"D",IF(AN57<70,"E",)))))) | AP57: ='Patrak B'!AU106 | AQ57: =IF(AP57="","",IF(AP57>159,"A",IF(AP57>129,"B",IF(AP57>99,"C",IF(AP57>69,"D",IF(AP57<70,"E",)))))) | AR57: =IF(AND(N57="",W57="",AE57="",AN57="",AP57=""),"",SUM(N57,W57,AE57,AN57,,AP57)) | AS57: =IF(AR57="","",IF(AR57>799,"A",IF(AR57>649,"B",IF(AR57>499,"C",IF(AR57>349,"D",IF(AR57<350,"E",)))))) | AT57: =IF(OR(ISBLANK(AR57), AR57=0, AR57=""), "", AR57*100/$AR$7)
A58: ='Student Data'!A55 | B58: =IF('Student Data'!B55="","",'Student Data'!B55) | C58: =IF('Student Data'!C55="","",'Student Data'!C55) | D58: =IF('Student Data'!D55="","",'Student Data'!D55) | E58: ='Student Data'!E55 -> 0 | F58: ='Student Data'!F55 -> 0 | G58: =IF('Student Data'!G55="","",'Student Data'!G55) | N58: =IF((AND(H58="",I58="",J58="",K58="",L58="",M58="")),"",SUM(H58:M58)) | O58: =IF(N58="","",IF(N58>159,"A",IF(N58>129,"B",IF(N58>99,"C",IF(N58>69,"D",IF(N58<70,"E",)))))) | P58: =A58 | W58: =IF((AND(Q58="",R58="",S58="",T58="",U58="",V58="")),"",SUM(Q58:V58)) | X58: =IF(W58="","",IF(W58>159,"A",IF(W58>129,"B",IF(W58>99,"C",IF(W58>69,"D",IF(W58<70,"E",)))))) | AE58: =IF((AND(Y58="",Z58="",AA58="",AB58="",AC58="",AD58="")),"",SUM(Y58:AD58)) | AF58: =IF(AE58="","",IF(AE58>159,"A",IF(AE58>129,"B",IF(AE58>99,"C",IF(AE58>69,"D",IF(AE58<70,"E",)))))) | AG58: =P58 | AN58: =IF((AND(AH58="",AI58="",AJ58="",AK58="",AL58="",AM58="")),"",SUM(AH58:AM58)) | AO58: =IF(AN58="","",IF(AN58>159,"A",IF(AN58>129,"B",IF(AN58>99,"C",IF(AN58>69,"D",IF(AN58<70,"E",)))))) | AP58: ='Patrak B'!AU108 | AQ58: =IF(AP58="","",IF(AP58>159,"A",IF(AP58>129,"B",IF(AP58>99,"C",IF(AP58>69,"D",IF(AP58<70,"E",)))))) | AR58: =IF(AND(N58="",W58="",AE58="",AN58="",AP58=""),"",SUM(N58,W58,AE58,AN58,,AP58)) | AS58: =IF(AR58="","",IF(AR58>799,"A",IF(AR58>649,"B",IF(AR58>499,"C",IF(AR58>349,"D",IF(AR58<350,"E",)))))) | AT58: =IF(OR(ISBLANK(AR58), AR58=0, AR58=""), "", AR58*100/$AR$7)
A59: ='Student Data'!A56 | B59: =IF('Student Data'!B56="","",'Student Data'!B56) | C59: =IF('Student Data'!C56="","",'Student Data'!C56) | D59: =IF('Student Data'!D56="","",'Student Data'!D56) | E59: ='Student Data'!E56 -> 0 | F59: ='Student Data'!F56 -> 0 | G59: =IF('Student Data'!G56="","",'Student Data'!G56) | N59: =IF((AND(H59="",I59="",J59="",K59="",L59="",M59="")),"",SUM(H59:M59)) | O59: =IF(N59="","",IF(N59>159,"A",IF(N59>129,"B",IF(N59>99,"C",IF(N59>69,"D",IF(N59<70,"E",)))))) | P59: =A59 | W59: =IF((AND(Q59="",R59="",S59="",T59="",U59="",V59="")),"",SUM(Q59:V59)) | X59: =IF(W59="","",IF(W59>159,"A",IF(W59>129,"B",IF(W59>99,"C",IF(W59>69,"D",IF(W59<70,"E",)))))) | AE59: =IF((AND(Y59="",Z59="",AA59="",AB59="",AC59="",AD59="")),"",SUM(Y59:AD59)) | AF59: =IF(AE59="","",IF(AE59>159,"A",IF(AE59>129,"B",IF(AE59>99,"C",IF(AE59>69,"D",IF(AE59<70,"E",)))))) | AG59: =P59 | AN59: =IF((AND(AH59="",AI59="",AJ59="",AK59="",AL59="",AM59="")),"",SUM(AH59:AM59)) | AO59: =IF(AN59="","",IF(AN59>159,"A",IF(AN59>129,"B",IF(AN59>99,"C",IF(AN59>69,"D",IF(AN59<70,"E",)))))) | AP59: ='Patrak B'!AU110 | AQ59: =IF(AP59="","",IF(AP59>159,"A",IF(AP59>129,"B",IF(AP59>99,"C",IF(AP59>69,"D",IF(AP59<70,"E",)))))) | AR59: =IF(AND(N59="",W59="",AE59="",AN59="",AP59=""),"",SUM(N59,W59,AE59,AN59,,AP59)) | AS59: =IF(AR59="","",IF(AR59>799,"A",IF(AR59>649,"B",IF(AR59>499,"C",IF(AR59>349,"D",IF(AR59<350,"E",)))))) | AT59: =IF(OR(ISBLANK(AR59), AR59=0, AR59=""), "", AR59*100/$AR$7)
A60: ='Student Data'!A57 | B60: =IF('Student Data'!B57="","",'Student Data'!B57) | C60: =IF('Student Data'!C57="","",'Student Data'!C57) | D60: =IF('Student Data'!D57="","",'Student Data'!D57) | E60: ='Student Data'!E57 -> 0 | F60: ='Student Data'!F57 -> 0 | G60: =IF('Student Data'!G57="","",'Student Data'!G57) | N60: =IF((AND(H60="",I60="",J60="",K60="",L60="",M60="")),"",SUM(H60:M60)) | O60: =IF(N60="","",IF(N60>159,"A",IF(N60>129,"B",IF(N60>99,"C",IF(N60>69,"D",IF(N60<70,"E",)))))) | P60: =A60 | W60: =IF((AND(Q60="",R60="",S60="",T60="",U60="",V60="")),"",SUM(Q60:V60)) | X60: =IF(W60="","",IF(W60>159,"A",IF(W60>129,"B",IF(W60>99,"C",IF(W60>69,"D",IF(W60<70,"E",)))))) | AE60: =IF((AND(Y60="",Z60="",AA60="",AB60="",AC60="",AD60="")),"",SUM(Y60:AD60)) | AF60: =IF(AE60="","",IF(AE60>159,"A",IF(AE60>129,"B",IF(AE60>99,"C",IF(AE60>69,"D",IF(AE60<70,"E",)))))) | AG60: =P60 | AN60: =IF((AND(AH60="",AI60="",AJ60="",AK60="",AL60="",AM60="")),"",SUM(AH60:AM60)) | AO60: =IF(AN60="","",IF(AN60>159,"A",IF(AN60>129,"B",IF(AN60>99,"C",IF(AN60>69,"D",IF(AN60<70,"E",)))))) | AP60: ='Patrak B'!AU112 | AQ60: =IF(AP60="","",IF(AP60>159,"A",IF(AP60>129,"B",IF(AP60>99,"C",IF(AP60>69,"D",IF(AP60<70,"E",)))))) | AR60: =IF(AND(N60="",W60="",AE60="",AN60="",AP60=""),"",SUM(N60,W60,AE60,AN60,,AP60)) | AS60: =IF(AR60="","",IF(AR60>799,"A",IF(AR60>649,"B",IF(AR60>499,"C",IF(AR60>349,"D",IF(AR60<350,"E",)))))) | AT60: =IF(OR(ISBLANK(AR60), AR60=0, AR60=""), "", AR60*100/$AR$7)
A61: ='Student Data'!A58 | B61: =IF('Student Data'!B58="","",'Student Data'!B58) | C61: =IF('Student Data'!C58="","",'Student Data'!C58) | D61: =IF('Student Data'!D58="","",'Student Data'!D58) | E61: ='Student Data'!E58 -> 0 | F61: ='Student Data'!F58 -> 0 | G61: =IF('Student Data'!G58="","",'Student Data'!G58) | N61: =IF((AND(H61="",I61="",J61="",K61="",L61="",M61="")),"",SUM(H61:M61)) | O61: =IF(N61="","",IF(N61>159,"A",IF(N61>129,"B",IF(N61>99,"C",IF(N61>69,"D",IF(N61<70,"E",)))))) | P61: =A61 | W61: =IF((AND(Q61="",R61="",S61="",T61="",U61="",V61="")),"",SUM(Q61:V61)) | X61: =IF(W61="","",IF(W61>159,"A",IF(W61>129,"B",IF(W61>99,"C",IF(W61>69,"D",IF(W61<70,"E",)))))) | AE61: =IF((AND(Y61="",Z61="",AA61="",AB61="",AC61="",AD61="")),"",SUM(Y61:AD61)) | AF61: =IF(AE61="","",IF(AE61>159,"A",IF(AE61>129,"B",IF(AE61>99,"C",IF(AE61>69,"D",IF(AE61<70,"E",)))))) | AG61: =P61 | AN61: =IF((AND(AH61="",AI61="",AJ61="",AK61="",AL61="",AM61="")),"",SUM(AH61:AM61)) | AO61: =IF(AN61="","",IF(AN61>159,"A",IF(AN61>129,"B",IF(AN61>99,"C",IF(AN61>69,"D",IF(AN61<70,"E",)))))) | AP61: ='Patrak B'!AU114 | AQ61: =IF(AP61="","",IF(AP61>159,"A",IF(AP61>129,"B",IF(AP61>99,"C",IF(AP61>69,"D",IF(AP61<70,"E",)))))) | AR61: =IF(AND(N61="",W61="",AE61="",AN61="",AP61=""),"",SUM(N61,W61,AE61,AN61,,AP61)) | AS61: =IF(AR61="","",IF(AR61>799,"A",IF(AR61>649,"B",IF(AR61>499,"C",IF(AR61>349,"D",IF(AR61<350,"E",)))))) | AT61: =IF(OR(ISBLANK(AR61), AR61=0, AR61=""), "", AR61*100/$AR$7)
A62: ='Student Data'!A59 | B62: =IF('Student Data'!B59="","",'Student Data'!B59) | C62: =IF('Student Data'!C59="","",'Student Data'!C59) | D62: =IF('Student Data'!D59="","",'Student Data'!D59) | E62: ='Student Data'!E59 -> 0 | F62: ='Student Data'!F59 -> 0 | G62: =IF('Student Data'!G59="","",'Student Data'!G59) | N62: =IF((AND(H62="",I62="",J62="",K62="",L62="",M62="")),"",SUM(H62:M62)) | O62: =IF(N62="","",IF(N62>159,"A",IF(N62>129,"B",IF(N62>99,"C",IF(N62>69,"D",IF(N62<70,"E",)))))) | P62: =A62 | W62: =IF((AND(Q62="",R62="",S62="",T62="",U62="",V62="")),"",SUM(Q62:V62)) | X62: =IF(W62="","",IF(W62>159,"A",IF(W62>129,"B",IF(W62>99,"C",IF(W62>69,"D",IF(W62<70,"E",)))))) | AE62: =IF((AND(Y62="",Z62="",AA62="",AB62="",AC62="",AD62="")),"",SUM(Y62:AD62)) | AF62: =IF(AE62="","",IF(AE62>159,"A",IF(AE62>129,"B",IF(AE62>99,"C",IF(AE62>69,"D",IF(AE62<70,"E",)))))) | AG62: =P62 | AN62: =IF((AND(AH62="",AI62="",AJ62="",AK62="",AL62="",AM62="")),"",SUM(AH62:AM62)) | AO62: =IF(AN62="","",IF(AN62>159,"A",IF(AN62>129,"B",IF(AN62>99,"C",IF(AN62>69,"D",IF(AN62<70,"E",)))))) | AP62: ='Patrak B'!AU116 | AQ62: =IF(AP62="","",IF(AP62>159,"A",IF(AP62>129,"B",IF(AP62>99,"C",IF(AP62>69,"D",IF(AP62<70,"E",)))))) | AR62: =IF(AND(N62="",W62="",AE62="",AN62="",AP62=""),"",SUM(N62,W62,AE62,AN62,,AP62)) | AS62: =IF(AR62="","",IF(AR62>799,"A",IF(AR62>649,"B",IF(AR62>499,"C",IF(AR62>349,"D",IF(AR62<350,"E",)))))) | AT62: =IF(OR(ISBLANK(AR62), AR62=0, AR62=""), "", AR62*100/$AR$7)
A63: ='Student Data'!A60 | B63: =IF('Student Data'!B60="","",'Student Data'!B60) | C63: =IF('Student Data'!C60="","",'Student Data'!C60) | D63: =IF('Student Data'!D60="","",'Student Data'!D60) | E63: ='Student Data'!E60 -> 0 | F63: ='Student Data'!F60 -> 0 | G63: =IF('Student Data'!G60="","",'Student Data'!G60) | N63: =IF((AND(H63="",I63="",J63="",K63="",L63="",M63="")),"",SUM(H63:M63)) | O63: =IF(N63="","",IF(N63>159,"A",IF(N63>129,"B",IF(N63>99,"C",IF(N63>69,"D",IF(N63<70,"E",)))))) | P63: =A63 | W63: =IF((AND(Q63="",R63="",S63="",T63="",U63="",V63="")),"",SUM(Q63:V63)) | X63: =IF(W63="","",IF(W63>159,"A",IF(W63>129,"B",IF(W63>99,"C",IF(W63>69,"D",IF(W63<70,"E",)))))) | AE63: =IF((AND(Y63="",Z63="",AA63="",AB63="",AC63="",AD63="")),"",SUM(Y63:AD63)) | AF63: =IF(AE63="","",IF(AE63>159,"A",IF(AE63>129,"B",IF(AE63>99,"C",IF(AE63>69,"D",IF(AE63<70,"E",)))))) | AG63: =P63 | AN63: =IF((AND(AH63="",AI63="",AJ63="",AK63="",AL63="",AM63="")),"",SUM(AH63:AM63)) | AO63: =IF(AN63="","",IF(AN63>159,"A",IF(AN63>129,"B",IF(AN63>99,"C",IF(AN63>69,"D",IF(AN63<70,"E",)))))) | AP63: ='Patrak B'!AU118 | AQ63: =IF(AP63="","",IF(AP63>159,"A",IF(AP63>129,"B",IF(AP63>99,"C",IF(AP63>69,"D",IF(AP63<70,"E",)))))) | AR63: =IF(AND(N63="",W63="",AE63="",AN63="",AP63=""),"",SUM(N63,W63,AE63,AN63,,AP63)) | AS63: =IF(AR63="","",IF(AR63>799,"A",IF(AR63>649,"B",IF(AR63>499,"C",IF(AR63>349,"D",IF(AR63<350,"E",)))))) | AT63: =IF(OR(ISBLANK(AR63), AR63=0, AR63=""), "", AR63*100/$AR$7)
A64: ='Student Data'!A61 | B64: =IF('Student Data'!B61="","",'Student Data'!B61) | C64: =IF('Student Data'!C61="","",'Student Data'!C61) | D64: =IF('Student Data'!D61="","",'Student Data'!D61) | E64: ='Student Data'!E61 -> 0 | F64: ='Student Data'!F61 -> 0 | G64: =IF('Student Data'!G61="","",'Student Data'!G61) | N64: =IF((AND(H64="",I64="",J64="",K64="",L64="",M64="")),"",SUM(H64:M64)) | O64: =IF(N64="","",IF(N64>159,"A",IF(N64>129,"B",IF(N64>99,"C",IF(N64>69,"D",IF(N64<70,"E",)))))) | P64: =A64 | W64: =IF((AND(Q64="",R64="",S64="",T64="",U64="",V64="")),"",SUM(Q64:V64)) | X64: =IF(W64="","",IF(W64>159,"A",IF(W64>129,"B",IF(W64>99,"C",IF(W64>69,"D",IF(W64<70,"E",)))))) | AE64: =IF((AND(Y64="",Z64="",AA64="",AB64="",AC64="",AD64="")),"",SUM(Y64:AD64)) | AF64: =IF(AE64="","",IF(AE64>159,"A",IF(AE64>129,"B",IF(AE64>99,"C",IF(AE64>69,"D",IF(AE64<70,"E",)))))) | AG64: =P64 | AN64: =IF((AND(AH64="",AI64="",AJ64="",AK64="",AL64="",AM64="")),"",SUM(AH64:AM64)) | AO64: =IF(AN64="","",IF(AN64>159,"A",IF(AN64>129,"B",IF(AN64>99,"C",IF(AN64>69,"D",IF(AN64<70,"E",)))))) | AP64: ='Patrak B'!AU120 | AQ64: =IF(AP64="","",IF(AP64>159,"A",IF(AP64>129,"B",IF(AP64>99,"C",IF(AP64>69,"D",IF(AP64<70,"E",)))))) | AR64: =IF(AND(N64="",W64="",AE64="",AN64="",AP64=""),"",SUM(N64,W64,AE64,AN64,,AP64)) | AS64: =IF(AR64="","",IF(AR64>799,"A",IF(AR64>649,"B",IF(AR64>499,"C",IF(AR64>349,"D",IF(AR64<350,"E",)))))) | AT64: =IF(OR(ISBLANK(AR64), AR64=0, AR64=""), "", AR64*100/$AR$7)
A65: ='Student Data'!A62 | B65: =IF('Student Data'!B62="","",'Student Data'!B62) | C65: =IF('Student Data'!C62="","",'Student Data'!C62) | D65: =IF('Student Data'!D62="","",'Student Data'!D62) | E65: ='Student Data'!E62 -> 0 | F65: ='Student Data'!F62 -> 0 | G65: =IF('Student Data'!G62="","",'Student Data'!G62) | N65: =IF((AND(H65="",I65="",J65="",K65="",L65="",M65="")),"",SUM(H65:M65)) | O65: =IF(N65="","",IF(N65>159,"A",IF(N65>129,"B",IF(N65>99,"C",IF(N65>69,"D",IF(N65<70,"E",)))))) | P65: =A65 | W65: =IF((AND(Q65="",R65="",S65="",T65="",U65="",V65="")),"",SUM(Q65:V65)) | X65: =IF(W65="","",IF(W65>159,"A",IF(W65>129,"B",IF(W65>99,"C",IF(W65>69,"D",IF(W65<70,"E",)))))) | AE65: =IF((AND(Y65="",Z65="",AA65="",AB65="",AC65="",AD65="")),"",SUM(Y65:AD65)) | AF65: =IF(AE65="","",IF(AE65>159,"A",IF(AE65>129,"B",IF(AE65>99,"C",IF(AE65>69,"D",IF(AE65<70,"E",)))))) | AG65: =P65 | AN65: =IF((AND(AH65="",AI65="",AJ65="",AK65="",AL65="",AM65="")),"",SUM(AH65:AM65)) | AO65: =IF(AN65="","",IF(AN65>159,"A",IF(AN65>129,"B",IF(AN65>99,"C",IF(AN65>69,"D",IF(AN65<70,"E",)))))) | AP65: ='Patrak B'!AU122 | AQ65: =IF(AP65="","",IF(AP65>159,"A",IF(AP65>129,"B",IF(AP65>99,"C",IF(AP65>69,"D",IF(AP65<70,"E",)))))) | AR65: =IF(AND(N65="",W65="",AE65="",AN65="",AP65=""),"",SUM(N65,W65,AE65,AN65,,AP65)) | AS65: =IF(AR65="","",IF(AR65>799,"A",IF(AR65>649,"B",IF(AR65>499,"C",IF(AR65>349,"D",IF(AR65<350,"E",)))))) | AT65: =IF(OR(ISBLANK(AR65), AR65=0, AR65=""), "", AR65*100/$AR$7)
A66: ='Student Data'!A63 | B66: =IF('Student Data'!B63="","",'Student Data'!B63) | C66: =IF('Student Data'!C63="","",'Student Data'!C63) | D66: =IF('Student Data'!D63="","",'Student Data'!D63) | E66: ='Student Data'!E63 -> 0 | F66: ='Student Data'!F63 -> 0 | G66: =IF('Student Data'!G63="","",'Student Data'!G63) | N66: =IF((AND(H66="",I66="",J66="",K66="",L66="",M66="")),"",SUM(H66:M66)) | O66: =IF(N66="","",IF(N66>159,"A",IF(N66>129,"B",IF(N66>99,"C",IF(N66>69,"D",IF(N66<70,"E",)))))) | P66: =A66 | W66: =IF((AND(Q66="",R66="",S66="",T66="",U66="",V66="")),"",SUM(Q66:V66)) | X66: =IF(W66="","",IF(W66>159,"A",IF(W66>129,"B",IF(W66>99,"C",IF(W66>69,"D",IF(W66<70,"E",)))))) | AE66: =IF((AND(Y66="",Z66="",AA66="",AB66="",AC66="",AD66="")),"",SUM(Y66:AD66)) | AF66: =IF(AE66="","",IF(AE66>159,"A",IF(AE66>129,"B",IF(AE66>99,"C",IF(AE66>69,"D",IF(AE66<70,"E",)))))) | AG66: =P66 | AN66: =IF((AND(AH66="",AI66="",AJ66="",AK66="",AL66="",AM66="")),"",SUM(AH66:AM66)) | AO66: =IF(AN66="","",IF(AN66>159,"A",IF(AN66>129,"B",IF(AN66>99,"C",IF(AN66>69,"D",IF(AN66<70,"E",)))))) | AP66: ='Patrak B'!AU124 | AQ66: =IF(AP66="","",IF(AP66>159,"A",IF(AP66>129,"B",IF(AP66>99,"C",IF(AP66>69,"D",IF(AP66<70,"E",)))))) | AR66: =IF(AND(N66="",W66="",AE66="",AN66="",AP66=""),"",SUM(N66,W66,AE66,AN66,,AP66)) | AS66: =IF(AR66="","",IF(AR66>799,"A",IF(AR66>649,"B",IF(AR66>499,"C",IF(AR66>349,"D",IF(AR66<350,"E",)))))) | AT66: =IF(OR(ISBLANK(AR66), AR66=0, AR66=""), "", AR66*100/$AR$7)
A67: ='Student Data'!A64 | B67: =IF('Student Data'!B64="","",'Student Data'!B64) | C67: =IF('Student Data'!C64="","",'Student Data'!C64) | D67: =IF('Student Data'!D64="","",'Student Data'!D64) | E67: ='Student Data'!E64 -> 0 | F67: ='Student Data'!F64 -> 0 | G67: =IF('Student Data'!G64="","",'Student Data'!G64) | N67: =IF((AND(H67="",I67="",J67="",K67="",L67="",M67="")),"",SUM(H67:M67)) | O67: =IF(N67="","",IF(N67>159,"A",IF(N67>129,"B",IF(N67>99,"C",IF(N67>69,"D",IF(N67<70,"E",)))))) | P67: =A67 | W67: =IF((AND(Q67="",R67="",S67="",T67="",U67="",V67="")),"",SUM(Q67:V67)) | X67: =IF(W67="","",IF(W67>159,"A",IF(W67>129,"B",IF(W67>99,"C",IF(W67>69,"D",IF(W67<70,"E",)))))) | AE67: =IF((AND(Y67="",Z67="",AA67="",AB67="",AC67="",AD67="")),"",SUM(Y67:AD67)) | AF67: =IF(AE67="","",IF(AE67>159,"A",IF(AE67>129,"B",IF(AE67>99,"C",IF(AE67>69,"D",IF(AE67<70,"E",)))))) | AG67: =P67 | AN67: =IF((AND(AH67="",AI67="",AJ67="",AK67="",AL67="",AM67="")),"",SUM(AH67:AM67)) | AO67: =IF(AN67="","",IF(AN67>159,"A",IF(AN67>129,"B",IF(AN67>99,"C",IF(AN67>69,"D",IF(AN67<70,"E",)))))) | AP67: ='Patrak B'!AU126 | AQ67: =IF(AP67="","",IF(AP67>159,"A",IF(AP67>129,"B",IF(AP67>99,"C",IF(AP67>69,"D",IF(AP67<70,"E",)))))) | AR67: =IF(AND(N67="",W67="",AE67="",AN67="",AP67=""),"",SUM(N67,W67,AE67,AN67,,AP67)) | AS67: =IF(AR67="","",IF(AR67>799,"A",IF(AR67>649,"B",IF(AR67>499,"C",IF(AR67>349,"D",IF(AR67<350,"E",)))))) | AT67: =IF(OR(ISBLANK(AR67), AR67=0, AR67=""), "", AR67*100/$AR$7)
A68: ='Student Data'!A65 | B68: =IF('Student Data'!B65="","",'Student Data'!B65) | C68: =IF('Student Data'!C65="","",'Student Data'!C65) | D68: =IF('Student Data'!D65="","",'Student Data'!D65) | E68: ='Student Data'!E65 -> 0 | F68: ='Student Data'!F65 -> 0 | G68: =IF('Student Data'!G65="","",'Student Data'!G65) | N68: =IF((AND(H68="",I68="",J68="",K68="",L68="",M68="")),"",SUM(H68:M68)) | O68: =IF(N68="","",IF(N68>159,"A",IF(N68>129,"B",IF(N68>99,"C",IF(N68>69,"D",IF(N68<70,"E",)))))) | P68: =A68 | W68: =IF((AND(Q68="",R68="",S68="",T68="",U68="",V68="")),"",SUM(Q68:V68)) | X68: =IF(W68="","",IF(W68>159,"A",IF(W68>129,"B",IF(W68>99,"C",IF(W68>69,"D",IF(W68<70,"E",)))))) | AE68: =IF((AND(Y68="",Z68="",AA68="",AB68="",AC68="",AD68="")),"",SUM(Y68:AD68)) | AF68: =IF(AE68="","",IF(AE68>159,"A",IF(AE68>129,"B",IF(AE68>99,"C",IF(AE68>69,"D",IF(AE68<70,"E",)))))) | AG68: =P68 | AN68: =IF((AND(AH68="",AI68="",AJ68="",AK68="",AL68="",AM68="")),"",SUM(AH68:AM68)) | AO68: =IF(AN68="","",IF(AN68>159,"A",IF(AN68>129,"B",IF(AN68>99,"C",IF(AN68>69,"D",IF(AN68<70,"E",)))))) | AP68: ='Patrak B'!AU128 | AQ68: =IF(AP68="","",IF(AP68>159,"A",IF(AP68>129,"B",IF(AP68>99,"C",IF(AP68>69,"D",IF(AP68<70,"E",)))))) | AR68: =IF(AND(N68="",W68="",AE68="",AN68="",AP68=""),"",SUM(N68,W68,AE68,AN68,,AP68)) | AS68: =IF(AR68="","",IF(AR68>799,"A",IF(AR68>649,"B",IF(AR68>499,"C",IF(AR68>349,"D",IF(AR68<350,"E",)))))) | AT68: =IF(OR(ISBLANK(AR68), AR68=0, AR68=""), "", AR68*100/$AR$7)
A69: ='Student Data'!A66 | B69: =IF('Student Data'!B66="","",'Student Data'!B66) | C69: =IF('Student Data'!C66="","",'Student Data'!C66) | D69: =IF('Student Data'!D66="","",'Student Data'!D66) | E69: ='Student Data'!E66 -> 0 | F69: ='Student Data'!F66 -> 0 | G69: =IF('Student Data'!G66="","",'Student Data'!G66) | N69: =IF((AND(H69="",I69="",J69="",K69="",L69="",M69="")),"",SUM(H69:M69)) | O69: =IF(N69="","",IF(N69>159,"A",IF(N69>129,"B",IF(N69>99,"C",IF(N69>69,"D",IF(N69<70,"E",)))))) | P69: =A69 | W69: =IF((AND(Q69="",R69="",S69="",T69="",U69="",V69="")),"",SUM(Q69:V69)) | X69: =IF(W69="","",IF(W69>159,"A",IF(W69>129,"B",IF(W69>99,"C",IF(W69>69,"D",IF(W69<70,"E",)))))) | AE69: =IF((AND(Y69="",Z69="",AA69="",AB69="",AC69="",AD69="")),"",SUM(Y69:AD69)) | AF69: =IF(AE69="","",IF(AE69>159,"A",IF(AE69>129,"B",IF(AE69>99,"C",IF(AE69>69,"D",IF(AE69<70,"E",)))))) | AG69: =P69 | AN69: =IF((AND(AH69="",AI69="",AJ69="",AK69="",AL69="",AM69="")),"",SUM(AH69:AM69)) | AO69: =IF(AN69="","",IF(AN69>159,"A",IF(AN69>129,"B",IF(AN69>99,"C",IF(AN69>69,"D",IF(AN69<70,"E",)))))) | AP69: ='Patrak B'!AU130 | AQ69: =IF(AP69="","",IF(AP69>159,"A",IF(AP69>129,"B",IF(AP69>99,"C",IF(AP69>69,"D",IF(AP69<70,"E",)))))) | AR69: =IF(AND(N69="",W69="",AE69="",AN69="",AP69=""),"",SUM(N69,W69,AE69,AN69,,AP69)) | AS69: =IF(AR69="","",IF(AR69>799,"A",IF(AR69>649,"B",IF(AR69>499,"C",IF(AR69>349,"D",IF(AR69<350,"E",)))))) | AT69: =IF(OR(ISBLANK(AR69), AR69=0, AR69=""), "", AR69*100/$AR$7)
A70: ='Student Data'!A67 | B70: =IF('Student Data'!B67="","",'Student Data'!B67) | C70: =IF('Student Data'!C67="","",'Student Data'!C67) | D70: =IF('Student Data'!D67="","",'Student Data'!D67) | E70: ='Student Data'!E67 -> 0 | F70: ='Student Data'!F67 -> 0 | G70: =IF('Student Data'!G67="","",'Student Data'!G67) | N70: =IF((AND(H70="",I70="",J70="",K70="",L70="",M70="")),"",SUM(H70:M70)) | O70: =IF(N70="","",IF(N70>159,"A",IF(N70>129,"B",IF(N70>99,"C",IF(N70>69,"D",IF(N70<70,"E",)))))) | P70: =A70 | W70: =IF((AND(Q70="",R70="",S70="",T70="",U70="",V70="")),"",SUM(Q70:V70)) | X70: =IF(W70="","",IF(W70>159,"A",IF(W70>129,"B",IF(W70>99,"C",IF(W70>69,"D",IF(W70<70,"E",)))))) | AE70: =IF((AND(Y70="",Z70="",AA70="",AB70="",AC70="",AD70="")),"",SUM(Y70:AD70)) | AF70: =IF(AE70="","",IF(AE70>159,"A",IF(AE70>129,"B",IF(AE70>99,"C",IF(AE70>69,"D",IF(AE70<70,"E",)))))) | AG70: =P70 | AN70: =IF((AND(AH70="",AI70="",AJ70="",AK70="",AL70="",AM70="")),"",SUM(AH70:AM70)) | AO70: =IF(AN70="","",IF(AN70>159,"A",IF(AN70>129,"B",IF(AN70>99,"C",IF(AN70>69,"D",IF(AN70<70,"E",)))))) | AP70: ='Patrak B'!AU132 | AQ70: =IF(AP70="","",IF(AP70>159,"A",IF(AP70>129,"B",IF(AP70>99,"C",IF(AP70>69,"D",IF(AP70<70,"E",)))))) | AR70: =IF(AND(N70="",W70="",AE70="",AN70="",AP70=""),"",SUM(N70,W70,AE70,AN70,,AP70)) | AS70: =IF(AR70="","",IF(AR70>799,"A",IF(AR70>649,"B",IF(AR70>499,"C",IF(AR70>349,"D",IF(AR70<350,"E",)))))) | AT70: =IF(OR(ISBLANK(AR70), AR70=0, AR70=""), "", AR70*100/$AR$7)
A71: ='Student Data'!A68 | B71: =IF('Student Data'!B68="","",'Student Data'!B68) | C71: =IF('Student Data'!C68="","",'Student Data'!C68) | D71: =IF('Student Data'!D68="","",'Student Data'!D68) | E71: ='Student Data'!E68 -> 0 | F71: ='Student Data'!F68 -> 0 | G71: =IF('Student Data'!G68="","",'Student Data'!G68) | N71: =IF((AND(H71="",I71="",J71="",K71="",L71="",M71="")),"",SUM(H71:M71)) | O71: =IF(N71="","",IF(N71>159,"A",IF(N71>129,"B",IF(N71>99,"C",IF(N71>69,"D",IF(N71<70,"E",)))))) | P71: =A71 | W71: =IF((AND(Q71="",R71="",S71="",T71="",U71="",V71="")),"",SUM(Q71:V71)) | X71: =IF(W71="","",IF(W71>159,"A",IF(W71>129,"B",IF(W71>99,"C",IF(W71>69,"D",IF(W71<70,"E",)))))) | AE71: =IF((AND(Y71="",Z71="",AA71="",AB71="",AC71="",AD71="")),"",SUM(Y71:AD71)) | AF71: =IF(AE71="","",IF(AE71>159,"A",IF(AE71>129,"B",IF(AE71>99,"C",IF(AE71>69,"D",IF(AE71<70,"E",)))))) | AG71: =P71 | AN71: =IF((AND(AH71="",AI71="",AJ71="",AK71="",AL71="",AM71="")),"",SUM(AH71:AM71)) | AO71: =IF(AN71="","",IF(AN71>159,"A",IF(AN71>129,"B",IF(AN71>99,"C",IF(AN71>69,"D",IF(AN71<70,"E",)))))) | AP71: ='Patrak B'!AU134 | AQ71: =IF(AP71="","",IF(AP71>159,"A",IF(AP71>129,"B",IF(AP71>99,"C",IF(AP71>69,"D",IF(AP71<70,"E",)))))) | AR71: =IF(AND(N71="",W71="",AE71="",AN71="",AP71=""),"",SUM(N71,W71,AE71,AN71,,AP71)) | AS71: =IF(AR71="","",IF(AR71>799,"A",IF(AR71>649,"B",IF(AR71>499,"C",IF(AR71>349,"D",IF(AR71<350,"E",)))))) | AT71: =IF(OR(ISBLANK(AR71), AR71=0, AR71=""), "", AR71*100/$AR$7)
A72: ='Student Data'!A69 | B72: =IF('Student Data'!B69="","",'Student Data'!B69) | C72: =IF('Student Data'!C69="","",'Student Data'!C69) | D72: =IF('Student Data'!D69="","",'Student Data'!D69) | E72: ='Student Data'!E69 -> 0 | F72: ='Student Data'!F69 -> 0 | G72: =IF('Student Data'!G69="","",'Student Data'!G69) | N72: =IF((AND(H72="",I72="",J72="",K72="",L72="",M72="")),"",SUM(H72:M72)) | O72: =IF(N72="","",IF(N72>159,"A",IF(N72>129,"B",IF(N72>99,"C",IF(N72>69,"D",IF(N72<70,"E",)))))) | P72: =A72 | W72: =IF((AND(Q72="",R72="",S72="",T72="",U72="",V72="")),"",SUM(Q72:V72)) | X72: =IF(W72="","",IF(W72>159,"A",IF(W72>129,"B",IF(W72>99,"C",IF(W72>69,"D",IF(W72<70,"E",)))))) | AE72: =IF((AND(Y72="",Z72="",AA72="",AB72="",AC72="",AD72="")),"",SUM(Y72:AD72)) | AF72: =IF(AE72="","",IF(AE72>159,"A",IF(AE72>129,"B",IF(AE72>99,"C",IF(AE72>69,"D",IF(AE72<70,"E",)))))) | AG72: =P72 | AN72: =IF((AND(AH72="",AI72="",AJ72="",AK72="",AL72="",AM72="")),"",SUM(AH72:AM72)) | AO72: =IF(AN72="","",IF(AN72>159,"A",IF(AN72>129,"B",IF(AN72>99,"C",IF(AN72>69,"D",IF(AN72<70,"E",)))))) | AP72: ='Patrak B'!AU136 | AQ72: =IF(AP72="","",IF(AP72>159,"A",IF(AP72>129,"B",IF(AP72>99,"C",IF(AP72>69,"D",IF(AP72<70,"E",)))))) | AR72: =IF(AND(N72="",W72="",AE72="",AN72="",AP72=""),"",SUM(N72,W72,AE72,AN72,,AP72)) | AS72: =IF(AR72="","",IF(AR72>799,"A",IF(AR72>649,"B",IF(AR72>499,"C",IF(AR72>349,"D",IF(AR72<350,"E",)))))) | AT72: =IF(OR(ISBLANK(AR72), AR72=0, AR72=""), "", AR72*100/$AR$7)
A73: ='Student Data'!A70 | B73: =IF('Student Data'!B70="","",'Student Data'!B70) | C73: =IF('Student Data'!C70="","",'Student Data'!C70) | D73: =IF('Student Data'!D70="","",'Student Data'!D70) | E73: ='Student Data'!E70 -> 0 | F73: ='Student Data'!F70 -> 0 | G73: =IF('Student Data'!G70="","",'Student Data'!G70) | N73: =IF((AND(H73="",I73="",J73="",K73="",L73="",M73="")),"",SUM(H73:M73)) | O73: =IF(N73="","",IF(N73>159,"A",IF(N73>129,"B",IF(N73>99,"C",IF(N73>69,"D",IF(N73<70,"E",)))))) | P73: =A73 | W73: =IF((AND(Q73="",R73="",S73="",T73="",U73="",V73="")),"",SUM(Q73:V73)) | X73: =IF(W73="","",IF(W73>159,"A",IF(W73>129,"B",IF(W73>99,"C",IF(W73>69,"D",IF(W73<70,"E",)))))) | AE73: =IF((AND(Y73="",Z73="",AA73="",AB73="",AC73="",AD73="")),"",SUM(Y73:AD73)) | AF73: =IF(AE73="","",IF(AE73>159,"A",IF(AE73>129,"B",IF(AE73>99,"C",IF(AE73>69,"D",IF(AE73<70,"E",)))))) | AG73: =P73 | AN73: =IF((AND(AH73="",AI73="",AJ73="",AK73="",AL73="",AM73="")),"",SUM(AH73:AM73)) | AO73: =IF(AN73="","",IF(AN73>159,"A",IF(AN73>129,"B",IF(AN73>99,"C",IF(AN73>69,"D",IF(AN73<70,"E",)))))) | AP73: ='Patrak B'!AU138 | AQ73: =IF(AP73="","",IF(AP73>159,"A",IF(AP73>129,"B",IF(AP73>99,"C",IF(AP73>69,"D",IF(AP73<70,"E",)))))) | AR73: =IF(AND(N73="",W73="",AE73="",AN73="",AP73=""),"",SUM(N73,W73,AE73,AN73,,AP73)) | AS73: =IF(AR73="","",IF(AR73>799,"A",IF(AR73>649,"B",IF(AR73>499,"C",IF(AR73>349,"D",IF(AR73<350,"E",)))))) | AT73: =IF(OR(ISBLANK(AR73), AR73=0, AR73=""), "", AR73*100/$AR$7)
A74: www.hiteshahjoliya.blogspot.com | AP74: Format By Hitesh Ahjoliya

Sheet Sem 1 Patra C
B1: પત્રક - C, Sem - 1 | H1: આ પત્રકમાં કોઈ ગુણ લખવાના નથી. પત્રક - C માં પ્રથમ સત્રનાં ગુણ લખવા.
A3: By - Hitesh Ahjoliya | D3: પત્રક - C | L3: ='Patrak C'!AP3 -> ધોરણ- | Q3: ='School Data'!B23 -> 3 | R3: ='School Data'!B24 -> - | S3: પ્રથમ સત્ર | W3: =L3 -> ધોરણ- | Y3: =Q3 -> 3 | Z3: =R3 -> - | AC3: પ્રથમ સત્ર
G4: ગુજરાતી | L4: ગણિત | Q4: પર્યાવરણ | V4: ક્રમ | W4: ='Patrak C'!AH4 -> અંગ્રેજી | AB4: પ્રથમ સત્ર | AD4: તમામ વિષયોના કુલ ગુણ (500) | AE4: ગ્રેડ
A5: ક્રમ | B5: વિધાર્થીનું નામ | E5: ='Student Data'!E5 -> જાતિ M/F | F5: ='Student Data'!F5 -> જ્ઞાતિ | G5: રચનાત્મક મૂલ્યાંકન | H5: સંત્રાત મૂલ્યાંકન | I5: સ્વ- અધ્યયન કાર્યના આધારે મૂલ્યાંકન | J5: કુલ ગુણ 100 માથી મેળવેલ ગુણ | K5: ગ્રેડ | L5: રચનાત્મક મૂલ્યાંકન | M5: સંત્રાત મૂલ્યાંકન | N5: સ્વ- અધ્યયન કાર્યના આધારે મૂલ્યાંકન | O5: કુલ ગુણ 100 માથી મેળવેલ ગુણ | P5: ગ્રેડ | Q5: રચનાત્મક મૂલ્યાંકન | R5: સંત્રાત મૂલ્યાંકન | S5: સ્વ- અધ્યયન કાર્યના આધારે મૂલ્યાંકન | T5: કુલ ગુણ 100 માથી મેળવેલ ગુણ | U5: ગ્રેડ | W5: રચનાત્મક મૂલ્યાંકન | X5: સંત્રાત મૂલ્યાંકન | Y5: સ્વ- અધ્યયન કાર્યના આધારે મૂલ્યાંકન | Z5: કુલ ગુણ 100 માથી મેળવેલ ગુણ | AA5: ગ્રેડ | AB5: પત્રક B : વ્યક્તિત્વ વિકાસ પત્રક | AC5: ગ્રેડ
G6: 40 ગુણ | H6: 40 ગુણ | I6: 20 ગુણ | L6: 40 ગુણ | M6: 40 ગુણ | N6: 20 ગુણ | Q6: 40 ગુણ | R6: 40 ગુણ | S6: 20 ગુણ | W6: 40 ગુણ | X6: 40 ગુણ | Y6: 20 ગુણ | AB6: 200 | AD6: 600
A7: 1 | B7: 2 | C7: 3 | D7: 4 | G7: 3 | H7: 4 | I7: 5 | J7: 6 | K7: 7 | L7: 8 | M7: 9 | N7: 10 | O7: 11 | P7: 12 | Q7: 13 | R7: 14 | S7: 15 | T7: 16 | U7: 17 | W7: 13 | X7: 14 | Y7: 15 | Z7: 16 | AA7: 17 | AB7: 18 | AC7: 19 | AD7: 20 | AE7: 21
A8: ='Student Data'!A6 -> 1 | B8: ='Student Data'!B6 -> રાજ ભીખાભાઈ સોલંકી | C8: ='Student Data'!C6 -> 1234 | D8: ='Student Data'!D6 -> 38454 | E8: ='Student Data'!E6 -> M | F8: ='Student Data'!F6 -> OBC | G8: ='Patrak C'!H9 -> 40 | H8: ='Patrak C'!I9 -> 40 | I8: ='Patrak C'!J9 -> 20 | J8: =SUM(G8:I8) -> 100 | K8: =IF(J8>79,"A",IF(J8>64,"B",IF(J8>49,"C",IF(J8>34,"D",IF(J8<35,"E",))))) -> A | L8: ='Patrak C'!Q9 -> 40 | M8: ='Patrak C'!R9 -> 40 | N8: ='Patrak C'!S9 -> 20 | O8: =SUM(L8:N8) -> 100 | P8: =IF(O8>79,"A",IF(O8>64,"B",IF(O8>49,"C",IF(O8>34,"D",IF(O8<35,"E",))))) -> A | Q8: ='Patrak C'!Y9 -> 40 | R8: ='Patrak C'!Z9 -> 40 | S8: ='Patrak C'!AA9 -> 20 | T8: =SUM(Q8:S8) -> 100 | U8: =IF(T8>79,"A",IF(T8>64,"B",IF(T8>49,"C",IF(T8>34,"D",IF(T8<35,"E",))))) -> A | V8: =A8 -> 1 | W8: ='Patrak C'!AH9 -> 35 | X8: ='Patrak C'!AI9 -> 35 | Y8: ='Patrak C'!AJ9 -> 15 | Z8: =SUM(W8:Y8) -> 85 | AA8: =IF(Z8>79,"A",IF(Z8>64,"B",IF(Z8>49,"C",IF(Z8>34,"D",IF(Z8<35,"E",))))) -> A | AB8: ='Patrak B'!AS10 -> 32 | AC8: =IF(AB8>159,"A",IF(AB8>129,"B",IF(AB8>99,"C",IF(AB8>69,"D",IF(AB8<70,"E",))))) -> E | AD8: =J8+O8+T8+AB8+Z8 -> 417 | AE8: =IF(AD8>479,"A",IF(AD8>389,"B",IF(AD8>299,"C",IF(AD8>209,"D",IF(AD8<210,"E",))))) -> B
A9: ='Student Data'!A7 -> 2 | B9: =IF('Student Data'!B7="","",'Student Data'!B7) -> કરણ મહેશભાઈ વાઘેલા | C9: =IF('Student Data'!C7="","",'Student Data'!C7) -> 1234 | D9: =IF('Student Data'!D7="","",'Student Data'!D7) -> 38454 | E9: ='Student Data'!E7 -> M | F9: ='Student Data'!F7 -> OBC | G9: =IF('Patrak C'!H10="","",'Patrak C'!H10) -> 30 | H9: =IF('Patrak C'!I10="","",'Patrak C'!I10) -> 30 | I9: =IF('Patrak C'!J10="","",'Patrak C'!J10) -> 10 | J9: =IF((AND(G9="",H9="",I9="")),"",SUM(G9:I9)) -> 70 | K9: =IF(J9="","",IF(J9>79,"A",IF(J9>64,"B",IF(J9>49,"C",IF(J9>34,"D",IF(J9<35,"E",)))))) -> B | L9: =IF('Patrak C'!Q10="","",'Patrak C'!Q10) -> 30 | M9: =IF('Patrak C'!R10="","",'Patrak C'!R10) -> 30 | N9: =IF('Patrak C'!S10="","",'Patrak C'!S10) -> 10 | O9: =IF((AND(L9="",M9="",N9="")),"",SUM(L9:N9)) -> 70 | P9: =IF(O9="","",IF(O9>79,"A",IF(O9>64,"B",IF(O9>49,"C",IF(O9>34,"D",IF(O9<35,"E",)))))) -> B | Q9: =IF('Patrak C'!Y10="","",'Patrak C'!Y10) -> 30 | R9: =IF('Patrak C'!Z10="","",'Patrak C'!Z10) -> 30 | S9: =IF('Patrak C'!AA10="","",'Patrak C'!AA10) -> 10 | T9: =IF((AND(Q9="",R9="",S9="")),"",SUM(Q9:S9)) -> 70 | U9: =IF(T9="","",IF(T9>79,"A",IF(T9>64,"B",IF(T9>49,"C",IF(T9>34,"D",IF(T9<35,"E",)))))) -> B | V9: =A9 -> 2 | W9: =IF('Patrak C'!AH10="","",'Patrak C'!AH10) -> 30 | X9: =IF('Patrak C'!AI10="","",'Patrak C'!AI10) -> 30 | Y9: =IF('Patrak C'!AJ10="","",'Patrak C'!AJ10) -> 10 | Z9: =IF((AND(W9="",X9="",Y9="")),"",SUM(W9:Y9)) -> 70 | AA9: =IF(Z9="","",IF(Z9>79,"A",IF(Z9>64,"B",IF(Z9>49,"C",IF(Z9>34,"D",IF(Z9<35,"E",)))))) -> B | AB9: ='Patrak B'!AS12 -> 35 | AC9: =IF(AB9="","",IF(AB9>159,"A",IF(AB9>129,"B",IF(AB9>99,"C",IF(AB9>69,"D",IF(AB9<70,"E",)))))) -> E | AD9: =IF(AND(J9="",O9="",T9="",Z9="",AB9=""),"",SUM(J9,O9,T9,Z9,AB9)) -> 315 | AE9: =IF(AD9="","",IF(AD9>479,"A",IF(AD9>389,"B",IF(AD9>299,"C",IF(AD9>209,"D",IF(AD9<210,"E",)))))) -> C
A10: ='Student Data'!A8 | B10: =IF('Student Data'!B8="","",'Student Data'!B8) | C10: =IF('Student Data'!C8="","",'Student Data'!C8) | D10: =IF('Student Data'!D8="","",'Student Data'!D8) | E10: ='Student Data'!E8 -> 0 | F10: ='Student Data'!F8 -> 0 | G10: =IF('Patrak C'!H11="","",'Patrak C'!H11) | H10: =IF('Patrak C'!I11="","",'Patrak C'!I11) | I10: =IF('Patrak C'!J11="","",'Patrak C'!J11) | J10: =IF((AND(G10="",H10="",I10="")),"",SUM(G10:I10)) | K10: =IF(J10="","",IF(J10>79,"A",IF(J10>64,"B",IF(J10>49,"C",IF(J10>34,"D",IF(J10<35,"E",)))))) | L10: =IF('Patrak C'!Q11="","",'Patrak C'!Q11) | M10: =IF('Patrak C'!R11="","",'Patrak C'!R11) | N10: =IF('Patrak C'!S11="","",'Patrak C'!S11) | O10: =IF((AND(L10="",M10="",N10="")),"",SUM(L10:N10)) | P10: =IF(O10="","",IF(O10>79,"A",IF(O10>64,"B",IF(O10>49,"C",IF(O10>34,"D",IF(O10<35,"E",)))))) | Q10: =IF('Patrak C'!Y11="","",'Patrak C'!Y11) | R10: =IF('Patrak C'!Z11="","",'Patrak C'!Z11) | S10: =IF('Patrak C'!AA11="","",'Patrak C'!AA11) | T10: =IF((AND(Q10="",R10="",S10="")),"",SUM(Q10:S10)) | U10: =IF(T10="","",IF(T10>79,"A",IF(T10>64,"B",IF(T10>49,"C",IF(T10>34,"D",IF(T10<35,"E",)))))) | V10: =A10 | W10: =IF('Patrak C'!AH11="","",'Patrak C'!AH11) | X10: =IF('Patrak C'!AI11="","",'Patrak C'!AI11) | Y10: =IF('Patrak C'!AJ11="","",'Patrak C'!AJ11) | Z10: =IF((AND(W10="",X10="",Y10="")),"",SUM(W10:Y10)) | AA10: =IF(Z10="","",IF(Z10>79,"A",IF(Z10>64,"B",IF(Z10>49,"C",IF(Z10>34,"D",IF(Z10<35,"E",)))))) | AB10: ='Patrak B'!AS14 | AC10: =IF(AB10="","",IF(AB10>159,"A",IF(AB10>129,"B",IF(AB10>99,"C",IF(AB10>69,"D",IF(AB10<70,"E",)))))) | AD10: =IF(AND(J10="",O10="",T10="",Z10="",AB10=""),"",SUM(J10,O10,T10,Z10,AB10)) | AE10: =IF(AD10="","",IF(AD10>479,"A",IF(AD10>389,"B",IF(AD10>299,"C",IF(AD10>209,"D",IF(AD10<210,"E",))))))
A11: ='Student Data'!A9 | B11: =IF('Student Data'!B9="","",'Student Data'!B9) | C11: =IF('Student Data'!C9="","",'Student Data'!C9) | D11: =IF('Student Data'!D9="","",'Student Data'!D9) | E11: ='Student Data'!E9 -> 0 | F11: ='Student Data'!F9 -> 0 | G11: =IF('Patrak C'!H12="","",'Patrak C'!H12) | H11: =IF('Patrak C'!I12="","",'Patrak C'!I12) | I11: =IF('Patrak C'!J12="","",'Patrak C'!J12) | J11: =IF((AND(G11="",H11="",I11="")),"",SUM(G11:I11)) | K11: =IF(J11="","",IF(J11>79,"A",IF(J11>64,"B",IF(J11>49,"C",IF(J11>34,"D",IF(J11<35,"E",)))))) | L11: =IF('Patrak C'!Q12="","",'Patrak C'!Q12) | M11: =IF('Patrak C'!R12="","",'Patrak C'!R12) | N11: =IF('Patrak C'!S12="","",'Patrak C'!S12) | O11: =IF((AND(L11="",M11="",N11="")),"",SUM(L11:N11)) | P11: =IF(O11="","",IF(O11>79,"A",IF(O11>64,"B",IF(O11>49,"C",IF(O11>34,"D",IF(O11<35,"E",)))))) | Q11: =IF('Patrak C'!Y12="","",'Patrak C'!Y12) | R11: =IF('Patrak C'!Z12="","",'Patrak C'!Z12) | S11: =IF('Patrak C'!AA12="","",'Patrak C'!AA12) | T11: =IF((AND(Q11="",R11="",S11="")),"",SUM(Q11:S11)) | U11: =IF(T11="","",IF(T11>79,"A",IF(T11>64,"B",IF(T11>49,"C",IF(T11>34,"D",IF(T11<35,"E",)))))) | V11: =A11 | W11: =IF('Patrak C'!AH12="","",'Patrak C'!AH12) | X11: =IF('Patrak C'!AI12="","",'Patrak C'!AI12) | Y11: =IF('Patrak C'!AJ12="","",'Patrak C'!AJ12) | Z11: =IF((AND(W11="",X11="",Y11="")),"",SUM(W11:Y11)) | AA11: =IF(Z11="","",IF(Z11>79,"A",IF(Z11>64,"B",IF(Z11>49,"C",IF(Z11>34,"D",IF(Z11<35,"E",)))))) | AB11: ='Patrak B'!AS16 | AC11: =IF(AB11="","",IF(AB11>159,"A",IF(AB11>129,"B",IF(AB11>99,"C",IF(AB11>69,"D",IF(AB11<70,"E",)))))) | AD11: =IF(AND(J11="",O11="",T11="",Z11="",AB11=""),"",SUM(J11,O11,T11,Z11,AB11)) | AE11: =IF(AD11="","",IF(AD11>479,"A",IF(AD11>389,"B",IF(AD11>299,"C",IF(AD11>209,"D",IF(AD11<210,"E",))))))
A12: ='Student Data'!A10 | B12: =IF('Student Data'!B10="","",'Student Data'!B10) | C12: =IF('Student Data'!C10="","",'Student Data'!C10) | D12: =IF('Student Data'!D10="","",'Student Data'!D10) | E12: ='Student Data'!E10 -> 0 | F12: ='Student Data'!F10 -> 0 | G12: =IF('Patrak C'!H13="","",'Patrak C'!H13) | H12: =IF('Patrak C'!I13="","",'Patrak C'!I13) | I12: =IF('Patrak C'!J13="","",'Patrak C'!J13) | J12: =IF((AND(G12="",H12="",I12="")),"",SUM(G12:I12)) | K12: =IF(J12="","",IF(J12>79,"A",IF(J12>64,"B",IF(J12>49,"C",IF(J12>34,"D",IF(J12<35,"E",)))))) | L12: =IF('Patrak C'!Q13="","",'Patrak C'!Q13) | M12: =IF('Patrak C'!R13="","",'Patrak C'!R13) | N12: =IF('Patrak C'!S13="","",'Patrak C'!S13) | O12: =IF((AND(L12="",M12="",N12="")),"",SUM(L12:N12)) | P12: =IF(O12="","",IF(O12>79,"A",IF(O12>64,"B",IF(O12>49,"C",IF(O12>34,"D",IF(O12<35,"E",)))))) | Q12: =IF('Patrak C'!Y13="","",'Patrak C'!Y13) | R12: =IF('Patrak C'!Z13="","",'Patrak C'!Z13) | S12: =IF('Patrak C'!AA13="","",'Patrak C'!AA13) | T12: =IF((AND(Q12="",R12="",S12="")),"",SUM(Q12:S12)) | U12: =IF(T12="","",IF(T12>79,"A",IF(T12>64,"B",IF(T12>49,"C",IF(T12>34,"D",IF(T12<35,"E",)))))) | V12: =A12 | W12: =IF('Patrak C'!AH13="","",'Patrak C'!AH13) | X12: =IF('Patrak C'!AI13="","",'Patrak C'!AI13) | Y12: =IF('Patrak C'!AJ13="","",'Patrak C'!AJ13) | Z12: =IF((AND(W12="",X12="",Y12="")),"",SUM(W12:Y12)) | AA12: =IF(Z12="","",IF(Z12>79,"A",IF(Z12>64,"B",IF(Z12>49,"C",IF(Z12>34,"D",IF(Z12<35,"E",)))))) | AB12: ='Patrak B'!AS18 | AC12: =IF(AB12="","",IF(AB12>159,"A",IF(AB12>129,"B",IF(AB12>99,"C",IF(AB12>69,"D",IF(AB12<70,"E",)))))) | AD12: =IF(AND(J12="",O12="",T12="",Z12="",AB12=""),"",SUM(J12,O12,T12,Z12,AB12)) | AE12: =IF(AD12="","",IF(AD12>479,"A",IF(AD12>389,"B",IF(AD12>299,"C",IF(AD12>209,"D",IF(AD12<210,"E",))))))
A13: ='Student Data'!A11 | B13: =IF('Student Data'!B11="","",'Student Data'!B11) | C13: =IF('Student Data'!C11="","",'Student Data'!C11) | D13: =IF('Student Data'!D11="","",'Student Data'!D11) | E13: ='Student Data'!E11 -> 0 | F13: ='Student Data'!F11 -> 0 | G13: =IF('Patrak C'!H14="","",'Patrak C'!H14) | H13: =IF('Patrak C'!I14="","",'Patrak C'!I14) | I13: =IF('Patrak C'!J14="","",'Patrak C'!J14) | J13: =IF((AND(G13="",H13="",I13="")),"",SUM(G13:I13)) | K13: =IF(J13="","",IF(J13>79,"A",IF(J13>64,"B",IF(J13>49,"C",IF(J13>34,"D",IF(J13<35,"E",)))))) | L13: =IF('Patrak C'!Q14="","",'Patrak C'!Q14) | M13: =IF('Patrak C'!R14="","",'Patrak C'!R14) | N13: =IF('Patrak C'!S14="","",'Patrak C'!S14) | O13: =IF((AND(L13="",M13="",N13="")),"",SUM(L13:N13)) | P13: =IF(O13="","",IF(O13>79,"A",IF(O13>64,"B",IF(O13>49,"C",IF(O13>34,"D",IF(O13<35,"E",)))))) | Q13: =IF('Patrak C'!Y14="","",'Patrak C'!Y14) | R13: =IF('Patrak C'!Z14="","",'Patrak C'!Z14) | S13: =IF('Patrak C'!AA14="","",'Patrak C'!AA14) | T13: =IF((AND(Q13="",R13="",S13="")),"",SUM(Q13:S13)) | U13: =IF(T13="","",IF(T13>79,"A",IF(T13>64,"B",IF(T13>49,"C",IF(T13>34,"D",IF(T13<35,"E",)))))) | V13: =A13 | W13: =IF('Patrak C'!AH14="","",'Patrak C'!AH14) | X13: =IF('Patrak C'!AI14="","",'Patrak C'!AI14) | Y13: =IF('Patrak C'!AJ14="","",'Patrak C'!AJ14) | Z13: =IF((AND(W13="",X13="",Y13="")),"",SUM(W13:Y13)) | AA13: =IF(Z13="","",IF(Z13>79,"A",IF(Z13>64,"B",IF(Z13>49,"C",IF(Z13>34,"D",IF(Z13<35,"E",)))))) | AB13: ='Patrak B'!AS20 | AC13: =IF(AB13="","",IF(AB13>159,"A",IF(AB13>129,"B",IF(AB13>99,"C",IF(AB13>69,"D",IF(AB13<70,"E",)))))) | AD13: =IF(AND(J13="",O13="",T13="",Z13="",AB13=""),"",SUM(J13,O13,T13,Z13,AB13)) | AE13: =IF(AD13="","",IF(AD13>479,"A",IF(AD13>389,"B",IF(AD13>299,"C",IF(AD13>209,"D",IF(AD13<210,"E",))))))
A14: ='Student Data'!A12 | B14: =IF('Student Data'!B12="","",'Student Data'!B12) | C14: =IF('Student Data'!C12="","",'Student Data'!C12) | D14: =IF('Student Data'!D12="","",'Student Data'!D12) | E14: ='Student Data'!E12 -> 0 | F14: ='Student Data'!F12 -> 0 | G14: =IF('Patrak C'!H15="","",'Patrak C'!H15) | H14: =IF('Patrak C'!I15="","",'Patrak C'!I15) | I14: =IF('Patrak C'!J15="","",'Patrak C'!J15) | J14: =IF((AND(G14="",H14="",I14="")),"",SUM(G14:I14)) | K14: =IF(J14="","",IF(J14>79,"A",IF(J14>64,"B",IF(J14>49,"C",IF(J14>34,"D",IF(J14<35,"E",)))))) | L14: =IF('Patrak C'!Q15="","",'Patrak C'!Q15) | M14: =IF('Patrak C'!R15="","",'Patrak C'!R15) | N14: =IF('Patrak C'!S15="","",'Patrak C'!S15) | O14: =IF((AND(L14="",M14="",N14="")),"",SUM(L14:N14)) | P14: =IF(O14="","",IF(O14>79,"A",IF(O14>64,"B",IF(O14>49,"C",IF(O14>34,"D",IF(O14<35,"E",)))))) | Q14: =IF('Patrak C'!Y15="","",'Patrak C'!Y15) | R14: =IF('Patrak C'!Z15="","",'Patrak C'!Z15) | S14: =IF('Patrak C'!AA15="","",'Patrak C'!AA15) | T14: =IF((AND(Q14="",R14="",S14="")),"",SUM(Q14:S14)) | U14: =IF(T14="","",IF(T14>79,"A",IF(T14>64,"B",IF(T14>49,"C",IF(T14>34,"D",IF(T14<35,"E",)))))) | V14: =A14 | W14: =IF('Patrak C'!AH15="","",'Patrak C'!AH15) | X14: =IF('Patrak C'!AI15="","",'Patrak C'!AI15) | Y14: =IF('Patrak C'!AJ15="","",'Patrak C'!AJ15) | Z14: =IF((AND(W14="",X14="",Y14="")),"",SUM(W14:Y14)) | AA14: =IF(Z14="","",IF(Z14>79,"A",IF(Z14>64,"B",IF(Z14>49,"C",IF(Z14>34,"D",IF(Z14<35,"E",)))))) | AB14: ='Patrak B'!AS22 | AC14: =IF(AB14="","",IF(AB14>159,"A",IF(AB14>129,"B",IF(AB14>99,"C",IF(AB14>69,"D",IF(AB14<70,"E",)))))) | AD14: =IF(AND(J14="",O14="",T14="",Z14="",AB14=""),"",SUM(J14,O14,T14,Z14,AB14)) | AE14: =IF(AD14="","",IF(AD14>479,"A",IF(AD14>389,"B",IF(AD14>299,"C",IF(AD14>209,"D",IF(AD14<210,"E",))))))
A15: ='Student Data'!A13 | B15: =IF('Student Data'!B13="","",'Student Data'!B13) | C15: =IF('Student Data'!C13="","",'Student Data'!C13) | D15: =IF('Student Data'!D13="","",'Student Data'!D13) | E15: ='Student Data'!E13 -> 0 | F15: ='Student Data'!F13 -> 0 | G15: =IF('Patrak C'!H16="","",'Patrak C'!H16) | H15: =IF('Patrak C'!I16="","",'Patrak C'!I16) | I15: =IF('Patrak C'!J16="","",'Patrak C'!J16) | J15: =IF((AND(G15="",H15="",I15="")),"",SUM(G15:I15)) | K15: =IF(J15="","",IF(J15>79,"A",IF(J15>64,"B",IF(J15>49,"C",IF(J15>34,"D",IF(J15<35,"E",)))))) | L15: =IF('Patrak C'!Q16="","",'Patrak C'!Q16) | M15: =IF('Patrak C'!R16="","",'Patrak C'!R16) | N15: =IF('Patrak C'!S16="","",'Patrak C'!S16) | O15: =IF((AND(L15="",M15="",N15="")),"",SUM(L15:N15)) | P15: =IF(O15="","",IF(O15>79,"A",IF(O15>64,"B",IF(O15>49,"C",IF(O15>34,"D",IF(O15<35,"E",)))))) | Q15: =IF('Patrak C'!Y16="","",'Patrak C'!Y16) | R15: =IF('Patrak C'!Z16="","",'Patrak C'!Z16) | S15: =IF('Patrak C'!AA16="","",'Patrak C'!AA16) | T15: =IF((AND(Q15="",R15="",S15="")),"",SUM(Q15:S15)) | U15: =IF(T15="","",IF(T15>79,"A",IF(T15>64,"B",IF(T15>49,"C",IF(T15>34,"D",IF(T15<35,"E",)))))) | V15: =A15 | W15: =IF('Patrak C'!AH16="","",'Patrak C'!AH16) | X15: =IF('Patrak C'!AI16="","",'Patrak C'!AI16) | Y15: =IF('Patrak C'!AJ16="","",'Patrak C'!AJ16) | Z15: =IF((AND(W15="",X15="",Y15="")),"",SUM(W15:Y15)) | AA15: =IF(Z15="","",IF(Z15>79,"A",IF(Z15>64,"B",IF(Z15>49,"C",IF(Z15>34,"D",IF(Z15<35,"E",)))))) | AB15: ='Patrak B'!AS24 | AC15: =IF(AB15="","",IF(AB15>159,"A",IF(AB15>129,"B",IF(AB15>99,"C",IF(AB15>69,"D",IF(AB15<70,"E",)))))) | AD15: =IF(AND(J15="",O15="",T15="",Z15="",AB15=""),"",SUM(J15,O15,T15,Z15,AB15)) | AE15: =IF(AD15="","",IF(AD15>479,"A",IF(AD15>389,"B",IF(AD15>299,"C",IF(AD15>209,"D",IF(AD15<210,"E",))))))
A16: ='Student Data'!A14 | B16: =IF('Student Data'!B14="","",'Student Data'!B14) | C16: =IF('Student Data'!C14="","",'Student Data'!C14) | D16: =IF('Student Data'!D14="","",'Student Data'!D14) | E16: ='Student Data'!E14 -> 0 | F16: ='Student Data'!F14 -> 0 | G16: =IF('Patrak C'!H17="","",'Patrak C'!H17) | H16: =IF('Patrak C'!I17="","",'Patrak C'!I17) | I16: =IF('Patrak C'!J17="","",'Patrak C'!J17) | J16: =IF((AND(G16="",H16="",I16="")),"",SUM(G16:I16)) | K16: =IF(J16="","",IF(J16>79,"A",IF(J16>64,"B",IF(J16>49,"C",IF(J16>34,"D",IF(J16<35,"E",)))))) | L16: =IF('Patrak C'!Q17="","",'Patrak C'!Q17) | M16: =IF('Patrak C'!R17="","",'Patrak C'!R17) | N16: =IF('Patrak C'!S17="","",'Patrak C'!S17) | O16: =IF((AND(L16="",M16="",N16="")),"",SUM(L16:N16)) | P16: =IF(O16="","",IF(O16>79,"A",IF(O16>64,"B",IF(O16>49,"C",IF(O16>34,"D",IF(O16<35,"E",)))))) | Q16: =IF('Patrak C'!Y17="","",'Patrak C'!Y17) | R16: =IF('Patrak C'!Z17="","",'Patrak C'!Z17) | S16: =IF('Patrak C'!AA17="","",'Patrak C'!AA17) | T16: =IF((AND(Q16="",R16="",S16="")),"",SUM(Q16:S16)) | U16: =IF(T16="","",IF(T16>79,"A",IF(T16>64,"B",IF(T16>49,"C",IF(T16>34,"D",IF(T16<35,"E",)))))) | V16: =A16 | W16: =IF('Patrak C'!AH17="","",'Patrak C'!AH17) | X16: =IF('Patrak C'!AI17="","",'Patrak C'!AI17) | Y16: =IF('Patrak C'!AJ17="","",'Patrak C'!AJ17) | Z16: =IF((AND(W16="",X16="",Y16="")),"",SUM(W16:Y16)) | AA16: =IF(Z16="","",IF(Z16>79,"A",IF(Z16>64,"B",IF(Z16>49,"C",IF(Z16>34,"D",IF(Z16<35,"E",)))))) | AB16: ='Patrak B'!AS26 | AC16: =IF(AB16="","",IF(AB16>159,"A",IF(AB16>129,"B",IF(AB16>99,"C",IF(AB16>69,"D",IF(AB16<70,"E",)))))) | AD16: =IF(AND(J16="",O16="",T16="",Z16="",AB16=""),"",SUM(J16,O16,T16,Z16,AB16)) | AE16: =IF(AD16="","",IF(AD16>479,"A",IF(AD16>389,"B",IF(AD16>299,"C",IF(AD16>209,"D",IF(AD16<210,"E",))))))
A17: ='Student Data'!A15 | B17: =IF('Student Data'!B15="","",'Student Data'!B15) | C17: =IF('Student Data'!C15="","",'Student Data'!C15) | D17: =IF('Student Data'!D15="","",'Student Data'!D15) | E17: ='Student Data'!E15 -> 0 | F17: ='Student Data'!F15 -> 0 | G17: =IF('Patrak C'!H18="","",'Patrak C'!H18) | H17: =IF('Patrak C'!I18="","",'Patrak C'!I18) | I17: =IF('Patrak C'!J18="","",'Patrak C'!J18) | J17: =IF((AND(G17="",H17="",I17="")),"",SUM(G17:I17)) | K17: =IF(J17="","",IF(J17>79,"A",IF(J17>64,"B",IF(J17>49,"C",IF(J17>34,"D",IF(J17<35,"E",)))))) | L17: =IF('Patrak C'!Q18="","",'Patrak C'!Q18) | M17: =IF('Patrak C'!R18="","",'Patrak C'!R18) | N17: =IF('Patrak C'!S18="","",'Patrak C'!S18) | O17: =IF((AND(L17="",M17="",N17="")),"",SUM(L17:N17)) | P17: =IF(O17="","",IF(O17>79,"A",IF(O17>64,"B",IF(O17>49,"C",IF(O17>34,"D",IF(O17<35,"E",)))))) | Q17: =IF('Patrak C'!Y18="","",'Patrak C'!Y18) | R17: =IF('Patrak C'!Z18="","",'Patrak C'!Z18) | S17: =IF('Patrak C'!AA18="","",'Patrak C'!AA18) | T17: =IF((AND(Q17="",R17="",S17="")),"",SUM(Q17:S17)) | U17: =IF(T17="","",IF(T17>79,"A",IF(T17>64,"B",IF(T17>49,"C",IF(T17>34,"D",IF(T17<35,"E",)))))) | V17: =A17 | W17: =IF('Patrak C'!AH18="","",'Patrak C'!AH18) | X17: =IF('Patrak C'!AI18="","",'Patrak C'!AI18) | Y17: =IF('Patrak C'!AJ18="","",'Patrak C'!AJ18) | Z17: =IF((AND(W17="",X17="",Y17="")),"",SUM(W17:Y17)) | AA17: =IF(Z17="","",IF(Z17>79,"A",IF(Z17>64,"B",IF(Z17>49,"C",IF(Z17>34,"D",IF(Z17<35,"E",)))))) | AB17: ='Patrak B'!AS28 | AC17: =IF(AB17="","",IF(AB17>159,"A",IF(AB17>129,"B",IF(AB17>99,"C",IF(AB17>69,"D",IF(AB17<70,"E",)))))) | AD17: =IF(AND(J17="",O17="",T17="",Z17="",AB17=""),"",SUM(J17,O17,T17,Z17,AB17)) | AE17: =IF(AD17="","",IF(AD17>479,"A",IF(AD17>389,"B",IF(AD17>299,"C",IF(AD17>209,"D",IF(AD17<210,"E",))))))
A18: ='Student Data'!A16 | B18: =IF('Student Data'!B16="","",'Student Data'!B16) | C18: =IF('Student Data'!C16="","",'Student Data'!C16) | D18: =IF('Student Data'!D16="","",'Student Data'!D16) | E18: ='Student Data'!E16 -> 0 | F18: ='Student Data'!F16 -> 0 | G18: =IF('Patrak C'!H19="","",'Patrak C'!H19) | H18: =IF('Patrak C'!I19="","",'Patrak C'!I19) | I18: =IF('Patrak C'!J19="","",'Patrak C'!J19) | J18: =IF((AND(G18="",H18="",I18="")),"",SUM(G18:I18)) | K18: =IF(J18="","",IF(J18>79,"A",IF(J18>64,"B",IF(J18>49,"C",IF(J18>34,"D",IF(J18<35,"E",)))))) | L18: =IF('Patrak C'!Q19="","",'Patrak C'!Q19) | M18: =IF('Patrak C'!R19="","",'Patrak C'!R19) | N18: =IF('Patrak C'!S19="","",'Patrak C'!S19) | O18: =IF((AND(L18="",M18="",N18="")),"",SUM(L18:N18)) | P18: =IF(O18="","",IF(O18>79,"A",IF(O18>64,"B",IF(O18>49,"C",IF(O18>34,"D",IF(O18<35,"E",)))))) | Q18: =IF('Patrak C'!Y19="","",'Patrak C'!Y19) | R18: =IF('Patrak C'!Z19="","",'Patrak C'!Z19) | S18: =IF('Patrak C'!AA19="","",'Patrak C'!AA19) | T18: =IF((AND(Q18="",R18="",S18="")),"",SUM(Q18:S18)) | U18: =IF(T18="","",IF(T18>79,"A",IF(T18>64,"B",IF(T18>49,"C",IF(T18>34,"D",IF(T18<35,"E",)))))) | V18: =A18 | W18: =IF('Patrak C'!AH19="","",'Patrak C'!AH19) | X18: =IF('Patrak C'!AI19="","",'Patrak C'!AI19) | Y18: =IF('Patrak C'!AJ19="","",'Patrak C'!AJ19) | Z18: =IF((AND(W18="",X18="",Y18="")),"",SUM(W18:Y18)) | AA18: =IF(Z18="","",IF(Z18>79,"A",IF(Z18>64,"B",IF(Z18>49,"C",IF(Z18>34,"D",IF(Z18<35,"E",)))))) | AB18: ='Patrak B'!AS30 | AC18: =IF(AB18="","",IF(AB18>159,"A",IF(AB18>129,"B",IF(AB18>99,"C",IF(AB18>69,"D",IF(AB18<70,"E",)))))) | AD18: =IF(AND(J18="",O18="",T18="",Z18="",AB18=""),"",SUM(J18,O18,T18,Z18,AB18)) | AE18: =IF(AD18="","",IF(AD18>479,"A",IF(AD18>389,"B",IF(AD18>299,"C",IF(AD18>209,"D",IF(AD18<210,"E",))))))
A19: ='Student Data'!A17 | B19: =IF('Student Data'!B17="","",'Student Data'!B17) | C19: =IF('Student Data'!C17="","",'Student Data'!C17) | D19: =IF('Student Data'!D17="","",'Student Data'!D17) | E19: ='Student Data'!E17 -> 0 | F19: ='Student Data'!F17 -> 0 | G19: =IF('Patrak C'!H20="","",'Patrak C'!H20) | H19: =IF('Patrak C'!I20="","",'Patrak C'!I20) | I19: =IF('Patrak C'!J20="","",'Patrak C'!J20) | J19: =IF((AND(G19="",H19="",I19="")),"",SUM(G19:I19)) | K19: =IF(J19="","",IF(J19>79,"A",IF(J19>64,"B",IF(J19>49,"C",IF(J19>34,"D",IF(J19<35,"E",)))))) | L19: =IF('Patrak C'!Q20="","",'Patrak C'!Q20) | M19: =IF('Patrak C'!R20="","",'Patrak C'!R20) | N19: =IF('Patrak C'!S20="","",'Patrak C'!S20) | O19: =IF((AND(L19="",M19="",N19="")),"",SUM(L19:N19)) | P19: =IF(O19="","",IF(O19>79,"A",IF(O19>64,"B",IF(O19>49,"C",IF(O19>34,"D",IF(O19<35,"E",)))))) | Q19: =IF('Patrak C'!Y20="","",'Patrak C'!Y20) | R19: =IF('Patrak C'!Z20="","",'Patrak C'!Z20) | S19: =IF('Patrak C'!AA20="","",'Patrak C'!AA20) | T19: =IF((AND(Q19="",R19="",S19="")),"",SUM(Q19:S19)) | U19: =IF(T19="","",IF(T19>79,"A",IF(T19>64,"B",IF(T19>49,"C",IF(T19>34,"D",IF(T19<35,"E",)))))) | V19: =A19 | W19: =IF('Patrak C'!AH20="","",'Patrak C'!AH20) | X19: =IF('Patrak C'!AI20="","",'Patrak C'!AI20) | Y19: =IF('Patrak C'!AJ20="","",'Patrak C'!AJ20) | Z19: =IF((AND(W19="",X19="",Y19="")),"",SUM(W19:Y19)) | AA19: =IF(Z19="","",IF(Z19>79,"A",IF(Z19>64,"B",IF(Z19>49,"C",IF(Z19>34,"D",IF(Z19<35,"E",)))))) | AB19: ='Patrak B'!AS32 | AC19: =IF(AB19="","",IF(AB19>159,"A",IF(AB19>129,"B",IF(AB19>99,"C",IF(AB19>69,"D",IF(AB19<70,"E",)))))) | AD19: =IF(AND(J19="",O19="",T19="",Z19="",AB19=""),"",SUM(J19,O19,T19,Z19,AB19)) | AE19: =IF(AD19="","",IF(AD19>479,"A",IF(AD19>389,"B",IF(AD19>299,"C",IF(AD19>209,"D",IF(AD19<210,"E",))))))
A20: ='Student Data'!A18 | B20: =IF('Student Data'!B18="","",'Student Data'!B18) | C20: =IF('Student Data'!C18="","",'Student Data'!C18) | D20: =IF('Student Data'!D18="","",'Student Data'!D18) | E20: ='Student Data'!E18 -> 0 | F20: ='Student Data'!F18 -> 0 | G20: =IF('Patrak C'!H21="","",'Patrak C'!H21) | H20: =IF('Patrak C'!I21="","",'Patrak C'!I21) | I20: =IF('Patrak C'!J21="","",'Patrak C'!J21) | J20: =IF((AND(G20="",H20="",I20="")),"",SUM(G20:I20)) | K20: =IF(J20="","",IF(J20>79,"A",IF(J20>64,"B",IF(J20>49,"C",IF(J20>34,"D",IF(J20<35,"E",)))))) | L20: =IF('Patrak C'!Q21="","",'Patrak C'!Q21) | M20: =IF('Patrak C'!R21="","",'Patrak C'!R21) | N20: =IF('Patrak C'!S21="","",'Patrak C'!S21) | O20: =IF((AND(L20="",M20="",N20="")),"",SUM(L20:N20)) | P20: =IF(O20="","",IF(O20>79,"A",IF(O20>64,"B",IF(O20>49,"C",IF(O20>34,"D",IF(O20<35,"E",)))))) | Q20: =IF('Patrak C'!Y21="","",'Patrak C'!Y21) | R20: =IF('Patrak C'!Z21="","",'Patrak C'!Z21) | S20: =IF('Patrak C'!AA21="","",'Patrak C'!AA21) | T20: =IF((AND(Q20="",R20="",S20="")),"",SUM(Q20:S20)) | U20: =IF(T20="","",IF(T20>79,"A",IF(T20>64,"B",IF(T20>49,"C",IF(T20>34,"D",IF(T20<35,"E",)))))) | V20: =A20 | W20: =IF('Patrak C'!AH21="","",'Patrak C'!AH21) | X20: =IF('Patrak C'!AI21="","",'Patrak C'!AI21) | Y20: =IF('Patrak C'!AJ21="","",'Patrak C'!AJ21) | Z20: =IF((AND(W20="",X20="",Y20="")),"",SUM(W20:Y20)) | AA20: =IF(Z20="","",IF(Z20>79,"A",IF(Z20>64,"B",IF(Z20>49,"C",IF(Z20>34,"D",IF(Z20<35,"E",)))))) | AB20: ='Patrak B'!AS34 | AC20: =IF(AB20="","",IF(AB20>159,"A",IF(AB20>129,"B",IF(AB20>99,"C",IF(AB20>69,"D",IF(AB20<70,"E",)))))) | AD20: =IF(AND(J20="",O20="",T20="",Z20="",AB20=""),"",SUM(J20,O20,T20,Z20,AB20)) | AE20: =IF(AD20="","",IF(AD20>479,"A",IF(AD20>389,"B",IF(AD20>299,"C",IF(AD20>209,"D",IF(AD20<210,"E",))))))
A21: ='Student Data'!A19 | B21: =IF('Student Data'!B19="","",'Student Data'!B19) | C21: =IF('Student Data'!C19="","",'Student Data'!C19) | D21: =IF('Student Data'!D19="","",'Student Data'!D19) | E21: ='Student Data'!E19 -> 0 | F21: ='Student Data'!F19 -> 0 | G21: =IF('Patrak C'!H22="","",'Patrak C'!H22) | H21: =IF('Patrak C'!I22="","",'Patrak C'!I22) | I21: =IF('Patrak C'!J22="","",'Patrak C'!J22) | J21: =IF((AND(G21="",H21="",I21="")),"",SUM(G21:I21)) | K21: =IF(J21="","",IF(J21>79,"A",IF(J21>64,"B",IF(J21>49,"C",IF(J21>34,"D",IF(J21<35,"E",)))))) | L21: =IF('Patrak C'!Q22="","",'Patrak C'!Q22) | M21: =IF('Patrak C'!R22="","",'Patrak C'!R22) | N21: =IF('Patrak C'!S22="","",'Patrak C'!S22) | O21: =IF((AND(L21="",M21="",N21="")),"",SUM(L21:N21)) | P21: =IF(O21="","",IF(O21>79,"A",IF(O21>64,"B",IF(O21>49,"C",IF(O21>34,"D",IF(O21<35,"E",)))))) | Q21: =IF('Patrak C'!Y22="","",'Patrak C'!Y22) | R21: =IF('Patrak C'!Z22="","",'Patrak C'!Z22) | S21: =IF('Patrak C'!AA22="","",'Patrak C'!AA22) | T21: =IF((AND(Q21="",R21="",S21="")),"",SUM(Q21:S21)) | U21: =IF(T21="","",IF(T21>79,"A",IF(T21>64,"B",IF(T21>49,"C",IF(T21>34,"D",IF(T21<35,"E",)))))) | V21: =A21 | W21: =IF('Patrak C'!AH22="","",'Patrak C'!AH22) | X21: =IF('Patrak C'!AI22="","",'Patrak C'!AI22) | Y21: =IF('Patrak C'!AJ22="","",'Patrak C'!AJ22) | Z21: =IF((AND(W21="",X21="",Y21="")),"",SUM(W21:Y21)) | AA21: =IF(Z21="","",IF(Z21>79,"A",IF(Z21>64,"B",IF(Z21>49,"C",IF(Z21>34,"D",IF(Z21<35,"E",)))))) | AB21: ='Patrak B'!AS36 | AC21: =IF(AB21="","",IF(AB21>159,"A",IF(AB21>129,"B",IF(AB21>99,"C",IF(AB21>69,"D",IF(AB21<70,"E",)))))) | AD21: =IF(AND(J21="",O21="",T21="",Z21="",AB21=""),"",SUM(J21,O21,T21,Z21,AB21)) | AE21: =IF(AD21="","",IF(AD21>479,"A",IF(AD21>389,"B",IF(AD21>299,"C",IF(AD21>209,"D",IF(AD21<210,"E",))))))
A22: ='Student Data'!A20 | B22: =IF('Student Data'!B20="","",'Student Data'!B20) | C22: =IF('Student Data'!C20="","",'Student Data'!C20) | D22: =IF('Student Data'!D20="","",'Student Data'!D20) | E22: ='Student Data'!E20 -> 0 | F22: ='Student Data'!F20 -> 0 | G22: =IF('Patrak C'!H23="","",'Patrak C'!H23) | H22: =IF('Patrak C'!I23="","",'Patrak C'!I23) | I22: =IF('Patrak C'!J23="","",'Patrak C'!J23) | J22: =IF((AND(G22="",H22="",I22="")),"",SUM(G22:I22)) | K22: =IF(J22="","",IF(J22>79,"A",IF(J22>64,"B",IF(J22>49,"C",IF(J22>34,"D",IF(J22<35,"E",)))))) | L22: =IF('Patrak C'!Q23="","",'Patrak C'!Q23) | M22: =IF('Patrak C'!R23="","",'Patrak C'!R23) | N22: =IF('Patrak C'!S23="","",'Patrak C'!S23) | O22: =IF((AND(L22="",M22="",N22="")),"",SUM(L22:N22)) | P22: =IF(O22="","",IF(O22>79,"A",IF(O22>64,"B",IF(O22>49,"C",IF(O22>34,"D",IF(O22<35,"E",)))))) | Q22: =IF('Patrak C'!Y23="","",'Patrak C'!Y23) | R22: =IF('Patrak C'!Z23="","",'Patrak C'!Z23) | S22: =IF('Patrak C'!AA23="","",'Patrak C'!AA23) | T22: =IF((AND(Q22="",R22="",S22="")),"",SUM(Q22:S22)) | U22: =IF(T22="","",IF(T22>79,"A",IF(T22>64,"B",IF(T22>49,"C",IF(T22>34,"D",IF(T22<35,"E",)))))) | V22: =A22 | W22: =IF('Patrak C'!AH23="","",'Patrak C'!AH23) | X22: =IF('Patrak C'!AI23="","",'Patrak C'!AI23) | Y22: =IF('Patrak C'!AJ23="","",'Patrak C'!AJ23) | Z22: =IF((AND(W22="",X22="",Y22="")),"",SUM(W22:Y22)) | AA22: =IF(Z22="","",IF(Z22>79,"A",IF(Z22>64,"B",IF(Z22>49,"C",IF(Z22>34,"D",IF(Z22<35,"E",)))))) | AB22: ='Patrak B'!AS38 | AC22: =IF(AB22="","",IF(AB22>159,"A",IF(AB22>129,"B",IF(AB22>99,"C",IF(AB22>69,"D",IF(AB22<70,"E",)))))) | AD22: =IF(AND(J22="",O22="",T22="",Z22="",AB22=""),"",SUM(J22,O22,T22,Z22,AB22)) | AE22: =IF(AD22="","",IF(AD22>479,"A",IF(AD22>389,"B",IF(AD22>299,"C",IF(AD22>209,"D",IF(AD22<210,"E",))))))
A23: ='Student Data'!A21 | B23: =IF('Student Data'!B21="","",'Student Data'!B21) | C23: =IF('Student Data'!C21="","",'Student Data'!C21) | D23: =IF('Student Data'!D21="","",'Student Data'!D21) | E23: ='Student Data'!E21 -> 0 | F23: ='Student Data'!F21 -> 0 | G23: =IF('Patrak C'!H24="","",'Patrak C'!H24) | H23: =IF('Patrak C'!I24="","",'Patrak C'!I24) | I23: =IF('Patrak C'!J24="","",'Patrak C'!J24) | J23: =IF((AND(G23="",H23="",I23="")),"",SUM(G23:I23)) | K23: =IF(J23="","",IF(J23>79,"A",IF(J23>64,"B",IF(J23>49,"C",IF(J23>34,"D",IF(J23<35,"E",)))))) | L23: =IF('Patrak C'!Q24="","",'Patrak C'!Q24) | M23: =IF('Patrak C'!R24="","",'Patrak C'!R24) | N23: =IF('Patrak C'!S24="","",'Patrak C'!S24) | O23: =IF((AND(L23="",M23="",N23="")),"",SUM(L23:N23)) | P23: =IF(O23="","",IF(O23>79,"A",IF(O23>64,"B",IF(O23>49,"C",IF(O23>34,"D",IF(O23<35,"E",)))))) | Q23: =IF('Patrak C'!Y24="","",'Patrak C'!Y24) | R23: =IF('Patrak C'!Z24="","",'Patrak C'!Z24) | S23: =IF('Patrak C'!AA24="","",'Patrak C'!AA24) | T23: =IF((AND(Q23="",R23="",S23="")),"",SUM(Q23:S23)) | U23: =IF(T23="","",IF(T23>79,"A",IF(T23>64,"B",IF(T23>49,"C",IF(T23>34,"D",IF(T23<35,"E",)))))) | V23: =A23 | W23: =IF('Patrak C'!AH24="","",'Patrak C'!AH24) | X23: =IF('Patrak C'!AI24="","",'Patrak C'!AI24) | Y23: =IF('Patrak C'!AJ24="","",'Patrak C'!AJ24) | Z23: =IF((AND(W23="",X23="",Y23="")),"",SUM(W23:Y23)) | AA23: =IF(Z23="","",IF(Z23>79,"A",IF(Z23>64,"B",IF(Z23>49,"C",IF(Z23>34,"D",IF(Z23<35,"E",)))))) | AB23: ='Patrak B'!AS40 | AC23: =IF(AB23="","",IF(AB23>159,"A",IF(AB23>129,"B",IF(AB23>99,"C",IF(AB23>69,"D",IF(AB23<70,"E",)))))) | AD23: =IF(AND(J23="",O23="",T23="",Z23="",AB23=""),"",SUM(J23,O23,T23,Z23,AB23)) | AE23: =IF(AD23="","",IF(AD23>479,"A",IF(AD23>389,"B",IF(AD23>299,"C",IF(AD23>209,"D",IF(AD23<210,"E",))))))
A24: ='Student Data'!A22 | B24: =IF('Student Data'!B22="","",'Student Data'!B22) | C24: =IF('Student Data'!C22="","",'Student Data'!C22) | D24: =IF('Student Data'!D22="","",'Student Data'!D22) | E24: ='Student Data'!E22 -> 0 | F24: ='Student Data'!F22 -> 0 | G24: =IF('Patrak C'!H25="","",'Patrak C'!H25) | H24: =IF('Patrak C'!I25="","",'Patrak C'!I25) | I24: =IF('Patrak C'!J25="","",'Patrak C'!J25) | J24: =IF((AND(G24="",H24="",I24="")),"",SUM(G24:I24)) | K24: =IF(J24="","",IF(J24>79,"A",IF(J24>64,"B",IF(J24>49,"C",IF(J24>34,"D",IF(J24<35,"E",)))))) | L24: =IF('Patrak C'!Q25="","",'Patrak C'!Q25) | M24: =IF('Patrak C'!R25="","",'Patrak C'!R25) | N24: =IF('Patrak C'!S25="","",'Patrak C'!S25) | O24: =IF((AND(L24="",M24="",N24="")),"",SUM(L24:N24)) | P24: =IF(O24="","",IF(O24>79,"A",IF(O24>64,"B",IF(O24>49,"C",IF(O24>34,"D",IF(O24<35,"E",)))))) | Q24: =IF('Patrak C'!Y25="","",'Patrak C'!Y25) | R24: =IF('Patrak C'!Z25="","",'Patrak C'!Z25) | S24: =IF('Patrak C'!AA25="","",'Patrak C'!AA25) | T24: =IF((AND(Q24="",R24="",S24="")),"",SUM(Q24:S24)) | U24: =IF(T24="","",IF(T24>79,"A",IF(T24>64,"B",IF(T24>49,"C",IF(T24>34,"D",IF(T24<35,"E",)))))) | V24: =A24 | W24: =IF('Patrak C'!AH25="","",'Patrak C'!AH25) | X24: =IF('Patrak C'!AI25="","",'Patrak C'!AI25) | Y24: =IF('Patrak C'!AJ25="","",'Patrak C'!AJ25) | Z24: =IF((AND(W24="",X24="",Y24="")),"",SUM(W24:Y24)) | AA24: =IF(Z24="","",IF(Z24>79,"A",IF(Z24>64,"B",IF(Z24>49,"C",IF(Z24>34,"D",IF(Z24<35,"E",)))))) | AB24: ='Patrak B'!AS42 | AC24: =IF(AB24="","",IF(AB24>159,"A",IF(AB24>129,"B",IF(AB24>99,"C",IF(AB24>69,"D",IF(AB24<70,"E",)))))) | AD24: =IF(AND(J24="",O24="",T24="",Z24="",AB24=""),"",SUM(J24,O24,T24,Z24,AB24)) | AE24: =IF(AD24="","",IF(AD24>479,"A",IF(AD24>389,"B",IF(AD24>299,"C",IF(AD24>209,"D",IF(AD24<210,"E",))))))
A25: ='Student Data'!A23 | B25: =IF('Student Data'!B23="","",'Student Data'!B23) | C25: =IF('Student Data'!C23="","",'Student Data'!C23) | D25: =IF('Student Data'!D23="","",'Student Data'!D23) | E25: ='Student Data'!E23 -> 0 | F25: ='Student Data'!F23 -> 0 | G25: =IF('Patrak C'!H26="","",'Patrak C'!H26) | H25: =IF('Patrak C'!I26="","",'Patrak C'!I26) | I25: =IF('Patrak C'!J26="","",'Patrak C'!J26) | J25: =IF((AND(G25="",H25="",I25="")),"",SUM(G25:I25)) | K25: =IF(J25="","",IF(J25>79,"A",IF(J25>64,"B",IF(J25>49,"C",IF(J25>34,"D",IF(J25<35,"E",)))))) | L25: =IF('Patrak C'!Q26="","",'Patrak C'!Q26) | M25: =IF('Patrak C'!R26="","",'Patrak C'!R26) | N25: =IF('Patrak C'!S26="","",'Patrak C'!S26) | O25: =IF((AND(L25="",M25="",N25="")),"",SUM(L25:N25)) | P25: =IF(O25="","",IF(O25>79,"A",IF(O25>64,"B",IF(O25>49,"C",IF(O25>34,"D",IF(O25<35,"E",)))))) | Q25: =IF('Patrak C'!Y26="","",'Patrak C'!Y26) | R25: =IF('Patrak C'!Z26="","",'Patrak C'!Z26) | S25: =IF('Patrak C'!AA26="","",'Patrak C'!AA26) | T25: =IF((AND(Q25="",R25="",S25="")),"",SUM(Q25:S25)) | U25: =IF(T25="","",IF(T25>79,"A",IF(T25>64,"B",IF(T25>49,"C",IF(T25>34,"D",IF(T25<35,"E",)))))) | V25: =A25 | W25: =IF('Patrak C'!AH26="","",'Patrak C'!AH26) | X25: =IF('Patrak C'!AI26="","",'Patrak C'!AI26) | Y25: =IF('Patrak C'!AJ26="","",'Patrak C'!AJ26) | Z25: =IF((AND(W25="",X25="",Y25="")),"",SUM(W25:Y25)) | AA25: =IF(Z25="","",IF(Z25>79,"A",IF(Z25>64,"B",IF(Z25>49,"C",IF(Z25>34,"D",IF(Z25<35,"E",)))))) | AB25: ='Patrak B'!AS44 | AC25: =IF(AB25="","",IF(AB25>159,"A",IF(AB25>129,"B",IF(AB25>99,"C",IF(AB25>69,"D",IF(AB25<70,"E",)))))) | AD25: =IF(AND(J25="",O25="",T25="",Z25="",AB25=""),"",SUM(J25,O25,T25,Z25,AB25)) | AE25: =IF(AD25="","",IF(AD25>479,"A",IF(AD25>389,"B",IF(AD25>299,"C",IF(AD25>209,"D",IF(AD25<210,"E",))))))
A26: ='Student Data'!A24 | B26: =IF('Student Data'!B24="","",'Student Data'!B24) | C26: =IF('Student Data'!C24="","",'Student Data'!C24) | D26: =IF('Student Data'!D24="","",'Student Data'!D24) | E26: ='Student Data'!E24 -> 0 | F26: ='Student Data'!F24 -> 0 | G26: =IF('Patrak C'!H27="","",'Patrak C'!H27) | H26: =IF('Patrak C'!I27="","",'Patrak C'!I27) | I26: =IF('Patrak C'!J27="","",'Patrak C'!J27) | J26: =IF((AND(G26="",H26="",I26="")),"",SUM(G26:I26)) | K26: =IF(J26="","",IF(J26>79,"A",IF(J26>64,"B",IF(J26>49,"C",IF(J26>34,"D",IF(J26<35,"E",)))))) | L26: =IF('Patrak C'!Q27="","",'Patrak C'!Q27) | M26: =IF('Patrak C'!R27="","",'Patrak C'!R27) | N26: =IF('Patrak C'!S27="","",'Patrak C'!S27) | O26: =IF((AND(L26="",M26="",N26="")),"",SUM(L26:N26)) | P26: =IF(O26="","",IF(O26>79,"A",IF(O26>64,"B",IF(O26>49,"C",IF(O26>34,"D",IF(O26<35,"E",)))))) | Q26: =IF('Patrak C'!Y27="","",'Patrak C'!Y27) | R26: =IF('Patrak C'!Z27="","",'Patrak C'!Z27) | S26: =IF('Patrak C'!AA27="","",'Patrak C'!AA27) | T26: =IF((AND(Q26="",R26="",S26="")),"",SUM(Q26:S26)) | U26: =IF(T26="","",IF(T26>79,"A",IF(T26>64,"B",IF(T26>49,"C",IF(T26>34,"D",IF(T26<35,"E",)))))) | V26: =A26 | W26: =IF('Patrak C'!AH27="","",'Patrak C'!AH27) | X26: =IF('Patrak C'!AI27="","",'Patrak C'!AI27) | Y26: =IF('Patrak C'!AJ27="","",'Patrak C'!AJ27) | Z26: =IF((AND(W26="",X26="",Y26="")),"",SUM(W26:Y26)) | AA26: =IF(Z26="","",IF(Z26>79,"A",IF(Z26>64,"B",IF(Z26>49,"C",IF(Z26>34,"D",IF(Z26<35,"E",)))))) | AB26: ='Patrak B'!AS46 | AC26: =IF(AB26="","",IF(AB26>159,"A",IF(AB26>129,"B",IF(AB26>99,"C",IF(AB26>69,"D",IF(AB26<70,"E",)))))) | AD26: =IF(AND(J26="",O26="",T26="",Z26="",AB26=""),"",SUM(J26,O26,T26,Z26,AB26)) | AE26: =IF(AD26="","",IF(AD26>479,"A",IF(AD26>389,"B",IF(AD26>299,"C",IF(AD26>209,"D",IF(AD26<210,"E",))))))
A27: ='Student Data'!A25 | B27: =IF('Student Data'!B25="","",'Student Data'!B25) | C27: =IF('Student Data'!C25="","",'Student Data'!C25) | D27: =IF('Student Data'!D25="","",'Student Data'!D25) | E27: ='Student Data'!E25 -> 0 | F27: ='Student Data'!F25 -> 0 | G27: =IF('Patrak C'!H28="","",'Patrak C'!H28) | H27: =IF('Patrak C'!I28="","",'Patrak C'!I28) | I27: =IF('Patrak C'!J28="","",'Patrak C'!J28) | J27: =IF((AND(G27="",H27="",I27="")),"",SUM(G27:I27)) | K27: =IF(J27="","",IF(J27>79,"A",IF(J27>64,"B",IF(J27>49,"C",IF(J27>34,"D",IF(J27<35,"E",)))))) | L27: =IF('Patrak C'!Q28="","",'Patrak C'!Q28) | M27: =IF('Patrak C'!R28="","",'Patrak C'!R28) | N27: =IF('Patrak C'!S28="","",'Patrak C'!S28) | O27: =IF((AND(L27="",M27="",N27="")),"",SUM(L27:N27)) | P27: =IF(O27="","",IF(O27>79,"A",IF(O27>64,"B",IF(O27>49,"C",IF(O27>34,"D",IF(O27<35,"E",)))))) | Q27: =IF('Patrak C'!Y28="","",'Patrak C'!Y28) | R27: =IF('Patrak C'!Z28="","",'Patrak C'!Z28) | S27: =IF('Patrak C'!AA28="","",'Patrak C'!AA28) | T27: =IF((AND(Q27="",R27="",S27="")),"",SUM(Q27:S27)) | U27: =IF(T27="","",IF(T27>79,"A",IF(T27>64,"B",IF(T27>49,"C",IF(T27>34,"D",IF(T27<35,"E",)))))) | V27: =A27 | W27: =IF('Patrak C'!AH28="","",'Patrak C'!AH28) | X27: =IF('Patrak C'!AI28="","",'Patrak C'!AI28) | Y27: =IF('Patrak C'!AJ28="","",'Patrak C'!AJ28) | Z27: =IF((AND(W27="",X27="",Y27="")),"",SUM(W27:Y27)) | AA27: =IF(Z27="","",IF(Z27>79,"A",IF(Z27>64,"B",IF(Z27>49,"C",IF(Z27>34,"D",IF(Z27<35,"E",)))))) | AB27: ='Patrak B'!AS48 | AC27: =IF(AB27="","",IF(AB27>159,"A",IF(AB27>129,"B",IF(AB27>99,"C",IF(AB27>69,"D",IF(AB27<70,"E",)))))) | AD27: =IF(AND(J27="",O27="",T27="",Z27="",AB27=""),"",SUM(J27,O27,T27,Z27,AB27)) | AE27: =IF(AD27="","",IF(AD27>479,"A",IF(AD27>389,"B",IF(AD27>299,"C",IF(AD27>209,"D",IF(AD27<210,"E",))))))
A28: ='Student Data'!A26 | B28: =IF('Student Data'!B26="","",'Student Data'!B26) | C28: =IF('Student Data'!C26="","",'Student Data'!C26) | D28: =IF('Student Data'!D26="","",'Student Data'!D26) | E28: ='Student Data'!E26 -> 0 | F28: ='Student Data'!F26 -> 0 | G28: =IF('Patrak C'!H29="","",'Patrak C'!H29) | H28: =IF('Patrak C'!I29="","",'Patrak C'!I29) | I28: =IF('Patrak C'!J29="","",'Patrak C'!J29) | J28: =IF((AND(G28="",H28="",I28="")),"",SUM(G28:I28)) | K28: =IF(J28="","",IF(J28>79,"A",IF(J28>64,"B",IF(J28>49,"C",IF(J28>34,"D",IF(J28<35,"E",)))))) | L28: =IF('Patrak C'!Q29="","",'Patrak C'!Q29) | M28: =IF('Patrak C'!R29="","",'Patrak C'!R29) | N28: =IF('Patrak C'!S29="","",'Patrak C'!S29) | O28: =IF((AND(L28="",M28="",N28="")),"",SUM(L28:N28)) | P28: =IF(O28="","",IF(O28>79,"A",IF(O28>64,"B",IF(O28>49,"C",IF(O28>34,"D",IF(O28<35,"E",)))))) | Q28: =IF('Patrak C'!Y29="","",'Patrak C'!Y29) | R28: =IF('Patrak C'!Z29="","",'Patrak C'!Z29) | S28: =IF('Patrak C'!AA29="","",'Patrak C'!AA29) | T28: =IF((AND(Q28="",R28="",S28="")),"",SUM(Q28:S28)) | U28: =IF(T28="","",IF(T28>79,"A",IF(T28>64,"B",IF(T28>49,"C",IF(T28>34,"D",IF(T28<35,"E",)))))) | V28: =A28 | W28: =IF('Patrak C'!AH29="","",'Patrak C'!AH29) | X28: =IF('Patrak C'!AI29="","",'Patrak C'!AI29) | Y28: =IF('Patrak C'!AJ29="","",'Patrak C'!AJ29) | Z28: =IF((AND(W28="",X28="",Y28="")),"",SUM(W28:Y28)) | AA28: =IF(Z28="","",IF(Z28>79,"A",IF(Z28>64,"B",IF(Z28>49,"C",IF(Z28>34,"D",IF(Z28<35,"E",)))))) | AB28: ='Patrak B'!AS50 | AC28: =IF(AB28="","",IF(AB28>159,"A",IF(AB28>129,"B",IF(AB28>99,"C",IF(AB28>69,"D",IF(AB28<70,"E",)))))) | AD28: =IF(AND(J28="",O28="",T28="",Z28="",AB28=""),"",SUM(J28,O28,T28,Z28,AB28)) | AE28: =IF(AD28="","",IF(AD28>479,"A",IF(AD28>389,"B",IF(AD28>299,"C",IF(AD28>209,"D",IF(AD28<210,"E",))))))
A29: ='Student Data'!A27 | B29: =IF('Student Data'!B27="","",'Student Data'!B27) | C29: =IF('Student Data'!C27="","",'Student Data'!C27) | D29: =IF('Student Data'!D27="","",'Student Data'!D27) | E29: ='Student Data'!E27 -> 0 | F29: ='Student Data'!F27 -> 0 | G29: =IF('Patrak C'!H30="","",'Patrak C'!H30) | H29: =IF('Patrak C'!I30="","",'Patrak C'!I30) | I29: =IF('Patrak C'!J30="","",'Patrak C'!J30) | J29: =IF((AND(G29="",H29="",I29="")),"",SUM(G29:I29)) | K29: =IF(J29="","",IF(J29>79,"A",IF(J29>64,"B",IF(J29>49,"C",IF(J29>34,"D",IF(J29<35,"E",)))))) | L29: =IF('Patrak C'!Q30="","",'Patrak C'!Q30) | M29: =IF('Patrak C'!R30="","",'Patrak C'!R30) | N29: =IF('Patrak C'!S30="","",'Patrak C'!S30) | O29: =IF((AND(L29="",M29="",N29="")),"",SUM(L29:N29)) | P29: =IF(O29="","",IF(O29>79,"A",IF(O29>64,"B",IF(O29>49,"C",IF(O29>34,"D",IF(O29<35,"E",)))))) | Q29: =IF('Patrak C'!Y30="","",'Patrak C'!Y30) | R29: =IF('Patrak C'!Z30="","",'Patrak C'!Z30) | S29: =IF('Patrak C'!AA30="","",'Patrak C'!AA30) | T29: =IF((AND(Q29="",R29="",S29="")),"",SUM(Q29:S29)) | U29: =IF(T29="","",IF(T29>79,"A",IF(T29>64,"B",IF(T29>49,"C",IF(T29>34,"D",IF(T29<35,"E",)))))) | V29: =A29 | W29: =IF('Patrak C'!AH30="","",'Patrak C'!AH30) | X29: =IF('Patrak C'!AI30="","",'Patrak C'!AI30) | Y29: =IF('Patrak C'!AJ30="","",'Patrak C'!AJ30) | Z29: =IF((AND(W29="",X29="",Y29="")),"",SUM(W29:Y29)) | AA29: =IF(Z29="","",IF(Z29>79,"A",IF(Z29>64,"B",IF(Z29>49,"C",IF(Z29>34,"D",IF(Z29<35,"E",)))))) | AB29: ='Patrak B'!AS52 | AC29: =IF(AB29="","",IF(AB29>159,"A",IF(AB29>129,"B",IF(AB29>99,"C",IF(AB29>69,"D",IF(AB29<70,"E",)))))) | AD29: =IF(AND(J29="",O29="",T29="",Z29="",AB29=""),"",SUM(J29,O29,T29,Z29,AB29)) | AE29: =IF(AD29="","",IF(AD29>479,"A",IF(AD29>389,"B",IF(AD29>299,"C",IF(AD29>209,"D",IF(AD29<210,"E",))))))
A30: ='Student Data'!A28 | B30: =IF('Student Data'!B28="","",'Student Data'!B28) | C30: =IF('Student Data'!C28="","",'Student Data'!C28) | D30: =IF('Student Data'!D28="","",'Student Data'!D28) | E30: ='Student Data'!E28 -> 0 | F30: ='Student Data'!F28 -> 0 | G30: =IF('Patrak C'!H31="","",'Patrak C'!H31) | H30: =IF('Patrak C'!I31="","",'Patrak C'!I31) | I30: =IF('Patrak C'!J31="","",'Patrak C'!J31) | J30: =IF((AND(G30="",H30="",I30="")),"",SUM(G30:I30)) | K30: =IF(J30="","",IF(J30>79,"A",IF(J30>64,"B",IF(J30>49,"C",IF(J30>34,"D",IF(J30<35,"E",)))))) | L30: =IF('Patrak C'!Q31="","",'Patrak C'!Q31) | M30: =IF('Patrak C'!R31="","",'Patrak C'!R31) | N30: =IF('Patrak C'!S31="","",'Patrak C'!S31) | O30: =IF((AND(L30="",M30="",N30="")),"",SUM(L30:N30)) | P30: =IF(O30="","",IF(O30>79,"A",IF(O30>64,"B",IF(O30>49,"C",IF(O30>34,"D",IF(O30<35,"E",)))))) | Q30: =IF('Patrak C'!Y31="","",'Patrak C'!Y31) | R30: =IF('Patrak C'!Z31="","",'Patrak C'!Z31) | S30: =IF('Patrak C'!AA31="","",'Patrak C'!AA31) | T30: =IF((AND(Q30="",R30="",S30="")),"",SUM(Q30:S30)) | U30: =IF(T30="","",IF(T30>79,"A",IF(T30>64,"B",IF(T30>49,"C",IF(T30>34,"D",IF(T30<35,"E",)))))) | V30: =A30 | W30: =IF('Patrak C'!AH31="","",'Patrak C'!AH31) | X30: =IF('Patrak C'!AI31="","",'Patrak C'!AI31) | Y30: =IF('Patrak C'!AJ31="","",'Patrak C'!AJ31) | Z30: =IF((AND(W30="",X30="",Y30="")),"",SUM(W30:Y30)) | AA30: =IF(Z30="","",IF(Z30>79,"A",IF(Z30>64,"B",IF(Z30>49,"C",IF(Z30>34,"D",IF(Z30<35,"E",)))))) | AB30: ='Patrak B'!AS54 | AC30: =IF(AB30="","",IF(AB30>159,"A",IF(AB30>129,"B",IF(AB30>99,"C",IF(AB30>69,"D",IF(AB30<70,"E",)))))) | AD30: =IF(AND(J30="",O30="",T30="",Z30="",AB30=""),"",SUM(J30,O30,T30,Z30,AB30)) | AE30: =IF(AD30="","",IF(AD30>479,"A",IF(AD30>389,"B",IF(AD30>299,"C",IF(AD30>209,"D",IF(AD30<210,"E",))))))
A31: ='Student Data'!A29 | B31: =IF('Student Data'!B29="","",'Student Data'!B29) | C31: =IF('Student Data'!C29="","",'Student Data'!C29) | D31: =IF('Student Data'!D29="","",'Student Data'!D29) | E31: ='Student Data'!E29 -> 0 | F31: ='Student Data'!F29 -> 0 | G31: =IF('Patrak C'!H32="","",'Patrak C'!H32) | H31: =IF('Patrak C'!I32="","",'Patrak C'!I32) | I31: =IF('Patrak C'!J32="","",'Patrak C'!J32) | J31: =IF((AND(G31="",H31="",I31="")),"",SUM(G31:I31)) | K31: =IF(J31="","",IF(J31>79,"A",IF(J31>64,"B",IF(J31>49,"C",IF(J31>34,"D",IF(J31<35,"E",)))))) | L31: =IF('Patrak C'!Q32="","",'Patrak C'!Q32) | M31: =IF('Patrak C'!R32="","",'Patrak C'!R32) | N31: =IF('Patrak C'!S32="","",'Patrak C'!S32) | O31: =IF((AND(L31="",M31="",N31="")),"",SUM(L31:N31)) | P31: =IF(O31="","",IF(O31>79,"A",IF(O31>64,"B",IF(O31>49,"C",IF(O31>34,"D",IF(O31<35,"E",)))))) | Q31: =IF('Patrak C'!Y32="","",'Patrak C'!Y32) | R31: =IF('Patrak C'!Z32="","",'Patrak C'!Z32) | S31: =IF('Patrak C'!AA32="","",'Patrak C'!AA32) | T31: =IF((AND(Q31="",R31="",S31="")),"",SUM(Q31:S31)) | U31: =IF(T31="","",IF(T31>79,"A",IF(T31>64,"B",IF(T31>49,"C",IF(T31>34,"D",IF(T31<35,"E",)))))) | V31: =A31 | W31: =IF('Patrak C'!AH32="","",'Patrak C'!AH32) | X31: =IF('Patrak C'!AI32="","",'Patrak C'!AI32) | Y31: =IF('Patrak C'!AJ32="","",'Patrak C'!AJ32) | Z31: =IF((AND(W31="",X31="",Y31="")),"",SUM(W31:Y31)) | AA31: =IF(Z31="","",IF(Z31>79,"A",IF(Z31>64,"B",IF(Z31>49,"C",IF(Z31>34,"D",IF(Z31<35,"E",)))))) | AB31: ='Patrak B'!AS56 | AC31: =IF(AB31="","",IF(AB31>159,"A",IF(AB31>129,"B",IF(AB31>99,"C",IF(AB31>69,"D",IF(AB31<70,"E",)))))) | AD31: =IF(AND(J31="",O31="",T31="",Z31="",AB31=""),"",SUM(J31,O31,T31,Z31,AB31)) | AE31: =IF(AD31="","",IF(AD31>479,"A",IF(AD31>389,"B",IF(AD31>299,"C",IF(AD31>209,"D",IF(AD31<210,"E",))))))
A32: ='Student Data'!A30 | B32: =IF('Student Data'!B30="","",'Student Data'!B30) | C32: =IF('Student Data'!C30="","",'Student Data'!C30) | D32: =IF('Student Data'!D30="","",'Student Data'!D30) | E32: ='Student Data'!E30 -> 0 | F32: ='Student Data'!F30 -> 0 | G32: =IF('Patrak C'!H33="","",'Patrak C'!H33) | H32: =IF('Patrak C'!I33="","",'Patrak C'!I33) | I32: =IF('Patrak C'!J33="","",'Patrak C'!J33) | J32: =IF((AND(G32="",H32="",I32="")),"",SUM(G32:I32)) | K32: =IF(J32="","",IF(J32>79,"A",IF(J32>64,"B",IF(J32>49,"C",IF(J32>34,"D",IF(J32<35,"E",)))))) | L32: =IF('Patrak C'!Q33="","",'Patrak C'!Q33) | M32: =IF('Patrak C'!R33="","",'Patrak C'!R33) | N32: =IF('Patrak C'!S33="","",'Patrak C'!S33) | O32: =IF((AND(L32="",M32="",N32="")),"",SUM(L32:N32)) | P32: =IF(O32="","",IF(O32>79,"A",IF(O32>64,"B",IF(O32>49,"C",IF(O32>34,"D",IF(O32<35,"E",)))))) | Q32: =IF('Patrak C'!Y33="","",'Patrak C'!Y33) | R32: =IF('Patrak C'!Z33="","",'Patrak C'!Z33) | S32: =IF('Patrak C'!AA33="","",'Patrak C'!AA33) | T32: =IF((AND(Q32="",R32="",S32="")),"",SUM(Q32:S32)) | U32: =IF(T32="","",IF(T32>79,"A",IF(T32>64,"B",IF(T32>49,"C",IF(T32>34,"D",IF(T32<35,"E",)))))) | V32: =A32 | W32: =IF('Patrak C'!AH33="","",'Patrak C'!AH33) | X32: =IF('Patrak C'!AI33="","",'Patrak C'!AI33) | Y32: =IF('Patrak C'!AJ33="","",'Patrak C'!AJ33) | Z32: =IF((AND(W32="",X32="",Y32="")),"",SUM(W32:Y32)) | AA32: =IF(Z32="","",IF(Z32>79,"A",IF(Z32>64,"B",IF(Z32>49,"C",IF(Z32>34,"D",IF(Z32<35,"E",)))))) | AB32: ='Patrak B'!AS58 | AC32: =IF(AB32="","",IF(AB32>159,"A",IF(AB32>129,"B",IF(AB32>99,"C",IF(AB32>69,"D",IF(AB32<70,"E",)))))) | AD32: =IF(AND(J32="",O32="",T32="",Z32="",AB32=""),"",SUM(J32,O32,T32,Z32,AB32)) | AE32: =IF(AD32="","",IF(AD32>479,"A",IF(AD32>389,"B",IF(AD32>299,"C",IF(AD32>209,"D",IF(AD32<210,"E",))))))
A33: ='Student Data'!A31 | B33: =IF('Student Data'!B31="","",'Student Data'!B31) | C33: =IF('Student Data'!C31="","",'Student Data'!C31) | D33: =IF('Student Data'!D31="","",'Student Data'!D31) | E33: ='Student Data'!E31 -> 0 | F33: ='Student Data'!F31 -> 0 | G33: =IF('Patrak C'!H34="","",'Patrak C'!H34) | H33: =IF('Patrak C'!I34="","",'Patrak C'!I34) | I33: =IF('Patrak C'!J34="","",'Patrak C'!J34) | J33: =IF((AND(G33="",H33="",I33="")),"",SUM(G33:I33)) | K33: =IF(J33="","",IF(J33>79,"A",IF(J33>64,"B",IF(J33>49,"C",IF(J33>34,"D",IF(J33<35,"E",)))))) | L33: =IF('Patrak C'!Q34="","",'Patrak C'!Q34) | M33: =IF('Patrak C'!R34="","",'Patrak C'!R34) | N33: =IF('Patrak C'!S34="","",'Patrak C'!S34) | O33: =IF((AND(L33="",M33="",N33="")),"",SUM(L33:N33)) | P33: =IF(O33="","",IF(O33>79,"A",IF(O33>64,"B",IF(O33>49,"C",IF(O33>34,"D",IF(O33<35,"E",)))))) | Q33: =IF('Patrak C'!Y34="","",'Patrak C'!Y34) | R33: =IF('Patrak C'!Z34="","",'Patrak C'!Z34) | S33: =IF('Patrak C'!AA34="","",'Patrak C'!AA34) | T33: =IF((AND(Q33="",R33="",S33="")),"",SUM(Q33:S33)) | U33: =IF(T33="","",IF(T33>79,"A",IF(T33>64,"B",IF(T33>49,"C",IF(T33>34,"D",IF(T33<35,"E",)))))) | V33: =A33 | W33: =IF('Patrak C'!AH34="","",'Patrak C'!AH34) | X33: =IF('Patrak C'!AI34="","",'Patrak C'!AI34) | Y33: =IF('Patrak C'!AJ34="","",'Patrak C'!AJ34) | Z33: =IF((AND(W33="",X33="",Y33="")),"",SUM(W33:Y33)) | AA33: =IF(Z33="","",IF(Z33>79,"A",IF(Z33>64,"B",IF(Z33>49,"C",IF(Z33>34,"D",IF(Z33<35,"E",)))))) | AB33: ='Patrak B'!AS60 | AC33: =IF(AB33="","",IF(AB33>159,"A",IF(AB33>129,"B",IF(AB33>99,"C",IF(AB33>69,"D",IF(AB33<70,"E",)))))) | AD33: =IF(AND(J33="",O33="",T33="",Z33="",AB33=""),"",SUM(J33,O33,T33,Z33,AB33)) | AE33: =IF(AD33="","",IF(AD33>479,"A",IF(AD33>389,"B",IF(AD33>299,"C",IF(AD33>209,"D",IF(AD33<210,"E",))))))
A34: ='Student Data'!A32 | B34: =IF('Student Data'!B32="","",'Student Data'!B32) | C34: =IF('Student Data'!C32="","",'Student Data'!C32) | D34: =IF('Student Data'!D32="","",'Student Data'!D32) | E34: ='Student Data'!E32 -> 0 | F34: ='Student Data'!F32 -> 0 | G34: =IF('Patrak C'!H35="","",'Patrak C'!H35) | H34: =IF('Patrak C'!I35="","",'Patrak C'!I35) | I34: =IF('Patrak C'!J35="","",'Patrak C'!J35) | J34: =IF((AND(G34="",H34="",I34="")),"",SUM(G34:I34)) | K34: =IF(J34="","",IF(J34>79,"A",IF(J34>64,"B",IF(J34>49,"C",IF(J34>34,"D",IF(J34<35,"E",)))))) | L34: =IF('Patrak C'!Q35="","",'Patrak C'!Q35) | M34: =IF('Patrak C'!R35="","",'Patrak C'!R35) | N34: =IF('Patrak C'!S35="","",'Patrak C'!S35) | O34: =IF((AND(L34="",M34="",N34="")),"",SUM(L34:N34)) | P34: =IF(O34="","",IF(O34>79,"A",IF(O34>64,"B",IF(O34>49,"C",IF(O34>34,"D",IF(O34<35,"E",)))))) | Q34: =IF('Patrak C'!Y35="","",'Patrak C'!Y35) | R34: =IF('Patrak C'!Z35="","",'Patrak C'!Z35) | S34: =IF('Patrak C'!AA35="","",'Patrak C'!AA35) | T34: =IF((AND(Q34="",R34="",S34="")),"",SUM(Q34:S34)) | U34: =IF(T34="","",IF(T34>79,"A",IF(T34>64,"B",IF(T34>49,"C",IF(T34>34,"D",IF(T34<35,"E",)))))) | V34: =A34 | W34: =IF('Patrak C'!AH35="","",'Patrak C'!AH35) | X34: =IF('Patrak C'!AI35="","",'Patrak C'!AI35) | Y34: =IF('Patrak C'!AJ35="","",'Patrak C'!AJ35) | Z34: =IF((AND(W34="",X34="",Y34="")),"",SUM(W34:Y34)) | AA34: =IF(Z34="","",IF(Z34>79,"A",IF(Z34>64,"B",IF(Z34>49,"C",IF(Z34>34,"D",IF(Z34<35,"E",)))))) | AB34: ='Patrak B'!AS62 | AC34: =IF(AB34="","",IF(AB34>159,"A",IF(AB34>129,"B",IF(AB34>99,"C",IF(AB34>69,"D",IF(AB34<70,"E",)))))) | AD34: =IF(AND(J34="",O34="",T34="",Z34="",AB34=""),"",SUM(J34,O34,T34,Z34,AB34)) | AE34: =IF(AD34="","",IF(AD34>479,"A",IF(AD34>389,"B",IF(AD34>299,"C",IF(AD34>209,"D",IF(AD34<210,"E",))))))
A35: ='Student Data'!A33 | B35: =IF('Student Data'!B33="","",'Student Data'!B33) | C35: =IF('Student Data'!C33="","",'Student Data'!C33) | D35: =IF('Student Data'!D33="","",'Student Data'!D33) | E35: ='Student Data'!E33 -> 0 | F35: ='Student Data'!F33 -> 0 | G35: =IF('Patrak C'!H36="","",'Patrak C'!H36) | H35: =IF('Patrak C'!I36="","",'Patrak C'!I36) | I35: =IF('Patrak C'!J36="","",'Patrak C'!J36) | J35: =IF((AND(G35="",H35="",I35="")),"",SUM(G35:I35)) | K35: =IF(J35="","",IF(J35>79,"A",IF(J35>64,"B",IF(J35>49,"C",IF(J35>34,"D",IF(J35<35,"E",)))))) | L35: =IF('Patrak C'!Q36="","",'Patrak C'!Q36) | M35: =IF('Patrak C'!R36="","",'Patrak C'!R36) | N35: =IF('Patrak C'!S36="","",'Patrak C'!S36) | O35: =IF((AND(L35="",M35="",N35="")),"",SUM(L35:N35)) | P35: =IF(O35="","",IF(O35>79,"A",IF(O35>64,"B",IF(O35>49,"C",IF(O35>34,"D",IF(O35<35,"E",)))))) | Q35: =IF('Patrak C'!Y36="","",'Patrak C'!Y36) | R35: =IF('Patrak C'!Z36="","",'Patrak C'!Z36) | S35: =IF('Patrak C'!AA36="","",'Patrak C'!AA36) | T35: =IF((AND(Q35="",R35="",S35="")),"",SUM(Q35:S35)) | U35: =IF(T35="","",IF(T35>79,"A",IF(T35>64,"B",IF(T35>49,"C",IF(T35>34,"D",IF(T35<35,"E",)))))) | V35: =A35 | W35: =IF('Patrak C'!AH36="","",'Patrak C'!AH36) | X35: =IF('Patrak C'!AI36="","",'Patrak C'!AI36) | Y35: =IF('Patrak C'!AJ36="","",'Patrak C'!AJ36) | Z35: =IF((AND(W35="",X35="",Y35="")),"",SUM(W35:Y35)) | AA35: =IF(Z35="","",IF(Z35>79,"A",IF(Z35>64,"B",IF(Z35>49,"C",IF(Z35>34,"D",IF(Z35<35,"E",)))))) | AB35: ='Patrak B'!AS64 | AC35: =IF(AB35="","",IF(AB35>159,"A",IF(AB35>129,"B",IF(AB35>99,"C",IF(AB35>69,"D",IF(AB35<70,"E",)))))) | AD35: =IF(AND(J35="",O35="",T35="",Z35="",AB35=""),"",SUM(J35,O35,T35,Z35,AB35)) | AE35: =IF(AD35="","",IF(AD35>479,"A",IF(AD35>389,"B",IF(AD35>299,"C",IF(AD35>209,"D",IF(AD35<210,"E",))))))
A36: ='Student Data'!A34 | B36: =IF('Student Data'!B34="","",'Student Data'!B34) | C36: =IF('Student Data'!C34="","",'Student Data'!C34) | D36: =IF('Student Data'!D34="","",'Student Data'!D34) | E36: ='Student Data'!E34 -> 0 | F36: ='Student Data'!F34 -> 0 | G36: =IF('Patrak C'!H37="","",'Patrak C'!H37) | H36: =IF('Patrak C'!I37="","",'Patrak C'!I37) | I36: =IF('Patrak C'!J37="","",'Patrak C'!J37) | J36: =IF((AND(G36="",H36="",I36="")),"",SUM(G36:I36)) | K36: =IF(J36="","",IF(J36>79,"A",IF(J36>64,"B",IF(J36>49,"C",IF(J36>34,"D",IF(J36<35,"E",)))))) | L36: =IF('Patrak C'!Q37="","",'Patrak C'!Q37) | M36: =IF('Patrak C'!R37="","",'Patrak C'!R37) | N36: =IF('Patrak C'!S37="","",'Patrak C'!S37) | O36: =IF((AND(L36="",M36="",N36="")),"",SUM(L36:N36)) | P36: =IF(O36="","",IF(O36>79,"A",IF(O36>64,"B",IF(O36>49,"C",IF(O36>34,"D",IF(O36<35,"E",)))))) | Q36: =IF('Patrak C'!Y37="","",'Patrak C'!Y37) | R36: =IF('Patrak C'!Z37="","",'Patrak C'!Z37) | S36: =IF('Patrak C'!AA37="","",'Patrak C'!AA37) | T36: =IF((AND(Q36="",R36="",S36="")),"",SUM(Q36:S36)) | U36: =IF(T36="","",IF(T36>79,"A",IF(T36>64,"B",IF(T36>49,"C",IF(T36>34,"D",IF(T36<35,"E",)))))) | V36: =A36 | W36: =IF('Patrak C'!AH37="","",'Patrak C'!AH37) | X36: =IF('Patrak C'!AI37="","",'Patrak C'!AI37) | Y36: =IF('Patrak C'!AJ37="","",'Patrak C'!AJ37) | Z36: =IF((AND(W36="",X36="",Y36="")),"",SUM(W36:Y36)) | AA36: =IF(Z36="","",IF(Z36>79,"A",IF(Z36>64,"B",IF(Z36>49,"C",IF(Z36>34,"D",IF(Z36<35,"E",)))))) | AB36: ='Patrak B'!AS66 | AC36: =IF(AB36="","",IF(AB36>159,"A",IF(AB36>129,"B",IF(AB36>99,"C",IF(AB36>69,"D",IF(AB36<70,"E",)))))) | AD36: =IF(AND(J36="",O36="",T36="",Z36="",AB36=""),"",SUM(J36,O36,T36,Z36,AB36)) | AE36: =IF(AD36="","",IF(AD36>479,"A",IF(AD36>389,"B",IF(AD36>299,"C",IF(AD36>209,"D",IF(AD36<210,"E",))))))
A37: ='Student Data'!A35 | B37: =IF('Student Data'!B35="","",'Student Data'!B35) | C37: =IF('Student Data'!C35="","",'Student Data'!C35) | D37: =IF('Student Data'!D35="","",'Student Data'!D35) | E37: ='Student Data'!E35 -> 0 | F37: ='Student Data'!F35 -> 0 | G37: =IF('Patrak C'!H38="","",'Patrak C'!H38) | H37: =IF('Patrak C'!I38="","",'Patrak C'!I38) | I37: =IF('Patrak C'!J38="","",'Patrak C'!J38) | J37: =IF((AND(G37="",H37="",I37="")),"",SUM(G37:I37)) | K37: =IF(J37="","",IF(J37>79,"A",IF(J37>64,"B",IF(J37>49,"C",IF(J37>34,"D",IF(J37<35,"E",)))))) | L37: =IF('Patrak C'!Q38="","",'Patrak C'!Q38) | M37: =IF('Patrak C'!R38="","",'Patrak C'!R38) | N37: =IF('Patrak C'!S38="","",'Patrak C'!S38) | O37: =IF((AND(L37="",M37="",N37="")),"",SUM(L37:N37)) | P37: =IF(O37="","",IF(O37>79,"A",IF(O37>64,"B",IF(O37>49,"C",IF(O37>34,"D",IF(O37<35,"E",)))))) | Q37: =IF('Patrak C'!Y38="","",'Patrak C'!Y38) | R37: =IF('Patrak C'!Z38="","",'Patrak C'!Z38) | S37: =IF('Patrak C'!AA38="","",'Patrak C'!AA38) | T37: =IF((AND(Q37="",R37="",S37="")),"",SUM(Q37:S37)) | U37: =IF(T37="","",IF(T37>79,"A",IF(T37>64,"B",IF(T37>49,"C",IF(T37>34,"D",IF(T37<35,"E",)))))) | V37: =A37 | W37: =IF('Patrak C'!AH38="","",'Patrak C'!AH38) | X37: =IF('Patrak C'!AI38="","",'Patrak C'!AI38) | Y37: =IF('Patrak C'!AJ38="","",'Patrak C'!AJ38) | Z37: =IF((AND(W37="",X37="",Y37="")),"",SUM(W37:Y37)) | AA37: =IF(Z37="","",IF(Z37>79,"A",IF(Z37>64,"B",IF(Z37>49,"C",IF(Z37>34,"D",IF(Z37<35,"E",)))))) | AB37: ='Patrak B'!AS68 | AC37: =IF(AB37="","",IF(AB37>159,"A",IF(AB37>129,"B",IF(AB37>99,"C",IF(AB37>69,"D",IF(AB37<70,"E",)))))) | AD37: =IF(AND(J37="",O37="",T37="",Z37="",AB37=""),"",SUM(J37,O37,T37,Z37,AB37)) | AE37: =IF(AD37="","",IF(AD37>479,"A",IF(AD37>389,"B",IF(AD37>299,"C",IF(AD37>209,"D",IF(AD37<210,"E",))))))
A38: ='Student Data'!A36 | B38: =IF('Student Data'!B36="","",'Student Data'!B36) | C38: =IF('Student Data'!C36="","",'Student Data'!C36) | D38: =IF('Student Data'!D36="","",'Student Data'!D36) | E38: ='Student Data'!E36 -> 0 | F38: ='Student Data'!F36 -> 0 | G38: =IF('Patrak C'!H39="","",'Patrak C'!H39) | H38: =IF('Patrak C'!I39="","",'Patrak C'!I39) | I38: =IF('Patrak C'!J39="","",'Patrak C'!J39) | J38: =IF((AND(G38="",H38="",I38="")),"",SUM(G38:I38)) | K38: =IF(J38="","",IF(J38>79,"A",IF(J38>64,"B",IF(J38>49,"C",IF(J38>34,"D",IF(J38<35,"E",)))))) | L38: =IF('Patrak C'!Q39="","",'Patrak C'!Q39) | M38: =IF('Patrak C'!R39="","",'Patrak C'!R39) | N38: =IF('Patrak C'!S39="","",'Patrak C'!S39) | O38: =IF((AND(L38="",M38="",N38="")),"",SUM(L38:N38)) | P38: =IF(O38="","",IF(O38>79,"A",IF(O38>64,"B",IF(O38>49,"C",IF(O38>34,"D",IF(O38<35,"E",)))))) | Q38: =IF('Patrak C'!Y39="","",'Patrak C'!Y39) | R38: =IF('Patrak C'!Z39="","",'Patrak C'!Z39) | S38: =IF('Patrak C'!AA39="","",'Patrak C'!AA39) | T38: =IF((AND(Q38="",R38="",S38="")),"",SUM(Q38:S38)) | U38: =IF(T38="","",IF(T38>79,"A",IF(T38>64,"B",IF(T38>49,"C",IF(T38>34,"D",IF(T38<35,"E",)))))) | V38: =A38 | W38: =IF('Patrak C'!AH39="","",'Patrak C'!AH39) | X38: =IF('Patrak C'!AI39="","",'Patrak C'!AI39) | Y38: =IF('Patrak C'!AJ39="","",'Patrak C'!AJ39) | Z38: =IF((AND(W38="",X38="",Y38="")),"",SUM(W38:Y38)) | AA38: =IF(Z38="","",IF(Z38>79,"A",IF(Z38>64,"B",IF(Z38>49,"C",IF(Z38>34,"D",IF(Z38<35,"E",)))))) | AB38: ='Patrak B'!AS70 | AC38: =IF(AB38="","",IF(AB38>159,"A",IF(AB38>129,"B",IF(AB38>99,"C",IF(AB38>69,"D",IF(AB38<70,"E",)))))) | AD38: =IF(AND(J38="",O38="",T38="",Z38="",AB38=""),"",SUM(J38,O38,T38,Z38,AB38)) | AE38: =IF(AD38="","",IF(AD38>479,"A",IF(AD38>389,"B",IF(AD38>299,"C",IF(AD38>209,"D",IF(AD38<210,"E",))))))
A39: ='Student Data'!A37 | B39: =IF('Student Data'!B37="","",'Student Data'!B37) | C39: =IF('Student Data'!C37="","",'Student Data'!C37) | D39: =IF('Student Data'!D37="","",'Student Data'!D37) | E39: ='Student Data'!E37 -> 0 | F39: ='Student Data'!F37 -> 0 | G39: =IF('Patrak C'!H40="","",'Patrak C'!H40) | H39: =IF('Patrak C'!I40="","",'Patrak C'!I40) | I39: =IF('Patrak C'!J40="","",'Patrak C'!J40) | J39: =IF((AND(G39="",H39="",I39="")),"",SUM(G39:I39)) | K39: =IF(J39="","",IF(J39>79,"A",IF(J39>64,"B",IF(J39>49,"C",IF(J39>34,"D",IF(J39<35,"E",)))))) | L39: =IF('Patrak C'!Q40="","",'Patrak C'!Q40) | M39: =IF('Patrak C'!R40="","",'Patrak C'!R40) | N39: =IF('Patrak C'!S40="","",'Patrak C'!S40) | O39: =IF((AND(L39="",M39="",N39="")),"",SUM(L39:N39)) | P39: =IF(O39="","",IF(O39>79,"A",IF(O39>64,"B",IF(O39>49,"C",IF(O39>34,"D",IF(O39<35,"E",)))))) | Q39: =IF('Patrak C'!Y40="","",'Patrak C'!Y40) | R39: =IF('Patrak C'!Z40="","",'Patrak C'!Z40) | S39: =IF('Patrak C'!AA40="","",'Patrak C'!AA40) | T39: =IF((AND(Q39="",R39="",S39="")),"",SUM(Q39:S39)) | U39: =IF(T39="","",IF(T39>79,"A",IF(T39>64,"B",IF(T39>49,"C",IF(T39>34,"D",IF(T39<35,"E",)))))) | V39: =A39 | W39: =IF('Patrak C'!AH40="","",'Patrak C'!AH40) | X39: =IF('Patrak C'!AI40="","",'Patrak C'!AI40) | Y39: =IF('Patrak C'!AJ40="","",'Patrak C'!AJ40) | Z39: =IF((AND(W39="",X39="",Y39="")),"",SUM(W39:Y39)) | AA39: =IF(Z39="","",IF(Z39>79,"A",IF(Z39>64,"B",IF(Z39>49,"C",IF(Z39>34,"D",IF(Z39<35,"E",)))))) | AB39: ='Patrak B'!AS72 | AC39: =IF(AB39="","",IF(AB39>159,"A",IF(AB39>129,"B",IF(AB39>99,"C",IF(AB39>69,"D",IF(AB39<70,"E",)))))) | AD39: =IF(AND(J39="",O39="",T39="",Z39="",AB39=""),"",SUM(J39,O39,T39,Z39,AB39)) | AE39: =IF(AD39="","",IF(AD39>479,"A",IF(AD39>389,"B",IF(AD39>299,"C",IF(AD39>209,"D",IF(AD39<210,"E",))))))
A40: ='Student Data'!A38 | B40: =IF('Student Data'!B38="","",'Student Data'!B38) | C40: =IF('Student Data'!C38="","",'Student Data'!C38) | D40: =IF('Student Data'!D38="","",'Student Data'!D38) | E40: ='Student Data'!E38 -> 0 | F40: ='Student Data'!F38 -> 0 | G40: =IF('Patrak C'!H41="","",'Patrak C'!H41) | H40: =IF('Patrak C'!I41="","",'Patrak C'!I41) | I40: =IF('Patrak C'!J41="","",'Patrak C'!J41) | J40: =IF((AND(G40="",H40="",I40="")),"",SUM(G40:I40)) | K40: =IF(J40="","",IF(J40>79,"A",IF(J40>64,"B",IF(J40>49,"C",IF(J40>34,"D",IF(J40<35,"E",)))))) | L40: =IF('Patrak C'!Q41="","",'Patrak C'!Q41) | M40: =IF('Patrak C'!R41="","",'Patrak C'!R41) | N40: =IF('Patrak C'!S41="","",'Patrak C'!S41) | O40: =IF((AND(L40="",M40="",N40="")),"",SUM(L40:N40)) | P40: =IF(O40="","",IF(O40>79,"A",IF(O40>64,"B",IF(O40>49,"C",IF(O40>34,"D",IF(O40<35,"E",)))))) | Q40: =IF('Patrak C'!Y41="","",'Patrak C'!Y41) | R40: =IF('Patrak C'!Z41="","",'Patrak C'!Z41) | S40: =IF('Patrak C'!AA41="","",'Patrak C'!AA41) | T40: =IF((AND(Q40="",R40="",S40="")),"",SUM(Q40:S40)) | U40: =IF(T40="","",IF(T40>79,"A",IF(T40>64,"B",IF(T40>49,"C",IF(T40>34,"D",IF(T40<35,"E",)))))) | V40: =A40 | W40: =IF('Patrak C'!AH41="","",'Patrak C'!AH41) | X40: =IF('Patrak C'!AI41="","",'Patrak C'!AI41) | Y40: =IF('Patrak C'!AJ41="","",'Patrak C'!AJ41) | Z40: =IF((AND(W40="",X40="",Y40="")),"",SUM(W40:Y40)) | AA40: =IF(Z40="","",IF(Z40>79,"A",IF(Z40>64,"B",IF(Z40>49,"C",IF(Z40>34,"D",IF(Z40<35,"E",)))))) | AB40: ='Patrak B'!AS74 | AC40: =IF(AB40="","",IF(AB40>159,"A",IF(AB40>129,"B",IF(AB40>99,"C",IF(AB40>69,"D",IF(AB40<70,"E",)))))) | AD40: =IF(AND(J40="",O40="",T40="",Z40="",AB40=""),"",SUM(J40,O40,T40,Z40,AB40)) | AE40: =IF(AD40="","",IF(AD40>479,"A",IF(AD40>389,"B",IF(AD40>299,"C",IF(AD40>209,"D",IF(AD40<210,"E",))))))
A41: ='Student Data'!A39 | B41: =IF('Student Data'!B39="","",'Student Data'!B39) | C41: =IF('Student Data'!C39="","",'Student Data'!C39) | D41: =IF('Student Data'!D39="","",'Student Data'!D39) | E41: ='Student Data'!E39 -> 0 | F41: ='Student Data'!F39 -> 0 | G41: =IF('Patrak C'!H42="","",'Patrak C'!H42) | H41: =IF('Patrak C'!I42="","",'Patrak C'!I42) | I41: =IF('Patrak C'!J42="","",'Patrak C'!J42) | J41: =IF((AND(G41="",H41="",I41="")),"",SUM(G41:I41)) | K41: =IF(J41="","",IF(J41>79,"A",IF(J41>64,"B",IF(J41>49,"C",IF(J41>34,"D",IF(J41<35,"E",)))))) | L41: =IF('Patrak C'!Q42="","",'Patrak C'!Q42) | M41: =IF('Patrak C'!R42="","",'Patrak C'!R42) | N41: =IF('Patrak C'!S42="","",'Patrak C'!S42) | O41: =IF((AND(L41="",M41="",N41="")),"",SUM(L41:N41)) | P41: =IF(O41="","",IF(O41>79,"A",IF(O41>64,"B",IF(O41>49,"C",IF(O41>34,"D",IF(O41<35,"E",)))))) | Q41: =IF('Patrak C'!Y42="","",'Patrak C'!Y42) | R41: =IF('Patrak C'!Z42="","",'Patrak C'!Z42) | S41: =IF('Patrak C'!AA42="","",'Patrak C'!AA42) | T41: =IF((AND(Q41="",R41="",S41="")),"",SUM(Q41:S41)) | U41: =IF(T41="","",IF(T41>79,"A",IF(T41>64,"B",IF(T41>49,"C",IF(T41>34,"D",IF(T41<35,"E",)))))) | V41: =A41 | W41: =IF('Patrak C'!AH42="","",'Patrak C'!AH42) | X41: =IF('Patrak C'!AI42="","",'Patrak C'!AI42) | Y41: =IF('Patrak C'!AJ42="","",'Patrak C'!AJ42) | Z41: =IF((AND(W41="",X41="",Y41="")),"",SUM(W41:Y41)) | AA41: =IF(Z41="","",IF(Z41>79,"A",IF(Z41>64,"B",IF(Z41>49,"C",IF(Z41>34,"D",IF(Z41<35,"E",)))))) | AB41: ='Patrak B'!AS76 | AC41: =IF(AB41="","",IF(AB41>159,"A",IF(AB41>129,"B",IF(AB41>99,"C",IF(AB41>69,"D",IF(AB41<70,"E",)))))) | AD41: =IF(AND(J41="",O41="",T41="",Z41="",AB41=""),"",SUM(J41,O41,T41,Z41,AB41)) | AE41: =IF(AD41="","",IF(AD41>479,"A",IF(AD41>389,"B",IF(AD41>299,"C",IF(AD41>209,"D",IF(AD41<210,"E",))))))
A42: ='Student Data'!A40 | B42: =IF('Student Data'!B40="","",'Student Data'!B40) | C42: =IF('Student Data'!C40="","",'Student Data'!C40) | D42: =IF('Student Data'!D40="","",'Student Data'!D40) | E42: ='Student Data'!E40 -> 0 | F42: ='Student Data'!F40 -> 0 | G42: =IF('Patrak C'!H43="","",'Patrak C'!H43) | H42: =IF('Patrak C'!I43="","",'Patrak C'!I43) | I42: =IF('Patrak C'!J43="","",'Patrak C'!J43) | J42: =IF((AND(G42="",H42="",I42="")),"",SUM(G42:I42)) | K42: =IF(J42="","",IF(J42>79,"A",IF(J42>64,"B",IF(J42>49,"C",IF(J42>34,"D",IF(J42<35,"E",)))))) | L42: =IF('Patrak C'!Q43="","",'Patrak C'!Q43) | M42: =IF('Patrak C'!R43="","",'Patrak C'!R43) | N42: =IF('Patrak C'!S43="","",'Patrak C'!S43) | O42: =IF((AND(L42="",M42="",N42="")),"",SUM(L42:N42)) | P42: =IF(O42="","",IF(O42>79,"A",IF(O42>64,"B",IF(O42>49,"C",IF(O42>34,"D",IF(O42<35,"E",)))))) | Q42: =IF('Patrak C'!Y43="","",'Patrak C'!Y43) | R42: =IF('Patrak C'!Z43="","",'Patrak C'!Z43) | S42: =IF('Patrak C'!AA43="","",'Patrak C'!AA43) | T42: =IF((AND(Q42="",R42="",S42="")),"",SUM(Q42:S42)) | U42: =IF(T42="","",IF(T42>79,"A",IF(T42>64,"B",IF(T42>49,"C",IF(T42>34,"D",IF(T42<35,"E",)))))) | V42: =A42 | W42: =IF('Patrak C'!AH43="","",'Patrak C'!AH43) | X42: =IF('Patrak C'!AI43="","",'Patrak C'!AI43) | Y42: =IF('Patrak C'!AJ43="","",'Patrak C'!AJ43) | Z42: =IF((AND(W42="",X42="",Y42="")),"",SUM(W42:Y42)) | AA42: =IF(Z42="","",IF(Z42>79,"A",IF(Z42>64,"B",IF(Z42>49,"C",IF(Z42>34,"D",IF(Z42<35,"E",)))))) | AB42: ='Patrak B'!AS78 | AC42: =IF(AB42="","",IF(AB42>159,"A",IF(AB42>129,"B",IF(AB42>99,"C",IF(AB42>69,"D",IF(AB42<70,"E",)))))) | AD42: =IF(AND(J42="",O42="",T42="",Z42="",AB42=""),"",SUM(J42,O42,T42,Z42,AB42)) | AE42: =IF(AD42="","",IF(AD42>479,"A",IF(AD42>389,"B",IF(AD42>299,"C",IF(AD42>209,"D",IF(AD42<210,"E",))))))
A43: ='Student Data'!A41 | B43: =IF('Student Data'!B41="","",'Student Data'!B41) | C43: =IF('Student Data'!C41="","",'Student Data'!C41) | D43: =IF('Student Data'!D41="","",'Student Data'!D41) | E43: ='Student Data'!E41 -> 0 | F43: ='Student Data'!F41 -> 0 | G43: =IF('Patrak C'!H44="","",'Patrak C'!H44) | H43: =IF('Patrak C'!I44="","",'Patrak C'!I44) | I43: =IF('Patrak C'!J44="","",'Patrak C'!J44) | J43: =IF((AND(G43="",H43="",I43="")),"",SUM(G43:I43)) | K43: =IF(J43="","",IF(J43>79,"A",IF(J43>64,"B",IF(J43>49,"C",IF(J43>34,"D",IF(J43<35,"E",)))))) | L43: =IF('Patrak C'!Q44="","",'Patrak C'!Q44) | M43: =IF('Patrak C'!R44="","",'Patrak C'!R44) | N43: =IF('Patrak C'!S44="","",'Patrak C'!S44) | O43: =IF((AND(L43="",M43="",N43="")),"",SUM(L43:N43)) | P43: =IF(O43="","",IF(O43>79,"A",IF(O43>64,"B",IF(O43>49,"C",IF(O43>34,"D",IF(O43<35,"E",)))))) | Q43: =IF('Patrak C'!Y44="","",'Patrak C'!Y44) | R43: =IF('Patrak C'!Z44="","",'Patrak C'!Z44) | S43: =IF('Patrak C'!AA44="","",'Patrak C'!AA44) | T43: =IF((AND(Q43="",R43="",S43="")),"",SUM(Q43:S43)) | U43: =IF(T43="","",IF(T43>79,"A",IF(T43>64,"B",IF(T43>49,"C",IF(T43>34,"D",IF(T43<35,"E",)))))) | V43: =A43 | W43: =IF('Patrak C'!AH44="","",'Patrak C'!AH44) | X43: =IF('Patrak C'!AI44="","",'Patrak C'!AI44) | Y43: =IF('Patrak C'!AJ44="","",'Patrak C'!AJ44) | Z43: =IF((AND(W43="",X43="",Y43="")),"",SUM(W43:Y43)) | AA43: =IF(Z43="","",IF(Z43>79,"A",IF(Z43>64,"B",IF(Z43>49,"C",IF(Z43>34,"D",IF(Z43<35,"E",)))))) | AB43: ='Patrak B'!AS80 | AC43: =IF(AB43="","",IF(AB43>159,"A",IF(AB43>129,"B",IF(AB43>99,"C",IF(AB43>69,"D",IF(AB43<70,"E",)))))) | AD43: =IF(AND(J43="",O43="",T43="",Z43="",AB43=""),"",SUM(J43,O43,T43,Z43,AB43)) | AE43: =IF(AD43="","",IF(AD43>479,"A",IF(AD43>389,"B",IF(AD43>299,"C",IF(AD43>209,"D",IF(AD43<210,"E",))))))
A44: ='Student Data'!A42 | B44: =IF('Student Data'!B42="","",'Student Data'!B42) | C44: =IF('Student Data'!C42="","",'Student Data'!C42) | D44: =IF('Student Data'!D42="","",'Student Data'!D42) | E44: ='Student Data'!E42 -> 0 | F44: ='Student Data'!F42 -> 0 | G44: =IF('Patrak C'!H45="","",'Patrak C'!H45) | H44: =IF('Patrak C'!I45="","",'Patrak C'!I45) | I44: =IF('Patrak C'!J45="","",'Patrak C'!J45) | J44: =IF((AND(G44="",H44="",I44="")),"",SUM(G44:I44)) | K44: =IF(J44="","",IF(J44>79,"A",IF(J44>64,"B",IF(J44>49,"C",IF(J44>34,"D",IF(J44<35,"E",)))))) | L44: =IF('Patrak C'!Q45="","",'Patrak C'!Q45) | M44: =IF('Patrak C'!R45="","",'Patrak C'!R45) | N44: =IF('Patrak C'!S45="","",'Patrak C'!S45) | O44: =IF((AND(L44="",M44="",N44="")),"",SUM(L44:N44)) | P44: =IF(O44="","",IF(O44>79,"A",IF(O44>64,"B",IF(O44>49,"C",IF(O44>34,"D",IF(O44<35,"E",)))))) | Q44: =IF('Patrak C'!Y45="","",'Patrak C'!Y45) | R44: =IF('Patrak C'!Z45="","",'Patrak C'!Z45) | S44: =IF('Patrak C'!AA45="","",'Patrak C'!AA45) | T44: =IF((AND(Q44="",R44="",S44="")),"",SUM(Q44:S44)) | U44: =IF(T44="","",IF(T44>79,"A",IF(T44>64,"B",IF(T44>49,"C",IF(T44>34,"D",IF(T44<35,"E",)))))) | V44: =A44 | W44: =IF('Patrak C'!AH45="","",'Patrak C'!AH45) | X44: =IF('Patrak C'!AI45="","",'Patrak C'!AI45) | Y44: =IF('Patrak C'!AJ45="","",'Patrak C'!AJ45) | Z44: =IF((AND(W44="",X44="",Y44="")),"",SUM(W44:Y44)) | AA44: =IF(Z44="","",IF(Z44>79,"A",IF(Z44>64,"B",IF(Z44>49,"C",IF(Z44>34,"D",IF(Z44<35,"E",)))))) | AB44: ='Patrak B'!AS82 | AC44: =IF(AB44="","",IF(AB44>159,"A",IF(AB44>129,"B",IF(AB44>99,"C",IF(AB44>69,"D",IF(AB44<70,"E",)))))) | AD44: =IF(AND(J44="",O44="",T44="",Z44="",AB44=""),"",SUM(J44,O44,T44,Z44,AB44)) | AE44: =IF(AD44="","",IF(AD44>479,"A",IF(AD44>389,"B",IF(AD44>299,"C",IF(AD44>209,"D",IF(AD44<210,"E",))))))
A45: ='Student Data'!A43 | B45: =IF('Student Data'!B43="","",'Student Data'!B43) | C45: =IF('Student Data'!C43="","",'Student Data'!C43) | D45: =IF('Student Data'!D43="","",'Student Data'!D43) | E45: ='Student Data'!E43 -> 0 | F45: ='Student Data'!F43 -> 0 | G45: =IF('Patrak C'!H46="","",'Patrak C'!H46) | H45: =IF('Patrak C'!I46="","",'Patrak C'!I46) | I45: =IF('Patrak C'!J46="","",'Patrak C'!J46) | J45: =IF((AND(G45="",H45="",I45="")),"",SUM(G45:I45)) | K45: =IF(J45="","",IF(J45>79,"A",IF(J45>64,"B",IF(J45>49,"C",IF(J45>34,"D",IF(J45<35,"E",)))))) | L45: =IF('Patrak C'!Q46="","",'Patrak C'!Q46) | M45: =IF('Patrak C'!R46="","",'Patrak C'!R46) | N45: =IF('Patrak C'!S46="","",'Patrak C'!S46) | O45: =IF((AND(L45="",M45="",N45="")),"",SUM(L45:N45)) | P45: =IF(O45="","",IF(O45>79,"A",IF(O45>64,"B",IF(O45>49,"C",IF(O45>34,"D",IF(O45<35,"E",)))))) | Q45: =IF('Patrak C'!Y46="","",'Patrak C'!Y46) | R45: =IF('Patrak C'!Z46="","",'Patrak C'!Z46) | S45: =IF('Patrak C'!AA46="","",'Patrak C'!AA46) | T45: =IF((AND(Q45="",R45="",S45="")),"",SUM(Q45:S45)) | U45: =IF(T45="","",IF(T45>79,"A",IF(T45>64,"B",IF(T45>49,"C",IF(T45>34,"D",IF(T45<35,"E",)))))) | V45: =A45 | W45: =IF('Patrak C'!AH46="","",'Patrak C'!AH46) | X45: =IF('Patrak C'!AI46="","",'Patrak C'!AI46) | Y45: =IF('Patrak C'!AJ46="","",'Patrak C'!AJ46) | Z45: =IF((AND(W45="",X45="",Y45="")),"",SUM(W45:Y45)) | AA45: =IF(Z45="","",IF(Z45>79,"A",IF(Z45>64,"B",IF(Z45>49,"C",IF(Z45>34,"D",IF(Z45<35,"E",)))))) | AB45: ='Patrak B'!AS84 | AC45: =IF(AB45="","",IF(AB45>159,"A",IF(AB45>129,"B",IF(AB45>99,"C",IF(AB45>69,"D",IF(AB45<70,"E",)))))) | AD45: =IF(AND(J45="",O45="",T45="",Z45="",AB45=""),"",SUM(J45,O45,T45,Z45,AB45)) | AE45: =IF(AD45="","",IF(AD45>479,"A",IF(AD45>389,"B",IF(AD45>299,"C",IF(AD45>209,"D",IF(AD45<210,"E",))))))
A46: ='Student Data'!A44 | B46: =IF('Student Data'!B44="","",'Student Data'!B44) | C46: =IF('Student Data'!C44="","",'Student Data'!C44) | D46: =IF('Student Data'!D44="","",'Student Data'!D44) | E46: ='Student Data'!E44 -> 0 | F46: ='Student Data'!F44 -> 0 | G46: =IF('Patrak C'!H47="","",'Patrak C'!H47) | H46: =IF('Patrak C'!I47="","",'Patrak C'!I47) | I46: =IF('Patrak C'!J47="","",'Patrak C'!J47) | J46: =IF((AND(G46="",H46="",I46="")),"",SUM(G46:I46)) | K46: =IF(J46="","",IF(J46>79,"A",IF(J46>64,"B",IF(J46>49,"C",IF(J46>34,"D",IF(J46<35,"E",)))))) | L46: =IF('Patrak C'!Q47="","",'Patrak C'!Q47) | M46: =IF('Patrak C'!R47="","",'Patrak C'!R47) | N46: =IF('Patrak C'!S47="","",'Patrak C'!S47) | O46: =IF((AND(L46="",M46="",N46="")),"",SUM(L46:N46)) | P46: =IF(O46="","",IF(O46>79,"A",IF(O46>64,"B",IF(O46>49,"C",IF(O46>34,"D",IF(O46<35,"E",)))))) | Q46: =IF('Patrak C'!Y47="","",'Patrak C'!Y47) | R46: =IF('Patrak C'!Z47="","",'Patrak C'!Z47) | S46: =IF('Patrak C'!AA47="","",'Patrak C'!AA47) | T46: =IF((AND(Q46="",R46="",S46="")),"",SUM(Q46:S46)) | U46: =IF(T46="","",IF(T46>79,"A",IF(T46>64,"B",IF(T46>49,"C",IF(T46>34,"D",IF(T46<35,"E",)))))) | V46: =A46 | W46: =IF('Patrak C'!AH47="","",'Patrak C'!AH47) | X46: =IF('Patrak C'!AI47="","",'Patrak C'!AI47) | Y46: =IF('Patrak C'!AJ47="","",'Patrak C'!AJ47) | Z46: =IF((AND(W46="",X46="",Y46="")),"",SUM(W46:Y46)) | AA46: =IF(Z46="","",IF(Z46>79,"A",IF(Z46>64,"B",IF(Z46>49,"C",IF(Z46>34,"D",IF(Z46<35,"E",)))))) | AB46: ='Patrak B'!AS86 | AC46: =IF(AB46="","",IF(AB46>159,"A",IF(AB46>129,"B",IF(AB46>99,"C",IF(AB46>69,"D",IF(AB46<70,"E",)))))) | AD46: =IF(AND(J46="",O46="",T46="",Z46="",AB46=""),"",SUM(J46,O46,T46,Z46,AB46)) | AE46: =IF(AD46="","",IF(AD46>479,"A",IF(AD46>389,"B",IF(AD46>299,"C",IF(AD46>209,"D",IF(AD46<210,"E",))))))
A47: ='Student Data'!A45 | B47: =IF('Student Data'!B45="","",'Student Data'!B45) | C47: =IF('Student Data'!C45="","",'Student Data'!C45) | D47: =IF('Student Data'!D45="","",'Student Data'!D45) | E47: ='Student Data'!E45 -> 0 | F47: ='Student Data'!F45 -> 0 | G47: =IF('Patrak C'!H48="","",'Patrak C'!H48) | H47: =IF('Patrak C'!I48="","",'Patrak C'!I48) | I47: =IF('Patrak C'!J48="","",'Patrak C'!J48) | J47: =IF((AND(G47="",H47="",I47="")),"",SUM(G47:I47)) | K47: =IF(J47="","",IF(J47>79,"A",IF(J47>64,"B",IF(J47>49,"C",IF(J47>34,"D",IF(J47<35,"E",)))))) | L47: =IF('Patrak C'!Q48="","",'Patrak C'!Q48) | M47: =IF('Patrak C'!R48="","",'Patrak C'!R48) | N47: =IF('Patrak C'!S48="","",'Patrak C'!S48) | O47: =IF((AND(L47="",M47="",N47="")),"",SUM(L47:N47)) | P47: =IF(O47="","",IF(O47>79,"A",IF(O47>64,"B",IF(O47>49,"C",IF(O47>34,"D",IF(O47<35,"E",)))))) | Q47: =IF('Patrak C'!Y48="","",'Patrak C'!Y48) | R47: =IF('Patrak C'!Z48="","",'Patrak C'!Z48) | S47: =IF('Patrak C'!AA48="","",'Patrak C'!AA48) | T47: =IF((AND(Q47="",R47="",S47="")),"",SUM(Q47:S47)) | U47: =IF(T47="","",IF(T47>79,"A",IF(T47>64,"B",IF(T47>49,"C",IF(T47>34,"D",IF(T47<35,"E",)))))) | V47: =A47 | W47: =IF('Patrak C'!AH48="","",'Patrak C'!AH48) | X47: =IF('Patrak C'!AI48="","",'Patrak C'!AI48) | Y47: =IF('Patrak C'!AJ48="","",'Patrak C'!AJ48) | Z47: =IF((AND(W47="",X47="",Y47="")),"",SUM(W47:Y47)) | AA47: =IF(Z47="","",IF(Z47>79,"A",IF(Z47>64,"B",IF(Z47>49,"C",IF(Z47>34,"D",IF(Z47<35,"E",)))))) | AB47: ='Patrak B'!AS88 | AC47: =IF(AB47="","",IF(AB47>159,"A",IF(AB47>129,"B",IF(AB47>99,"C",IF(AB47>69,"D",IF(AB47<70,"E",)))))) | AD47: =IF(AND(J47="",O47="",T47="",Z47="",AB47=""),"",SUM(J47,O47,T47,Z47,AB47)) | AE47: =IF(AD47="","",IF(AD47>479,"A",IF(AD47>389,"B",IF(AD47>299,"C",IF(AD47>209,"D",IF(AD47<210,"E",))))))
A48: ='Student Data'!A46 | B48: =IF('Student Data'!B46="","",'Student Data'!B46) | C48: =IF('Student Data'!C46="","",'Student Data'!C46) | D48: =IF('Student Data'!D46="","",'Student Data'!D46) | E48: ='Student Data'!E46 -> 0 | F48: ='Student Data'!F46 -> 0 | G48: =IF('Patrak C'!H49="","",'Patrak C'!H49) | H48: =IF('Patrak C'!I49="","",'Patrak C'!I49) | I48: =IF('Patrak C'!J49="","",'Patrak C'!J49) | J48: =IF((AND(G48="",H48="",I48="")),"",SUM(G48:I48)) | K48: =IF(J48="","",IF(J48>79,"A",IF(J48>64,"B",IF(J48>49,"C",IF(J48>34,"D",IF(J48<35,"E",)))))) | L48: =IF('Patrak C'!Q49="","",'Patrak C'!Q49) | M48: =IF('Patrak C'!R49="","",'Patrak C'!R49) | N48: =IF('Patrak C'!S49="","",'Patrak C'!S49) | O48: =IF((AND(L48="",M48="",N48="")),"",SUM(L48:N48)) | P48: =IF(O48="","",IF(O48>79,"A",IF(O48>64,"B",IF(O48>49,"C",IF(O48>34,"D",IF(O48<35,"E",)))))) | Q48: =IF('Patrak C'!Y49="","",'Patrak C'!Y49) | R48: =IF('Patrak C'!Z49="","",'Patrak C'!Z49) | S48: =IF('Patrak C'!AA49="","",'Patrak C'!AA49) | T48: =IF((AND(Q48="",R48="",S48="")),"",SUM(Q48:S48)) | U48: =IF(T48="","",IF(T48>79,"A",IF(T48>64,"B",IF(T48>49,"C",IF(T48>34,"D",IF(T48<35,"E",)))))) | V48: =A48 | W48: =IF('Patrak C'!AH49="","",'Patrak C'!AH49) | X48: =IF('Patrak C'!AI49="","",'Patrak C'!AI49) | Y48: =IF('Patrak C'!AJ49="","",'Patrak C'!AJ49) | Z48: =IF((AND(W48="",X48="",Y48="")),"",SUM(W48:Y48)) | AA48: =IF(Z48="","",IF(Z48>79,"A",IF(Z48>64,"B",IF(Z48>49,"C",IF(Z48>34,"D",IF(Z48<35,"E",)))))) | AB48: ='Patrak B'!AS90 | AC48: =IF(AB48="","",IF(AB48>159,"A",IF(AB48>129,"B",IF(AB48>99,"C",IF(AB48>69,"D",IF(AB48<70,"E",)))))) | AD48: =IF(AND(J48="",O48="",T48="",Z48="",AB48=""),"",SUM(J48,O48,T48,Z48,AB48)) | AE48: =IF(AD48="","",IF(AD48>479,"A",IF(AD48>389,"B",IF(AD48>299,"C",IF(AD48>209,"D",IF(AD48<210,"E",))))))
