Workbook
Name CAST: [1]Sheet1!$E$2:$E$5
Name gender: [1]Sheet1!$D$2:$D$3

Sheet School Data
A2: પરિણામ પત્રક ધોરણ - 3 માટે
A4: Created by : - | B4: Hitesh Ahjoliya
A6: For Download Visit - | B6: www.hiteshahjoliya.blogspot.com
A8: અન્ય ઉપયોગી શૈક્ષણિક મટીરીયલ માટે Visit -- | C8: www.hiteshahjoliya.blogspot.com
A9: → પરિણામપત્રક બનાવતા પહેલા નીચેની સૂચના વાંચો :
A10: ● સૌ પ્રથમ School Data અને Student Data માં જરુરી તમામ માહિતી ભરો. Shruti ફોન્ટનો ઉપયોગ કરવો.
A11: ● Patrak B માં સત્ર મુજબ મેળવેલ ગુણ લખવા. જે Patrak C માં લખાઈ જશે.
A12: ● Patrak C માં સત્ર મુજબ પ્રથમ સત્રનાં 40 + 40 + 20 અને બીજા સત્રનાં 40 + 40 + 20 માંથી મેળવેલ ગુણ મેન્યુઅલી લખવા.
A13: ● નિષ્પતિઓ સાથેના પત્રક - A www.hiteshahjoliya.blogspot.com માં જઈ ડાઉનલોડ કરી શકશો.
A14: ● માત્ર પ્રથમ સત્રનું પરિણામ પત્રક બનાવવા માટે Sem 1 Patrak C અને Sem 1Heading ની પ્રિન્ટ લેવી તે માટે પ્રથમ Patrak C માં પ્રથમ સત્રનાં 40 + 40 + 20 માંથી મેળવેલ ગુણ લખવા.
A15: → Patrak C ની પ્રિન્ટ કાઢવાની રીત :- સૌ પ્રથમ Heading ની પ્રિન્ટ વર્ગની સંખ્યા મુજબ કાઢવી. ત્યારબાદ તેની બેકસાઈડ Patrak C માં જઈ વિદ્યાર્થીઓની સંખ્યા મુજબ પેજ જોઈ પ્રિન્ટ કાઢવી.
A16: ● Marksheet ની પ્રિન્ટ કાઢવાની રીત :- સૌ પ્રથમ Front Page શીટમાં જે વિદ્યાર્થીની માર્કશીટની પ્રિન્ટ કાઢવી હોય તેનો નંબર ( માત્ર એકી અંક) લખો અને પ્રિન્ટ કરો. ત્યારબાદ તેને ઉલટાવી પાછળનાં ભાગની પ્રિન્ટ કાઢવા Back Side માં જઈ તે નંબર લખી તેની પ્રિન્ટ કાઢવી. એક સાથે બે વિદ્યાર્થીની માર્કશીટ પ્રિન્ટ થશે.
A17: ● માર્કશીટની પ્રિન્ટ Legal Page અથવા A4 Size એમ બન્ને રીતે કાઢી શકાશે. જેના માટે અલગ અલગ શીટ છે. એક સાથે બે વિદ્યાર્થીની માર્કશીટ પ્રિન્ટ થશે.
A18: ● Student Data નાં છેલ્લા કોલમમાં વિદ્યાર્થીને આપવાની સૂચના લખી શકાશે જે તેની માર્કશીટમાં પ્રિન્ટ થશે.
A20: શાળાની માહિતી
A21: શિક્ષણ સમિતિનું નામ- | B21: જિલ્લા પંચાયત શિક્ષણ સમિતિ, અમદાવાદ
A22: શાળાનું નામ- | B22: ચાંગોદર પે સે શાળા
A23: ધોરણ- | B23: 3
A24: વર્ગ- | B24: -
A25: વર્ષ- | B25: 2025-26
A26: ગામ- | B26: ચાંગોદર
A27: તાલુકો- | B27: સાણંદ
A28: જિલ્લો- | B28: અમદાવાદ
A29: પે સેન્ટર- | B29: ચાંગોદર
A30: પરિણામની તારીખ- | B30: -
A31: વર્ગ શિક્ષકનું નામ- | B31: હિતેશભાઇ પી આહજોલિયા
A32: સી.આર.સી / ક્લસ્ટર - | B32: ચાંગોદર
A50: s
B55: Create By Hitesh Ahjoliya

Sheet Student Data
B1: Created by - Hitesh Ahjoliya
B2: ધોરણ- | C2: ='School Data'!B23 -> 3 | D2: વિધાર્થીની વિગત
A3: ક્રમ નંબર લખવા નહિ. નામ લખશો એટલે તે લખાઈ જશે.
A5: ક્રમ | B5: વિધાર્થીનું નામ | C5: જી.આર.નંબર | D5: જન્મ તા. | E5: જાતિ M/F | F5: જ્ઞાતિ | G5: હાજર દિવસ | H5: પિતાનું નામ | I5: માતાનું નામ | J5: સરનામું | K5: મોબાઈલ નંબર | L5: આધારડાયસ નંબર | M5: આધારકાર્ડ નંબર | N5: બેંક એકાઉન્ટ નંબર | O5: Bank Name | P5: Bank IFSC Code | Q5: Bank Branch Name | R5: વિદ્યાર્થીને આપવાની સૂચના
A6: =IF(B6="","",1) -> 1 | B6: રાજ ભીખાભાઈ સોલંકી | C6: 1234 | D6: 38454 | E6: M | F6: OBC | G6: 220 | H6: ભીખાભાઈ સોલંકી | I6: રમીલાબેન | J6: મું.ચાંગોદર, તા- સાણંદ, જિ- અમદાવાદ. | K6: 9426402420 | L6: 240704010011510015 | M6: 1111 2222 3333 | N6: 111111111111111 | O6: State Bank Of India | P6: SBIN0004564 | Q6: CHAANGODAR | R6: ખૂબ સરસ, અભિનંદન સૂચના :- શાળાનું નવુ સત્ર તા- / /20 ને વારે શરૂ થશે.
A7: =IF(B7="","",A6+1) -> 2 | B7: કરણ મહેશભાઈ વાઘેલા | C7: 1234 | D7: 38454 | E7: M | F7: OBC | G7: 220 | H7: ભીખાભાઈ સોલંકી | I7: રમીલાબેન | J7: મું.ચાંગોદર, તા- સાણંદ, જિ- અમદાવાદ. | K7: 9426402420 | L7: 240704010011510015 | M7: 1111 2222 3333 | N7: 111111111111111 | O7: State Bank Of India | P7: SBIN0004564 | Q7: CHAANGODAR
A8: =IF(B8="","",A7+1)
A9: =IF(B9="","",A8+1)
A10: =IF(B10="","",A9+1)
A11: =IF(B11="","",A10+1)
A12: =IF(B12="","",A11+1)
A13: =IF(B13="","",A12+1)
A14: =IF(B14="","",A13+1)
A15: =IF(B15="","",A14+1)
A16: =IF(B16="","",A15+1)
A17: =IF(B17="","",A16+1)
A18: =IF(B18="","",A17+1)
A19: =IF(B19="","",A18+1)
... A70: =IF(B70="","",A69+1)
E73: M | F73: SC
E74: F | F74: ST
F75: OBC
F76: OTHER

Sheet Heading
C4: ='School Data'!B21 -> જિલ્લા પંચાયત શિક્ષણ સમિતિ, અમદાવાદ
C6: શાળાકીય સર્વગ્રાહી મૂલ્યાંકન
I8: ધોરણ :- | L8: ='School Data'!B23 -> 3 | M8: ='School Data'!B24 -> -
I10: વર્ષ :- | K10: ='School Data'!B25 -> 2025-26
C12: શાળાનું નામ | E12: :- | F12: ='School Data'!B22 -> ચાંગોદર પે સે શાળા
C13: ગામ | E13: :- | F13: ='School Data'!B26 -> ચાંગોદર
C14: તાલુકો | E14: :- | F14: ='School Data'!B27 -> સાણંદ
C15: જિલ્લો | E15: :- | F15: ='School Data'!B28 -> અમદાવાદ
C16: પે સેન્ટર | E16: :- | F16: ='School Data'!B29 -> ચાંગોદર
C17: પરિણામ તારીખ | E17: :- | F17: ='School Data'!B30 -> -
C18: વર્ગશિક્ષકનું નામ | E18: :- | F18: ='School Data'!B31 -> હિતેશભાઇ પી આહજોલિયા
C19: સી. આર. સી. | E19: :- | F19: ='School Data'!B32 -> ચાંગોદર
C21: જાતિ | D21: રજિ . | G21: મેળવેલ એકદરે ગ્રેડ | V21: નોધ
D22: સંખ્યા | G22: A | J22: B | M22: C | P22: D | S22: E
D23: કુમાર | E23: કન્યા | F23: કુલ | G23: કુમાર | H23: કન્યા | I23: કુલ | J23: કુમાર | K23: કન્યા | L23: કુલ | M23: કુમાર | N23: કન્યા | O23: કુલ | P23: કુમાર | Q23: કન્યા | R23: કુલ | S23: કુમાર | T23: કન્યા | U23: કુલ
C24: અનુ. જાતિ | D24: =G24+J24+M24+P24+S24 -> 0 | E24: =H24+K24+N24+Q24+T24 -> 0 | F24: =SUM(D24:E24) -> 0 | G24: =COUNTIFS('Patrak C'!$E$9:$E$73,"=M",'Patrak C'!$F$9:$F$73,"=SC",'Patrak C'!$AS$9:$AS$73,"=A") -> 0 | H24: =COUNTIFS('Patrak C'!$E$9:$E$73,"=F",'Patrak C'!$F$9:$F$73,"=SC",'Patrak C'!$AS$9:$AS$73,"=A") -> 0 | I24: =SUM(G24:H24) -> 0 | J24: =COUNTIFS('Patrak C'!$E$9:$E$73,"=M",'Patrak C'!$F$9:$F$73,"=SC",'Patrak C'!$AS$9:$AS$73,"=B") -> 0 | K24: =COUNTIFS('Patrak C'!$E$9:$E$73,"=F",'Patrak C'!$F$9:$F$73,"=SC",'Patrak C'!$AS$9:$AS$73,"=B") -> 0 | L24: =SUM(J24:K24) -> 0 | M24: =COUNTIFS('Patrak C'!$E$9:$E$73,"=M",'Patrak C'!$F$9:$F$73,"=SC",'Patrak C'!$AS$9:$AS$73,"=C") -> 0 | N24: =COUNTIFS('Patrak C'!$E$9:$E$73,"=F",'Patrak C'!$F$9:$F$73,"=SC",'Patrak C'!$AS$9:$AS$73,"=C") -> 0 | O24: =SUM(M24:N24) -> 0 | P24: =COUNTIFS('Patrak C'!$E$9:$E$73,"=M",'Patrak C'!$F$9:$F$73,"=SC",'Patrak C'!$AS$9:$AS$73,"=D") -> 0 | Q24: =COUNTIFS('Patrak C'!$E$9:$E$73,"=F",'Patrak C'!$F$9:$F$73,"=SC",'Patrak C'!$AS$9:$AS$73,"=D") -> 0 | R24: =SUM(P24:Q24) -> 0 | S24: =COUNTIFS('Patrak C'!$E$9:$E$73,"=M",'Patrak C'!$F$9:$F$73,"=SC",'Patrak C'!$AS$9:$AS$73,"=E") -> 0 | T24: =COUNTIFS('Patrak C'!$E$9:$E$73,"=F",'Patrak C'!$F$9:$F$73,"=SC",'Patrak C'!$AS$9:$AS$73,"=E") -> 0 | U24: =SUM(S24:T24) -> 0
C25: અનુ. જનજાતિ | D25: =G25+J25+M25+P25+S25 -> 0 | E25: =H25+K25+N25+Q25+T25 -> 0 | F25: =SUM(D25:E25) -> 0 | G25: =COUNTIFS('Patrak C'!$E$9:$E$73,"=M",'Patrak C'!$F$9:$F$73,"=ST",'Patrak C'!$AS$9:$AS$73,"=A") -> 0 | H25: =COUNTIFS('Patrak C'!$E$9:$E$73,"=F",'Patrak C'!$F$9:$F$73,"=ST",'Patrak C'!$AS$9:$AS$73,"=A") -> 0 | I25: =SUM(G25:H25) -> 0 | J25: =COUNTIFS('Patrak C'!$E$9:$E$73,"=M",'Patrak C'!$F$9:$F$73,"=ST",'Patrak C'!$AS$9:$AS$73,"=B") -> 0 | K25: =COUNTIFS('Patrak C'!$E$9:$E$73,"=F",'Patrak C'!$F$9:$F$73,"=ST",'Patrak C'!$AS$9:$AS$73,"=B") -> 0 | L25: =SUM(J25:K25) -> 0 | M25: =COUNTIFS('Patrak C'!$E$9:$E$73,"=M",'Patrak C'!$F$9:$F$73,"=ST",'Patrak C'!$AS$9:$AS$73,"=C") -> 0 | N25: =COUNTIFS('Patrak C'!$E$9:$E$73,"=F",'Patrak C'!$F$9:$F$73,"=ST",'Patrak C'!$AS$9:$AS$73,"=C") -> 0 | O25: =SUM(M25:N25) -> 0 | P25: =COUNTIFS('Patrak C'!$E$9:$E$73,"=M",'Patrak C'!$F$9:$F$73,"=ST",'Patrak C'!$AS$9:$AS$73,"=D") -> 0 | Q25: =COUNTIFS('Patrak C'!$E$9:$E$73,"=F",'Patrak C'!$F$9:$F$73,"=ST",'Patrak C'!$AS$9:$AS$73,"=D") -> 0 | R25: =SUM(P25:Q25) -> 0 | S25: =COUNTIFS('Patrak C'!$E$9:$E$73,"=M",'Patrak C'!$F$9:$F$73,"=ST",'Patrak C'!$AS$9:$AS$73,"=E") -> 0 | T25: =COUNTIFS('Patrak C'!$E$9:$E$73,"=F",'Patrak C'!$F$9:$F$73,"=ST",'Patrak C'!$AS$9:$AS$73,"=E") -> 0 | U25: =SUM(S25:T25) -> 0
C26: સા. શૈ. પછાત | D26: =G26+J26+M26+P26+S26 -> 2 | E26: =H26+K26+N26+Q26+T26 -> 0 | F26: =SUM(D26:E26) -> 2 | G26: =COUNTIFS('Patrak C'!$E$9:$E$73,"=M",'Patrak C'!$F$9:$F$73,"=OBC",'Patrak C'!$AS$9:$AS$73,"=A") -> 1 | H26: =COUNTIFS('Patrak C'!$E$9:$E$73,"=F",'Patrak C'!$F$9:$F$73,"=OBC",'Patrak C'!$AS$9:$AS$73,"=A") -> 0 | I26: =SUM(G26:H26) -> 1 | J26: =COUNTIFS('Patrak C'!$E$9:$E$73,"=M",'Patrak C'!$F$9:$F$73,"=OBC",'Patrak C'!$AS$9:$AS$73,"=B") -> 0 | K26: =COUNTIFS('Patrak C'!$E$9:$E$73,"=F",'Patrak C'!$F$9:$F$73,"=OBC",'Patrak C'!$AS$9:$AS$73,"=B") -> 0 | L26: =SUM(J26:K26) -> 0 | M26: =COUNTIFS('Patrak C'!$E$9:$E$73,"=M",'Patrak C'!$F$9:$F$73,"=OBC",'Patrak C'!$AS$9:$AS$73,"=C") -> 1 | N26: =COUNTIFS('Patrak C'!$E$9:$E$73,"=F",'Patrak C'!$F$9:$F$73,"=OBC",'Patrak C'!$AS$9:$AS$73,"=C") -> 0 | O26: =SUM(M26:N26) -> 1 | P26: =COUNTIFS('Patrak C'!$E$9:$E$73,"=M",'Patrak C'!$F$9:$F$73,"=OBC",'Patrak C'!$AS$9:$AS$73,"=D") -> 0 | Q26: =COUNTIFS('Patrak C'!$E$9:$E$73,"=F",'Patrak C'!$F$9:$F$73,"=OBC",'Patrak C'!$AS$9:$AS$73,"=D") -> 0 | R26: =SUM(P26:Q26) -> 0 | S26: =COUNTIFS('Patrak C'!$E$9:$E$73,"=M",'Patrak C'!$F$9:$F$73,"=OBC",'Patrak C'!$AS$9:$AS$73,"=E") -> 0 | T26: =COUNTIFS('Patrak C'!$E$9:$E$73,"=F",'Patrak C'!$F$9:$F$73,"=OBC",'Patrak C'!$AS$9:$AS$73,"=E") -> 0 | U26: =SUM(S26:T26) -> 0
C27: અન્ય | D27: =G27+J27+M27+P27+S27 -> 0 | E27: =H27+K27+N27+Q27+T27 -> 0 | F27: =SUM(D27:E27) -> 0 | G27: =COUNTIFS('Patrak C'!$E$9:$E$73,"=M",'Patrak C'!$F$9:$F$73,"=OTHER",'Patrak C'!$AS$9:$AS$73,"=A") -> 0 | H27: =COUNTIFS('Patrak C'!$E$9:$E$73,"=F",'Patrak C'!$F$9:$F$73,"=OTHER",'Patrak C'!$AS$9:$AS$73,"=A") -> 0 | I27: =SUM(G27:H27) -> 0 | J27: =COUNTIFS('Patrak C'!$E$9:$E$73,"=M",'Patrak C'!$F$9:$F$73,"=OTHER",'Patrak C'!$AS$9:$AS$73,"=B") -> 0 | K27: =COUNTIFS('Patrak C'!$E$9:$E$73,"=F",'Patrak C'!$F$9:$F$73,"=OTHER",'Patrak C'!$AS$9:$AS$73,"=B") -> 0 | L27: =SUM(J27:K27) -> 0 | M27: =COUNTIFS('Patrak C'!$E$9:$E$73,"=M",'Patrak C'!$F$9:$F$73,"=OTHER",'Patrak C'!$AS$9:$AS$73,"=C") -> 0 | N27: =COUNTIFS('Patrak C'!$E$9:$E$73,"=F",'Patrak C'!$F$9:$F$73,"=OTHER",'Patrak C'!$AS$9:$AS$73,"=C") -> 0 | O27: =SUM(M27:N27) -> 0 | P27: =COUNTIFS('Patrak C'!$E$9:$E$73,"=M",'Patrak C'!$F$9:$F$73,"=OTHER",'Patrak C'!$AS$9:$AS$73,"=D") -> 0 | Q27: =COUNTIFS('Patrak C'!$E$9:$E$73,"=F",'Patrak C'!$F$9:$F$73,"=OTHER",'Patrak C'!$AS$9:$AS$73,"=D") -> 0 | R27: =SUM(P27:Q27) -> 0 | S27: =COUNTIFS('Patrak C'!$E$9:$E$73,"=M",'Patrak C'!$F$9:$F$73,"=OTHER",'Patrak C'!$AS$9:$AS$73,"=E") -> 0 | T27: =COUNTIFS('Patrak C'!$E$9:$E$73,"=F",'Patrak C'!$F$9:$F$73,"=OTHER",'Patrak C'!$AS$9:$AS$73,"=E") -> 0 | U27: =SUM(S27:T27) -> 0
C28: કુલ | D28: =SUM(D24:D27) -> 2 | E28: =SUM(E24:E27) -> 0 | F28: =SUM(F24:F27) -> 2 | G28: =SUM(G24:G27) -> 1 | H28: =SUM(H24:H27) -> 0 | I28: =SUM(I24:I27) -> 1 | J28: =SUM(J24:J27) -> 0 | K28: =SUM(K24:K27) -> 0 | ... U28: =SUM(U24:U27) -> 0
C30: વર્ગશિક્ષકની સહી | Q30: આચાર્યની સહી
B33: www.hiteshahjoliya.blogspot.com | P33: Format By - Hitesh Ahjoliya

Sheet Patrak B
A1: Print On A4 Size Paper.
B3: પત્રક- B વ્યક્તિત્વ વિકાસ પત્રક
B4: ધોરણ :- | D4: ='School Data'!B23 -> 3 | G4: વર્ગ:- | I4: ='School Data'!B24 -> - | W4: વર્ષ:- | Y4: ='School Data'!B25 -> 2025-26 | AK4: www.hiteshahjoliya.blogspot.com
B5: ક્રમ | C5: વિદ્યાર્થીનુ નામ | D5: સત્ર | E5: ક્ષેત્ર - 1 | M5: ક્ષેત્ર -2 | S5: ક્ષેત્ર -3 વિદ્યાર્થીના રસના ક્ષેત્રો | AJ5: ક્ષેત્ર -4 | AS5: કુલ ગુણ સત્ર-1 | AT5: કુલ ગુણ સત્ર-2 | AU5: સરેરાશ ગુણ ( બન્ને સત્રના આધારે વર્ષાંતે )
E6: વ્યક્તિગત અને સમાજિક ગુણો | M6: વિદ્યાર્થીના વલણો | S6: સાહિત્ય | W6: સંગીત અને કલા | AB6: શારીરિક શિક્ષણ | AG6: સાંસ્કૃતિક | AJ6: સહ શૈક્ષણિક | AN6: કાર્યાનુભવ
AB7: અને યોગ | AG7: કાર્યક્રમ | AJ7: પ્રવ્રુત્તિઓ
E8: શાળામા નિયમિત આવે છે . | F8: પ્રાર્થના સમેલનમા નિયમિત સામેલ થાય છે . | G8: શાળાની સ્વચ્છતા જાળવે છે . | H8: બીજા વિદ્યાર્થીઓને મદદરુપ થાય છે . | I8: સોપેલુ કાર્ય સારી રીતે કરે છે . | J8: કોઇ પણ કાર્ય કરવામા તત્પરતા દાખવે છે . | K8: શિક્ષકોનો આદર જાળવે છે . | L8: દરેક કાર્યમા સમયનુ પાલન કરે છે . | M8: શિક્ષણ પ્રત્યે હકારાત્મક વલણ ધરાવે છે . | N8: શાળા મિલકતની જાળવણી રાખે છે . | O8: સહાધ્યાયી પ્રત્યે સહયોગ દાખવે છે . | P8: વ્યક્તિગત સ્વચ્છતા અને સુઘડતા જાળવે છે . | Q8: પર્યાવરણની સમતુલા જાળવવામા ઉપયોગી થાય છે. | R8: નવિન બાબત ઉત્સાહપૂર્વક શીખે છે . | S8: ઇતર વાચન | T8: ભાષાશુદ્ધિ સાથેનુ મરોડદાર અક્ષરે લેખન | U8: મૌલિક વાર્તા કથન / વક્તવ્ય | V8: સર્જનાત્મક લેખન | W8: ગાન / વાદન ( અભિનય , બાળગીત વગેરે ) | X8: નાટ્ય / ન્રૂત્ય / વેશભુષા / અભિનય | Y8: ચિત્રમા રેખાંકન સ્પષ્ટ અને સુંદર કરે છે . | Z8: ચિત્રમા રંગપૂરણી સારી રીતે કરે છે . | AA8: સંગીત કલામા રસ ધરાવે છે . | AB8: યોગ ક્રિયાઓ ઉત્સાહપૂર્વક કરે છે . | AC8: સરળ આસનો ઉત્સાહપૂર્વક કરે છે . | AD8: સાન્ધિક રમતો કૌશલ્યપૂર્વક કરે છે . | AE8: ખેલકુદ અને જિમ્નાસ્ટિક લયબદ્ઘ રીતે કરે છે | AF8: રમત ગમત | AG8: ઉત્સવ ઉજવણી | AH8: વિશેષ દિન ઉજવણી | AI8: સાંસ્ક્રુતિક કાર્યક્રમમા ભાગીદારી | AJ8: પ્રસ્નમંચ ( ક્વિઝ ) મા ભાગીદારી | AK8: મૂલ્ય શિક્ષણની પ્રવ્રુતિઓમા ભાગીદારી | AL8: વિવિધ સ્પર્ધાઓ | AM8: પ્રોજેક્ટ કાર્યમા ભાગીદારી | AN8: ઇકોક્લબ ની પ્રવ્રુત્તિ | AO8: પ્રવાસ / પર્યટન / મુલાકાત | AP8: માટીકામ / બાગકામ / શાળા સુશોભન | AQ8: કાગળકામ / ટી.એલ. એમ નિર્માણમા સહયોગ | AR8: પ્રયોગ ગણિત/વિ. પ્રદર્શનમા ભાગીદારી
E9: 1 | F9: 2 | G9: 3 | H9: 4 | I9: 5 | J9: 6 | K9: 7 | L9: 8 | M9: 9 | N9: 10 | O9: 11 | P9: 12 | Q9: 13 | R9: 14 | S9: 15 | T9: 16 | U9: 17 | V9: 18 | W9: 19 | X9: 20 | Y9: 21 | Z9: 22 | AA9: 23 | AB9: 24 | AC9: 25 | AD9: 26 | AE9: 27 | AF9: 28 | AG9: 29 | AH9: 30 | AI9: 31 | AJ9: 32 | AK9: 33 | AL9: 34 | AM9: 35 | AN9: 36 | AO9: 37 | AP9: 38 | AQ9: 39 | AR9: 40
B10: ='Student Data'!A6 -> 1 | C10: ='Student Data'!B6 -> રાજ ભીખાભાઈ સોલંકી | D10: 1 | E10: 5 | F10: 4 | G10: 4 | H10: 4 | I10: 4 | J10: 3 | K10: 4 | L10: 4 | AS10: =SUM(E10:AR10) -> 32 | AT10: =SUM(E11:AR11) -> 0 | AU10: =ROUND(AT10/2+AS10/2,0) -> 16
D11: 2
B12: ='Student Data'!A7 -> 2 | C12: =IF('Student Data'!B7="","",'Student Data'!B7) -> કરણ મહેશભાઈ વાઘેલા | D12: 1 | E12: 5 | F12: 5 | G12: 5 | H12: 5 | I12: 5 | J12: 5 | K12: 5 | AS12: =IF(SUM(E12:AR12)=0,"",SUM(E12:AR12)) -> 35 | AT12: =IF(SUM(E13:AR13)=0,"",SUM(E13:AR13)) | AU12: =IF(AT12="",IF(AS12="","",ROUND(AS12/2,0)),IF(AS12="",ROUND(AT12/2,0),ROUND(AT12/2+AS12/2,0))) -> 18
D13: 2
B14: ='Student Data'!A8 | C14: =IF('Student Data'!B8="","",'Student Data'!B8) | D14: 1 | AS14: =IF(SUM(E14:AR14)=0,"",SUM(E14:AR14)) | AT14: =IF(SUM(E15:AR15)=0,"",SUM(E15:AR15)) | AU14: =IF(AT14="",IF(AS14="","",ROUND(AS14/2,0)),IF(AS14="",ROUND(AT14/2,0),ROUND(AT14/2+AS14/2,0)))
D15: 2
B16: ='Student Data'!A9 | C16: =IF('Student Data'!B9="","",'Student Data'!B9) | D16: 1 | AS16: =IF(SUM(E16:AR16)=0,"",SUM(E16:AR16)) | AT16: =IF(SUM(E17:AR17)=0,"",SUM(E17:AR17)) | AU16: =IF(AT16="",IF(AS16="","",ROUND(AS16/2,0)),IF(AS16="",ROUND(AT16/2,0),ROUND(AT16/2+AS16/2,0)))
D17: 2
B18: ='Student Data'!A10 | C18: =IF('Student Data'!B10="","",'Student Data'!B10) | D18: 1 | AS18: =IF(SUM(E18:AR18)=0,"",SUM(E18:AR18)) | AT18: =IF(SUM(E19:AR19)=0,"",SUM(E19:AR19)) | AU18: =IF(AT18="",IF(AS18="","",ROUND(AS18/2,0)),IF(AS18="",ROUND(AT18/2,0),ROUND(AT18/2+AS18/2,0)))
D19: 2
B20: ='Student Data'!A11 | C20: =IF('Student Data'!B11="","",'Student Data'!B11) | D20: 1 | AS20: =IF(SUM(E20:AR20)=0,"",SUM(E20:AR20)) | AT20: =IF(SUM(E21:AR21)=0,"",SUM(E21:AR21)) | AU20: =IF(AT20="",IF(AS20="","",ROUND(AS20/2,0)),IF(AS20="",ROUND(AT20/2,0),ROUND(AT20/2+AS20/2,0)))
D21: 2
B22: ='Student Data'!A12 | C22: =IF('Student Data'!B12="","",'Student Data'!B12) | D22: 1 | AS22: =IF(SUM(E22:AR22)=0,"",SUM(E22:AR22)) | AT22: =IF(SUM(E23:AR23)=0,"",SUM(E23:AR23)) | AU22: =IF(AT22="",IF(AS22="","",ROUND(AS22/2,0)),IF(AS22="",ROUND(AT22/2,0),ROUND(AT22/2+AS22/2,0)))
D23: 2
B24: ='Student Data'!A13 | C24: =IF('Student Data'!B13="","",'Student Data'!B13) | D24: 1 | AS24: =IF(SUM(E24:AR24)=0,"",SUM(E24:AR24)) | AT24: =IF(SUM(E25:AR25)=0,"",SUM(E25:AR25)) | AU24: =IF(AT24="",IF(AS24="","",ROUND(AS24/2,0)),IF(AS24="",ROUND(AT24/2,0),ROUND(AT24/2+AS24/2,0)))
D25: 2
B26: ='Student Data'!A14 | C26: =IF('Student Data'!B14="","",'Student Data'!B14) | D26: 1 | AS26: =IF(SUM(E26:AR26)=0,"",SUM(E26:AR26)) | AT26: =IF(SUM(E27:AR27)=0,"",SUM(E27:AR27)) | AU26: =IF(AT26="",IF(AS26="","",ROUND(AS26/2,0)),IF(AS26="",ROUND(AT26/2,0),ROUND(AT26/2+AS26/2,0)))
D27: 2
B28: ='Student Data'!A15 | C28: =IF('Student Data'!B15="","",'Student Data'!B15) | D28: 1 | AS28: =IF(SUM(E28:AR28)=0,"",SUM(E28:AR28)) | AT28: =IF(SUM(E29:AR29)=0,"",SUM(E29:AR29)) | AU28: =IF(AT28="",IF(AS28="","",ROUND(AS28/2,0)),IF(AS28="",ROUND(AT28/2,0),ROUND(AT28/2+AS28/2,0)))
D29: 2
B30: ='Student Data'!A16 | C30: =IF('Student Data'!B16="","",'Student Data'!B16) | D30: 1 | AS30: =IF(SUM(E30:AR30)=0,"",SUM(E30:AR30)) | AT30: =IF(SUM(E31:AR31)=0,"",SUM(E31:AR31)) | AU30: =IF(AT30="",IF(AS30="","",ROUND(AS30/2,0)),IF(AS30="",ROUND(AT30/2,0),ROUND(AT30/2+AS30/2,0)))
D31: 2
B32: ='Student Data'!A17 | C32: =IF('Student Data'!B17="","",'Student Data'!B17) | D32: 1 | AS32: =IF(SUM(E32:AR32)=0,"",SUM(E32:AR32)) | AT32: =IF(SUM(E33:AR33)=0,"",SUM(E33:AR33)) | AU32: =IF(AT32="",IF(AS32="","",ROUND(AS32/2,0)),IF(AS32="",ROUND(AT32/2,0),ROUND(AT32/2+AS32/2,0)))
D33: 2
B34: ='Student Data'!A18 | C34: =IF('Student Data'!B18="","",'Student Data'!B18) | D34: 1 | AS34: =IF(SUM(E34:AR34)=0,"",SUM(E34:AR34)) | AT34: =IF(SUM(E35:AR35)=0,"",SUM(E35:AR35)) | AU34: =IF(AT34="",IF(AS34="","",ROUND(AS34/2,0)),IF(AS34="",ROUND(AT34/2,0),ROUND(AT34/2+AS34/2,0)))
D35: 2
B36: ='Student Data'!A19 | C36: =IF('Student Data'!B19="","",'Student Data'!B19) | D36: 1 | AS36: =IF(SUM(E36:AR36)=0,"",SUM(E36:AR36)) | AT36: =IF(SUM(E37:AR37)=0,"",SUM(E37:AR37)) | AU36: =IF(AT36="",IF(AS36="","",ROUND(AS36/2,0)),IF(AS36="",ROUND(AT36/2,0),ROUND(AT36/2+AS36/2,0)))
D37: 2
B38: ='Student Data'!A20 | C38: =IF('Student Data'!B20="","",'Student Data'!B20) | D38: 1 | AS38: =IF(SUM(E38:AR38)=0,"",SUM(E38:AR38)) | AT38: =IF(SUM(E39:AR39)=0,"",SUM(E39:AR39)) | AU38: =IF(AT38="",IF(AS38="","",ROUND(AS38/2,0)),IF(AS38="",ROUND(AT38/2,0),ROUND(AT38/2+AS38/2,0)))
D39: 2
B40: ='Student Data'!A21 | C40: =IF('Student Data'!B21="","",'Student Data'!B21) | D40: 1 | AS40: =IF(SUM(E40:AR40)=0,"",SUM(E40:AR40)) | AT40: =IF(SUM(E41:AR41)=0,"",SUM(E41:AR41)) | AU40: =IF(AT40="",IF(AS40="","",ROUND(AS40/2,0)),IF(AS40="",ROUND(AT40/2,0),ROUND(AT40/2+AS40/2,0)))
D41: 2
...

Sheet Patrak C
B2: પત્રક - C | D2: માત્ર રંગીન ભાગમાં જ ગુણ લખવા.
A3: www.hiteshahjoliya.blogspot.com | D3: પત્રક - C | L3: ધોરણ- | N3: ='School Data'!B23 -> 3 | O3: ='School Data'!B24 -> - | X3: =D3 -> પત્રક - C | AP3: ધોરણ- | AR3: ='School Data'!B23 -> 3 | AS3: ='School Data'!B24 -> -
H4: ગુજરાતી | Q4: ગણિત | Y4: પર્યાવરણ | AH4: અંગ્રેજી | AP4: પત્રક - B : વ્યક્તિત્વ વિકાસ પત્રક | AQ4: ગ્રેડ | AR4: તમામ વિષયોના + પત્રક B ના કુલ ગુણ | AS4: સરેરાશ ગ્રેડ | AT4: ટકા % | AU4: નોંધ
A5: ક્રમ | B5: વિદ્યાર્થીનુ નામ | C5: જ . ર . નંબર | D5: જન્મ તારીખ | G5: હાજર દિવસ | H5: પ્રથમ સત્ર | K5: દ્વિતીય સત્ર | N5: કુલ ગુણ 200 માથી મેળવેલ ગુણ | O5: ગ્રેડ | P5: ક્રમ | Q5: પ્રથમ સત્ર | T5: દ્વિતીય સત્ર | W5: =N5 -> કુલ ગુણ 200 માથી મેળવેલ ગુણ | X5: ગ્રેડ | Y5: પ્રથમ સત્ર | AB5: દ્વિતીય સત્ર | AE5: =W5 -> કુલ ગુણ 200 માથી મેળવેલ ગુણ | AF5: ગ્રેડ | AG5: ક્રમ | AH5: પ્રથમ સત્ર | AK5: દ્વિતીય સત્ર | AN5: =AE5 -> કુલ ગુણ 200 માથી મેળવેલ ગુણ | AO5: ગ્રેડ
E6: ='Student Data'!E5 -> જાતિ M/F | F6: ='Student Data'!F5 -> જ્ઞાતિ | H6: રચનાત્મક મૂલ્યાંકન | I6: સંત્રાત મૂલ્યાંકન | J6: સ્વ-અધ્યયન કાર્યના આધારે મૂલ્યાંકન | K6: રચનાત્મક મૂલ્યાંકન | L6: સંત્રાત મૂલ્યાંકન | M6: સ્વ- અધ્યયન કાર્યના આધારે મૂલ્યાંકન | Q6: રચનાત્મક મૂલ્યાંકન | R6: સંત્રાત મૂલ્યાંકન | S6: સ્વ- અધ્યયન કાર્યના આધારે મૂલ્યાંકન | T6: રચનાત્મક મૂલ્યાંકન | U6: સંત્રાત મૂલ્યાંકન | V6: સ્વ- અધ્યયન કાર્યના આધારે મૂલ્યાંકન | Y6: રચનાત્મક મૂલ્યાંકન | Z6: સંત્રાત મૂલ્યાંકન | AA6: સ્વ- અધ્યયન કાર્યના આધારે મૂલ્યાંકન | AB6: રચનાત્મક મૂલ્યાંકન | AC6: સંત્રાત મૂલ્યાંકન | AD6: સ્વ- અધ્યયન કાર્યના આધારે મૂલ્યાંકન | AH6: રચનાત્મક મૂલ્યાંકન | AI6: સંત્રાત મૂલ્યાંકન | AJ6: સ્વ- અધ્યયન કાર્યના આધારે મૂલ્યાંકન | AK6: રચનાત્મક મૂલ્યાંકન | AL6: સંત્રાત મૂલ્યાંકન | AM6: સ્વ- અધ્યયન કાર્યના આધારે મૂલ્યાંકન
H7: 40 ગુણ | I7: 40 ગુણ | J7: 20 ગુણ | K7: 40 ગુણ | L7: 40 ગુણ | M7: 20 ગુણ | Q7: 40 ગુણ | R7: 40 ગુણ | S7: 20 ગુણ | T7: 40 ગુણ | U7: 40 ગુણ | V7: 20 ગુણ | Y7: 40 ગુણ | Z7: 40 ગુણ | AA7: 20 ગુણ | AB7: 40 ગુણ | AC7: 40 ગુણ | AD7: 20 ગુણ | AH7: 40 ગુણ | AI7: 40 ગુણ | AJ7: 20 ગુણ | AK7: 40 ગુણ | AL7: 40 ગુણ | AM7: 20 ગુણ | AP7: 200 | AR7: 1000
A8: 1 | B8: 2 | C8: 3 | D8: 4 | G8: 5 | H8: 6 | I8: 7 | J8: 8 | K8: 9 | L8: 10 | M8: 11 | N8: 12 | O8: 13 | P8: 14 | Q8: 15 | R8: 16 | S8: 17 | T8: 18 | U8: 19 | V8: 20 | W8: 21 | X8: 22 | Y8: 23 | Z8: 24 | AA8: 25 | AB8: 26 | AC8: 27 | AD8: 28 | AE8: 29 | AF8: 30 | AG8: 14 | AH8: 15 | AI8: 16 | AJ8: 17 | AK8: 18 | AL8: 19 | AM8: 20 | AN8: 21 | AO8: 22 | AP8: 31 | AQ8: 32 | AR8: 33 | AS8: 34 | AT8: 35 | AU8: 36
A9: ='Student Data'!A6 -> 1 | B9: ='Student Data'!B6 -> રાજ ભીખાભાઈ સોલંકી | C9: ='Student Data'!C6 -> 1234 | D9: ='Student Data'!D6 -> 38454 | E9: ='Student Data'!E6 -> M | F9: ='Student Data'!F6 -> OBC | G9: ='Student Data'!G6 -> 220 | H9: 40 | I9: 40 | J9: 20 | K9: 40 | L9: 40 | M9: 20 | N9: =SUM(H9:M9) -> 200 | O9: =IF(N9>159,"A",IF(N9>129,"B",IF(N9>99,"C",IF(N9>69,"D",IF(N9<70,"E",))))) -> A | P9: =A9 -> 1 | Q9: 40 | R9: 40 | S9: 20 | T9: 40 | U9: 40 | V9: 20 | W9: =SUM(Q9:V9) -> 200 | X9: =IF(W9>159,"A",IF(W9>129,"B",IF(W9>99,"C",IF(W9>69,"D",IF(W9<70,"E",))))) -> A | Y9: 40 | Z9: 40 | AA9: 20 | AB9: 40 | AC9: 40 | AD9: 20 | AE9: =SUM(Y9:AD9) -> 200 | AF9: =IF(AE9>159,"A",IF(AE9>129,"B",IF(AE9>99,"C",IF(AE9>69,"D",IF(AE9<70,"E",))))) -> A | AG9: =P9 -> 1 | AH9: 35 | AI9: 35 | AJ9: 15 | AK9: 40 | AL9: 40 | AM9: 20 | AN9: =SUM(AH9:AM9) -> 185 | AO9: =IF(AN9>159,"A",IF(AN9>129,"B",IF(AN9>99,"C",IF(AN9>69,"D",IF(AN9<70,"E",))))) -> A | AP9: ='Patrak B'!AU10 -> 16 | AQ9: =IF(AP9>159,"A",IF(AP9>129,"B",IF(AP9>99,"C",IF(AP9>69,"D",IF(AP9<70,"E",))))) -> E | AR9: =N9+W9+AE9+AP9+AN9 -> 801 | AS9: =IF(AR9>799,"A",IF(AR9>649,"B",IF(AR9>499,"C",IF(AR9>349,"D",IF(AR9<350,"E",))))) -> A | AT9: =IF(OR(ISBLANK(AR9), AR9=0, AR9=""), "", AR9*100/$AR$7) -> 80.1
A10: ='Student Data'!A7 -> 2 | B10: =IF('Student Data'!B7="","",'Student Data'!B7) -> કરણ મહેશભાઈ વાઘેલા | C10: =IF('Student Data'!C7="","",'Student Data'!C7) -> 1234 | D10: =IF('Student Data'!D7="","",'Student Data'!D7) -> 38454 | E10: ='Student Data'!E7 -> M | F10: ='Student Data'!F7 -> OBC | G10: =IF('Student Data'!G7="","",'Student Data'!G7) -> 220 | H10: 30 | I10: 30 | J10: 10 | K10: 30 | L10: 30 | M10: 20 | N10: =IF((AND(H10="",I10="",J10="",K10="",L10="",M10="")),"",SUM(H10:M10)) -> 150 | O10: =IF(N10="","",IF(N10>159,"A",IF(N10>129,"B",IF(N10>99,"C",IF(N10>69,"D",IF(N10<70,"E",)))))) -> B | P10: =A10 -> 2 | Q10: 30 | R10: 30 | S10: 10 | T10: 30 | U10: 30 | V10: 10 | W10: =IF((AND(Q10="",R10="",S10="",T10="",U10="",V10="")),"",SUM(Q10:V10)) -> 140 | X10: =IF(W10="","",IF(W10>159,"A",IF(W10>129,"B",IF(W10>99,"C",IF(W10>69,"D",IF(W10<70,"E",)))))) -> B | Y10: 30 | Z10: 30 | AA10: 10 | AB10: 30 | AC10: 30 | AD10: 10 | AE10: =IF((AND(Y10="",Z10="",AA10="",AB10="",AC10="",AD10="")),"",SUM(Y10:AD10)) -> 140 | AF10: =IF(AE10="","",IF(AE10>159,"A",IF(AE10>129,"B",IF(AE10>99,"C",IF(AE10>69,"D",IF(AE10<70,"E",)))))) -> B | AG10: =P10 -> 2 | AH10: 30 | AI10: 30 | AJ10: 10 | AK10: 10 | AL10: 10 | AM10: 10 | AN10: =IF((AND(AH10="",AI10="",AJ10="",AK10="",AL10="",AM10="")),"",SUM(AH10:AM10)) -> 100 | AO10: =IF(AN10="","",IF(AN10>159,"A",IF(AN10>129,"B",IF(AN10>99,"C",IF(AN10>69,"D",IF(AN10<70,"E",)))))) -> C | AP10: ='Patrak B'!AU12 -> 18 | AQ10: =IF(AP10="","",IF(AP10>159,"A",IF(AP10>129,"B",IF(AP10>99,"C",IF(AP10>69,"D",IF(AP10<70,"E",)))))) -> E | AR10: =IF(AND(N10="",W10="",AE10="",AN10="",AP10=""),"",SUM(N10,W10,AE10,AN10,,AP10)) -> 548 | AS10: =IF(AR10="","",IF(AR10>799,"A",IF(AR10>649,"B",IF(AR10>499,"C",IF(AR10>349,"D",IF(AR10<350,"E",)))))) -> C | AT10: =IF(OR(ISBLANK(AR10), AR10=0, AR10=""), "", AR10*100/$AR$7) -> 54.8
A11: ='Student Data'!A8 | B11: =IF('Student Data'!B8="","",'Student Data'!B8) | C11: =IF('Student Data'!C8="","",'Student Data'!C8) | D11: =IF('Student Data'!D8="","",'Student Data'!D8) | E11: ='Student Data'!E8 -> 0 | F11: ='Student Data'!F8 -> 0 | G11: =IF('Student Data'!G8="","",'Student Data'!G8) | N11: =IF((AND(H11="",I11="",J11="",K11="",L11="",M11="")),"",SUM(H11:M11)) | O11: =IF(N11="","",IF(N11>159,"A",IF(N11>129,"B",IF(N11>99,"C",IF(N11>69,"D",IF(N11<70,"E",)))))) | P11: =A11 | W11: =IF((AND(Q11="",R11="",S11="",T11="",U11="",V11="")),"",SUM(Q11:V11)) | X11: =IF(W11="","",IF(W11>159,"A",IF(W11>129,"B",IF(W11>99,"C",IF(W11>69,"D",IF(W11<70,"E",)))))) | AE11: =IF((AND(Y11="",Z11="",AA11="",AB11="",AC11="",AD11="")),"",SUM(Y11:AD11)) | AF11: =IF(AE11="","",IF(AE11>159,"A",IF(AE11>129,"B",IF(AE11>99,"C",IF(AE11>69,"D",IF(AE11<70,"E",)))))) | AG11: =P11 | AN11: =IF((AND(AH11="",AI11="",AJ11="",AK11="",AL11="",AM11="")),"",SUM(AH11:AM11)) | AO11: =IF(AN11="","",IF(AN11>159,"A",IF(AN11>129,"B",IF(AN11>99,"C",IF(AN11>69,"D",IF(AN11<70,"E",)))))) | AP11: ='Patrak B'!AU14 | AQ11: =IF(AP11="","",IF(AP11>159,"A",IF(AP11>129,"B",IF(AP11>99,"C",IF(AP11>69,"D",IF(AP11<70,"E",)))))) | AR11: =IF(AND(N11="",W11="",AE11="",AN11="",AP11=""),"",SUM(N11,W11,AE11,AN11,,AP11)) | AS11: =IF(AR11="","",IF(AR11>799,"A",IF(AR11>649,"B",IF(AR11>499,"C",IF(AR11>349,"D",IF(AR11<350,"E",)))))) | AT11: =IF(OR(ISBLANK(AR11), AR11=0, AR11=""), "", AR11*100/$AR$7)
A12: ='Student Data'!A9 | B12: =IF('Student Data'!B9="","",'Student Data'!B9) | C12: =IF('Student Data'!C9="","",'Student Data'!C9) | D12: =IF('Student Data'!D9="","",'Student Data'!D9) | E12: ='Student Data'!E9 -> 0 | F12: ='Student Data'!F9 -> 0 | G12: =IF('Student Data'!G9="","",'Student Data'!G9) | N12: =IF((AND(H12="",I12="",J12="",K12="",L12="",M12="")),"",SUM(H12:M12)) | O12: =IF(N12="","",IF(N12>159,"A",IF(N12>129,"B",IF(N12>99,"C",IF(N12>69,"D",IF(N12<70,"E",)))))) | P12: =A12 | W12: =IF((AND(Q12="",R12="",S12="",T12="",U12="",V12="")),"",SUM(Q12:V12)) | X12: =IF(W12="","",IF(W12>159,"A",IF(W12>129,"B",IF(W12>99,"C",IF(W12>69,"D",IF(W12<70,"E",)))))) | AE12: =IF((AND(Y12="",Z12="",AA12="",AB12="",AC12="",AD12="")),"",SUM(Y12:AD12)) | AF12: =IF(AE12="","",IF(AE12>159,"A",IF(AE12>129,"B",IF(AE12>99,"C",IF(AE12>69,"D",IF(AE12<70,"E",)))))) | AG12: =P12 | AN12: =IF((AND(AH12="",AI12="",AJ12="",AK12="",AL12="",AM12="")),"",SUM(AH12:AM12)) | AO12: =IF(AN12="","",IF(AN12>159,"A",IF(AN12>129,"B",IF(AN12>99,"C",IF(AN12>69,"D",IF(AN12<70,"E",)))))) | AP12: ='Patrak B'!AU16 | AQ12: =IF(AP12="","",IF(AP12>159,"A",IF(AP12>129,"B",IF(AP12>99,"C",IF(AP12>69,"D",IF(AP12<70,"E",)))))) | AR12: =IF(AND(N12="",W12="",AE12="",AN12="",AP12=""),"",SUM(N12,W12,AE12,AN12,,AP12)) | AS12: =IF(AR12="","",IF(AR12>799,"A",IF(AR12>649,"B",IF(AR12>499,"C",IF(AR12>349,"D",IF(AR12<350,"E",)))))) | AT12: =IF(OR(ISBLANK(AR12), AR12=0, AR12=""), "", AR12*100/$AR$7)
A13: ='Student Data'!A10 | B13: =IF('Student Data'!B10="","",'Student Data'!B10) | C13: =IF('Student Data'!C10="","",'Student Data'!C10) | D13: =IF('Student Data'!D10="","",'Student Data'!D10) | E13: ='Student Data'!E10 -> 0 | F13: ='Student Data'!F10 -> 0 | G13: =IF('Student Data'!G10="","",'Student Data'!G10) | N13: =IF((AND(H13="",I13="",J13="",K13="",L13="",M13="")),"",SUM(H13:M13)) | O13: =IF(N13="","",IF(N13>159,"A",IF(N13>129,"B",IF(N13>99,"C",IF(N13>69,"D",IF(N13<70,"E",)))))) | P13: =A13 | W13: =IF((AND(Q13="",R13="",S13="",T13="",U13="",V13="")),"",SUM(Q13:V13)) | X13: =IF(W13="","",IF(W13>159,"A",IF(W13>129,"B",IF(W13>99,"C",IF(W13>69,"D",IF(W13<70,"E",)))))) | AE13: =IF((AND(Y13="",Z13="",AA13="",AB13="",AC13="",AD13="")),"",SUM(Y13:AD13)) | AF13: =IF(AE13="","",IF(AE13>159,"A",IF(AE13>129,"B",IF(AE13>99,"C",IF(AE13>69,"D",IF(AE13<70,"E",)))))) | AG13: =P13 | AN13: =IF((AND(AH13="",AI13="",AJ13="",AK13="",AL13="",AM13="")),"",SUM(AH13:AM13)) | AO13: =IF(AN13="","",IF(AN13>159,"A",IF(AN13>129,"B",IF(AN13>99,"C",IF(AN13>69,"D",IF(AN13<70,"E",)))))) | AP13: ='Patrak B'!AU18 | AQ13: =IF(AP13="","",IF(AP13>159,"A",IF(AP13>129,"B",IF(AP13>99,"C",IF(AP13>69,"D",IF(AP13<70,"E",)))))) | AR13: =IF(AND(N13="",W13="",AE13="",AN13="",AP13=""),"",SUM(N13,W13,AE13,AN13,,AP13)) | AS13: =IF(AR13="","",IF(AR13>799,"A",IF(AR13>649,"B",IF(AR13>499,"C",IF(AR13>349,"D",IF(AR13<350,"E",)))))) | AT13: =IF(OR(ISBLANK(AR13), AR13=0, AR13=""), "", AR13*100/$AR$7)
A14: ='Student Data'!A11 | B14: =IF('Student Data'!B11="","",'Student Data'!B11) | C14: =IF('Student Data'!C11="","",'Student Data'!C11) | D14: =IF('Student Data'!D11="","",'Student Data'!D11) | E14: ='Student Data'!E11 -> 0 | F14: ='Student Data'!F11 -> 0 | G14: =IF('Student Data'!G11="","",'Student Data'!G11) | N14: =IF((AND(H14="",I14="",J14="",K14="",L14="",M14="")),"",SUM(H14:M14)) | O14: =IF(N14="","",IF(N14>159,"A",IF(N14>129,"B",IF(N14>99,"C",IF(N14>69,"D",IF(N14<70,"E",)))))) | P14: =A14 | W14: =IF((AND(Q14="",R14="",S14="",T14="",U14="",V14="")),"",SUM(Q14:V14)) | X14: =IF(W14="","",IF(W14>159,"A",IF(W14>129,"B",IF(W14>99,"C",IF(W14>69,"D",IF(W14<70,"E",)))))) | AE14: =IF((AND(Y14="",Z14="",AA14="",AB14="",AC14="",AD14="")),"",SUM(Y14:AD14)) | AF14: =IF(AE14="","",IF(AE14>159,"A",IF(AE14>129,"B",IF(AE14>99,"C",IF(AE14>69,"D",IF(AE14<70,"E",)))))) | AG14: =P14 | AN14: =IF((AND(AH14="",AI14="",AJ14="",AK14="",AL14="",AM14="")),"",SUM(AH14:AM14)) | AO14: =IF(AN14="","",IF(AN14>159,"A",IF(AN14>129,"B",IF(AN14>99,"C",IF(AN14>69,"D",IF(AN14<70,"E",)))))) | AP14: ='Patrak B'!AU20 | AQ14: =IF(AP14="","",IF(AP14>159,"A",IF(AP14>129,"B",IF(AP14>99,"C",IF(AP14>69,"D",IF(AP14<70,"E",)))))) | AR14: =IF(AND(N14="",W14="",AE14="",AN14="",AP14=""),"",SUM(N14,W14,AE14,AN14,,AP14)) | AS14: =IF(AR14="","",IF(AR14>799,"A",IF(AR14>649,"B",IF(AR14>499,"C",IF(AR14>349,"D",IF(AR14<350,"E",)))))) | AT14: =IF(OR(ISBLANK(AR14), AR14=0, AR14=""), "", AR14*100/$AR$7)
A15: ='Student Data'!A12 | B15: =IF('Student Data'!B12="","",'Student Data'!B12) | C15: =IF('Student Data'!C12="","",'Student Data'!C12) | D15: =IF('Student Data'!D12="","",'Student Data'!D12) | E15: ='Student Data'!E12 -> 0 | F15: ='Student Data'!F12 -> 0 | G15: =IF('Student Data'!G12="","",'Student Data'!G12) | N15: =IF((AND(H15="",I15="",J15="",K15="",L15="",M15="")),"",SUM(H15:M15)) | O15: =IF(N15="","",IF(N15>159,"A",IF(N15>129,"B",IF(N15>99,"C",IF(N15>69,"D",IF(N15<70,"E",)))))) | P15: =A15 | W15: =IF((AND(Q15="",R15="",S15="",T15="",U15="",V15="")),"",SUM(Q15:V15)) | X15: =IF(W15="","",IF(W15>159,"A",IF(W15>129,"B",IF(W15>99,"C",IF(W15>69,"D",IF(W15<70,"E",)))))) | AE15: =IF((AND(Y15="",Z15="",AA15="",AB15="",AC15="",AD15="")),"",SUM(Y15:AD15)) | AF15: =IF(AE15="","",IF(AE15>159,"A",IF(AE15>129,"B",IF(AE15>99,"C",IF(AE15>69,"D",IF(AE15<70,"E",)))))) | AG15: =P15 | AN15: =IF((AND(AH15="",AI15="",AJ15="",AK15="",AL15="",AM15="")),"",SUM(AH15:AM15)) | AO15: =IF(AN15="","",IF(AN15>159,"A",IF(AN15>129,"B",IF(AN15>99,"C",IF(AN15>69,"D",IF(AN15<70,"E",)))))) | AP15: ='Patrak B'!AU22 | AQ15: =IF(AP15="","",IF(AP15>159,"A",IF(AP15>129,"B",IF(AP15>99,"C",IF(AP15>69,"D",IF(AP15<70,"E",)))))) | AR15: =IF(AND(N15="",W15="",AE15="",AN15="",AP15=""),"",SUM(N15,W15,AE15,AN15,,AP15)) | AS15: =IF(AR15="","",IF(AR15>799,"A",IF(AR15>649,"B",IF(AR15>499,"C",IF(AR15>349,"D",IF(AR15<350,"E",)))))) | AT15: =IF(OR(ISBLANK(AR15), AR15=0, AR15=""), "", AR15*100/$AR$7)
A16: ='Student Data'!A13 | B16: =IF('Student Data'!B13="","",'Student Data'!B13) | C16: =IF('Student Data'!C13="","",'Student Data'!C13) | D16: =IF('Student Data'!D13="","",'Student Data'!D13) | E16: ='Student Data'!E13 -> 0 | F16: ='Student Data'!F13 -> 0 | G16: =IF('Student Data'!G13="","",'Student Data'!G13) | N16: =IF((AND(H16="",I16="",J16="",K16="",L16="",M16="")),"",SUM(H16:M16)) | O16: =IF(N16="","",IF(N16>159,"A",IF(N16>129,"B",IF(N16>99,"C",IF(N16>69,"D",IF(N16<70,"E",)))))) | P16: =A16 | W16: =IF((AND(Q16="",R16="",S16="",T16="",U16="",V16="")),"",SUM(Q16:V16)) | X16: =IF(W16="","",IF(W16>159,"A",IF(W16>129,"B",IF(W16>99,"C",IF(W16>69,"D",IF(W16<70,"E",)))))) | AE16: =IF((AND(Y16="",Z16="",AA16="",AB16="",AC16="",AD16="")),"",SUM(Y16:AD16)) | AF16: =IF(AE16="","",IF(AE16>159,"A",IF(AE16>129,"B",IF(AE16>99,"C",IF(AE16>69,"D",IF(AE16<70,"E",)))))) | AG16: =P16 | AN16: =IF((AND(AH16="",AI16="",AJ16="",AK16="",AL16="",AM16="")),"",SUM(AH16:AM16)) | AO16: =IF(AN16="","",IF(AN16>159,"A",IF(AN16>129,"B",IF(AN16>99,"C",IF(AN16>69,"D",IF(AN16<70,"E",)))))) | AP16: ='Patrak B'!AU24 | AQ16: =IF(AP16="","",IF(AP16>159,"A",IF(AP16>129,"B",IF(AP16>99,"C",IF(AP16>69,"D",IF(AP16<70,"E",)))))) | AR16: =IF(AND(N16="",W16="",AE16="",AN16="",AP16=""),"",SUM(N16,W16,AE16,AN16,,AP16)) | AS16: =IF(AR16="","",IF(AR16>799,"A",IF(AR16>649,"B",IF(AR16>499,"C",IF(AR16>349,"D",IF(AR16<350,"E",)))))) | AT16: =IF(OR(ISBLANK(AR16), AR16=0, AR16=""), "", AR16*100/$AR$7)
A17: ='Student Data'!A14 | B17: =IF('Student Data'!B14="","",'Student Data'!B14) | C17: =IF('Student Data'!C14="","",'Student Data'!C14) | D17: =IF('Student Data'!D14="","",'Student Data'!D14) | E17: ='Student Data'!E14 -> 0 | F17: ='Student Data'!F14 -> 0 | G17: =IF('Student Data'!G14="","",'Student Data'!G14) | N17: =IF((AND(H17="",I17="",J17="",K17="",L17="",M17="")),"",SUM(H17:M17)) | O17: =IF(N17="","",IF(N17>159,"A",IF(N17>129,"B",IF(N17>99,"C",IF(N17>69,"D",IF(N17<70,"E",)))))) | P17: =A17 | W17: =IF((AND(Q17="",R17="",S17="",T17="",U17="",V17="")),"",SUM(Q17:V17)) | X17: =IF(W17="","",IF(W17>159,"A",IF(W17>129,"B",IF(W17>99,"C",IF(W17>69,"D",IF(W17<70,"E",)))))) | AE17: =IF((AND(Y17="",Z17="",AA17="",AB17="",AC17="",AD17="")),"",SUM(Y17:AD17)) | AF17: =IF(AE17="","",IF(AE17>159,"A",IF(AE17>129,"B",IF(AE17>99,"C",IF(AE17>69,"D",IF(AE17<70,"E",)))))) | AG17: =P17 | AN17: =IF((AND(AH17="",AI17="",AJ17="",AK17="",AL17="",AM17="")),"",SUM(AH17:AM17)) | AO17: =IF(AN17="","",IF(AN17>159,"A",IF(AN17>129,"B",IF(AN17>99,"C",IF(AN17>69,"D",IF(AN17<70,"E",)))))) | AP17: ='Patrak B'!AU26 | AQ17: =IF(AP17="","",IF(AP17>159,"A",IF(AP17>129,"B",IF(AP17>99,"C",IF(AP17>69,"D",IF(AP17<70,"E",)))))) | AR17: =IF(AND(N17="",W17="",AE17="",AN17="",AP17=""),"",SUM(N17,W17,AE17,AN17,,AP17)) | AS17: =IF(AR17="","",IF(AR17>799,"A",IF(AR17>649,"B",IF(AR17>499,"C",IF(AR17>349,"D",IF(AR17<350,"E",)))))) | AT17: =IF(OR(ISBLANK(AR17), AR17=0, AR17=""), "", AR17*100/$AR$7)
A18: ='Student Data'!A15 | B18: =IF('Student Data'!B15="","",'Student Data'!B15) | C18: =IF('Student Data'!C15="","",'Student Data'!C15) | D18: =IF('Student Data'!D15="","",'Student Data'!D15) | E18: ='Student Data'!E15 -> 0 | F18: ='Student Data'!F15 -> 0 | G18: =IF('Student Data'!G15="","",'Student Data'!G15) | N18: =IF((AND(H18="",I18="",J18="",K18="",L18="",M18="")),"",SUM(H18:M18)) | O18: =IF(N18="","",IF(N18>159,"A",IF(N18>129,"B",IF(N18>99,"C",IF(N18>69,"D",IF(N18<70,"E",)))))) | P18: =A18 | W18: =IF((AND(Q18="",R18="",S18="",T18="",U18="",V18="")),"",SUM(Q18:V18)) | X18: =IF(W18="","",IF(W18>159,"A",IF(W18>129,"B",IF(W18>99,"C",IF(W18>69,"D",IF(W18<70,"E",)))))) | AE18: =IF((AND(Y18="",Z18="",AA18="",AB18="",AC18="",AD18="")),"",SUM(Y18:AD18)) | AF18: =IF(AE18="","",IF(AE18>159,"A",IF(AE18>129,"B",IF(AE18>99,"C",IF(AE18>69,"D",IF(AE18<70,"E",)))))) | AG18: =P18 | AN18: =IF((AND(AH18="",AI18="",AJ18="",AK18="",AL18="",AM18="")),"",SUM(AH18:AM18)) | AO18: =IF(AN18="","",IF(AN18>159,"A",IF(AN18>129,"B",IF(AN18>99,"C",IF(AN18>69,"D",IF(AN18<70,"E",)))))) | AP18: ='Patrak B'!AU28 | AQ18: =IF(AP18="","",IF(AP18>159,"A",IF(AP18>129,"B",IF(AP18>99,"C",IF(AP18>69,"D",IF(AP18<70,"E",)))))) | AR18: =IF(AND(N18="",W18="",AE18="",AN18="",AP18=""),"",SUM(N18,W18,AE18,AN18,,AP18)) | AS18: =IF(AR18="","",IF(AR18>799,"A",IF(AR18>649,"B",IF(AR18>499,"C",IF(AR18>349,"D",IF(AR18<350,"E",)))))) | AT18: =IF(OR(ISBLANK(AR18), AR18=0, AR18=""), "", AR18*100/$AR$7)
A19: ='Student Data'!A16 | B19: =IF('Student Data'!B16="","",'Student Data'!B16) | C19: =IF('Student Data'!C16="","",'Student Data'!C16) | D19: =IF('Student Data'!D16="","",'Student Data'!D16) | E19: ='Student Data'!E16 -> 0 | F19: ='Student Data'!F16 -> 0 | G19: =IF('Student Data'!G16="","",'Student Data'!G16) | N19: =IF((AND(H19="",I19="",J19="",K19="",L19="",M19="")),"",SUM(H19:M19)) | O19: =IF(N19="","",IF(N19>159,"A",IF(N19>129,"B",IF(N19>99,"C",IF(N19>69,"D",IF(N19<70,"E",)))))) | P19: =A19 | W19: =IF((AND(Q19="",R19="",S19="",T19="",U19="",V19="")),"",SUM(Q19:V19)) | X19: =IF(W19="","",IF(W19>159,"A",IF(W19>129,"B",IF(W19>99,"C",IF(W19>69,"D",IF(W19<70,"E",)))))) | AE19: =IF((AND(Y19="",Z19="",AA19="",AB19="",AC19="",AD19="")),"",SUM(Y19:AD19)) | AF19: =IF(AE19="","",IF(AE19>159,"A",IF(AE19>129,"B",IF(AE19>99,"C",IF(AE19>69,"D",IF(AE19<70,"E",)))))) | AG19: =P19 | AN19: =IF((AND(AH19="",AI19="",AJ19="",AK19="",AL19="",AM19="")),"",SUM(AH19:AM19)) | AO19: =IF(AN19="","",IF(AN19>159,"A",IF(AN19>129,"B",IF(AN19>99,"C",IF(AN19>69,"D",IF(AN19<70,"E",)))))) | AP19: ='Patrak B'!AU30 | AQ19: =IF(AP19="","",IF(AP19>159,"A",IF(AP19>129,"B",IF(AP19>99,"C",IF(AP19>69,"D",IF(AP19<70,"E",)))))) | AR19: =IF(AND(N19="",W19="",AE19="",AN19="",AP19=""),"",SUM(N19,W19,AE19,AN19,,AP19)) | AS19: =IF(AR19="","",IF(AR19>799,"A",IF(AR19>649,"B",IF(AR19>499,"C",IF(AR19>349,"D",IF(AR19<350,"E",)))))) | AT19: =IF(OR(ISBLANK(AR19), AR19=0, AR19=""), "", AR19*100/$AR$7)
A20: ='Student Data'!A17 | B20: =IF('Student Data'!B17="","",'Student Data'!B17) | C20: =IF('Student Data'!C17="","",'Student Data'!C17) | D20: =IF('Student Data'!D17="","",'Student Data'!D17) | E20: ='Student Data'!E17 -> 0 | F20: ='Student Data'!F17 -> 0 | G20: =IF('Student Data'!G17="","",'Student Data'!G17) | N20: =IF((AND(H20="",I20="",J20="",K20="",L20="",M20="")),"",SUM(H20:M20)) | O20: =IF(N20="","",IF(N20>159,"A",IF(N20>129,"B",IF(N20>99,"C",IF(N20>69,"D",IF(N20<70,"E",)))))) | P20: =A20 | W20: =IF((AND(Q20="",R20="",S20="",T20="",U20="",V20="")),"",SUM(Q20:V20)) | X20: =IF(W20="","",IF(W20>159,"A",IF(W20>129,"B",IF(W20>99,"C",IF(W20>69,"D",IF(W20<70,"E",)))))) | AE20: =IF((AND(Y20="",Z20="",AA20="",AB20="",AC20="",AD20="")),"",SUM(Y20:AD20)) | AF20: =IF(AE20="","",IF(AE20>159,"A",IF(AE20>129,"B",IF(AE20>99,"C",IF(AE20>69,"D",IF(AE20<70,"E",)))))) | AG20: =P20 | AN20: =IF((AND(AH20="",AI20="",AJ20="",AK20="",AL20="",AM20="")),"",SUM(AH20:AM20)) | AO20: =IF(AN20="","",IF(AN20>159,"A",IF(AN20>129,"B",IF(AN20>99,"C",IF(AN20>69,"D",IF(AN20<70,"E",)))))) | AP20: ='Patrak B'!AU32 | AQ20: =IF(AP20="","",IF(AP20>159,"A",IF(AP20>129,"B",IF(AP20>99,"C",IF(AP20>69,"D",IF(AP20<70,"E",)))))) | AR20: =IF(AND(N20="",W20="",AE20="",AN20="",AP20=""),"",SUM(N20,W20,AE20,AN20,,AP20)) | AS20: =IF(AR20="","",IF(AR20>799,"A",IF(AR20>649,"B",IF(AR20>499,"C",IF(AR20>349,"D",IF(AR20<350,"E",)))))) | AT20: =IF(OR(ISBLANK(AR20), AR20=0, AR20=""), "", AR20*100/$AR$7)
A21: ='Student Data'!A18 | B21: =IF('Student Data'!B18="","",'Student Data'!B18) | C21: =IF('Student Data'!C18="","",'Student Data'!C18) | D21: =IF('Student Data'!D18="","",'Student Data'!D18) | E21: ='Student Data'!E18 -> 0 | F21: ='Student Data'!F18 -> 0 | G21: =IF('Student Data'!G18="","",'Student Data'!G18) | N21: =IF((AND(H21="",I21="",J21="",K21="",L21="",M21="")),"",SUM(H21:M21)) | O21: =IF(N21="","",IF(N21>159,"A",IF(N21>129,"B",IF(N21>99,"C",IF(N21>69,"D",IF(N21<70,"E",)))))) | P21: =A21 | W21: =IF((AND(Q21="",R21="",S21="",T21="",U21="",V21="")),"",SUM(Q21:V21)) | X21: =IF(W21="","",IF(W21>159,"A",IF(W21>129,"B",IF(W21>99,"C",IF(W21>69,"D",IF(W21<70,"E",)))))) | AE21: =IF((AND(Y21="",Z21="",AA21="",AB21="",AC21="",AD21="")),"",SUM(Y21:AD21)) | AF21: =IF(AE21="","",IF(AE21>159,"A",IF(AE21>129,"B",IF(AE21>99,"C",IF(AE21>69,"D",IF(AE21<70,"E",)))))) | AG21: =P21 | AN21: =IF((AND(AH21="",AI21="",AJ21="",AK21="",AL21="",AM21="")),"",SUM(AH21:AM21)) | AO21: =IF(AN21="","",IF(AN21>159,"A",IF(AN21>129,"B",IF(AN21>99,"C",IF(AN21>69,"D",IF(AN21<70,"E",)))))) | AP21: ='Patrak B'!AU34 | AQ21: =IF(AP21="","",IF(AP21>159,"A",IF(AP21>129,"B",IF(AP21>99,"C",IF(AP21>69,"D",IF(AP21<70,"E",)))))) | AR21: =IF(AND(N21="",W21="",AE21="",AN21="",AP21=""),"",SUM(N21,W21,AE21,AN21,,AP21)) | AS21: =IF(AR21="","",IF(AR21>799,"A",IF(AR21>649,"B",IF(AR21>499,"C",IF(AR21>349,"D",IF(AR21<350,"E",)))))) | AT21: =IF(OR(ISBLANK(AR21), AR21=0, AR21=""), "", AR21*100/$AR$7)
A22: ='Student Data'!A19 | B22: =IF('Student Data'!B19="","",'Student Data'!B19) | C22: =IF('Student Data'!C19="","",'Student Data'!C19) | D22: =IF('Student Data'!D19="","",'Student Data'!D19) | E22: ='Student Data'!E19 -> 0 | F22: ='Student Data'!F19 -> 0 | G22: =IF('Student Data'!G19="","",'Student Data'!G19) | N22: =IF((AND(H22="",I22="",J22="",K22="",L22="",M22="")),"",SUM(H22:M22)) | O22: =IF(N22="","",IF(N22>159,"A",IF(N22>129,"B",IF(N22>99,"C",IF(N22>69,"D",IF(N22<70,"E",)))))) | P22: =A22 | W22: =IF((AND(Q22="",R22="",S22="",T22="",U22="",V22="")),"",SUM(Q22:V22)) | X22: =IF(W22="","",IF(W22>159,"A",IF(W22>129,"B",IF(W22>99,"C",IF(W22>69,"D",IF(W22<70,"E",)))))) | AE22: =IF((AND(Y22="",Z22="",AA22="",AB22="",AC22="",AD22="")),"",SUM(Y22:AD22)) | AF22: =IF(AE22="","",IF(AE22>159,"A",IF(AE22>129,"B",IF(AE22>99,"C",IF(AE22>69,"D",IF(AE22<70,"E",)))))) | AG22: =P22 | AN22: =IF((AND(AH22="",AI22="",AJ22="",AK22="",AL22="",AM22="")),"",SUM(AH22:AM22)) | AO22: =IF(AN22="","",IF(AN22>159,"A",IF(AN22>129,"B",IF(AN22>99,"C",IF(AN22>69,"D",IF(AN22<70,"E",)))))) | AP22: ='Patrak B'!AU36 | AQ22: =IF(AP22="","",IF(AP22>159,"A",IF(AP22>129,"B",IF(AP22>99,"C",IF(AP22>69,"D",IF(AP22<70,"E",)))))) | AR22: =IF(AND(N22="",W22="",AE22="",AN22="",AP22=""),"",SUM(N22,W22,AE22,AN22,,AP22)) | AS22: =IF(AR22="","",IF(AR22>799,"A",IF(AR22>649,"B",IF(AR22>499,"C",IF(AR22>349,"D",IF(AR22<350,"E",)))))) | AT22: =IF(OR(ISBLANK(AR22), AR22=0, AR22=""), "", AR22*100/$AR$7)
A23: ='Student Data'!A20 | B23: =IF('Student Data'!B20="","",'Student Data'!B20) | C23: =IF('Student Data'!C20="","",'Student Data'!C20) | D23: =IF('Student Data'!D20="","",'Student Data'!D20) | E23: ='Student Data'!E20 -> 0 | F23: ='Student Data'!F20 -> 0 | G23: =IF('Student Data'!G20="","",'Student Data'!G20) | N23: =IF((AND(H23="",I23="",J23="",K23="",L23="",M23="")),"",SUM(H23:M23)) | O23: =IF(N23="","",IF(N23>159,"A",IF(N23>129,"B",IF(N23>99,"C",IF(N23>69,"D",IF(N23<70,"E",)))))) | P23: =A23 | W23: =IF((AND(Q23="",R23="",S23="",T23="",U23="",V23="")),"",SUM(Q23:V23)) | X23: =IF(W23="","",IF(W23>159,"A",IF(W23>129,"B",IF(W23>99,"C",IF(W23>69,"D",IF(W23<70,"E",)))))) | AE23: =IF((AND(Y23="",Z23="",AA23="",AB23="",AC23="",AD23="")),"",SUM(Y23:AD23)) | AF23: =IF(AE23="","",IF(AE23>159,"A",IF(AE23>129,"B",IF(AE23>99,"C",IF(AE23>69,"D",IF(AE23<70,"E",)))))) | AG23: =P23 | AN23: =IF((AND(AH23="",AI23="",AJ23="",AK23="",AL23="",AM23="")),"",SUM(AH23:AM23)) | AO23: =IF(AN23="","",IF(AN23>159,"A",IF(AN23>129,"B",IF(AN23>99,"C",IF(AN23>69,"D",IF(AN23<70,"E",)))))) | AP23: ='Patrak B'!AU38 | AQ23: =IF(AP23="","",IF(AP23>159,"A",IF(AP23>129,"B",IF(AP23>99,"C",IF(AP23>69,"D",IF(AP23<70,"E",)))))) | AR23: =IF(AND(N23="",W23="",AE23="",AN23="",AP23=""),"",SUM(N23,W23,AE23,AN23,,AP23)) | AS23: =IF(AR23="","",IF(AR23>799,"A",IF(AR23>649,"B",IF(AR23>499,"C",IF(AR23>349,"D",IF(AR23<350,"E",)))))) | AT23: =IF(OR(ISBLANK(AR23), AR23=0, AR23=""), "", AR23*100/$AR$7)
A24: ='Student Data'!A21 | B24: =IF('Student Data'!B21="","",'Student Data'!B21) | C24: =IF('Student Data'!C21="","",'Student Data'!C21) | D24: =IF('Student Data'!D21="","",'Student Data'!D21) | E24: ='Student Data'!E21 -> 0 | F24: ='Student Data'!F21 -> 0 | G24: =IF('Student Data'!G21="","",'Student Data'!G21) | N24: =IF((AND(H24="",I24="",J24="",K24="",L24="",M24="")),"",SUM(H24:M24)) | O24: =IF(N24="","",IF(N24>159,"A",IF(N24>129,"B",IF(N24>99,"C",IF(N24>69,"D",IF(N24<70,"E",)))))) | P24: =A24 | W24: =IF((AND(Q24="",R24="",S24="",T24="",U24="",V24="")),"",SUM(Q24:V24)) | X24: =IF(W24="","",IF(W24>159,"A",IF(W24>129,"B",IF(W24>99,"C",IF(W24>69,"D",IF(W24<70,"E",)))))) | AE24: =IF((AND(Y24="",Z24="",AA24="",AB24="",AC24="",AD24="")),"",SUM(Y24:AD24)) | AF24: =IF(AE24="","",IF(AE24>159,"A",IF(AE24>129,"B",IF(AE24>99,"C",IF(AE24>69,"D",IF(AE24<70,"E",)))))) | AG24: =P24 | AN24: =IF((AND(AH24="",AI24="",AJ24="",AK24="",AL24="",AM24="")),"",SUM(AH24:AM24)) | AO24: =IF(AN24="","",IF(AN24>159,"A",IF(AN24>129,"B",IF(AN24>99,"C",IF(AN24>69,"D",IF(AN24<70,"E",)))))) | AP24: ='Patrak B'!AU40 | AQ24: =IF(AP24="","",IF(AP24>159,"A",IF(AP24>129,"B",IF(AP24>99,"C",IF(AP24>69,"D",IF(AP24<70,"E",)))))) | AR24: =IF(AND(N24="",W24="",AE24="",AN24="",AP24=""),"",SUM(N24,W24,AE24,AN24,,AP24)) | AS24: =IF(AR24="","",IF(AR24>799,"A",IF(AR24>649,"B",IF(AR24>499,"C",IF(AR24>349,"D",IF(AR24<350,"E",)))))) | AT24: =IF(OR(ISBLANK(AR24), AR24=0, AR24=""), "", AR24*100/$AR$7)
A25: ='Student Data'!A22 | B25: =IF('Student Data'!B22="","",'Student Data'!B22) | C25: =IF('Student Data'!C22="","",'Student Data'!C22) | D25: =IF('Student Data'!D22="","",'Student Data'!D22) | E25: ='Student Data'!E22 -> 0 | F25: ='Student Data'!F22 -> 0 | G25: =IF('Student Data'!G22="","",'Student Data'!G22) | N25: =IF((AND(H25="",I25="",J25="",K25="",L25="",M25="")),"",SUM(H25:M25)) | O25: =IF(N25="","",IF(N25>159,"A",IF(N25>129,"B",IF(N25>99,"C",IF(N25>69,"D",IF(N25<70,"E",)))))) | P25: =A25 | W25: =IF((AND(Q25="",R25="",S25="",T25="",U25="",V25="")),"",SUM(Q25:V25)) | X25: =IF(W25="","",IF(W25>159,"A",IF(W25>129,"B",IF(W25>99,"C",IF(W25>69,"D",IF(W25<70,"E",)))))) | AE25: =IF((AND(Y25="",Z25="",AA25="",AB25="",AC25="",AD25="")),"",SUM(Y25:AD25)) | AF25: =IF(AE25="","",IF(AE25>159,"A",IF(AE25>129,"B",IF(AE25>99,"C",IF(AE25>69,"D",IF(AE25<70,"E",)))))) | AG25: =P25 | AN25: =IF((AND(AH25="",AI25="",AJ25="",AK25="",AL25="",AM25="")),"",SUM(AH25:AM25)) | AO25: =IF(AN25="","",IF(AN25>159,"A",IF(AN25>129,"B",IF(AN25>99,"C",IF(AN25>69,"D",IF(AN25<70,"E",)))))) | AP25: ='Patrak B'!AU42 | AQ25: =IF(AP25="","",IF(AP25>159,"A",IF(AP25>129,"B",IF(AP25>99,"C",IF(AP25>69,"D",IF(AP25<70,"E",)))))) | AR25: =IF(AND(N25="",W25="",AE25="",AN25="",AP25=""),"",SUM(N25,W25,AE25,AN25,,AP25)) | AS25: =IF(AR25="","",IF(AR25>799,"A",IF(AR25>649,"B",IF(AR25>499,"C",IF(AR25>349,"D",IF(AR25<350,"E",)))))) | AT25: =IF(OR(ISBLANK(AR25), AR25=0, AR25=""), "", AR25*100/$AR$7)
A26: ='Student Data'!A23 | B26: =IF('Student Data'!B23="","",'Student Data'!B23) | C26: =IF('Student Data'!C23="","",'Student Data'!C23) | D26: =IF('Student Data'!D23="","",'Student Data'!D23) | E26: ='Student Data'!E23 -> 0 | F26: ='Student Data'!F23 -> 0 | G26: =IF('Student Data'!G23="","",'Student Data'!G23) | N26: =IF((AND(H26="",I26="",J26="",K26="",L26="",M26="")),"",SUM(H26:M26)) | O26: =IF(N26="","",IF(N26>159,"A",IF(N26>129,"B",IF(N26>99,"C",IF(N26>69,"D",IF(N26<70,"E",)))))) | P26: =A26 | W26: =IF((AND(Q26="",R26="",S26="",T26="",U26="",V26="")),"",SUM(Q26:V26)) | X26: =IF(W26="","",IF(W26>159,"A",IF(W26>129,"B",IF(W26>99,"C",IF(W26>69,"D",IF(W26<70,"E",)))))) | AE26: =IF((AND(Y26="",Z26="",AA26="",AB26="",AC26="",AD26="")),"",SUM(Y26:AD26)) | AF26: =IF(AE26="","",IF(AE26>159,"A",IF(AE26>129,"B",IF(AE26>99,"C",IF(AE26>69,"D",IF(AE26<70,"E",)))))) | AG26: =P26 | AN26: =IF((AND(AH26="",AI26="",AJ26="",AK26="",AL26="",AM26="")),"",SUM(AH26:AM26)) | AO26: =IF(AN26="","",IF(AN26>159,"A",IF(AN26>129,"B",IF(AN26>99,"C",IF(AN26>69,"D",IF(AN26<70,"E",)))))) | AP26: ='Patrak B'!AU44 | AQ26: =IF(AP26="","",IF(AP26>159,"A",IF(AP26>129,"B",IF(AP26>99,"C",IF(AP26>69,"D",IF(AP26<70,"E",)))))) | AR26: =IF(AND(N26="",W26="",AE26="",AN26="",AP26=""),"",SUM(N26,W26,AE26,AN26,,AP26)) | AS26: =IF(AR26="","",IF(AR26>799,"A",IF(AR26>649,"B",IF(AR26>499,"C",IF(AR26>349,"D",IF(AR26<350,"E",)))))) | AT26: =IF(OR(ISBLANK(AR26), AR26=0, AR26=""), "", AR26*100/$AR$7)
A27: ='Student Data'!A24 | B27: =IF('Student Data'!B24="","",'Student Data'!B24) | C27: =IF('Student Data'!C24="","",'Student Data'!C24) | D27: =IF('Student Data'!D24="","",'Student Data'!D24) | E27: ='Student Data'!E24 -> 0 | F27: ='Student Data'!F24 -> 0 | G27: =IF('Student Data'!G24="","",'Student Data'!G24) | N27: =IF((AND(H27="",I27="",J27="",K27="",L27="",M27="")),"",SUM(H27:M27)) | O27: =IF(N27="","",IF(N27>159,"A",IF(N27>129,"B",IF(N27>99,"C",IF(N27>69,"D",IF(N27<70,"E",)))))) | P27: =A27 | W27: =IF((AND(Q27="",R27="",S27="",T27="",U27="",V27="")),"",SUM(Q27:V27)) | X27: =IF(W27="","",IF(W27>159,"A",IF(W27>129,"B",IF(W27>99,"C",IF(W27>69,"D",IF(W27<70,"E",)))))) | AE27: =IF((AND(Y27="",Z27="",AA27="",AB27="",AC27="",AD27="")),"",SUM(Y27:AD27)) | AF27: =IF(AE27="","",IF(AE27>159,"A",IF(AE27>129,"B",IF(AE27>99,"C",IF(AE27>69,"D",IF(AE27<70,"E",)))))) | AG27: =P27 | AN27: =IF((AND(AH27="",AI27="",AJ27="",AK27="",AL27="",AM27="")),"",SUM(AH27:AM27)) | AO27: =IF(AN27="","",IF(AN27>159,"A",IF(AN27>129,"B",IF(AN27>99,"C",IF(AN27>69,"D",IF(AN27<70,"E",)))))) | AP27: ='Patrak B'!AU46 | AQ27: =IF(AP27="","",IF(AP27>159,"A",IF(AP27>129,"B",IF(AP27>99,"C",IF(AP27>69,"D",IF(AP27<70,"E",)))))) | AR27: =IF(AND(N27="",W27="",AE27="",AN27="",AP27=""),"",SUM(N27,W27,AE27,AN27,,AP27)) | AS27: =IF(AR27="","",IF(AR27>799,"A",IF(AR27>649,"B",IF(AR27>499,"C",IF(AR27>349,"D",IF(AR27<350,"E",)))))) | AT27: =IF(OR(ISBLANK(AR27), AR27=0, AR27=""), "", AR27*100/$AR$7)
A28: ='Student Data'!A25 | B28: =IF('Student Data'!B25="","",'Student Data'!B25) | C28: =IF('Student Data'!C25="","",'Student Data'!C25) | D28: =IF('Student Data'!D25="","",'Student Data'!D25) | E28: ='Student Data'!E25 -> 0 | F28: ='Student Data'!F25 -> 0 | G28: =IF('Student Data'!G25="","",'Student Data'!G25) | N28: =IF((AND(H28="",I28="",J28="",K28="",L28="",M28="")),"",SUM(H28:M28)) | O28: =IF(N28="","",IF(N28>159,"A",IF(N28>129,"B",IF(N28>99,"C",IF(N28>69,"D",IF(N28<70,"E",)))))) | P28: =A28 | W28: =IF((AND(Q28="",R28="",S28="",T28="",U28="",V28="")),"",SUM(Q28:V28)) | X28: =IF(W28="","",IF(W28>159,"A",IF(W28>129,"B",IF(W28>99,"C",IF(W28>69,"D",IF(W28<70,"E",)))))) | AE28: =IF((AND(Y28="",Z28="",AA28="",AB28="",AC28="",AD28="")),"",SUM(Y28:AD28)) | AF28: =IF(AE28="","",IF(AE28>159,"A",IF(AE28>129,"B",IF(AE28>99,"C",IF(AE28>69,"D",IF(AE28<70,"E",)))))) | AG28: =P28 | AN28: =IF((AND(AH28="",AI28="",AJ28="",AK28="",AL28="",AM28="")),"",SUM(AH28:AM28)) | AO28: =IF(AN28="","",IF(AN28>159,"A",IF(AN28>129,"B",IF(AN28>99,"C",IF(AN28>69,"D",IF(AN28<70,"E",)))))) | AP28: ='Patrak B'!AU48 | AQ28: =IF(AP28="","",IF(AP28>159,"A",IF(AP28>129,"B",IF(AP28>99,"C",IF(AP28>69,"D",IF(AP28<70,"E",)))))) | AR28: =IF(AND(N28="",W28="",AE28="",AN28="",AP28=""),"",SUM(N28,W28,AE28,AN28,,AP28)) | AS28: =IF(AR28="","",IF(AR28>799,"A",IF(AR28>649,"B",IF(AR28>499,"C",IF(AR28>349,"D",IF(AR28<350,"E",)))))) | AT28: =IF(OR(ISBLANK(AR28), AR28=0, AR28=""), "", AR28*100/$AR$7)
A29: ='Student Data'!A26 | B29: =IF('Student Data'!B26="","",'Student Data'!B26) | C29: =IF('Student Data'!C26="","",'Student Data'!C26) | D29: =IF('Student Data'!D26="","",'Student Data'!D26) | E29: ='Student Data'!E26 -> 0 | F29: ='Student Data'!F26 -> 0 | G29: =IF('Student Data'!G26="","",'Student Data'!G26) | N29: =IF((AND(H29="",I29="",J29="",K29="",L29="",M29="")),"",SUM(H29:M29)) | O29: =IF(N29="","",IF(N29>159,"A",IF(N29>129,"B",IF(N29>99,"C",IF(N29>69,"D",IF(N29<70,"E",)))))) | P29: =A29 | W29: =IF((AND(Q29="",R29="",S29="",T29="",U29="",V29="")),"",SUM(Q29:V29)) | X29: =IF(W29="","",IF(W29>159,"A",IF(W29>129,"B",IF(W29>99,"C",IF(W29>69,"D",IF(W29<70,"E",)))))) | AE29: =IF((AND(Y29="",Z29="",AA29="",AB29="",AC29="",AD29="")),"",SUM(Y29:AD29)) | AF29: =IF(AE29="","",IF(AE29>159,"A",IF(AE29>129,"B",IF(AE29>99,"C",IF(AE29>69,"D",IF(AE29<70,"E",)))))) | AG29: =P29 | AN29: =IF((AND(AH29="",AI29="",AJ29="",AK29="",AL29="",AM29="")),"",SUM(AH29:AM29)) | AO29: =IF(AN29="","",IF(AN29>159,"A",IF(AN29>129,"B",IF(AN29>99,"C",IF(AN29>69,"D",IF(AN29<70,"E",)))))) | AP29: ='Patrak B'!AU50 | AQ29: =IF(AP29="","",IF(AP29>159,"A",IF(AP29>129,"B",IF(AP29>99,"C",IF(AP29>69,"D",IF(AP29<70,"E",)))))) | AR29: =IF(AND(N29="",W29="",AE29="",AN29="",AP29=""),"",SUM(N29,W29,AE29,AN29,,AP29)) | AS29: =IF(AR29="","",IF(AR29>799,"A",IF(AR29>649,"B",IF(AR29>499,"C",IF(AR29>349,"D",IF(AR29<350,"E",)))))) | AT29: =IF(OR(ISBLANK(AR29), AR29=0, AR29=""), "", AR29*100/$AR$7)
A30: ='Student Data'!A27 | B30: =IF('Student Data'!B27="","",'Student Data'!B27) | C30: =IF('Student Data'!C27="","",'Student Data'!C27) | D30: =IF('Student Data'!D27="","",'Student Data'!D27) | E30: ='Student Data'!E27 -> 0 | F30: ='Student Data'!F27 -> 0 | G30: =IF('Student Data'!G27="","",'Student Data'!G27) | N30: =IF((AND(H30="",I30="",J30="",K30="",L30="",M30="")),"",SUM(H30:M30)) | O30: =IF(N30="","",IF(N30>159,"A",IF(N30>129,"B",IF(N30>99,"C",IF(N30>69,"D",IF(N30<70,"E",)))))) | P30: =A30 | W30: =IF((AND(Q30="",R30="",S30="",T30="",U30="",V30="")),"",SUM(Q30:V30)) | X30: =IF(W30="","",IF(W30>159,"A",IF(W30>129,"B",IF(W30>99,"C",IF(W30>69,"D",IF(W30<70,"E",)))))) | AE30: =IF((AND(Y30="",Z30="",AA30="",AB30="",AC30="",AD30="")),"",SUM(Y30:AD30)) | AF30: =IF(AE30="","",IF(AE30>159,"A",IF(AE30>129,"B",IF(AE30>99,"C",IF(AE30>69,"D",IF(AE30<70,"E",)))))) | AG30: =P30 | AN30: =IF((AND(AH30="",AI30="",AJ30="",AK30="",AL30="",AM30="")),"",SUM(AH30:AM30)) | AO30: =IF(AN30="","",IF(AN30>159,"A",IF(AN30>129,"B",IF(AN30>99,"C",IF(AN30>69,"D",IF(AN30<70,"E",)))))) | AP30: ='Patrak B'!AU52 | AQ30: =IF(AP30="","",IF(AP30>159,"A",IF(AP30>129,"B",IF(AP30>99,"C",IF(AP30>69,"D",IF(AP30<70,"E",)))))) | AR30: =IF(AND(N30="",W30="",AE30="",AN30="",AP30=""),"",SUM(N30,W30,AE30,AN30,,AP30)) | AS30: =IF(AR30="","",IF(AR30>799,"A",IF(AR30>649,"B",IF(AR30>499,"C",IF(AR30>349,"D",IF(AR30<350,"E",)))))) | AT30: =IF(OR(ISBLANK(AR30), AR30=0, AR30=""), "", AR30*100/$AR$7)
A31: ='Student Data'!A28 | B31: =IF('Student Data'!B28="","",'Student Data'!B28) | C31: =IF('Student Data'!C28="","",'Student Data'!C28) | D31: =IF('Student Data'!D28="","",'Student Data'!D28) | E31: ='Student Data'!E28 -> 0 | F31: ='Student Data'!F28 -> 0 | G31: =IF('Student Data'!G28="","",'Student Data'!G28) | N31: =IF((AND(H31="",I31="",J31="",K31="",L31="",M31="")),"",SUM(H31:M31)) | O31: =IF(N31="","",IF(N31>159,"A",IF(N31>129,"B",IF(N31>99,"C",IF(N31>69,"D",IF(N31<70,"E",)))))) | P31: =A31 | W31: =IF((AND(Q31="",R31="",S31="",T31="",U31="",V31="")),"",SUM(Q31:V31)) | X31: =IF(W31="","",IF(W31>159,"A",IF(W31>129,"B",IF(W31>99,"C",IF(W31>69,"D",IF(W31<70,"E",)))))) | AE31: =IF((AND(Y31="",Z31="",AA31="",AB31="",AC31="",AD31="")),"",SUM(Y31:AD31)) | AF31: =IF(AE31="","",IF(AE31>159,"A",IF(AE31>129,"B",IF(AE31>99,"C",IF(AE31>69,"D",IF(AE31<70,"E",)))))) | AG31: =P31 | AN31: =IF((AND(AH31="",AI31="",AJ31="",AK31="",AL31="",AM31="")),"",SUM(AH31:AM31)) | AO31: =IF(AN31="","",IF(AN31>159,"A",IF(AN31>129,"B",IF(AN31>99,"C",IF(AN31>69,"D",IF(AN31<70,"E",)))))) | AP31: ='Patrak B'!AU54 | AQ31: =IF(AP31="","",IF(AP31>159,"A",IF(AP31>129,"B",IF(AP31>99,"C",IF(AP31>69,"D",IF(AP31<70,"E",)))))) | AR31: =IF(AND(N31="",W31="",AE31="",AN31="",AP31=""),"",SUM(N31,W31,AE31,AN31,,AP31)) | AS31: =IF(AR31="","",IF(AR31>799,"A",IF(AR31>649,"B",IF(AR31>499,"C",IF(AR31>349,"D",IF(AR31<350,"E",)))))) | AT31: =IF(OR(ISBLANK(AR31), AR31=0, AR31=""), "", AR31*100/$AR$7)
A32: ='Student Data'!A29 | B32: =IF('Student Data'!B29="","",'Student Data'!B29) | C32: =IF('Student Data'!C29="","",'Student Data'!C29) | D32: =IF('Student Data'!D29="","",'Student Data'!D29) | E32: ='Student Data'!E29 -> 0 | F32: ='Student Data'!F29 -> 0 | G32: =IF('Student Data'!G29="","",'Student Data'!G29) | N32: =IF((AND(H32="",I32="",J32="",K32="",L32="",M32="")),"",SUM(H32:M32)) | O32: =IF(N32="","",IF(N32>159,"A",IF(N32>129,"B",IF(N32>99,"C",IF(N32>69,"D",IF(N32<70,"E",)))))) | P32: =A32 | W32: =IF((AND(Q32="",R32="",S32="",T32="",U32="",V32="")),"",SUM(Q32:V32)) | X32: =IF(W32="","",IF(W32>159,"A",IF(W32>129,"B",IF(W32>99,"C",IF(W32>69,"D",IF(W32<70,"E",)))))) | AE32: =IF((AND(Y32="",Z32="",AA32="",AB32="",AC32="",AD32="")),"",SUM(Y32:AD32)) | AF32: =IF(AE32="","",IF(AE32>159,"A",IF(AE32>129,"B",IF(AE32>99,"C",IF(AE32>69,"D",IF(AE32<70,"E",)))))) | AG32: =P32 | AN32: =IF((AND(AH32="",AI32="",AJ32="",AK32="",AL32="",AM32="")),"",SUM(AH32:AM32)) | AO32: =IF(AN32="","",IF(AN32>159,"A",IF(AN32>129,"B",IF(AN32>99,"C",IF(AN32>69,"D",IF(AN32<70,"E",)))))) | AP32: ='Patrak B'!AU56 | AQ32: =IF(AP32="","",IF(AP32>159,"A",IF(AP32>129,"B",IF(AP32>99,"C",IF(AP32>69,"D",IF(AP32<70,"E",)))))) | AR32: =IF(AND(N32="",W32="",AE32="",AN32="",AP32=""),"",SUM(N32,W32,AE32,AN32,,AP32)) | AS32: =IF(AR32="","",IF(AR32>799,"A",IF(AR32>649,"B",IF(AR32>499,"C",IF(AR32>349,"D",IF(AR32<350,"E",)))))) | AT32: =IF(OR(ISBLANK(AR32), AR32=0, AR32=""), "", AR32*100/$AR$7)
A33: ='Student Data'!A30 | B33: =IF('Student Data'!B30="","",'Student Data'!B30) | C33: =IF('Student Data'!C30="","",'Student Data'!C30) | D33: =IF('Student Data'!D30="","",'Student Data'!D30) | E33: ='Student Data'!E30 -> 0 | F33: ='Student Data'!F30 -> 0 | G33: =IF('Student Data'!G30="","",'Student Data'!G30) | N33: =IF((AND(H33="",I33="",J33="",K33="",L33="",M33="")),"",SUM(H33:M33)) | O33: =IF(N33="","",IF(N33>159,"A",IF(N33>129,"B",IF(N33>99,"C",IF(N33>69,"D",IF(N33<70,"E",)))))) | P33: =A33 | W33: =IF((AND(Q33="",R33="",S33="",T33="",U33="",V33="")),"",SUM(Q33:V33)) | X33: =IF(W33="","",IF(W33>159,"A",IF(W33>129,"B",IF(W33>99,"C",IF(W33>69,"D",IF(W33<70,"E",)))))) | AE33: =IF((AND(Y33="",Z33="",AA33="",AB33="",AC33="",AD33="")),"",SUM(Y33:AD33)) | AF33: =IF(AE33="","",IF(AE33>159,"A",IF(AE33>129,"B",IF(AE33>99,"C",IF(AE33>69,"D",IF(AE33<70,"E",)))))) | AG33: =P33 | AN33: =IF((AND(AH33="",AI33="",AJ33="",AK33="",AL33="",AM33="")),"",SUM(AH33:AM33)) | AO33: =IF(AN33="","",IF(AN33>159,"A",IF(AN33>129,"B",IF(AN33>99,"C",IF(AN33>69,"D",IF(AN33<70,"E",)))))) | AP33: ='Patrak B'!AU58 | AQ33: =IF(AP33="","",IF(AP33>159,"A",IF(AP33>129,"B",IF(AP33>99,"C",IF(AP33>69,"D",IF(AP33<70,"E",)))))) | AR33: =IF(AND(N33="",W33="",AE33="",AN33="",AP33=""),"",SUM(N33,W33,AE33,AN33,,AP33)) | AS33: =IF(AR33="","",IF(AR33>799,"A",IF(AR33>649,"B",IF(AR33>499,"C",IF(AR33>349,"D",IF(AR33<350,"E",)))))) | AT33: =IF(OR(ISBLANK(AR33), AR33=0, AR33=""), "", AR33*100/$AR$7)
A34: ='Student Data'!A31 | B34: =IF('Student Data'!B31="","",'Student Data'!B31) | C34: =IF('Student Data'!C31="","",'Student Data'!C31) | D34: =IF('Student Data'!D31="","",'Student Data'!D31) | E34: ='Student Data'!E31 -> 0 | F34: ='Student Data'!F31 -> 0 | G34: =IF('Student Data'!G31="","",'Student Data'!G31) | N34: =IF((AND(H34="",I34="",J34="",K34="",L34="",M34="")),"",SUM(H34:M34)) | O34: =IF(N34="","",IF(N34>159,"A",IF(N34>129,"B",IF(N34>99,"C",IF(N34>69,"D",IF(N34<70,"E",)))))) | P34: =A34 | W34: =IF((AND(Q34="",R34="",S34="",T34="",U34="",V34="")),"",SUM(Q34:V34)) | X34: =IF(W34="","",IF(W34>159,"A",IF(W34>129,"B",IF(W34>99,"C",IF(W34>69,"D",IF(W34<70,"E",)))))) | AE34: =IF((AND(Y34="",Z34="",AA34="",AB34="",AC34="",AD34="")),"",SUM(Y34:AD34)) | AF34: =IF(AE34="","",IF(AE34>159,"A",IF(AE34>129,"B",IF(AE34>99,"C",IF(AE34>69,"D",IF(AE34<70,"E",)))))) | AG34: =P34 | AN34: =IF((AND(AH34="",AI34="",AJ34="",AK34="",AL34="",AM34="")),"",SUM(AH34:AM34)) | AO34: =IF(AN34="","",IF(AN34>159,"A",IF(AN34>129,"B",IF(AN34>99,"C",IF(AN34>69,"D",IF(AN34<70,"E",)))))) | AP34: ='Patrak B'!AU60 | AQ34: =IF(AP34="","",IF(AP34>159,"A",IF(AP34>129,"B",IF(AP34>99,"C",IF(AP34>69,"D",IF(AP34<70,"E",)))))) | AR34: =IF(AND(N34="",W34="",AE34="",AN34="",AP34=""),"",SUM(N34,W34,AE34,AN34,,AP34)) | AS34: =IF(AR34="","",IF(AR34>799,"A",IF(AR34>649,"B",IF(AR34>499,"C",IF(AR34>349,"D",IF(AR34<350,"E",)))))) | AT34: =IF(OR(ISBLANK(AR34), AR34=0, AR34=""), "", AR34*100/$AR$7)
