Workbook

Sheet Insructions
C2: આ sheet ના ઉપયોગ માટેના સામાન્ય સૂચનો :-
A4: 1 | B4: આ શીટમાં શક્ય હોય ત્યાં સુધી શ્રુતિ ફોન્ટમાં જ માહિતી ભરવી. (બીજા ફોન્ટમાં માહિતી ભરી શકાશે.)
A5: 2 | B5: 'શાળા' અને 'વિદ્યાર્થીઓની' ની શીટ માં જરૂરી માહિતી ભરી દો. જે બીજી શીટ માટે આધાર છે.
A6: 3 | B6: આપ આ sheet માં વધુમાં વધુ '૯૫' વિદ્યાર્થીઓની માહિતી ભરી શકશો.
A7: 4 | B7: દરેક વિષયની sheets માં ક્રમ નંબર 1 પર filter માટે બટન આપેલ છે જેના પર ક્લિક કરી OK બટન પર ક્લિક કરવાથી જેટલા વિદ્યાર્થીઓ હશે તેટલી જ રો ખુલશે અને વધારાની કોરી રો હાઇડ થઇ જશે તેથી જરૂર જેટલા જ પેજ પ્રિન્ટ થશે.
A8: 5 | B8: દરેક વિષયની જરૂરિયાત મુજબ A4 સાઇઝના કાગળ પર પ્રિંટ કાઢી શકાશે.
A9: 6 | B9: દરેક વિષયની અધ્યયન નિષ્પત્તિઓ SAS પોર્ટલ પરથી લેવામાં આવી છે જેથી ભવિષ્યમાં ઓનલાઈન કરવું પડે તો સરળતા રહે.
A10: 7 | B10: જે તે પેજ અનલોક કરવા માટે પાસવર્ડ તરીકે 1438 નાખવો.
A11: 8 | B11: "Sheet"ની વિશેષતા એ છે કે આપ 'Auto' અને 'Blank' બંને રીતે ઉપયોગ કરી શકો છો.
B13: જ્યાં સુધી 'Whatsapp' થી ચાલે એમ હોય, ત્યાં સુધી ફોન કરવો નહિ. શાળા સમયમાં ફોન કરશો નહિ. | H13: MADE BY
H14: Pradipsinh.P.Sisodiya
H15: Gabat - 1 Primary School
H16: Ta :- Bayad, Di :- Arvalli
H17: Contect No. :- 9428313097
B19: નોધ :- ફાઈલને મોબાઈલમાં ખોલવી નહિ. તેથી ફાઈલ કરપ્ટ થવાની સંભાવના રહેલી છે. જેથી સાચી ગણતરી ના પણ થાય.!!

Sheet School
A1: શાળાની માહિતી
A2: શાળાનું નામ :-
A3: ગામનું નામ :- | D3: ફાઈલના ઉપયોગ માટેની Video Link
A4: શાળાનો ડાયસકોડ :- | D4: https://youtu.be/2ql5gwFdXt0
A5: તાલુકો :-
A6: જિલ્લો :-
A7: સી.આર.સી. :-
A8: ધોરણ અને વર્ગ :- | B8: 8
A9: શૈક્ષણિક વર્ષ :- | B9: 2025 - '26
A10: વર્ગ શિક્ષકનું નામ :-
A11: પરિણામની તારીખ :-

Sheet Student
A1: વિદ્યાર્થીની માહિતી
A2: ક્રમ | B2: વિદ્યાર્થીનું નામ | C2: રજીસ્ટર સંખ્યા :-
A3: =IF(E2="","",1)
A4: =IF($E$2>A3,A3+1,"")
A5: =IF($E$2>A4,A4+1,"") | F5: આવી અપડેટ ફાઈલો અને ફાઈલમાં ઉપયોગમાં લેવાયેલ ફોન્ટ નીચેની Google Link પરથી મળી જશે. માટે વારંવાર પર્સનલ મેસેજ કે ફોન કરી ફાઈલો માંગવી નહિ.
A6: =IF($E$2>A5,A5+1,"")
A7: =IF($E$2>A6,A6+1,"")
A8: =IF($E$2>A7,A7+1,"") | G8: https://drive.google.com/drive/folders/1Wyxs6RQwl-i4qPoNP65CEmWq7scY8NsS?usp=sharing
A9: =IF($E$2>A8,A8+1,"")
A10: =IF($E$2>A9,A9+1,"")
A11: =IF($E$2>A10,A10+1,"") | F11: 👉🏻 આ Google link પર ક્લિક કરી આખું ફોલ્ડર અથવા ફાઈલ ડાઉનલોડ કરવા માટે જે પેજ ખુલે એમાં જમણી બાજુ ઉપર 3 ટપકા પર ક્લિક કરી ડાઉનલોડ ઓપ્શન પર ક્લિક કરો અથવા જો ⬇(ડાઉન એરો) જેવું નિશાન દેખાય તો એના પર ક્લિક કરી આખું ફોલ્ડર અથવા જે તે ફાઈલ ડાઉનલોડ કરી લો અને ફાઈલ ડાઉનલોડ થઈ જાય પછી તેનો ઉપયોગ કરી શકશો..
A12: =IF($E$2>A11,A11+1,"")
A13: =IF($E$2>A12,A12+1,"")
A14: =IF($E$2>A13,A13+1,"")
A15: =IF($E$2>A14,A14+1,"")
A16: =IF($E$2>A15,A15+1,"")
A17: =IF($E$2>A16,A16+1,"")
A18: =IF($E$2>A17,A17+1,"")
A19: =IF($E$2>A18,A18+1,"")
A20: =IF($E$2>A19,A19+1,"")
A21: =IF($E$2>A20,A20+1,"")
A22: =IF($E$2>A21,A21+1,"")
A23: =IF($E$2>A22,A22+1,"")
... A102: =IF($E$2>A101,A101+1,"")

Sheet Patrak-A First Page
C3: શાળાકીય સર્વગ્રાહી મૂલ્યાંકન
D4: (SCE)
D11: પત્રક - અ
F15: ધોરણ :- | H15: =School!B8 -> 8
D17: રચનાત્મક મૂલ્યાંકન પત્રક
E19: વર્ષ :- | G19: =School!B9 -> 2025 - '26
D22: શાળાનું નામ :- | F22: =IF(School!B2="","",School!B2)
D24: ગામ :- | E24: =IF(School!B3="","",School!B3) | G24: તાલુકો :- | H24: =IF(School!B5="","",School!B5) | I24: જિલ્લો :- | J24: =IF(School!B6="","",School!B6)
D26: ધોરણ અને વર્ગ :- | F26: =IF(School!B8="","",School!B8) -> 8 | H26: પરિણામની તારીખ :- | J26: =IF(School!B11="","",School!B11)
D28: વર્ગ શિક્ષકનું નામ :- | F28: =IF(School!B10="","",School!B10) | I28: સી.આર.સી :- | K28: =IF(School!B7="","",School!B7)
D32: વર્ગ શિક્ષકની સહી | I32: આચાર્યશ્રીની સહી/સિક્કા

Sheet 8 Guj
A1: પરિશિષ્ટ - A
A2: રચનાત્મક મૂલ્યાંકન
B3: ધોરણ અને વર્ગ :- | C3: =School!B8 -> 8 | G3: વિષય :- | I3: ગુજરાતી | N3: સત્ર :- | P3: પ્રથમ | T3: વર્ષ :- | V3: =School!B9 -> 2025 - '26
C5: અભ્યાસક્રમ પ્રમાણે પ્રતિનિધિત્વરૂપ હેતુઓ (મહત્તમ :- ૨૦)
C6: આ તો ઈશ તણો આવાસ | E6: સાઈકલ-સવારીની ખાટી મીઠી | G6: ગઢની રઢ છોડો! | I6: અષાઢે | K6: ખોટો જવાબ | M6: બકોર પટેલનો કારેલાં પ્રયોગ | O6: ભૈ માણસ છે! | Q6: ઘર | S6: મજાનો ખજાનો | U6: દુનિયા અમારી
A7: ક્રમ | B7: વિદ્યાર્થીનું નામ | C7: આપેલા મુદ્દાઓને લક્ષ્યમાં રાખીને શ્રવણ દ્વારા વિગતો તારવી બતાવે છે. | D7: કાવ્ય પંક્તિઓનોને સમજી અર્થ આપી શકે છે/. | E7: શબ્દસમૂહ માટે એક શબ્દ, રૂઢીપ્રયોગ વગરેનો અર્થ સમજી વ્યવહારમાં ઉપયોગ કરતા શીખે છે. | F7: લેખન કરવાના પ્રસંગોમાં પોતાની ભાષાકીય સજ્જતાનો ઉપયોગ કરે છે. | G7: ભાવાત્મક અભિવ્યક્તિ કરવા માટે સમુચિત શબ્દો અને વક્યરચનાઓ પ્રયોજે છે. | H7: પાઠ્યસામગ્રીના નમૂનાઓ અને પોતાના અનુભવોની સરખામણી રજૂ કરે છે. | I7: કલાત્મક અક્ષરાંકન કરે છે. | J7: સ્વરથી શરૂ થતા અને સ્વરાંત શબ્દોની યાદી બનાવે છે. | K7: ચોક્કસ વ્યક્તિ,કાર્યરીતિ,ભાવ,સ્થિતિ,સ્થળને અનુરૂપ પરિપૃચ્છા કરવા માટે જરૂરી પ્રશ્નો (શું,કોણ,ક્યાં,ક્યારે,કેવી રીતે,કેમ,કેટલું)તૈયાર કરે છે. | L7: શબ્દ બદલીને વાક્યરચનાઓ નિપજાવે છે. | M7: તારવેલી વિગતોના ટૂંકા પરિચ્છેદમાં લેખિત સ્વરૂપે રજૂ કરે છે. | N7: શીખી ગયેલા ભાષાના ઘટકોનો લેખનમાં ઉપયોગ કરી બતાવે છે. | O7: શબ્દોનો અંગવિસ્તાર કરે છે. | P7: શબ્દ,શબ્દ્સમૂહ,કહેવત અને રૂઢિપ્રયોગનો ઉપયોગ કરી અર્થપૂર્ણ વાક્ય,સંવાદ,પરિચ્છેદ,વાર્તા અને કાવ્યની રચના કરે છે. | Q7: શબ્દસમૂહ માટે એક શબ્દનો ઉપયોગ કરે છે. | R7: એકોક્તિ,મૂક અભિનય અને પાત્ર અભિના રજૂ કરે છે. | S7: પોતાના કે અન્યના સામાજિક અનુભવો જણાવે છે,સાંભળે છે; તેને લગતી લાગણી વ્યક્ત કરે છે અને તે માટેનાં કારણો આપે છે. | T7: અગાઉ શીખી ગયેલા ભાષારચનાના ઘટકો(રૂઢિપ્રયોગ,કહેવતો અને ઉખાણાં) નો ઉપયોગ નવા ઘટકો શીખવા માટે કરે છે. | U7: અપરિચિત શબ્દો(વિશેષત: બોધાત્મક અને ભાવાત્મક)ના અર્થની ધારણા કરે છે. શોધખોળ કરે છે અને તારવે છે. | V7: પુસ્તકોમાંથી ગુણાત્મક માહિતી પ્રાપ્ત કરવા પ્ર્યુક્તિઓનું અંવેષણ શોધખોળ કરે છે. | W7: સત્રાંતે વિદ્યાર્થીઓએ મેળવેલ જે તે નિશાનીઓની સંખ્યા | Z7: 40 માંથી મેળવેલ ગુણ
C8: 1 | D8: 2 | E8: 3 | F8: 4 | G8: 5 | H8: 6 | I8: 7 | J8: 8 | K8: 9 | L8: 10 | M8: 11 | N8: 12 | O8: 13 | P8: 14 | Q8: 15 | R8: 16 | S8: 17 | T8: 18 | U8: 19 | V8: 20 | W8: √ | X8: ? | Y8: ×
A9: =Student!A3 | B9: =IF(Student!B3="","",Student!B3) | W9: =IF(C9="","",COUNTIF(C9:V9,$W$8)) | X9: =IF(C9="","",COUNTIF(C9:V9,$X$8)) | Y9: =IF(C9="","",COUNTIF(C9:V9,$Y$8)) | Z9: =IF(C9="","",(W9*2))
A10: =Student!A4 | B10: =IF(Student!B4="","",Student!B4) | W10: =IF(C10="","",COUNTIF(C10:V10,$W$8)) | X10: =IF(C10="","",COUNTIF(C10:V10,$X$8)) | Y10: =IF(C10="","",COUNTIF(C10:V10,$Y$8)) | Z10: =IF(C10="","",(W10*2))
A11: =Student!A5 | B11: =IF(Student!B5="","",Student!B5) | W11: =IF(C11="","",COUNTIF(C11:V11,$W$8)) | X11: =IF(C11="","",COUNTIF(C11:V11,$X$8)) | Y11: =IF(C11="","",COUNTIF(C11:V11,$Y$8)) | Z11: =IF(C11="","",(W11*2))
A12: =Student!A6 | B12: =IF(Student!B6="","",Student!B6) | W12: =IF(C12="","",COUNTIF(C12:V12,$W$8)) | X12: =IF(C12="","",COUNTIF(C12:V12,$X$8)) | Y12: =IF(C12="","",COUNTIF(C12:V12,$Y$8)) | Z12: =IF(C12="","",(W12*2))
A13: =Student!A7 | B13: =IF(Student!B7="","",Student!B7) | W13: =IF(C13="","",COUNTIF(C13:V13,$W$8)) | X13: =IF(C13="","",COUNTIF(C13:V13,$X$8)) | Y13: =IF(C13="","",COUNTIF(C13:V13,$Y$8)) | Z13: =IF(C13="","",(W13*2))
A14: =Student!A8 | B14: =IF(Student!B8="","",Student!B8) | W14: =IF(C14="","",COUNTIF(C14:V14,$W$8)) | X14: =IF(C14="","",COUNTIF(C14:V14,$X$8)) | Y14: =IF(C14="","",COUNTIF(C14:V14,$Y$8)) | Z14: =IF(C14="","",(W14*2))
A15: =Student!A9 | B15: =IF(Student!B9="","",Student!B9) | W15: =IF(C15="","",COUNTIF(C15:V15,$W$8)) | X15: =IF(C15="","",COUNTIF(C15:V15,$X$8)) | Y15: =IF(C15="","",COUNTIF(C15:V15,$Y$8)) | Z15: =IF(C15="","",(W15*2))
A16: =Student!A10 | B16: =IF(Student!B10="","",Student!B10) | W16: =IF(C16="","",COUNTIF(C16:V16,$W$8)) | X16: =IF(C16="","",COUNTIF(C16:V16,$X$8)) | Y16: =IF(C16="","",COUNTIF(C16:V16,$Y$8)) | Z16: =IF(C16="","",(W16*2))
A17: =Student!A11 | B17: =IF(Student!B11="","",Student!B11) | W17: =IF(C17="","",COUNTIF(C17:V17,$W$8)) | X17: =IF(C17="","",COUNTIF(C17:V17,$X$8)) | Y17: =IF(C17="","",COUNTIF(C17:V17,$Y$8)) | Z17: =IF(C17="","",(W17*2))
A18: =Student!A12 | B18: =IF(Student!B12="","",Student!B12) | W18: =IF(C18="","",COUNTIF(C18:V18,$W$8)) | X18: =IF(C18="","",COUNTIF(C18:V18,$X$8)) | Y18: =IF(C18="","",COUNTIF(C18:V18,$Y$8)) | Z18: =IF(C18="","",(W18*2))
A19: =Student!A13 | B19: =IF(Student!B13="","",Student!B13) | W19: =IF(C19="","",COUNTIF(C19:V19,$W$8)) | X19: =IF(C19="","",COUNTIF(C19:V19,$X$8)) | Y19: =IF(C19="","",COUNTIF(C19:V19,$Y$8)) | Z19: =IF(C19="","",(W19*2))
A20: =Student!A14 | B20: =IF(Student!B14="","",Student!B14) | W20: =IF(C20="","",COUNTIF(C20:V20,$W$8)) | X20: =IF(C20="","",COUNTIF(C20:V20,$X$8)) | Y20: =IF(C20="","",COUNTIF(C20:V20,$Y$8)) | Z20: =IF(C20="","",(W20*2))
... A104: =Student!A98 | B104: =IF(Student!B98="","",Student!B98) | W104: =IF(C104="","",COUNTIF(C104:V104,$W$8)) | X104: =IF(C104="","",COUNTIF(C104:V104,$X$8)) | Y104: =IF(C104="","",COUNTIF(C104:V104,$Y$8)) | Z104: =IF(C104="","",(W104*2))
B107: વિષય શિક્ષકની સહી | R107: આચાર્યની સહી/સિક્કા

Sheet 8 Maths
A1: પરિશિષ્ટ - A
A2: રચનાત્મક મૂલ્યાંકન
B3: ધોરણ અને વર્ગ :- | C3: =School!B8 -> 8 | G3: વિષય :- | I3: ગણિત | N3: સત્ર :- | P3: પ્રથમ | T3: વર્ષ :- | V3: =School!B9 -> 2025 - '26
C5: અભ્યાસક્રમ પ્રમાણે પ્રતિનિધિત્વરૂપ હેતુઓ (મહત્તમ :- ૨૦)
C6: સંમેય સંખ્યાઓ | E6: એક ચલ સુરેખ સમીકરણ | H6: ચતુષ્કોણની સમજ | K6: માહિતીનું નિયમન | O6: વર્ગ અને વર્ગમૂળ | S6: ઘન અને ઘનમૂળ
A7: ક્રમ | B7: વિદ્યાર્થીનું નામ | C7: પેટર્ન/ઉદાહરણ દ્વારા સંમેય સંખ્યાઓના બેઝીક ક્રિયાઓ વિશેના ગુણધર્મોનું સામાન્યીકરણ કરે છે અને ગુણધર્મોનો ઉપયોગ કરી સાદુરૂપ આપે છે. | D7: સંમેય સંખ્યા માટે વિભાજનનો ગુણધર્મ જાણે છે. | E7: એક બાજુ સુરેખ પદાવલી અને બીજી બાજુ સંખ્યા હોય તેવા સમીકરણનો ઉકેલ મેળવે છે. | F7: બંને બાજુ ચલ હોય તેવા સમીકરણનો ઉકેલ મેળવે છે. | G7: સમીકરણ નું સરળ સ્વરૂપ માં રૂપાંતરણ કરે છે. | H7: બહુકોણ અને તેના વિવિધ પ્રકારો વિશે સમજે છે. | I7: ચતુષ્કોણના ગુણધર્મોના આધારે તેના પ્રકારો ઓળખે છે. | J7: ચતુષ્કોણના ખૂણાઓ અને બાજુઓના માપના ગુણધર્મોનો ઉપયોગ કરી કોયડા ઉકેલે છે. | K7: આપેલ માહિતી પરથી સ્તંભ આલેખ દોરે છે. | L7: આપેલ માહિતી પરથી વર્તુળ આલેખ દોરે છે. | M7: તક અને સંભાવના વચ્ચેનો સંબંધ જણાવે છે. | N7: તક અને સંભાવનાના વ્યવહારિક કોયડા ઉકેલે છે. | O7: વર્ગ સંખ્યા અને તેની વિવિધ લાક્ષણિકતાઓ જણાવે છે. | P7: વિવિધ રીતો દ્વારા આપેલ સંખ્યાના વર્ગ કરે છે. | Q7: આપેલ સંખ્યાને નાનામાં નાની કઈ સંખ્યા વડે ગુણવાથી કે ભાગવાથી પૂર્ણવર્ગ સંખ્યા મળે તે શોધે છે. | R7: આપેલ સંખ્યા ધરાવતી પાયથાગોરિયન ત્રિપુટી શોધે છે. | S7: ઘન સંખ્યા અને તેની વિવિધ લાક્ષણિકતાઓ જણાવે છે. | T7: અવિભાજ્ય અવયવીકરણની મદદથી ઘનમૂળ શોધી શકે છે. | U7: અનુમાનની રીતે ઘનમૂળ શોધે છે. | V7: આપેલ સંખ્યાને નાનામાં નાની કઈ સંખ્યા વડે ગુણવાથી કે ભાગવાથી પૂર્ણઘન સંખ્યા મળે તે શોધે છે. | W7: સત્રાંતે વિદ્યાર્થીઓએ મેળવેલ જે તે નિશાનીઓની સંખ્યા | Z7: 40 માંથી મેળવેલ ગુણ
C8: 1 | D8: 2 | E8: 3 | F8: 4 | G8: 5 | H8: 6 | I8: 7 | J8: 8 | K8: 9 | L8: 10 | M8: 11 | N8: 12 | O8: 13 | P8: 14 | Q8: 15 | R8: 16 | S8: 17 | T8: 18 | U8: 19 | V8: 20 | W8: √ | X8: ? | Y8: ×
A9: ='8 Guj'!A9 | B9: =IF(Student!B3="","",Student!B3) | W9: =IF(C9="","",COUNTIF(C9:V9,$W$8)) | X9: =IF(C9="","",COUNTIF(C9:V9,$X$8)) | Y9: =IF(C9="","",COUNTIF(C9:V9,$Y$8)) | Z9: =IF(C9="","",(W9*2))
A10: ='8 Guj'!A10 | B10: =IF(Student!B4="","",Student!B4) | W10: =IF(C10="","",COUNTIF(C10:V10,$W$8)) | X10: =IF(C10="","",COUNTIF(C10:V10,$X$8)) | Y10: =IF(C10="","",COUNTIF(C10:V10,$Y$8)) | Z10: =IF(C10="","",(W10*2))
A11: ='8 Guj'!A11 | B11: =IF(Student!B5="","",Student!B5) | W11: =IF(C11="","",COUNTIF(C11:V11,$W$8)) | X11: =IF(C11="","",COUNTIF(C11:V11,$X$8)) | Y11: =IF(C11="","",COUNTIF(C11:V11,$Y$8)) | Z11: =IF(C11="","",(W11*2))
A12: ='8 Guj'!A12 | B12: =IF(Student!B6="","",Student!B6) | W12: =IF(C12="","",COUNTIF(C12:V12,$W$8)) | X12: =IF(C12="","",COUNTIF(C12:V12,$X$8)) | Y12: =IF(C12="","",COUNTIF(C12:V12,$Y$8)) | Z12: =IF(C12="","",(W12*2))
A13: ='8 Guj'!A13 | B13: =IF(Student!B7="","",Student!B7) | W13: =IF(C13="","",COUNTIF(C13:V13,$W$8)) | X13: =IF(C13="","",COUNTIF(C13:V13,$X$8)) | Y13: =IF(C13="","",COUNTIF(C13:V13,$Y$8)) | Z13: =IF(C13="","",(W13*2))
A14: ='8 Guj'!A14 | B14: =IF(Student!B8="","",Student!B8) | W14: =IF(C14="","",COUNTIF(C14:V14,$W$8)) | X14: =IF(C14="","",COUNTIF(C14:V14,$X$8)) | Y14: =IF(C14="","",COUNTIF(C14:V14,$Y$8)) | Z14: =IF(C14="","",(W14*2))
A15: ='8 Guj'!A15 | B15: =IF(Student!B9="","",Student!B9) | W15: =IF(C15="","",COUNTIF(C15:V15,$W$8)) | X15: =IF(C15="","",COUNTIF(C15:V15,$X$8)) | Y15: =IF(C15="","",COUNTIF(C15:V15,$Y$8)) | Z15: =IF(C15="","",(W15*2))
A16: ='8 Guj'!A16 | B16: =IF(Student!B10="","",Student!B10) | W16: =IF(C16="","",COUNTIF(C16:V16,$W$8)) | X16: =IF(C16="","",COUNTIF(C16:V16,$X$8)) | Y16: =IF(C16="","",COUNTIF(C16:V16,$Y$8)) | Z16: =IF(C16="","",(W16*2))
A17: ='8 Guj'!A17 | B17: =IF(Student!B11="","",Student!B11) | W17: =IF(C17="","",COUNTIF(C17:V17,$W$8)) | X17: =IF(C17="","",COUNTIF(C17:V17,$X$8)) | Y17: =IF(C17="","",COUNTIF(C17:V17,$Y$8)) | Z17: =IF(C17="","",(W17*2))
A18: ='8 Guj'!A18 | B18: =IF(Student!B12="","",Student!B12) | W18: =IF(C18="","",COUNTIF(C18:V18,$W$8)) | X18: =IF(C18="","",COUNTIF(C18:V18,$X$8)) | Y18: =IF(C18="","",COUNTIF(C18:V18,$Y$8)) | Z18: =IF(C18="","",(W18*2))
A19: ='8 Guj'!A19 | B19: =IF(Student!B13="","",Student!B13) | W19: =IF(C19="","",COUNTIF(C19:V19,$W$8)) | X19: =IF(C19="","",COUNTIF(C19:V19,$X$8)) | Y19: =IF(C19="","",COUNTIF(C19:V19,$Y$8)) | Z19: =IF(C19="","",(W19*2))
A20: ='8 Guj'!A20 | B20: =IF(Student!B14="","",Student!B14) | W20: =IF(C20="","",COUNTIF(C20:V20,$W$8)) | X20: =IF(C20="","",COUNTIF(C20:V20,$X$8)) | Y20: =IF(C20="","",COUNTIF(C20:V20,$Y$8)) | Z20: =IF(C20="","",(W20*2))
... A104: ='8 Guj'!A104 | B104: =IF(Student!B98="","",Student!B98) | W104: =IF(C104="","",COUNTIF(C104:V104,$W$8)) | X104: =IF(C104="","",COUNTIF(C104:V104,$X$8)) | Y104: =IF(C104="","",COUNTIF(C104:V104,$Y$8)) | Z104: =IF(C104="","",(W104*2))
B108: વિષય શિક્ષકની સહી | R108: આચાર્યની સહી/સિક્કા

Sheet 8 Sci
A1: પરિશિષ્ટ - A
A2: રચનાત્મક મૂલ્યાંકન
B3: ધોરણ અને વર્ગ :- | C3: =School!B8 -> 8 | G3: વિષય :- | I3: વિજ્ઞાન | N3: સત્ર :- | P3: પ્રથમ | T3: વર્ષ :- | V3: =School!B9 -> 2025 - '26
C5: અભ્યાસક્રમ પ્રમાણે પ્રતિનિધિત્વરૂપ હેતુઓ (મહત્તમ :- ૨૦)
C6: પાક ઉત્પાદન અને વ્યવસ્થાપન | F6: સૂક્ષ્મજીવો મિત્ર અને શત્રુ | J6: કોલસો અને પેટ્રોલિયમ | M6: દહન અને જ્યોત | Q6: વનસ્પતિઓ અને પ્રાણીઓનું સંરક્ષણ | T6: પ્રાણીઓમાં પ્રજનન
A7: ક્રમ | B7: વિદ્યાર્થીનું નામ | C7: ખેતીના ઓજારો ને કાર્યોને આધારે વર્ગીકૃત કરે છે. | D7: ખેતપદ્ધતિઓ નાં વૈજ્ઞાનિક ખ્યાલોને રોજિંદા જીવનમાં લાગુ કરે છે. | E7: આધુનિક સિંચાઈ પદ્ધતિઓ વિશે માહિતગાર થાય છે. . | F7: સૂક્ષ્મજીવોનાં વ્યાપારી અને ઔષધીય ઉપયોગ વિશે સમજ કેળવે છે.. | G7: સૂક્ષ્મજીવોની સ્લાઇડ તૈયાર કરે છે અને તેમના સૂક્ષ્મદર્શિત લક્ષણોનું વર્ણન કરે છે. | H7: સજીવો માટેનાં હાનિકારક સૂક્ષ્મજીવો વિશે જાણે છે.. | I7: નાઈટ્રોજનચક્રની પ્રક્રિયા સમજી નામનિદર્શન વાળી આકૃતિ/ફ્લોચાર્ટ દોરે છે. | J7: ખનીજ કોલસા ને તેમના ગુણધર્મો, લાક્ષણિકતાના આધારે વર્ગીકૃત કરે છે | K7: પેટ્રોલિયમના શુદ્ધિકરણ વિશે સમજ મેળવે છે. | L7: શીખેલા વૈજ્ઞાનિક ખ્યાલોને રોજિંદા જીવનમાં લાગુ કરે છે અને પર્યાવરણના રક્ષણ માટે પ્રયત્ન કરે છે. | M7: દહનની પ્રક્રિયા અને ઘટનાઓને સમજાવે છે. | N7: જ્યોતનું બંધારણ અને મીણબત્તી ના વિવિધ ભાગોની નામનિદર્શન વાળી આકૃતિ/ફ્લોચાર્ટ દોરે છે. | O7: આગ ને નિયંત્રિત કરવાની કાર્યપદ્ધતિ અને તેના ઉપાયો વિશે વર્ણવે છે. | P7: બળતણની નુકસાનકારક અસરો વિશે માહિતગાર થાય છે. | Q7: વનનાબુદી અને તેના કારણો વિશે માહિતગાર થાય છે.. | R7: વનનાબુદી ના ગંભીરપરિણામો થી પર્યાવરણના રક્ષણ માટે પ્રયત્ન કરે છે. | S7: જંગલોની વનસ્પતિસૃષ્ટિ અને પ્રાણીસૃષ્ટિ વિશે માહિતગાર થાય છે. | T7: પ્રજનન અંગો ની રચના અને કાર્યના આધારે તેના પ્રકારો પાડે છે. | U7: લિંગી પ્રજનન પ્રક્રિયા અને ઘટનાઓને સમજાવે છે. | V7: અલિંગી પ્રજનન પ્રક્રિયા અને ઘટનાઓને સમજાવે છે | W7: સત્રાંતે વિદ્યાર્થીઓએ મેળવેલ જે તે નિશાનીઓની સંખ્યા | Z7: 40 માંથી મેળવેલ ગુણ
C8: 1 | D8: 2 | E8: 3 | F8: 4 | G8: 5 | H8: 6 | I8: 7 | J8: 8 | K8: 9 | L8: 10 | M8: 11 | N8: 12 | O8: 13 | P8: 14 | Q8: 15 | R8: 16 | S8: 17 | T8: 18 | U8: 19 | V8: 20 | W8: √ | X8: ? | Y8: ×
A9: ='8 Guj'!A9 | B9: =IF(Student!B3="","",Student!B3) | W9: =IF(C9="","",COUNTIF(C9:V9,$W$8)) | X9: =IF(C9="","",COUNTIF(C9:V9,$X$8)) | Y9: =IF(C9="","",COUNTIF(C9:V9,$Y$8)) | Z9: =IF(C9="","",(W9*2))
A10: ='8 Guj'!A10 | B10: =IF(Student!B4="","",Student!B4) | W10: =IF(C10="","",COUNTIF(C10:V10,$W$8)) | X10: =IF(C10="","",COUNTIF(C10:V10,$X$8)) | Y10: =IF(C10="","",COUNTIF(C10:V10,$Y$8)) | Z10: =IF(C10="","",(W10*2))
A11: ='8 Guj'!A11 | B11: =IF(Student!B5="","",Student!B5) | W11: =IF(C11="","",COUNTIF(C11:V11,$W$8)) | X11: =IF(C11="","",COUNTIF(C11:V11,$X$8)) | Y11: =IF(C11="","",COUNTIF(C11:V11,$Y$8)) | Z11: =IF(C11="","",(W11*2))
A12: ='8 Guj'!A12 | B12: =IF(Student!B6="","",Student!B6) | W12: =IF(C12="","",COUNTIF(C12:V12,$W$8)) | X12: =IF(C12="","",COUNTIF(C12:V12,$X$8)) | Y12: =IF(C12="","",COUNTIF(C12:V12,$Y$8)) | Z12: =IF(C12="","",(W12*2))
A13: ='8 Guj'!A13 | B13: =IF(Student!B7="","",Student!B7) | W13: =IF(C13="","",COUNTIF(C13:V13,$W$8)) | X13: =IF(C13="","",COUNTIF(C13:V13,$X$8)) | Y13: =IF(C13="","",COUNTIF(C13:V13,$Y$8)) | Z13: =IF(C13="","",(W13*2))
A14: ='8 Guj'!A14 | B14: =IF(Student!B8="","",Student!B8) | W14: =IF(C14="","",COUNTIF(C14:V14,$W$8)) | X14: =IF(C14="","",COUNTIF(C14:V14,$X$8)) | Y14: =IF(C14="","",COUNTIF(C14:V14,$Y$8)) | Z14: =IF(C14="","",(W14*2))
A15: ='8 Guj'!A15 | B15: =IF(Student!B9="","",Student!B9) | W15: =IF(C15="","",COUNTIF(C15:V15,$W$8)) | X15: =IF(C15="","",COUNTIF(C15:V15,$X$8)) | Y15: =IF(C15="","",COUNTIF(C15:V15,$Y$8)) | Z15: =IF(C15="","",(W15*2))
A16: ='8 Guj'!A16 | B16: =IF(Student!B10="","",Student!B10) | W16: =IF(C16="","",COUNTIF(C16:V16,$W$8)) | X16: =IF(C16="","",COUNTIF(C16:V16,$X$8)) | Y16: =IF(C16="","",COUNTIF(C16:V16,$Y$8)) | Z16: =IF(C16="","",(W16*2))
A17: ='8 Guj'!A17 | B17: =IF(Student!B11="","",Student!B11) | W17: =IF(C17="","",COUNTIF(C17:V17,$W$8)) | X17: =IF(C17="","",COUNTIF(C17:V17,$X$8)) | Y17: =IF(C17="","",COUNTIF(C17:V17,$Y$8)) | Z17: =IF(C17="","",(W17*2))
A18: ='8 Guj'!A18 | B18: =IF(Student!B12="","",Student!B12) | W18: =IF(C18="","",COUNTIF(C18:V18,$W$8)) | X18: =IF(C18="","",COUNTIF(C18:V18,$X$8)) | Y18: =IF(C18="","",COUNTIF(C18:V18,$Y$8)) | Z18: =IF(C18="","",(W18*2))
A19: ='8 Guj'!A19 | B19: =IF(Student!B13="","",Student!B13) | W19: =IF(C19="","",COUNTIF(C19:V19,$W$8)) | X19: =IF(C19="","",COUNTIF(C19:V19,$X$8)) | Y19: =IF(C19="","",COUNTIF(C19:V19,$Y$8)) | Z19: =IF(C19="","",(W19*2))
A20: ='8 Guj'!A20 | B20: =IF(Student!B14="","",Student!B14) | W20: =IF(C20="","",COUNTIF(C20:V20,$W$8)) | X20: =IF(C20="","",COUNTIF(C20:V20,$X$8)) | Y20: =IF(C20="","",COUNTIF(C20:V20,$Y$8)) | Z20: =IF(C20="","",(W20*2))
... A104: ='8 Guj'!A104 | B104: =IF(Student!B98="","",Student!B98) | W104: =IF(C104="","",COUNTIF(C104:V104,$W$8)) | X104: =IF(C104="","",COUNTIF(C104:V104,$X$8)) | Y104: =IF(C104="","",COUNTIF(C104:V104,$Y$8)) | Z104: =IF(C104="","",(W104*2))
B108: વિષય શિક્ષકની સહી | R108: આચાર્યની સહી/સિક્કા

Sheet 8 SS
A1: પરિશિષ્ટ - A
A2: રચનાત્મક મૂલ્યાંકન
B3: ધોરણ અને વર્ગ :- | C3: =School!B8 -> 8 | G3: વિષય :- | I3: સામાજિક વિજ્ઞાન | N3: સત્ર :- | P3: પ્રથમ | T3: વર્ષ :- | V3: =School!B9 -> 2025 - '26
C5: અભ્યાસક્રમ પ્રમાણે પ્રતિનિધિત્વરૂપ હેતુઓ (મહત્તમ :- ૨૦)
C6: ભારતમાં યુરોપિયનો અને અંગ્રેજી શાસનની સ્થાપના | E6: સંસાધન | H6: ભારતમાં બ્રિટિશ શાસન | J6: ખનિજ અને ઊર્જા | L6: ભારતીય બંધારણ | N6: ભારતનો પ્રથમ સ્વાતંત્ર્યસંગ્રામ | O6: ખેતી | Q6: સંસદ અને કાયદો | U6: અંગ્રેજ સમયનાં શહેરો
A7: ક્રમ | B7: વિદ્યાર્થીનું નામ | C7: બ્રિટીશ ઇસ્ટ ઇન્ડિયા કંપની ભારતમાં સર્વોચ્ચ સત્તા કઈ રીતે બની તે સમજે છે અને સમજ પ્રદર્શિત કરે છે. | D7: અંગ્રેજ શાસનના વહીવટી તંત્રને જાણે છે. | E7: પૃથ્વી પરના માનવીય અને કુદરતી સંસાધનોના અસમાન વિતરણનું વિશ્લેષણ કરે છે. | F7: તમામ વિસ્તારના વિકાસને જાળવી રાખવા માટે કુદરતી સંસાધનોના ન્યાયિક ઉપયોગને દર્શાવે છે. | G7: સંસાધનોના સંરક્ષણના ઉપાયો જાણે છે. | H7: ભારતના વિવિધ પ્રાંતોમાં બ્રિટીશ સરકારની ખેતી વિષયક ભેદભાવની નીતિની અસર સમજે છે. | I7: જનજાતિના સમૂહોની પ્રવૃતિઓ જાણે છે. | J7: અગત્યના કુદરતી ખનીજોનું વર્ગીકરણ દર્શાવે છે. (દા.ત.કોલસો અને ખનીજતેલના કેન્દ્રોને દર્શાવે છે. | K7: ઉર્જાના બિનપરંપરાગત સ્ત્રોતનો ઉપયોગ જાણે છે. | L7: ભારતીય બંધારણના સંદર્ભમાં પોતાના મૂળભૂત હકો અને ફરજોને યોગ્ય ઉદાહરણો સાથે સમજે છે. | M7: આપેલ પરિસ્થિતિમાં પ્રોત્સાહન, રક્ષણ અને ઉલ્લંઘનના સંદર્ભમાં મૂળભૂત અધિકારોની જાણકારીનો ઉપયોગ કરે છે. | N7: 1857ના સ્વાતંત્ર્યસંગ્રામના કારણો, તેનું સ્વરૂપ, તેનો ફેલાવો અને મળેલ પદાર્થ પાઠનું વર્ણન કરે છે. | O7: જુદા જુદા પાકોના ઉત્પાદન માટે જાણીતા મહત્ત્વના દેશોમાં જવાબદાર પરિબળોનું વિશ્લેષણ કરે છે. | P7: નકશામાં વિવિધ દેશો વચ્ચે ખેતી અને વિકાસ માટેની વિવિધતા દર્શાવતા રંગો પૂરે. | Q7: રાજ્ય અને સંઘ સરકાર વચ્ચેનો તફાવત સમજે છે. | R7: લોકસભા ચૂંટણી પધ્ધતિ વર્ણવે છે, | S7: સંસદીય મતક્ષેત્રોને નકશામાં જોઈ પોતાના મતક્ષેત્રની શોધ કરી સ્થાનિક સંસદસભ્યનું નામ આપે છે. | T7: સંસદના બન્ને ગૃહો વિશે જાણે છે. | U7: સંસ્થાનવાદ સમયે ભારતમાં હસ્તકલા ઉદ્યોગ અને નવા શહેરીકરણનું પૃથક્કરણ કરે છે. | V7: અંગ્રેજ સમયના કાપડઉદ્યોગો અને લોખંડ-પોલાદ ઉદ્યોગો વિશે માહિતગાર થાય છે. | W7: સત્રાંતે વિદ્યાર્થીઓએ મેળવેલ જે તે નિશાનીઓની સંખ્યા | Z7: 40 માંથી મેળવેલ ગુણ
C8: 1 | D8: 2 | E8: 3 | F8: 4 | G8: 5 | H8: 6 | I8: 7 | J8: 8 | K8: 9 | L8: 10 | M8: 11 | N8: 12 | O8: 13 | P8: 14 | Q8: 15 | R8: 16 | S8: 17 | T8: 18 | U8: 19 | V8: 20 | W8: √ | X8: ? | Y8: ×
A9: =Student!A3 | B9: =IF(Student!B3="","",Student!B3) | W9: =IF(C9="","",COUNTIF(C9:V9,$W$8)) | X9: =IF(C9="","",COUNTIF(C9:V9,$X$8)) | Y9: =IF(C9="","",COUNTIF(C9:V9,$Y$8)) | Z9: =IF(C9="","",(W9*2))
A10: =Student!A4 | B10: =IF(Student!B4="","",Student!B4) | W10: =IF(C10="","",COUNTIF(C10:V10,$W$8)) | X10: =IF(C10="","",COUNTIF(C10:V10,$X$8)) | Y10: =IF(C10="","",COUNTIF(C10:V10,$Y$8)) | Z10: =IF(C10="","",(W10*2))
A11: =Student!A5 | B11: =IF(Student!B5="","",Student!B5) | W11: =IF(C11="","",COUNTIF(C11:V11,$W$8)) | X11: =IF(C11="","",COUNTIF(C11:V11,$X$8)) | Y11: =IF(C11="","",COUNTIF(C11:V11,$Y$8)) | Z11: =IF(C11="","",(W11*2))
A12: =Student!A6 | B12: =IF(Student!B6="","",Student!B6) | W12: =IF(C12="","",COUNTIF(C12:V12,$W$8)) | X12: =IF(C12="","",COUNTIF(C12:V12,$X$8)) | Y12: =IF(C12="","",COUNTIF(C12:V12,$Y$8)) | Z12: =IF(C12="","",(W12*2))
A13: =Student!A7 | B13: =IF(Student!B7="","",Student!B7) | W13: =IF(C13="","",COUNTIF(C13:V13,$W$8)) | X13: =IF(C13="","",COUNTIF(C13:V13,$X$8)) | Y13: =IF(C13="","",COUNTIF(C13:V13,$Y$8)) | Z13: =IF(C13="","",(W13*2))
A14: =Student!A8 | B14: =IF(Student!B8="","",Student!B8) | W14: =IF(C14="","",COUNTIF(C14:V14,$W$8)) | X14: =IF(C14="","",COUNTIF(C14:V14,$X$8)) | Y14: =IF(C14="","",COUNTIF(C14:V14,$Y$8)) | Z14: =IF(C14="","",(W14*2))
A15: =Student!A9 | B15: =IF(Student!B9="","",Student!B9) | W15: =IF(C15="","",COUNTIF(C15:V15,$W$8)) | X15: =IF(C15="","",COUNTIF(C15:V15,$X$8)) | Y15: =IF(C15="","",COUNTIF(C15:V15,$Y$8)) | Z15: =IF(C15="","",(W15*2))
A16: =Student!A10 | B16: =IF(Student!B10="","",Student!B10) | W16: =IF(C16="","",COUNTIF(C16:V16,$W$8)) | X16: =IF(C16="","",COUNTIF(C16:V16,$X$8)) | Y16: =IF(C16="","",COUNTIF(C16:V16,$Y$8)) | Z16: =IF(C16="","",(W16*2))
A17: =Student!A11 | B17: =IF(Student!B11="","",Student!B11) | W17: =IF(C17="","",COUNTIF(C17:V17,$W$8)) | X17: =IF(C17="","",COUNTIF(C17:V17,$X$8)) | Y17: =IF(C17="","",COUNTIF(C17:V17,$Y$8)) | Z17: =IF(C17="","",(W17*2))
A18: =Student!A12 | B18: =IF(Student!B12="","",Student!B12) | W18: =IF(C18="","",COUNTIF(C18:V18,$W$8)) | X18: =IF(C18="","",COUNTIF(C18:V18,$X$8)) | Y18: =IF(C18="","",COUNTIF(C18:V18,$Y$8)) | Z18: =IF(C18="","",(W18*2))
A19: =Student!A13 | B19: =IF(Student!B13="","",Student!B13) | W19: =IF(C19="","",COUNTIF(C19:V19,$W$8)) | X19: =IF(C19="","",COUNTIF(C19:V19,$X$8)) | Y19: =IF(C19="","",COUNTIF(C19:V19,$Y$8)) | Z19: =IF(C19="","",(W19*2))
A20: =Student!A14 | B20: =IF(Student!B14="","",Student!B14) | W20: =IF(C20="","",COUNTIF(C20:V20,$W$8)) | X20: =IF(C20="","",COUNTIF(C20:V20,$X$8)) | Y20: =IF(C20="","",COUNTIF(C20:V20,$Y$8)) | Z20: =IF(C20="","",(W20*2))
... A104: =Student!A98 | B104: =IF(Student!B98="","",Student!B98) | W104: =IF(C104="","",COUNTIF(C104:V104,$W$8)) | X104: =IF(C104="","",COUNTIF(C104:V104,$X$8)) | Y104: =IF(C104="","",COUNTIF(C104:V104,$Y$8)) | Z104: =IF(C104="","",(W104*2))
B108: વિષય શિક્ષકની સહી | R108: આચાર્યની સહી/સિક્કા

Sheet 8 Hindi
A1: પરિશિષ્ટ - A
A2: રચનાત્મક મૂલ્યાંકન
B3: ધોરણ અને વર્ગ :- | C3: =School!B8 -> 8 | G3: વિષય :- | I3: હિન્દી | N3: સત્ર :- | P3: પ્રથમ | T3: વર્ષ :- | V3: =School!B9 -> 2025 - '26
C5: અભ્યાસક્રમ પ્રમાણે પ્રતિનિધિત્વરૂપ હેતુઓ (મહત્તમ :- ૨૦)
C6: तेरी है जमीं | E6: ईदगाह | G6: अंतरिक्षपरी सुनीता विलियम्स | I6: उठो, धरा के अमर सपूतो | K6: सवाल बालमन के | M6: भरत | O6: सोच अपनी अपनी | R6: मां! कह एक कहानी | U6: ममता
A7: ક્રમ | B7: વિદ્યાર્થીનું નામ | C7: अपरिचित शब्द, वाक्य, बातचीत और संवाद सुनकर एवं पढ़कर समझते हैं । | D7: ‘क्या', 'कौन', 'कब', 'कहाँ', 'क्यों', 'कैसे' वाले प्रश्नों के उत्तर मौखिक और लिखित रूप से देते हैं । | E7: छपी हुई और हस्त लिखित पाठ्यसामग्री पढ़कर उसके भावार्थ को समझते हैं । | F7: परिचित विषय पर अपने विचार मौखिक एवं लिखित रूप से व्यक्त करते हैं । | G7: सरल एवं संयुक्त वाक्य और परिच्छेद का शुद्ध रूप से पठन एवं लेखन करते हैं । | H7: चित्र का अवलोकन करके कहानी, काव्य आदि मौलिक रूप में लिखते हैं । | I7: गीत, कविता, पहेलियाँ और दोहे सुनकर एवं पढ़कर समझते हैं । | J7: काव्य और परिच्छेद पढ़कर समीक्षा करते हैं । | K7: कोई घटना, प्रसंग, संवाद, चुटकुले और कहानी को मौलिक भाषा में अभिव्यक्त करते हैं । | L7: विरामचिह्नों का योग्य स्थान पर प्रयोग करते हैं । | M7: कहानियाँ, चुटकुले, एकांकी, पत्र और वर्णन सुनकर एवं पढ़कर समझते हैं । | N7: शब्द के लिंग परिवर्तन के नियमानुसार वाक्य प्रयोग करते हैं । | O7: परिच्छेद को पढकर समझते हैं । | P7: उपसर्ग एवं प्रत्यय का अर्थ समझकर उनका उपयोग करके नए शब्द की संरचना करते हैं | | Q7: किसी मत को कारण सहित स्वीकार या अस्वीकार करते हैं | | R7: अपूर्ण काव्य एवं कहानी को पूर्ण करते हैं । | S7: समानार्थी शब्द, विरुद्धार्थी शब्द, मुहावरों और कहावतों का वाक्य में प्रयोग करते हैं । | T7: घटना या प्रसंग के कारणों का अनुमान करते हैं | | U7: शब्द के वचन परिवर्तन के नियमानुसार वाक्य प्रयोग करते हैं । | V7: क्रिया के काल एवं उनके प्रकार को जानकर उसका प्रयोग करते हैं | | W7: સત્રાંતે વિદ્યાર્થીઓએ મેળવેલ જે તે નિશાનીઓની સંખ્યા | Z7: 40 માંથી મેળવેલ ગુણ
C8: 1 | D8: 2 | E8: 3 | F8: 4 | G8: 5 | H8: 6 | I8: 7 | J8: 8 | K8: 9 | L8: 10 | M8: 11 | N8: 12 | O8: 13 | P8: 14 | Q8: 15 | R8: 16 | S8: 17 | T8: 18 | U8: 19 | V8: 20 | W8: √ | X8: ? | Y8: ×
A9: =Student!A3 | B9: =IF(Student!B3="","",Student!B3) | W9: =IF(C9="","",COUNTIF(C9:V9,$W$8)) | X9: =IF(C9="","",COUNTIF(C9:V9,$X$8)) | Y9: =IF(C9="","",COUNTIF(C9:V9,$Y$8)) | Z9: =IF(C9="","",(W9*2))
A10: =Student!A4 | B10: =IF(Student!B4="","",Student!B4) | W10: =IF(C10="","",COUNTIF(C10:V10,$W$8)) | X10: =IF(C10="","",COUNTIF(C10:V10,$X$8)) | Y10: =IF(C10="","",COUNTIF(C10:V10,$Y$8)) | Z10: =IF(C10="","",(W10*2))
A11: =Student!A5 | B11: =IF(Student!B5="","",Student!B5) | W11: =IF(C11="","",COUNTIF(C11:V11,$W$8)) | X11: =IF(C11="","",COUNTIF(C11:V11,$X$8)) | Y11: =IF(C11="","",COUNTIF(C11:V11,$Y$8)) | Z11: =IF(C11="","",(W11*2))
A12: =Student!A6 | B12: =IF(Student!B6="","",Student!B6) | W12: =IF(C12="","",COUNTIF(C12:V12,$W$8)) | X12: =IF(C12="","",COUNTIF(C12:V12,$X$8)) | Y12: =IF(C12="","",COUNTIF(C12:V12,$Y$8)) | Z12: =IF(C12="","",(W12*2))
A13: =Student!A7 | B13: =IF(Student!B7="","",Student!B7) | W13: =IF(C13="","",COUNTIF(C13:V13,$W$8)) | X13: =IF(C13="","",COUNTIF(C13:V13,$X$8)) | Y13: =IF(C13="","",COUNTIF(C13:V13,$Y$8)) | Z13: =IF(C13="","",(W13*2))
A14: =Student!A8 | B14: =IF(Student!B8="","",Student!B8) | W14: =IF(C14="","",COUNTIF(C14:V14,$W$8)) | X14: =IF(C14="","",COUNTIF(C14:V14,$X$8)) | Y14: =IF(C14="","",COUNTIF(C14:V14,$Y$8)) | Z14: =IF(C14="","",(W14*2))
A15: =Student!A9 | B15: =IF(Student!B9="","",Student!B9) | W15: =IF(C15="","",COUNTIF(C15:V15,$W$8)) | X15: =IF(C15="","",COUNTIF(C15:V15,$X$8)) | Y15: =IF(C15="","",COUNTIF(C15:V15,$Y$8)) | Z15: =IF(C15="","",(W15*2))
A16: =Student!A10 | B16: =IF(Student!B10="","",Student!B10) | W16: =IF(C16="","",COUNTIF(C16:V16,$W$8)) | X16: =IF(C16="","",COUNTIF(C16:V16,$X$8)) | Y16: =IF(C16="","",COUNTIF(C16:V16,$Y$8)) | Z16: =IF(C16="","",(W16*2))
A17: =Student!A11 | B17: =IF(Student!B11="","",Student!B11) | W17: =IF(C17="","",COUNTIF(C17:V17,$W$8)) | X17: =IF(C17="","",COUNTIF(C17:V17,$X$8)) | Y17: =IF(C17="","",COUNTIF(C17:V17,$Y$8)) | Z17: =IF(C17="","",(W17*2))
A18: =Student!A12 | B18: =IF(Student!B12="","",Student!B12) | W18: =IF(C18="","",COUNTIF(C18:V18,$W$8)) | X18: =IF(C18="","",COUNTIF(C18:V18,$X$8)) | Y18: =IF(C18="","",COUNTIF(C18:V18,$Y$8)) | Z18: =IF(C18="","",(W18*2))
A19: =Student!A13 | B19: =IF(Student!B13="","",Student!B13) | W19: =IF(C19="","",COUNTIF(C19:V19,$W$8)) | X19: =IF(C19="","",COUNTIF(C19:V19,$X$8)) | Y19: =IF(C19="","",COUNTIF(C19:V19,$Y$8)) | Z19: =IF(C19="","",(W19*2))
A20: =Student!A14 | B20: =IF(Student!B14="","",Student!B14) | W20: =IF(C20="","",COUNTIF(C20:V20,$W$8)) | X20: =IF(C20="","",COUNTIF(C20:V20,$X$8)) | Y20: =IF(C20="","",COUNTIF(C20:V20,$Y$8)) | Z20: =IF(C20="","",(W20*2))
... A104: =Student!A98 | B104: =IF(Student!B98="","",Student!B98) | W104: =IF(C104="","",COUNTIF(C104:V104,$W$8)) | X104: =IF(C104="","",COUNTIF(C104:V104,$X$8)) | Y104: =IF(C104="","",COUNTIF(C104:V104,$Y$8)) | Z104: =IF(C104="","",(W104*2))
B107: વિષય શિક્ષકની સહી | R107: આચાર્યની સહી/સિક્કા

Sheet 8 Eng
A1: પરિશિષ્ટ - A
A2: રચનાત્મક મૂલ્યાંકન
B3: ધોરણ અને વર્ગ :- | C3: =School!B8 -> 8 | G3: વિષય :- | I3: અંગ્રેજી | N3: સત્ર :- | P3: પ્રથમ | T3: વર્ષ :- | V3: =School!B9 -> 2025 - '26
C5: અભ્યાસક્રમ પ્રમાણે પ્રતિનિધિત્વરૂપ હેતુઓ (મહત્તમ :- ૨૦)
C6: Q for Question | H6: LMBB : Learn more to be brighter | M6: What Where You Doing? | R6: Sun - Tour
A7: ક્રમ | B7: વિદ્યાર્થીનું નામ | C7: વાર્તા, પરિચ્છેદ અને કાવ્યને સમજી અર્થગ્રહણ કરે છે. | D7: ઘટના તેમજ વાર્તાના પાત્રોની લાક્ષણિકતા, સ્થળો અને ઘટનાક્રમની વિગતો તારવે છે. | E7: સ્થાનિક પર્યાવરણમાં ઉપલબ્ધ અંગ્રેજી વાંચે છે. | F7: શબ્દકોશનો ઉપયોગ કરે છે. | G7: વાર્તા, ઘટનાઓ, પાત્રોની અદલા-બદલી કરી તેને નવીન સ્વરૂપે રજૂ કરી શકે છે. | H7: માહિતી મેળવવા Wh ( Who, Where, What, When, Why, H.m)પ્રશ્નો પૂછે છે અને જવાબ આપે છે. | I7: વાચન અને ઉચ્ચાર વચ્ચેનો સંબંધ તારવે છે. | J7: પુસ્તકાલયમાંથી વાર્તાના પુસ્તકો બાળ સામાયિકો, વર્તમાન પત્રો વાંચે છે અને ઈન્ટરનેટનો ઉપયોગ કરે છે. | K7: ટેબલ, ગ્રાફ, નકશા, કાર્ડ, ફોર્મની માહિતીને પરિચ્છેદ સ્વરૂપે લખે છે. | L7: પોતાના પર્યાવરણની સંદર્ભિત બાબતોની તુલના કરી રજૂઆત કરે છે. | M7: ચિત્રોના આધારે વાર્તાઓ વાંચી પોતાના શબ્દોમાં વાર્તા લખે છે. | N7: ચિત્ર, ગ્રાફ, નકશા, વાર્તા અને પરિચ્છેદની વિગતોનું વર્ગીકરણ કરે છે. | O7: લોનવર્ડ્સ સહીત આશરે 800 જેટલા નવા શબ્દો જાણે છે અને તેનો ઉપયોગ કરે છે. | P7: પત્ર, ઈ-મેલ લખે છે અને તેનો જવાબ આપે છે. | Q7: વાક્યોને અને વિગતોને and અને but વડે જોડે છે. | R7: ઉલટ પ્રશ્નો (Inversion question) પૂછે છે અને તેવા પ્રશ્નોના જવાબ આપે છે. | S7: વ્યવહારિક અને નાટકીય સંવાદ કરે છે. | T7: પોતાના પરિચિત ક્ષેત્રમાં બનતી ક્રિયા અને બનેલા પ્રસંગોની ટૂંકમાં રજૂઆત કરે છે | U7: ચિત્ર કે વસ્તુઓનું ફકરા સ્વરૂપે વર્ણન કરે છે. | V7: શબ્દો, શબ્દસમુહો અન્ય માહિતી પરથી પરિચ્છેદ લખે છે. | W7: સત્રાંતે વિદ્યાર્થીઓએ મેળવેલ જે તે નિશાનીઓની સંખ્યા | Z7: 40 માંથી મેળવેલ ગુણ
C8: 1 | D8: 2 | E8: 3 | F8: 4 | G8: 5 | H8: 6 | I8: 7 | J8: 8 | K8: 9 | L8: 10 | M8: 11 | N8: 12 | O8: 13 | P8: 14 | Q8: 15 | R8: 16 | S8: 17 | T8: 18 | U8: 19 | V8: 20 | W8: √ | X8: ? | Y8: ×
A9: =Student!A3 | B9: =IF(Student!B3="","",Student!B3) | W9: =IF(C9="","",COUNTIF(C9:V9,$W$8)) | X9: =IF(C9="","",COUNTIF(C9:V9,$X$8)) | Y9: =IF(C9="","",COUNTIF(C9:V9,$Y$8)) | Z9: =IF(C9="","",(W9*2))
A10: =Student!A4 | B10: =IF(Student!B4="","",Student!B4) | W10: =IF(C10="","",COUNTIF(C10:V10,$W$8)) | X10: =IF(C10="","",COUNTIF(C10:V10,$X$8)) | Y10: =IF(C10="","",COUNTIF(C10:V10,$Y$8)) | Z10: =IF(C10="","",(W10*2))
A11: =Student!A5 | B11: =IF(Student!B5="","",Student!B5) | W11: =IF(C11="","",COUNTIF(C11:V11,$W$8)) | X11: =IF(C11="","",COUNTIF(C11:V11,$X$8)) | Y11: =IF(C11="","",COUNTIF(C11:V11,$Y$8)) | Z11: =IF(C11="","",(W11*2))
A12: =Student!A6 | B12: =IF(Student!B6="","",Student!B6) | W12: =IF(C12="","",COUNTIF(C12:V12,$W$8)) | X12: =IF(C12="","",COUNTIF(C12:V12,$X$8)) | Y12: =IF(C12="","",COUNTIF(C12:V12,$Y$8)) | Z12: =IF(C12="","",(W12*2))
A13: =Student!A7 | B13: =IF(Student!B7="","",Student!B7) | W13: =IF(C13="","",COUNTIF(C13:V13,$W$8)) | X13: =IF(C13="","",COUNTIF(C13:V13,$X$8)) | Y13: =IF(C13="","",COUNTIF(C13:V13,$Y$8)) | Z13: =IF(C13="","",(W13*2))
A14: =Student!A8 | B14: =IF(Student!B8="","",Student!B8) | W14: =IF(C14="","",COUNTIF(C14:V14,$W$8)) | X14: =IF(C14="","",COUNTIF(C14:V14,$X$8)) | Y14: =IF(C14="","",COUNTIF(C14:V14,$Y$8)) | Z14: =IF(C14="","",(W14*2))
A15: =Student!A9 | B15: =IF(Student!B9="","",Student!B9) | W15: =IF(C15="","",COUNTIF(C15:V15,$W$8)) | X15: =IF(C15="","",COUNTIF(C15:V15,$X$8)) | Y15: =IF(C15="","",COUNTIF(C15:V15,$Y$8)) | Z15: =IF(C15="","",(W15*2))
A16: =Student!A10 | B16: =IF(Student!B10="","",Student!B10) | W16: =IF(C16="","",COUNTIF(C16:V16,$W$8)) | X16: =IF(C16="","",COUNTIF(C16:V16,$X$8)) | Y16: =IF(C16="","",COUNTIF(C16:V16,$Y$8)) | Z16: =IF(C16="","",(W16*2))
A17: =Student!A11 | B17: =IF(Student!B11="","",Student!B11) | W17: =IF(C17="","",COUNTIF(C17:V17,$W$8)) | X17: =IF(C17="","",COUNTIF(C17:V17,$X$8)) | Y17: =IF(C17="","",COUNTIF(C17:V17,$Y$8)) | Z17: =IF(C17="","",(W17*2))
A18: =Student!A12 | B18: =IF(Student!B12="","",Student!B12) | W18: =IF(C18="","",COUNTIF(C18:V18,$W$8)) | X18: =IF(C18="","",COUNTIF(C18:V18,$X$8)) | Y18: =IF(C18="","",COUNTIF(C18:V18,$Y$8)) | Z18: =IF(C18="","",(W18*2))
A19: =Student!A13 | B19: =IF(Student!B13="","",Student!B13) | W19: =IF(C19="","",COUNTIF(C19:V19,$W$8)) | X19: =IF(C19="","",COUNTIF(C19:V19,$X$8)) | Y19: =IF(C19="","",COUNTIF(C19:V19,$Y$8)) | Z19: =IF(C19="","",(W19*2))
A20: =Student!A14 | B20: =IF(Student!B14="","",Student!B14) | W20: =IF(C20="","",COUNTIF(C20:V20,$W$8)) | X20: =IF(C20="","",COUNTIF(C20:V20,$X$8)) | Y20: =IF(C20="","",COUNTIF(C20:V20,$Y$8)) | Z20: =IF(C20="","",(W20*2))
... A104: =Student!A98 | B104: =IF(Student!B98="","",Student!B98) | W104: =IF(C104="","",COUNTIF(C104:V104,$W$8)) | X104: =IF(C104="","",COUNTIF(C104:V104,$X$8)) | Y104: =IF(C104="","",COUNTIF(C104:V104,$Y$8)) | Z104: =IF(C104="","",(W104*2))
B108: વિષય શિક્ષકની સહી | R108: આચાર્યની સહી/સિક્કા

Sheet 8 Sanskrit
A1: પરિશિષ્ટ - A
A2: રચનાત્મક મૂલ્યાંકન
B3: ધોરણ અને વર્ગ :- | C3: =School!B8 -> 8 | G3: વિષય :- | I3: સંસ્કૃત | N3: સત્ર :- | P3: પ્રથમ | T3: વર્ષ :- | V3: =School!B9 -> 2025 - '26
C5: અભ્યાસક્રમ પ્રમાણે પ્રતિનિધિત્વરૂપ હેતુઓ (મહત્તમ :- ૨૦)
C6: चित्रपदानि १,२ | F6: आत्मश्रध्धाया: प्रभाव: | H6: एहि सुधिर | J6: शिलाया: प्रवास: | L6: विनोदपधानि | O6: सड्ख्या | R6: मम दिनचर्या | U6: भाषा सज्जता
A7: ક્રમ | B7: વિદ્યાર્થીનું નામ | C7: પરિચિત તેમજ કાલ્પનિક પરિસ્થિતિમાં સંવાદોમાંના વાકયો બોલી શકે છે. | D7: ઉદાહરણના આધારે સંસ્કૃત ભાષામાં નવા શબ્દો તથા વાક્યો લખી શકે છે. | E7: ચિત્રોના આધારે એ વસ્તુનું નામ કે ક્રિયા ઓળખે અને સંસ્કૃતમાં લખી શકે છે. | F7: સરળ પદ્યો (સુભાષિતો, પ્રહેલિકા, ગીતો) ટૂંકીવાર્તા, બોધ કથા, પ્રસંગ કથા સાંભળીને સમજી શકે છે. | G7: ગદ્યઅંશોનું આરોહ-અવરોહ અને હાવભાવ સાથે વાંચન કરી શકે છે. | H7: સરળ પદ્યો (સુભાષિતો, પ્રહેલિકા અને ગીતો) નો શુદ્ધ પાઠ કરી શકશે. | I7: પા.પુ.ના આધારે તેમજ વાતચીત, ફકરા, કા.પંક્તિના આધારે પૂછેલા પ્રશ્નોના જવાબ સંસ્કૃતમાં લખી શકે છે. | J7: સાદી સરળ વાતચીત અને વર્ણન સાંભળીને સમજી શકે છે. | K7: સરળ ગુજરાતી શબ્દો તથા વાક્યોનો સંસ્કૃતમાં અનુવાદ કરી શકે છે. | L7: સાદી સરળ વાતચીત અને વર્ણનને લગતા ચાર વાકયો બોલી શકે છે. | M7: સાદી સરળ વાતચીત અને વર્ણનને લગતા ચાર જેટલા પદવાળા વાક્યો વાંચી શકે છે. | N7: સાદા તેમજ જોડાક્ષર યુક્ત પદો સાથેના પરિચ્છેદનું શ્રુતલેખન કરી શકે છે. | O7: 1 થી 100 સુધીની સંખ્યા સાંભળીને સમજી શકે છે. | P7: એક થી સો સુધીની સંખ્યા વાંચી શકે છે. | Q7: એક થી સો સુધીની સંખ્યા શબ્દોમાં અને અંકોમાં લખી શકે છે. | R7: પાંચ કે દશ મિનિટ વધારે કે ઓછી હોય તે સાથેનો સમય સાંભળીને સમજી શકે છે. | S7: દિનચર્યા, પ્રસંગ વર્ણન તથા કથાને લગતા વાક્યોનું સ્વતંત્રલેખન કરી શકે છે. | T7: પાંચ અને દસ મિનિટ વધારે કે ઓછા હોય તેવા સમયનું લેખન શબ્દોમાં અને અંકોમાં કરી શકે છે. | U7: સંસ્કૃત ભાષામાં સામાન્ય વ્યવહારમાં ઉપયોગી સંભાષણ કરી શકે છે. | V7: સંસ્કૃત ભાષાના વ્યા. વ્યાકરણ અને માતૃભાષાના વ્યાકરણ વચ્ચેની સામ્યતા જાણી શકે છે. | W7: સત્રાંતે વિદ્યાર્થીઓએ મેળવેલ જે તે નિશાનીઓની સંખ્યા | Z7: 40 માંથી મેળવેલ ગુણ
C8: 1 | D8: 2 | E8: 3 | F8: 4 | G8: 5 | H8: 6 | I8: 7 | J8: 8 | K8: 9 | L8: 10 | M8: 11 | N8: 12 | O8: 13 | P8: 14 | Q8: 15 | R8: 16 | S8: 17 | T8: 18 | U8: 19 | V8: 20 | W8: √ | X8: ? | Y8: ×
A9: =Student!A3 | B9: =IF(Student!B3="","",Student!B3) | W9: =IF(C9="","",COUNTIF(C9:V9,$W$8)) | X9: =IF(C9="","",COUNTIF(C9:V9,$X$8)) | Y9: =IF(C9="","",COUNTIF(C9:V9,$Y$8)) | Z9: =IF(C9="","",(W9*2))
A10: =Student!A4 | B10: =IF(Student!B4="","",Student!B4) | W10: =IF(C10="","",COUNTIF(C10:V10,$W$8)) | X10: =IF(C10="","",COUNTIF(C10:V10,$X$8)) | Y10: =IF(C10="","",COUNTIF(C10:V10,$Y$8)) | Z10: =IF(C10="","",(W10*2))
A11: =Student!A5 | B11: =IF(Student!B5="","",Student!B5) | W11: =IF(C11="","",COUNTIF(C11:V11,$W$8)) | X11: =IF(C11="","",COUNTIF(C11:V11,$X$8)) | Y11: =IF(C11="","",COUNTIF(C11:V11,$Y$8)) | Z11: =IF(C11="","",(W11*2))
A12: =Student!A6 | B12: =IF(Student!B6="","",Student!B6) | W12: =IF(C12="","",COUNTIF(C12:V12,$W$8)) | X12: =IF(C12="","",COUNTIF(C12:V12,$X$8)) | Y12: =IF(C12="","",COUNTIF(C12:V12,$Y$8)) | Z12: =IF(C12="","",(W12*2))
A13: =Student!A7 | B13: =IF(Student!B7="","",Student!B7) | W13: =IF(C13="","",COUNTIF(C13:V13,$W$8)) | X13: =IF(C13="","",COUNTIF(C13:V13,$X$8)) | Y13: =IF(C13="","",COUNTIF(C13:V13,$Y$8)) | Z13: =IF(C13="","",(W13*2))
A14: =Student!A8 | B14: =IF(Student!B8="","",Student!B8) | W14: =IF(C14="","",COUNTIF(C14:V14,$W$8)) | X14: =IF(C14="","",COUNTIF(C14:V14,$X$8)) | Y14: =IF(C14="","",COUNTIF(C14:V14,$Y$8)) | Z14: =IF(C14="","",(W14*2))
A15: =Student!A9 | B15: =IF(Student!B9="","",Student!B9) | W15: =IF(C15="","",COUNTIF(C15:V15,$W$8)) | X15: =IF(C15="","",COUNTIF(C15:V15,$X$8)) | Y15: =IF(C15="","",COUNTIF(C15:V15,$Y$8)) | Z15: =IF(C15="","",(W15*2))
A16: =Student!A10 | B16: =IF(Student!B10="","",Student!B10) | W16: =IF(C16="","",COUNTIF(C16:V16,$W$8)) | X16: =IF(C16="","",COUNTIF(C16:V16,$X$8)) | Y16: =IF(C16="","",COUNTIF(C16:V16,$Y$8)) | Z16: =IF(C16="","",(W16*2))
A17: =Student!A11 | B17: =IF(Student!B11="","",Student!B11) | W17: =IF(C17="","",COUNTIF(C17:V17,$W$8)) | X17: =IF(C17="","",COUNTIF(C17:V17,$X$8)) | Y17: =IF(C17="","",COUNTIF(C17:V17,$Y$8)) | Z17: =IF(C17="","",(W17*2))
A18: =Student!A12 | B18: =IF(Student!B12="","",Student!B12) | W18: =IF(C18="","",COUNTIF(C18:V18,$W$8)) | X18: =IF(C18="","",COUNTIF(C18:V18,$X$8)) | Y18: =IF(C18="","",COUNTIF(C18:V18,$Y$8)) | Z18: =IF(C18="","",(W18*2))
A19: =Student!A13 | B19: =IF(Student!B13="","",Student!B13) | W19: =IF(C19="","",COUNTIF(C19:V19,$W$8)) | X19: =IF(C19="","",COUNTIF(C19:V19,$X$8)) | Y19: =IF(C19="","",COUNTIF(C19:V19,$Y$8)) | Z19: =IF(C19="","",(W19*2))
A20: =Student!A14 | B20: =IF(Student!B14="","",Student!B14) | W20: =IF(C20="","",COUNTIF(C20:V20,$W$8)) | X20: =IF(C20="","",COUNTIF(C20:V20,$X$8)) | Y20: =IF(C20="","",COUNTIF(C20:V20,$Y$8)) | Z20: =IF(C20="","",(W20*2))
... A104: =Student!A98 | B104: =IF(Student!B98="","",Student!B98) | W104: =IF(C104="","",COUNTIF(C104:V104,$W$8)) | X104: =IF(C104="","",COUNTIF(C104:V104,$X$8)) | Y104: =IF(C104="","",COUNTIF(C104:V104,$Y$8)) | Z104: =IF(C104="","",(W104*2))
B107: વિષય શિક્ષકની સહી | R107: આચાર્યની સહી/સિક્કા

Sheet 8 Guj (2)
A1: પરિશિષ્ટ - A
A2: રચનાત્મક મૂલ્યાંકન
B3: ધોરણ અને વર્ગ :- | C3: =School!B8 -> 8 | G3: વિષય :- | I3: ગુજરાતી | N3: સત્ર :- | P3: દ્વિતીય | T3: વર્ષ :- | V3: =School!B9 -> 2025 - '26
C5: અભ્યાસક્રમ પ્રમાણે પ્રતિનિધિત્વરૂપ હેતુઓ (મહત્તમ :- ૨૦)
C6: ઉત્તામે આપ્યા ઉત્તર | E6: ચીલઝડપ | G6: ચાલ મજાની આંબાવાડી | I6: બાબુ વીજળી | K6: પહેલવહેલો નિર્ણય | M6: જાત્રા ફળી ! | O6: ચિત્ત તું શીદને ચિંતા ધરે | Q6: માંડી અમારી વાત | S6: સિલ્વર સ્ક્રીન | U6: વાવી ઉજાગરો
A7: ક્રમ | B7: વિદ્યાર્થીનું નામ | C7: પરિચિત પરિસ્થિતિમાં સંવાદ, ચર્ચા, વર્ણન, વિશ્લેષણ કરી પોતાનાઅભિપ્રાય વ્યકત કરે છે. | D7: આપેલ ફકારામાંથી અયોગ્ય વિગતો શોધી અલગ કરી શકે/ સુધારો કરી શકે છે. | E7: સાંભળેલી અનુભવ જન્ય સામગ્રીમાંથી યોગ્ય તારણ કાઢી પ્રશ્નોનાં જવાબ લખે છે. | F7: વ્યાકરણ સમજીને વ્યવહારિક બોલચાલની ભાષામાં ઉપયોગ કરી શકે છે. | G7: વિવિધ સાહિત્ય-સ્વરૂપ સાંભળે છે, સમજે છે અને વ્યક્તિગત કે સામુહિક ગાન કરી શકે છે. | H7: બીલ, રીપોર્ટ, રિસીપ્ટ વગેરેનો માહિતી મેળવવા માટે ઉપયોગ કરે છે. | I7: વાંચેલી વિગતોમાંથી તળપદા શબ્દો શોધી અર્થ આપી શકે છે. | J7: અનુભવેલી સારી બાબતો અંગે ચિંતન કરી વિકટ પરિસ્થિતિમાં યોગ્ય ઉકેલ શોધી શકે છે. | K7: આપેલા વાક્યોને વાર્તા, ઘટના, પ્રસંગ આધારે યોગ્ય ક્રમમાં ગોઠવી શકે છે. | L7: એકમમાં આવતા અન્ય ભાષાના શબ્દો અલગ કરી તેનો અર્થ શોધી શકે છે. | M7: કહેવતો, રૂઢીપ્રયોગો વગરેનો અર્થ સમજી વ્યવહારમાં ઉપયોગ કરતા શીખે છે. | N7: આપેલા શબ્દોનો ઉપયોગ કરી અર્થપૂર્ણ વાક્ય રચના કરી શકે છે. | O7: કાવ્યને કંઠસ્થ કરી વર્ગમાં રજુ કરી શકે છે. | P7: કાવ્યના આધારે પ્રસંગ કે ઘટના સમજીને રજુ કરી શકે છે. | Q7: પરિચિત પરિસ્થિતિમાં સંવાદ, ચર્ચા, વર્ણન, વિશ્લેષણ કરી પોતાનાઅભિપ્રાય વ્યકત કરે છે. | R7: વાક્યના દ્વીરુક્ત પ્રયોગ અને રવાનુકારી પ્રયોગ ના શબ્દો ઓળખી શકે છે. | S7: સાંભળેલી અનુભવ જન્ય સામગ્રીમાંથી યોગ્ય તારણ કાઢી શકે છે. | T7: સંવાદ સાંભળી/વાંચી પૂર્ણ કરી શકે છે. | U7: કાવ્યમાં વપરાયેલ પ્રાસયુક્ત શબ્દો શોધી જોડી બનાવી શકે છે. | V7: આપેલ ચિત્રનું વર્ણન કરી શકે છે./ સ્વતંત્ર લેખન કરી શકે છે. | W7: સત્રાંતે વિદ્યાર્થીઓએ મેળવેલ જે તે નિશાનીઓની સંખ્યા | Z7: 40 માંથી મેળવેલ ગુણ
C8: 1 | D8: 2 | E8: 3 | F8: 4 | G8: 5 | H8: 6 | I8: 7 | J8: 8 | K8: 9 | L8: 10 | M8: 11 | N8: 12 | O8: 13 | P8: 14 | Q8: 15 | R8: 16 | S8: 17 | T8: 18 | U8: 19 | V8: 20 | W8: √ | X8: ? | Y8: ×
A9: =Student!A3 | B9: =IF(Student!B3="","",Student!B3) | W9: =IF(C9="","",COUNTIF(C9:V9,$W$8)) | X9: =IF(C9="","",COUNTIF(C9:V9,$X$8)) | Y9: =IF(C9="","",COUNTIF(C9:V9,$Y$8)) | Z9: =IF(C9="","",(W9*2))
A10: =Student!A4 | B10: =IF(Student!B4="","",Student!B4) | W10: =IF(C10="","",COUNTIF(C10:V10,$W$8)) | X10: =IF(C10="","",COUNTIF(C10:V10,$X$8)) | Y10: =IF(C10="","",COUNTIF(C10:V10,$Y$8)) | Z10: =IF(C10="","",(W10*2))
A11: =Student!A5 | B11: =IF(Student!B5="","",Student!B5) | W11: =IF(C11="","",COUNTIF(C11:V11,$W$8)) | X11: =IF(C11="","",COUNTIF(C11:V11,$X$8)) | Y11: =IF(C11="","",COUNTIF(C11:V11,$Y$8)) | Z11: =IF(C11="","",(W11*2))
A12: =Student!A6 | B12: =IF(Student!B6="","",Student!B6) | W12: =IF(C12="","",COUNTIF(C12:V12,$W$8)) | X12: =IF(C12="","",COUNTIF(C12:V12,$X$8)) | Y12: =IF(C12="","",COUNTIF(C12:V12,$Y$8)) | Z12: =IF(C12="","",(W12*2))
A13: =Student!A7 | B13: =IF(Student!B7="","",Student!B7) | W13: =IF(C13="","",COUNTIF(C13:V13,$W$8)) | X13: =IF(C13="","",COUNTIF(C13:V13,$X$8)) | Y13: =IF(C13="","",COUNTIF(C13:V13,$Y$8)) | Z13: =IF(C13="","",(W13*2))
A14: =Student!A8 | B14: =IF(Student!B8="","",Student!B8) | W14: =IF(C14="","",COUNTIF(C14:V14,$W$8)) | X14: =IF(C14="","",COUNTIF(C14:V14,$X$8)) | Y14: =IF(C14="","",COUNTIF(C14:V14,$Y$8)) | Z14: =IF(C14="","",(W14*2))
A15: =Student!A9 | B15: =IF(Student!B9="","",Student!B9) | W15: =IF(C15="","",COUNTIF(C15:V15,$W$8)) | X15: =IF(C15="","",COUNTIF(C15:V15,$X$8)) | Y15: =IF(C15="","",COUNTIF(C15:V15,$Y$8)) | Z15: =IF(C15="","",(W15*2))
A16: =Student!A10 | B16: =IF(Student!B10="","",Student!B10) | W16: =IF(C16="","",COUNTIF(C16:V16,$W$8)) | X16: =IF(C16="","",COUNTIF(C16:V16,$X$8)) | Y16: =IF(C16="","",COUNTIF(C16:V16,$Y$8)) | Z16: =IF(C16="","",(W16*2))
A17: =Student!A11 | B17: =IF(Student!B11="","",Student!B11) | W17: =IF(C17="","",COUNTIF(C17:V17,$W$8)) | X17: =IF(C17="","",COUNTIF(C17:V17,$X$8)) | Y17: =IF(C17="","",COUNTIF(C17:V17,$Y$8)) | Z17: =IF(C17="","",(W17*2))
A18: =Student!A12 | B18: =IF(Student!B12="","",Student!B12) | W18: =IF(C18="","",COUNTIF(C18:V18,$W$8)) | X18: =IF(C18="","",COUNTIF(C18:V18,$X$8)) | Y18: =IF(C18="","",COUNTIF(C18:V18,$Y$8)) | Z18: =IF(C18="","",(W18*2))
A19: =Student!A13 | B19: =IF(Student!B13="","",Student!B13) | W19: =IF(C19="","",COUNTIF(C19:V19,$W$8)) | X19: =IF(C19="","",COUNTIF(C19:V19,$X$8)) | Y19: =IF(C19="","",COUNTIF(C19:V19,$Y$8)) | Z19: =IF(C19="","",(W19*2))
A20: =Student!A14 | B20: =IF(Student!B14="","",Student!B14) | W20: =IF(C20="","",COUNTIF(C20:V20,$W$8)) | X20: =IF(C20="","",COUNTIF(C20:V20,$X$8)) | Y20: =IF(C20="","",COUNTIF(C20:V20,$Y$8)) | Z20: =IF(C20="","",(W20*2))
... A104: =Student!A98 | B104: =IF(Student!B98="","",Student!B98) | W104: =IF(C104="","",COUNTIF(C104:V104,$W$8)) | X104: =IF(C104="","",COUNTIF(C104:V104,$X$8)) | Y104: =IF(C104="","",COUNTIF(C104:V104,$Y$8)) | Z104: =IF(C104="","",(W104*2))
B107: વિષય શિક્ષકની સહી | R107: આચાર્યની સહી/સિક્કા

Sheet 8 Maths (2)
A1: પરિશિષ્ટ - A
A2: રચનાત્મક મૂલ્યાંકન
B3: ધોરણ અને વર્ગ :- | C3: =School!B8 -> 8 | G3: વિષય :- | I3: ગણિત | N3: સત્ર :- | P3: દ્વિતીય | T3: વર્ષ :- | V3: =School!B9 -> 2025 - '26
C5: અભ્યાસક્રમ પ્રમાણે પ્રતિનિધિત્વરૂપ હેતુઓ (મહત્તમ :- ૨૦)
C6: રાશિઓની તુલના | E6: બૈજિક પદાવલિઓ અને નિત્યસમ | H6: માપન | K6: ઘાત અને ઘાતાંક | N6: સમપ્રમાણ અને વ્યસ્ત પ્રમાણ | P6: અવયવીકરણ | T6: આલેખનો પરિચય
A7: ક્રમ | B7: વિદ્યાર્થીનું નામ | C7: નફો ખોટ અને વળતર GST જેવા વ્યવહારોમાં ટકાનો ઉપયોગ કરી ગણતરી કરે છે. | D7: સાદું વ્યાજ અને ચક્રવૃદ્ધિ વ્યાજ વગેરેને લગતા કોયડા ઉકેલે છે | E7: સજાતિય-વિજાતીય પદો ઓળખે છે | F7: બૈજિક પદાવલિના સરવાળા બાદબાકી કરે છે | G7: બૈજિક પદાવલિના ગુણાકાર કરે છે | H7: આપેલ બહુકોણને વિવધ ભાગોમાં વિભાજિત કરી ક્ષેત્રફળની ગણતરી કરે છે. | I7: સમલંબ ચતુષ્કોણનું ક્ષેત્રફળ શોધે છે. | J7: ઘન,લંબઘન અને નળાકાર વસ્તુઓના પૃષ્ઠફળ અને ઘનફળ શોધે છે. | K7: ઋણ ઘાતાંકને ઘનઘાતાંક તથા ઘન ઘાતાંકને ઋણ ઘાતાંકમાં દર્શાવે છે. | L7: ઘાતાંકના નિયમોનો ઉપયોગ કરીને સાદુંરૂપ આપે છે/કિંમત શોધે છે | M7: ઘાતાંકના નિયમોનો ઉપયોગ કરી નાની-મોટી સંખ્યાઓને પ્રમાણિત સ્વરૂપે દર્શાવે છે. | N7: સમપ્રમાણ ને લગતા કોયડા ઉકેલે છે. | O7: વ્યસ્તપ્રમાણ ને લગતા કોયડા ઉકેલે છે | P7: સામાન્ય અવયવની રીતે પદાવલિના અવયવ શોધે છે. | Q7: (x+b)(x+b) પ્રકારના અવયવો શોધે છે. | R7: નિત્યસમનો ઉપયોગ કરી પદાવલિના અવયવો શોધે છે. | S7: બૈજિક પદાવલિના ભાગાકાર કરે છે | T7: રેખીય આલેખનું અર્થઘટન કરી શકે છે. | U7: આપેલ માહિતી પરથી રેખા આલેખ દોરે શકે છે. | V7: આપેલ માહિતી અને આલેખ પરથી પ્રશ્નોના જવાબ આપે છે. | W7: સત્રાંતે વિદ્યાર્થીઓએ મેળવેલ જે તે નિશાનીઓની સંખ્યા | Z7: 40 માંથી મેળવેલ ગુણ
C8: 1 | D8: 2 | E8: 3 | F8: 4 | G8: 5 | H8: 6 | I8: 7 | J8: 8 | K8: 9 | L8: 10 | M8: 11 | N8: 12 | O8: 13 | P8: 14 | Q8: 15 | R8: 16 | S8: 17 | T8: 18 | U8: 19 | V8: 20 | W8: √ | X8: ? | Y8: ×
A9: =Student!A3 | B9: =IF(Student!B3="","",Student!B3) | W9: =IF(C9="","",COUNTIF(C9:V9,$W$8)) | X9: =IF(C9="","",COUNTIF(C9:V9,$X$8)) | Y9: =IF(C9="","",COUNTIF(C9:V9,$Y$8)) | Z9: =IF(C9="","",(W9*2))
A10: =Student!A4 | B10: =IF(Student!B4="","",Student!B4) | W10: =IF(C10="","",COUNTIF(C10:V10,$W$8)) | X10: =IF(C10="","",COUNTIF(C10:V10,$X$8)) | Y10: =IF(C10="","",COUNTIF(C10:V10,$Y$8)) | Z10: =IF(C10="","",(W10*2))
A11: =Student!A5 | B11: =IF(Student!B5="","",Student!B5) | W11: =IF(C11="","",COUNTIF(C11:V11,$W$8)) | X11: =IF(C11="","",COUNTIF(C11:V11,$X$8)) | Y11: =IF(C11="","",COUNTIF(C11:V11,$Y$8)) | Z11: =IF(C11="","",(W11*2))
A12: =Student!A6 | B12: =IF(Student!B6="","",Student!B6) | W12: =IF(C12="","",COUNTIF(C12:V12,$W$8)) | X12: =IF(C12="","",COUNTIF(C12:V12,$X$8)) | Y12: =IF(C12="","",COUNTIF(C12:V12,$Y$8)) | Z12: =IF(C12="","",(W12*2))
A13: =Student!A7 | B13: =IF(Student!B7="","",Student!B7) | W13: =IF(C13="","",COUNTIF(C13:V13,$W$8)) | X13: =IF(C13="","",COUNTIF(C13:V13,$X$8)) | Y13: =IF(C13="","",COUNTIF(C13:V13,$Y$8)) | Z13: =IF(C13="","",(W13*2))
A14: =Student!A8 | B14: =IF(Student!B8="","",Student!B8) | W14: =IF(C14="","",COUNTIF(C14:V14,$W$8)) | X14: =IF(C14="","",COUNTIF(C14:V14,$X$8)) | Y14: =IF(C14="","",COUNTIF(C14:V14,$Y$8)) | Z14: =IF(C14="","",(W14*2))
A15: =Student!A9 | B15: =IF(Student!B9="","",Student!B9) | W15: =IF(C15="","",COUNTIF(C15:V15,$W$8)) | X15: =IF(C15="","",COUNTIF(C15:V15,$X$8)) | Y15: =IF(C15="","",COUNTIF(C15:V15,$Y$8)) | Z15: =IF(C15="","",(W15*2))
A16: =Student!A10 | B16: =IF(Student!B10="","",Student!B10) | W16: =IF(C16="","",COUNTIF(C16:V16,$W$8)) | X16: =IF(C16="","",COUNTIF(C16:V16,$X$8)) | Y16: =IF(C16="","",COUNTIF(C16:V16,$Y$8)) | Z16: =IF(C16="","",(W16*2))
A17: =Student!A11 | B17: =IF(Student!B11="","",Student!B11) | W17: =IF(C17="","",COUNTIF(C17:V17,$W$8)) | X17: =IF(C17="","",COUNTIF(C17:V17,$X$8)) | Y17: =IF(C17="","",COUNTIF(C17:V17,$Y$8)) | Z17: =IF(C17="","",(W17*2))
A18: =Student!A12 | B18: =IF(Student!B12="","",Student!B12) | W18: =IF(C18="","",COUNTIF(C18:V18,$W$8)) | X18: =IF(C18="","",COUNTIF(C18:V18,$X$8)) | Y18: =IF(C18="","",COUNTIF(C18:V18,$Y$8)) | Z18: =IF(C18="","",(W18*2))
A19: =Student!A13 | B19: =IF(Student!B13="","",Student!B13) | W19: =IF(C19="","",COUNTIF(C19:V19,$W$8)) | X19: =IF(C19="","",COUNTIF(C19:V19,$X$8)) | Y19: =IF(C19="","",COUNTIF(C19:V19,$Y$8)) | Z19: =IF(C19="","",(W19*2))
A20: =Student!A14 | B20: =IF(Student!B14="","",Student!B14) | W20: =IF(C20="","",COUNTIF(C20:V20,$W$8)) | X20: =IF(C20="","",COUNTIF(C20:V20,$X$8)) | Y20: =IF(C20="","",COUNTIF(C20:V20,$Y$8)) | Z20: =IF(C20="","",(W20*2))
... A104: =Student!A98 | B104: =IF(Student!B98="","",Student!B98) | W104: =IF(C104="","",COUNTIF(C104:V104,$W$8)) | X104: =IF(C104="","",COUNTIF(C104:V104,$X$8)) | Y104: =IF(C104="","",COUNTIF(C104:V104,$Y$8)) | Z104: =IF(C104="","",(W104*2))
B108: વિષય શિક્ષકની સહી | R108: આચાર્યની સહી/સિક્કા

Sheet  8 Sci (2)
A2: રચનાત્મક મૂલ્યાંકન
B3: ધોરણ અને વર્ગ :- | C3: =School!B8 -> 8 | G3: વિષય :- | I3: વિજ્ઞાન | N3: સત્ર :- | P3: દ્વિતીય | T3: વર્ષ :- | V3: =School!B9 -> 2025 - '26
C5: અભ્યાસક્રમ પ્રમાણે પ્રતિનિધિત્વરૂપ હેતુઓ (મહત્તમ :- ૨૦)
A6: ક્રમ | B6: વિદ્યાર્થીનું નામ | C6: કિશોરાવસ્થા તરફ | F6: બળ અને દબાણ | I6: ઘર્ષણ | L6: ધ્વનિ | O6: વિદ્યુત પ્રવાહની રસાયણિક અસરો | R6: કેટલીક કુદરતી ઘટનાઓ | T6: પ્રકાશ | W6: સત્રાંતે વિદ્યાર્થીઓએ મેળવેલ જે તે નિશાનીઓની સંખ્યા | Z6: 40 માંથી મેળવેલ ગુણ
C7: તરુણાવસ્થામાં થતા શારીરિક ફેરફારો અને તેનુ મહત્વ સમજે છે | D7: મનુષ્યમાં પ્રજનનકાળની અવધિ અને સંતતિનું લિંગ નિશ્ચયનમા રંગસૂત્રોની ભૂમિકા સમજે છે | E7: શરીરમાં વિવિધ અંત્ર:સ્ત્રાવોનાં ઉપયોગ વિશે સમજે છે. | F7: બળ વિશે ઊંડાણપૂર્વક સમજી પ્રક્રિયાઓ ઘટનાઓ સમજાવે છે. | G7: સંપર્ક બળ અને બિન સંપર્ક બળ વિશે સમજે છે. | H7: બળ- દબાણ ને લગતા વ્યવહારો ઉપયોગને સમજે છે અને પ્રયોગ કરી શકે છે | I7: ઘર્ષણ બળ અને તેના ઉપર અસર કરતા પરિબળો, તેમજ તેના લાભાલાભ જાણે છે | J7: ઘર્ષણબળના વિવિધ પ્રકારો સમજે અને વ્યવહારમા ઉપયોગ કરે છે. | K7: તરલ ઘર્ષણ વિશે સમજે છે. | L7: ધ્વનિનું મહત્વ જાણે અને માધ્યમની સમજ કેળવે છે ધ્વનિ આધારિત વિવિધ નમૂનાનો નિર્માણ કરે છે દા.ત.ટેલિફોન | M7: કંપનવિસ્તાર આવર્તકાળ આવૃત્તિ શ્રાવ્ય-અશ્રાવ્ય ધ્વનિ સંગીત વગેરે વિશે જાણે છે | N7: ધ્વનિ પ્રદૂષણ તેમજ તેને અટકાવવાના ઉપાયો સમજે અને વ્યવહારમાં ઉપયોગ કરે છે | O7: વિધુત પ્રવાહની રાસાયણિક અસરો વિશે જાણે છે. | P7: ઇલેક્ટ્રો પ્લેટિંગનું મહત્વ સમજે છે | Q7: ઇલેક્ટ્રોમેગ્નેટિક ટેસ્ટર તેમજ વ્યવહારમાં ઉપયોગી ઇલેક્ટ્રિક સાધનોના વપરાશના કાળજીના પગલા જાણે છે | R7: વીજળી ભૂકંપ જેવી ઘટનાઓ થવાના કારણો જાણે છે. | S7: કુદરતી આફતો સામે પોતાના રક્ષણ માટેના પગલા સમજે છે | T7: પ્રકાશના પરાવર્તનના નિયમો જાણે તેનાથી મળતા પ્રતિબિંબ વિશે સમજે છે | U7: પ્રકાશીય સાધનો તેના ઉપયોગ તેમજ આંખની દેખભાળ વિશે સજાગ રહે અને વ્યવહારુ જીવનમાં ઉપયોગ કરે છે | V7: બ્રેઇલ લિપી વિશે જાણે છે.
C8: 1 | D8: 2 | E8: 3 | F8: 4 | G8: 5 | H8: 6 | I8: 7 | J8: 8 | K8: 9 | L8: 10 | M8: 11 | N8: 12 | O8: 13 | P8: 14 | Q8: 15 | R8: 16 | S8: 17 | T8: 18 | U8: 19 | V8: 20 | W8: √ | X8: ? | Y8: ×
A9: =Student!A3 | B9: =IF(Student!B3="","",Student!B3) | W9: =IF(C9="","",COUNTIF(C9:V9,$W$8)) | X9: =IF(C9="","",COUNTIF(C9:V9,$X$8)) | Y9: =IF(C9="","",COUNTIF(C9:V9,$Y$8)) | Z9: =IF(C9="","",(W9*2))
A10: =Student!A4 | B10: =IF(Student!B4="","",Student!B4) | W10: =IF(C10="","",COUNTIF(C10:V10,$W$8)) | X10: =IF(C10="","",COUNTIF(C10:V10,$X$8)) | Y10: =IF(C10="","",COUNTIF(C10:V10,$Y$8)) | Z10: =IF(C10="","",(W10*2))
A11: =Student!A5 | B11: =IF(Student!B5="","",Student!B5) | W11: =IF(C11="","",COUNTIF(C11:V11,$W$8)) | X11: =IF(C11="","",COUNTIF(C11:V11,$X$8)) | Y11: =IF(C11="","",COUNTIF(C11:V11,$Y$8)) | Z11: =IF(C11="","",(W11*2))
A12: =Student!A6 | B12: =IF(Student!B6="","",Student!B6) | W12: =IF(C12="","",COUNTIF(C12:V12,$W$8)) | X12: =IF(C12="","",COUNTIF(C12:V12,$X$8)) | Y12: =IF(C12="","",COUNTIF(C12:V12,$Y$8)) | Z12: =IF(C12="","",(W12*2))
A13: =Student!A7 | B13: =IF(Student!B7="","",Student!B7) | W13: =IF(C13="","",COUNTIF(C13:V13,$W$8)) | X13: =IF(C13="","",COUNTIF(C13:V13,$X$8)) | Y13: =IF(C13="","",COUNTIF(C13:V13,$Y$8)) | Z13: =IF(C13="","",(W13*2))
A14: =Student!A8 | B14: =IF(Student!B8="","",Student!B8) | W14: =IF(C14="","",COUNTIF(C14:V14,$W$8)) | X14: =IF(C14="","",COUNTIF(C14:V14,$X$8)) | Y14: =IF(C14="","",COUNTIF(C14:V14,$Y$8)) | Z14: =IF(C14="","",(W14*2))
A15: =Student!A9 | B15: =IF(Student!B9="","",Student!B9) | W15: =IF(C15="","",COUNTIF(C15:V15,$W$8)) | X15: =IF(C15="","",COUNTIF(C15:V15,$X$8)) | Y15: =IF(C15="","",COUNTIF(C15:V15,$Y$8)) | Z15: =IF(C15="","",(W15*2))
A16: =Student!A10 | B16: =IF(Student!B10="","",Student!B10) | W16: =IF(C16="","",COUNTIF(C16:V16,$W$8)) | X16: =IF(C16="","",COUNTIF(C16:V16,$X$8)) | Y16: =IF(C16="","",COUNTIF(C16:V16,$Y$8)) | Z16: =IF(C16="","",(W16*2))
A17: =Student!A11 | B17: =IF(Student!B11="","",Student!B11) | W17: =IF(C17="","",COUNTIF(C17:V17,$W$8)) | X17: =IF(C17="","",COUNTIF(C17:V17,$X$8)) | Y17: =IF(C17="","",COUNTIF(C17:V17,$Y$8)) | Z17: =IF(C17="","",(W17*2))
A18: =Student!A12 | B18: =IF(Student!B12="","",Student!B12) | W18: =IF(C18="","",COUNTIF(C18:V18,$W$8)) | X18: =IF(C18="","",COUNTIF(C18:V18,$X$8)) | Y18: =IF(C18="","",COUNTIF(C18:V18,$Y$8)) | Z18: =IF(C18="","",(W18*2))
A19: =Student!A13 | B19: =IF(Student!B13="","",Student!B13) | W19: =IF(C19="","",COUNTIF(C19:V19,$W$8)) | X19: =IF(C19="","",COUNTIF(C19:V19,$X$8)) | Y19: =IF(C19="","",COUNTIF(C19:V19,$Y$8)) | Z19: =IF(C19="","",(W19*2))
A20: =Student!A14 | B20: =IF(Student!B14="","",Student!B14) | W20: =IF(C20="","",COUNTIF(C20:V20,$W$8)) | X20: =IF(C20="","",COUNTIF(C20:V20,$X$8)) | Y20: =IF(C20="","",COUNTIF(C20:V20,$Y$8)) | Z20: =IF(C20="","",(W20*2))
... A104: =Student!A98 | B104: =IF(Student!B98="","",Student!B98) | W104: =IF(C104="","",COUNTIF(C104:V104,$W$8)) | X104: =IF(C104="","",COUNTIF(C104:V104,$X$8)) | Y104: =IF(C104="","",COUNTIF(C104:V104,$Y$8)) | Z104: =IF(C104="","",(W104*2))
B108: વિષય શિક્ષકની સહી | R108: આચાર્યની સહી/સિક્કા

Sheet 8 SS (2)
A1: પરિશિષ્ટ - A
A2: રચનાત્મક મૂલ્યાંકન
B3: ધોરણ અને વર્ગ :- | C3: =School!B8 -> 8 | G3: વિષય :- | I3: સામાજિક વિજ્ઞાન | N3: સત્ર :- | P3: દ્વિતીય | T3: વર્ષ :- | V3: =School!B9 -> 2025 - '26
C5: અભ્યાસક્રમ પ્રમાણે પ્રતિનિધિત્વરૂપ હેતુઓ (મહત્તમ :- ૨૦)
C6: એકમ ૫ | E6: એકમ ૬ | G6: એકમ ૧૨ | H6: એકમ ૧૩ | K6: એકમ ૭ | L6: એકમ ૧૭ | O6: એકમ ૮ | R6: એકમ ૧૮ | S6: એકમ ૧૯ | T6: એકમ ૧૪
A7: ક્રમ | B7: વિદ્યાર્થીનું નામ | C7: ભારતમાં નવીશિક્ષણ પદ્ધતિમાં સ્થાયીકરણનું વિશ્લેષણ કરે છે. | D7: જાતિવાદ, વિધવા લગ્ન, બાળલગ્ન ના સુધારણા માટેના કાયદાઓનું વિશ્લેષણ કરે છે. | E7: ઈ.સ. ૧૮૭૦ થી આઝાદીકાળ સુધીના ચળવળના સીમા ચિહ્નો દર્શાવે છે. | F7: દુનિયાના નકશામાં વસતીના અસમાન વિસ્તરણનું અર્થ ઘટન કરે છે. | G7: વિવિધ ઉદ્યોગોનું તેના કદ, કાચામાલ અને માલિકીના આધારે વર્ગીકરણ કરે છે. | H7: વિવિધ દેશોની વસતી દર્શાવતો સ્તંભ આલેખ દોરે છે. | I7: ભારતના વિવિધ રાજ્યોની વસ્તીના આંકડાને આધારે આલેખ બનાવી શકે છે. | J7: વસતી વધારાના કારણે સર્જાતી સમસ્યાઓ વિશે જાણકારી મેળવી સમજાવી શકે છે. | K7: આધુનિક સમયમાં કલા ક્ષેત્રમાં થયેલ વિકસના સીમાચિહન રૂપ બિંદુ સમજી શકે છે. | L7: ભારતીય ન્યાય પ્રણાલીની પદ્ધતિઓ ને સમજવાનો પ્રયત્ન કરે છે. | M7: FIR કઈ રીતે નોધાય તેનું નિદર્શન કરે છે. | N7: ઘરેલું હિંસાઓના, RTE, RTI વગેરે જેવા કાયદાઓ વિશે જાણી સમજાવે છે. | O7: રાષ્ટ્રનિર્માણની પ્રક્રિયામાં સીમાચિહન રૂપ કાર્યોનું વિશ્લેષણ કરે છે. | P7: ભારતના મહાન નેતાઓ વિષે જાણકારી મેળવે અને મહત્વ સમજે. | Q7: ભારતના સ્વતંત્રતામાં મહિલાઓના યોગદાનની નોધ કરે. | R7: પોતાના વિસ્તારના વંચિતો અને પીડિતોના કારણોનું પૃથાથ્કરણ કરે. | S7: પાણી, સ્વચ્છતા, માર્ગ, વીજળી વગેરે જેવી જાહેર સુવિધાઓ પૂરી પાડવામાં સરકારની ભૂમિકા ઓળખે છે. | T7: કુદરતી અને માનવ સર્જિત આફતો વિશે સમજ કેળવે. | U7: કુદરતી કે માનવ સર્જિત આફતો સામે રક્ષણ મેળવવાના ઉપાયો જાણે અને સમજાવે. | V7: દાવાનળ, ભૂસ્ખલન અને ઐધયોગિક હોનારતોના ભયસ્થાનો નું માપન કરી તેના ઉપાયો શોધશે. | W7: સત્રાંતે વિદ્યાર્થીઓએ મેળવેલ જે તે નિશાનીઓની સંખ્યા | Z7: 40 માંથી મેળવેલ ગુણ
C8: 1 | D8: 2 | E8: 3 | F8: 4 | G8: 5 | H8: 6 | I8: 7 | J8: 8 | K8: 9 | L8: 10 | M8: 11 | N8: 12 | O8: 13 | P8: 14 | Q8: 15 | R8: 16 | S8: 17 | T8: 18 | U8: 19 | V8: 20 | W8: √ | X8: ? | Y8: ×
A9: =Student!A3 | B9: =IF(Student!B3="","",Student!B3) | W9: =IF(C9="","",COUNTIF(C9:V9,$W$8)) | X9: =IF(C9="","",COUNTIF(C9:V9,$X$8)) | Y9: =IF(C9="","",COUNTIF(C9:V9,$Y$8)) | Z9: =IF(C9="","",(W9*2))
A10: =Student!A4 | B10: =IF(Student!B4="","",Student!B4) | W10: =IF(C10="","",COUNTIF(C10:V10,$W$8)) | X10: =IF(C10="","",COUNTIF(C10:V10,$X$8)) | Y10: =IF(C10="","",COUNTIF(C10:V10,$Y$8)) | Z10: =IF(C10="","",(W10*2))
A11: =Student!A5 | B11: =IF(Student!B5="","",Student!B5) | W11: =IF(C11="","",COUNTIF(C11:V11,$W$8)) | X11: =IF(C11="","",COUNTIF(C11:V11,$X$8)) | Y11: =IF(C11="","",COUNTIF(C11:V11,$Y$8)) | Z11: =IF(C11="","",(W11*2))
A12: =Student!A6 | B12: =IF(Student!B6="","",Student!B6) | W12: =IF(C12="","",COUNTIF(C12:V12,$W$8)) | X12: =IF(C12="","",COUNTIF(C12:V12,$X$8)) | Y12: =IF(C12="","",COUNTIF(C12:V12,$Y$8)) | Z12: =IF(C12="","",(W12*2))
A13: =Student!A7 | B13: =IF(Student!B7="","",Student!B7) | W13: =IF(C13="","",COUNTIF(C13:V13,$W$8)) | X13: =IF(C13="","",COUNTIF(C13:V13,$X$8)) | Y13: =IF(C13="","",COUNTIF(C13:V13,$Y$8)) | Z13: =IF(C13="","",(W13*2))
A14: =Student!A8 | B14: =IF(Student!B8="","",Student!B8) | W14: =IF(C14="","",COUNTIF(C14:V14,$W$8)) | X14: =IF(C14="","",COUNTIF(C14:V14,$X$8)) | Y14: =IF(C14="","",COUNTIF(C14:V14,$Y$8)) | Z14: =IF(C14="","",(W14*2))
A15: =Student!A9 | B15: =IF(Student!B9="","",Student!B9) | W15: =IF(C15="","",COUNTIF(C15:V15,$W$8)) | X15: =IF(C15="","",COUNTIF(C15:V15,$X$8)) | Y15: =IF(C15="","",COUNTIF(C15:V15,$Y$8)) | Z15: =IF(C15="","",(W15*2))
A16: =Student!A10 | B16: =IF(Student!B10="","",Student!B10) | W16: =IF(C16="","",COUNTIF(C16:V16,$W$8)) | X16: =IF(C16="","",COUNTIF(C16:V16,$X$8)) | Y16: =IF(C16="","",COUNTIF(C16:V16,$Y$8)) | Z16: =IF(C16="","",(W16*2))
A17: =Student!A11 | B17: =IF(Student!B11="","",Student!B11) | W17: =IF(C17="","",COUNTIF(C17:V17,$W$8)) | X17: =IF(C17="","",COUNTIF(C17:V17,$X$8)) | Y17: =IF(C17="","",COUNTIF(C17:V17,$Y$8)) | Z17: =IF(C17="","",(W17*2))
A18: =Student!A12 | B18: =IF(Student!B12="","",Student!B12) | W18: =IF(C18="","",COUNTIF(C18:V18,$W$8)) | X18: =IF(C18="","",COUNTIF(C18:V18,$X$8)) | Y18: =IF(C18="","",COUNTIF(C18:V18,$Y$8)) | Z18: =IF(C18="","",(W18*2))
A19: =Student!A13 | B19: =IF(Student!B13="","",Student!B13) | W19: =IF(C19="","",COUNTIF(C19:V19,$W$8)) | X19: =IF(C19="","",COUNTIF(C19:V19,$X$8)) | Y19: =IF(C19="","",COUNTIF(C19:V19,$Y$8)) | Z19: =IF(C19="","",(W19*2))
A20: =Student!A14 | B20: =IF(Student!B14="","",Student!B14) | W20: =IF(C20="","",COUNTIF(C20:V20,$W$8)) | X20: =IF(C20="","",COUNTIF(C20:V20,$X$8)) | Y20: =IF(C20="","",COUNTIF(C20:V20,$Y$8)) | Z20: =IF(C20="","",(W20*2))
... A104: =Student!A98 | B104: =IF(Student!B98="","",Student!B98) | W104: =IF(C104="","",COUNTIF(C104:V104,$W$8)) | X104: =IF(C104="","",COUNTIF(C104:V104,$X$8)) | Y104: =IF(C104="","",COUNTIF(C104:V104,$Y$8)) | Z104: =IF(C104="","",(W104*2))
B108: વિષય શિક્ષકની સહી | R108: આચાર્યની સહી/સિક્કા

Sheet 8 Hindi (2)
A1: પરિશિષ્ટ - A
A2: રચનાત્મક મૂલ્યાંકન
B3: ધોરણ અને વર્ગ :- | C3: =School!B8 -> 8 | G3: વિષય :- | I3: હિન્દી | N3: સત્ર :- | P3: દ્વિતીય | T3: વર્ષ :- | V3: =School!B9 -> 2025 - '26
C5: અભ્યાસક્રમ પ્રમાણે પ્રતિનિધિત્વરૂપ હેતુઓ (મહત્તમ :- ૨૦)
C6: 1 पत्र एवं डायरी | E6: 2 कच्छ की सैर | H6: 3 मत बाँटो इन्सान को | J6: 4 कर्मयोगी लालबहादुर शास्त्री | M6: 5 दोहे | P6: 6 तूफानो की और | R6: 7 हार की जीत | T6: 8 हँसना मना है | V6: उलझन सुलझन
