Workbook

Sheet Insructions
C2: આ sheet ના ઉપયોગ માટેના સામાન્ય સૂચનો :-
A4: 1 | B4: આ શીટમાં શક્ય હોય ત્યાં સુધી શ્રુતિ ફોન્ટમાં જ માહિતી ભરવી. (બીજા ફોન્ટમાં માહિતી ભરી શકાશે.)
A5: 2 | B5: 'શાળા' અને 'વિદ્યાર્થીઓની' ની શીટ માં જરૂરી માહિતી ભરી દો. જે બીજી શીટ માટે આધાર છે.
A6: 3 | B6: આપ આ sheet માં વધુમાં વધુ '૯૫' વિદ્યાર્થીઓની માહિતી ભરી શકશો.
A7: 4 | B7: દરેક વિષયની sheets માં ક્રમ નંબર 1 પર filter માટે બટન આપેલ છે જેના પર ક્લિક કરી OK બટન પર ક્લિક કરવાથી જેટલા વિદ્યાર્થીઓ હશે તેટલી જ રો ખુલશે અને વધારાની કોરી રો હાઇડ થઇ જશે તેથી જરૂર જેટલા જ પેજ પ્રિન્ટ થશે.
A8: 5 | B8: દરેક વિષયની જરૂરિયાત મુજબ A4 સાઇઝના કાગળ પર પ્રિંટ કાઢી શકાશે.
A9: 6 | B9: દરેક વિષયની અધ્યયન નિષ્પત્તિઓ SAS પોર્ટલ પરથી લેવામાં આવી છે જેથી ભવિષ્યમાં ઓનલાઈન કરવું પડે તો સરળતા રહે.
A10: 7 | B10: જે તે પેજ અનલોક કરવા માટે પાસવર્ડ તરીકે 1438 નાખવો.
A11: 8 | B11: "Sheet"ની વિશેષતા એ છે કે આપ 'Auto' અને 'Blank' બંને રીતે ઉપયોગ કરી શકો છો.
B13: જ્યાં સુધી 'Whatsapp' થી ચાલે એમ હોય, ત્યાં સુધી ફોન કરવો નહિ. શાળા સમયમાં ફોન કરશો નહિ. | H13: MADE BY
H14: Pradipsinh.P.Sisodiya
H15: Gabat - 1 Primary School
H16: Ta :- Bayad, Di :- Arvalli
H17: Contect No. :- 9428313097
B19: નોધ :- ફાઈલને મોબાઈલમાં ખોલવી નહિ. તેથી ફાઈલ કરપ્ટ થવાની સંભાવના રહેલી છે. જેથી સાચી ગણતરી ના પણ થાય.!!

Sheet School
A1: શાળાની માહિતી
A2: શાળાનું નામ :-
A3: ગામનું નામ :- | D3: ફાઈલના ઉપયોગ માટેની Video Link
A4: શાળાનો ડાયસકોડ :- | D4: https://youtu.be/2ql5gwFdXt0
A5: તાલુકો :-
A6: જિલ્લો :-
A7: સી.આર.સી. :-
A8: ધોરણ અને વર્ગ :- | B8: 6
A9: શૈક્ષણિક વર્ષ :- | B9: 2025-'26
A10: વર્ગ શિક્ષકનું નામ :-
A11: પરિણામની તારીખ :-

Sheet Student
A1: વિદ્યાર્થીની માહિતી
A2: ક્રમ | B2: વિદ્યાર્થીનું નામ | C2: રજીસ્ટર સંખ્યા :- | E2: 30
A3: =IF($E$2>0,1,"") -> 1
A4: =IF($E$2>A3,A3+1,"") -> 2
A5: =IF($E$2>A4,A4+1,"") -> 3 | E5: આવી અપડેટ ફાઈલો અને ફાઈલમાં ઉપયોગમાં લેવાયેલ ફોન્ટ નીચેની Google Link પરથી મળી જશે. માટે વારંવાર પર્સનલ મેસેજ કે ફોન કરી ફાઈલો માંગવી નહિ.
A6: =IF($E$2>A5,A5+1,"") -> 4
A7: =IF($E$2>A6,A6+1,"") -> 5
A8: =IF($E$2>A7,A7+1,"") -> 6 | F8: https://drive.google.com/drive/folders/1Wyxs6RQwl-i4qPoNP65CEmWq7scY8NsS?usp=sharing
A9: =IF($E$2>A8,A8+1,"") -> 7
A10: =IF($E$2>A9,A9+1,"") -> 8
A11: =IF($E$2>A10,A10+1,"") -> 9 | E11: 👉🏻 આ Google link પર ક્લિક કરી આખું ફોલ્ડર અથવા ફાઈલ ડાઉનલોડ કરવા માટે જે પેજ ખુલે એમાં જમણી બાજુ ઉપર 3 ટપકા પર ક્લિક કરી ડાઉનલોડ ઓપ્શન પર ક્લિક કરો અથવા જો ⬇(ડાઉન એરો) જેવું નિશાન દેખાય તો એના પર ક્લિક કરી આખું ફોલ્ડર અથવા જે તે ફાઈલ ડાઉનલોડ કરી લો અને ફાઈલ ડાઉનલોડ થઈ જાય પછી તેનો ઉપયોગ કરી શકશો..
A12: =IF($E$2>A11,A11+1,"") -> 10
A13: =IF($E$2>A12,A12+1,"") -> 11
A14: =IF($E$2>A13,A13+1,"") -> 12
A15: =IF($E$2>A14,A14+1,"") -> 13
A16: =IF($E$2>A15,A15+1,"") -> 14
A17: =IF($E$2>A16,A16+1,"") -> 15
A18: =IF($E$2>A17,A17+1,"") -> 16
A19: =IF($E$2>A18,A18+1,"") -> 17
A20: =IF($E$2>A19,A19+1,"") -> 18
A21: =IF($E$2>A20,A20+1,"") -> 19
A22: =IF($E$2>A21,A21+1,"") -> 20
A23: =IF($E$2>A22,A22+1,"") -> 21
... A102: =IF($E$2>A101,A101+1,"")

Sheet Patrak-A First Page
C3: શાળાકીય સર્વગ્રાહી મૂલ્યાંકન
D4: (SCE)
D11: પત્રક - અ
F15: ધોરણ :- | H15: =School!B8 -> 6
D17: રચનાત્મક મૂલ્યાંકન પત્રક
E19: વર્ષ :- | G19: =School!B9 -> 2025-'26
D22: શાળાનું નામ :- | F22: =IF(School!B2="","",School!B2)
D24: ગામ :- | E24: =IF(School!B3="","",School!B3) | G24: તાલુકો :- | H24: =IF(School!B5="","",School!B5) | I24: જિલ્લો :- | J24: =IF(School!B6="","",School!B6)
D26: ધોરણ અને વર્ગ :- | F26: =IF(School!B8="","",School!B8) -> 6 | H26: પરિણામની તારીખ :- | J26: =IF(School!B11="","",School!B11)
D28: વર્ગ શિક્ષકનું નામ :- | F28: =IF(School!B10="","",School!B10) | I28: સી.આર.સી :- | K28: =IF(School!B7="","",School!B7)
D32: વર્ગ શિક્ષકની સહી | I32: આચાર્યશ્રીની સહી/સિક્કા

Sheet 6 Guj
A1: પરિશિષ્ટ - A
A2: રચનાત્મક મૂલ્યાંકન
B3: ધોરણ અને વર્ગ :- | C3: =School!B8 -> 6 | G3: વિષય :- | I3: ગુજરાતી | N3: સત્ર :- | P3: પ્રથમ | T3: વર્ષ :- | V3: =School!B9 -> 2025-'26
C5: અભ્યાસક્રમ પ્રમાણે પ્રતિનિધિત્વરૂપ હેતુઓ (મહત્તમ :- ૨૦)
C6: પર્વત તારા | E6: વાર્તા રે વાર્તા | G6: ચોમાસામાં સૌન્દર્ય સૃષ્ટિ | H6: સૌન્દર્યની સરવાણી | I6: દ્રષ્ટી પારની સૃષ્ટિ | K6: જય જય ગરવી ગુજરાત | M6: રાષ્ટ્રીય શાયર ઝવેરચંદ મેઘાણી | O6: નવી નવાઈનું સરઘસ | Q6: રામ રાખે તેમ રહીએ | R6: અંતરીક્ષમાં સંતાકૂકડી | S6: નામનો મોહ છૂટ્યો | U6: લેખણ ઝાલી નો રહી
A7: ક્રમ | B7: વિદ્યાર્થીનું નામ | C7: લય અને ઢાળ પ્રમાણે કાવ્યા ગાન કરે. | D7: વર્ણમાલા ના પરિચયને આધારે સ્પષ્ટ ઉચ્ચારણ કરે. | E7: વાર્તા કે સંવાદને રજૂ કરી શકે છે. | F7: વ્યક્તિવાચક, સમૂહવાચક, જાતિવાચક, દ્રવ્યવાચક અને ભાવવાચક નામને ઓળખે અને ઉપયોગ કરે. | G7: વાતચીત સાંભળે અને તેનો ભાવ સમજીને પ્રતિભાવ આપે. | H7: વાક્યમાં રહેલ વિશેષણ અને ક્રિયાવિશેષણ ને ઓળખે અને ઉપયોગ કરે. | I7: શબ્દોનો ઉપયોગ કરી અર્થપૂર્ણ વાક્ય સંવાદ કે પરિચ્છદની રચના કરે છે. | J7: શબ્દના લિંગ અને વચન ઓળખી શબ્દનો રૂપાંતર કરી અન્ય શબ્દ બનાવે. | K7: ભાવવાહી કાવ્ય ગાન કરે. પોતાને મનગમતું કાવ્ય કંઠસ્થ કરે. | L7: સ્થાનિક ભાષાના શબ્દોને માન્ય ભાષા ના શબ્દો સાથે સરખામણી કરે. | M7: તળપદા શબ્દોને શિષ્ટ શબ્દોથી જુદા તારવે અને તેવા શબ્દોનો વાક્ય પ્રયોગ કરે. | N7: ભાવાત્મક અભિવ્યક્તિ માટે યોગ્ય શબ્દ અને વાક્ય રચનાઓ પ્રયોજે. | O7: ગધ્યની વર્ણાત્મક સામગ્રીમાંથી વિગતો શોધે સમજે અને પ્રશ્નોના ઉત્તર આપી શકે છે. | P7: સુંદર અક્ષરોમાં શ્રુતલેખન કરી શકે છે. | Q7: કાવ્યના ભાવને સમજી તેને સમજ આપી શકે છે કે પ્રશ્નોત્તર કરી શકે છે. | R7: પરિચ્છેદ ના પ્રશ્નો ની રજૂઆત કરવા માટે સ્થાનિક ભાષાનો વિવેકપૂર્ણ ઉપયોગ કરે. | S7: ટૂંકી વાર્તા કે કથનનું સભાનતા પૂર્વક શ્રવણ કરે છે. | T7: અગાઉ શીખી ગયેલા ભાષા રચનાના બે કે તેથી વધારે ઘટકોનો ઉપયોગ કરી વાક્ય રચના કરે. | U7: વિધાન વાક્ય પ્રશ્નાર્થ વાક્ય ઉદગાર વાક્ય વગેરે વાક્ય પ્રકાર ઓળખી શકે છે. | V7: લેખન કરવાના પ્રસંગોમાં પોતાની ભાષાકીય સજ્જતાનો ઉપયોગ કરે. | W7: સત્રાંતે વિદ્યાર્થીઓએ મેળવેલ જે તે નિશાનીઓની સંખ્યા | Z7: 40 માંથી મેળવેલ ગુણ
C8: 1 | D8: 2 | E8: 3 | F8: 4 | G8: 5 | H8: 6 | I8: 7 | J8: 8 | K8: 9 | L8: 10 | M8: 11 | N8: 12 | O8: 13 | P8: 14 | Q8: 15 | R8: 16 | S8: 17 | T8: 18 | U8: 19 | V8: 20 | W8: √ | X8: ? | Y8: ×
A9: =Student!A3 -> 1 | B9: =IF(Student!B3="","",Student!B3) | W9: =IF(C9="","",COUNTIF(C9:V9,$W$8)) | X9: =IF(C9="","",COUNTIF(C9:V9,$X$8)) | Y9: =IF(C9="","",COUNTIF(C9:V9,$Y$8)) | Z9: =IF(C9="","",(W9*2))
A10: =Student!A4 -> 2 | B10: =IF(Student!B4="","",Student!B4) | W10: =IF(C10="","",COUNTIF(C10:V10,$W$8)) | X10: =IF(C10="","",COUNTIF(C10:V10,$X$8)) | Y10: =IF(C10="","",COUNTIF(C10:V10,$Y$8)) | Z10: =IF(C10="","",(W10*2))
A11: =Student!A5 -> 3 | B11: =IF(Student!B5="","",Student!B5) | W11: =IF(C11="","",COUNTIF(C11:V11,$W$8)) | X11: =IF(C11="","",COUNTIF(C11:V11,$X$8)) | Y11: =IF(C11="","",COUNTIF(C11:V11,$Y$8)) | Z11: =IF(C11="","",(W11*2))
A12: =Student!A6 -> 4 | B12: =IF(Student!B6="","",Student!B6) | W12: =IF(C12="","",COUNTIF(C12:V12,$W$8)) | X12: =IF(C12="","",COUNTIF(C12:V12,$X$8)) | Y12: =IF(C12="","",COUNTIF(C12:V12,$Y$8)) | Z12: =IF(C12="","",(W12*2))
A13: =Student!A7 -> 5 | B13: =IF(Student!B7="","",Student!B7) | W13: =IF(C13="","",COUNTIF(C13:V13,$W$8)) | X13: =IF(C13="","",COUNTIF(C13:V13,$X$8)) | Y13: =IF(C13="","",COUNTIF(C13:V13,$Y$8)) | Z13: =IF(C13="","",(W13*2))
A14: =Student!A8 -> 6 | B14: =IF(Student!B8="","",Student!B8) | W14: =IF(C14="","",COUNTIF(C14:V14,$W$8)) | X14: =IF(C14="","",COUNTIF(C14:V14,$X$8)) | Y14: =IF(C14="","",COUNTIF(C14:V14,$Y$8)) | Z14: =IF(C14="","",(W14*2))
A15: =Student!A9 -> 7 | B15: =IF(Student!B9="","",Student!B9) | W15: =IF(C15="","",COUNTIF(C15:V15,$W$8)) | X15: =IF(C15="","",COUNTIF(C15:V15,$X$8)) | Y15: =IF(C15="","",COUNTIF(C15:V15,$Y$8)) | Z15: =IF(C15="","",(W15*2))
A16: =Student!A10 -> 8 | B16: =IF(Student!B10="","",Student!B10) | W16: =IF(C16="","",COUNTIF(C16:V16,$W$8)) | X16: =IF(C16="","",COUNTIF(C16:V16,$X$8)) | Y16: =IF(C16="","",COUNTIF(C16:V16,$Y$8)) | Z16: =IF(C16="","",(W16*2))
A17: =Student!A11 -> 9 | B17: =IF(Student!B11="","",Student!B11) | W17: =IF(C17="","",COUNTIF(C17:V17,$W$8)) | X17: =IF(C17="","",COUNTIF(C17:V17,$X$8)) | Y17: =IF(C17="","",COUNTIF(C17:V17,$Y$8)) | Z17: =IF(C17="","",(W17*2))
A18: =Student!A12 -> 10 | B18: =IF(Student!B12="","",Student!B12) | W18: =IF(C18="","",COUNTIF(C18:V18,$W$8)) | X18: =IF(C18="","",COUNTIF(C18:V18,$X$8)) | Y18: =IF(C18="","",COUNTIF(C18:V18,$Y$8)) | Z18: =IF(C18="","",(W18*2))
A19: =Student!A13 -> 11 | B19: =IF(Student!B13="","",Student!B13) | W19: =IF(C19="","",COUNTIF(C19:V19,$W$8)) | X19: =IF(C19="","",COUNTIF(C19:V19,$X$8)) | Y19: =IF(C19="","",COUNTIF(C19:V19,$Y$8)) | Z19: =IF(C19="","",(W19*2))
A20: =Student!A14 -> 12 | B20: =IF(Student!B14="","",Student!B14) | W20: =IF(C20="","",COUNTIF(C20:V20,$W$8)) | X20: =IF(C20="","",COUNTIF(C20:V20,$X$8)) | Y20: =IF(C20="","",COUNTIF(C20:V20,$Y$8)) | Z20: =IF(C20="","",(W20*2))
... A104: =Student!A98 | B104: =IF(Student!B98="","",Student!B98) | W104: =IF(C104="","",COUNTIF(C104:V104,$W$8)) | X104: =IF(C104="","",COUNTIF(C104:V104,$X$8)) | Y104: =IF(C104="","",COUNTIF(C104:V104,$Y$8)) | Z104: =IF(C104="","",(W104*2))
B107: વિષય શિક્ષકની સહી | R107: આચાર્યની સહી/સિક્કા

Sheet 6 Maths
A1: પરિશિષ્ટ - A
A2: રચનાત્મક મૂલ્યાંકન
B3: ધોરણ અને વર્ગ :- | C3: =School!B8 -> 6 | G3: વિષય :- | I3: ગણિત | N3: સત્ર :- | P3: પ્રથમ | T3: વર્ષ :- | V3: =School!B9 -> 2025-'26
C5: અભ્યાસક્રમ પ્રમાણે પ્રતિનિધિત્વરૂપ હેતુઓ (મહત્તમ :- ૨૦)
C6: સંખ્યા પરિચય | G6: પૂર્ણ સંખ્યાઓ | I6: સંખ્યા સાથે રમત | N6: ભૂમિતિના પાયાના ખ્યાલો | Q6: પાયાના આકારોની સમજુતી | U6: પૂર્ણાંક સંખ્યાઓ
A7: ક્રમ | B7: વિદ્યાર્થીનું નામ | C7: આપેલા અંકો પરથી સંખ્યા બનાવે છે. | D7: અંકોની અદલા બદલી કરીને નવી સંખ્યા બનાવે છે. | E7: આપેલ સંખ્યાના અંકોની સ્થાનકિંમત જણાવે છે અને સ્થાનકિંમતના આધારે આપેલ સંખ્યાનું વિસ્તરણ કરે છે. | F7: કરોડ સુધીની સંખ્યાઓ સમજે છે તેમજ વાંચન અને લેખન કરે છે. | G7: આપેલ પૂર્ણ સંખ્યાની પહેલાની સંખ્યા અને પછીની સંખ્યા લખે છે. | H7: સંખ્યારેખા પર સંખ્યાનું નિરૂપણ તેમજ સંખ્યાઓના સરવાળા બાદબાકી અને ગુણાકાર કરે છે. | I7: આપેલ સંખ્યા અવિભાજ્ય છે કે વિભાજ્ય તે કહે છે. | J7: 2, 3, 4, 5, 6, 8, 9, 10 અને 11 ની વિભાજ્યતાની ચાવીનો ઉપયોગ કરી આપેલ સંખ્યાની વિભાજ્યતા ચકાસે છે. | K7: આપેલ સંખ્યાઓના સામાન્ય અવયવ અને સામાન્ય અવયવી શોધે છે. | L7: આપેલ સંખ્યાના અવિભાજ્ય અવયવ શોધે છે. | M7: ચોક્કસ સ્થિતિમાં ગુ.સા.અ અને લ.સા.અ નો ઉપયોગ કરે છે. | N7: આસપાસના ઉદાહરણો પરથી બિંદુ, રેખાખંડ, રેખા, કિરણની સમજ દર્શાવે છે. | O7: છેદતી રેખાઓ અને સમાંતર રેખાઓની સમજ દર્શાવે છે. | P7: બહુકોણ તથા ખુણાની સમાજ કેળવે છે. | Q7: આપેલા ખૂણાને લઘુકોણ, ગુરુકોણ, કાટકોણ, સરળકોણ કે પ્રતિબિંબ કોણ તરીકે દર્શાવે છે | R7: કોણમાપક વડે ખૂણાનું માપન કરે છે. | S7: ત્રિકોણને તેના ખૂણા તથા બાજુઓના આધારે વિવિધ પ્રકારોમાં વર્ગીકૃત કરે છે. | T7: ચતુષ્કોણને તેના ખૂણા તથા બાજુઓના આધારે વિવિધ પ્રકારોમાં વહેંચે છે. | U7: સંખ્યારેખા પર પૂર્ણાંકો નું નિરૂપણ કરતા શીખે છે. | V7: સંખ્યારેખા પર પૂર્ણાંક સંખ્યાઓને લગતા સરવાળા-બાદબાકીના દાખલા ગણે છે. | W7: સત્રાંતે વિદ્યાર્થીઓએ મેળવેલ જે તે નિશાનીઓની સંખ્યા | Z7: 40 માંથી મેળવેલ ગુણ
C8: 1 | D8: 2 | E8: 3 | F8: 4 | G8: 5 | H8: 6 | I8: 7 | J8: 8 | K8: 9 | L8: 10 | M8: 11 | N8: 12 | O8: 13 | P8: 14 | Q8: 15 | R8: 16 | S8: 17 | T8: 18 | U8: 19 | V8: 20 | W8: √ | X8: ? | Y8: ×
A9: ='6 Guj'!A9 -> 1 | B9: =IF(Student!B3="","",Student!B3) | W9: =IF(C9="","",COUNTIF(C9:V9,$W$8)) | X9: =IF(C9="","",COUNTIF(C9:V9,$X$8)) | Y9: =IF(C9="","",COUNTIF(C9:V9,$Y$8)) | Z9: =IF(C9="","",(W9*2))
A10: ='6 Guj'!A10 -> 2 | B10: =IF(Student!B4="","",Student!B4) | W10: =IF(C10="","",COUNTIF(C10:V10,$W$8)) | X10: =IF(C10="","",COUNTIF(C10:V10,$X$8)) | Y10: =IF(C10="","",COUNTIF(C10:V10,$Y$8)) | Z10: =IF(C10="","",(W10*2))
A11: ='6 Guj'!A11 -> 3 | B11: =IF(Student!B5="","",Student!B5) | W11: =IF(C11="","",COUNTIF(C11:V11,$W$8)) | X11: =IF(C11="","",COUNTIF(C11:V11,$X$8)) | Y11: =IF(C11="","",COUNTIF(C11:V11,$Y$8)) | Z11: =IF(C11="","",(W11*2))
A12: ='6 Guj'!A12 -> 4 | B12: =IF(Student!B6="","",Student!B6) | W12: =IF(C12="","",COUNTIF(C12:V12,$W$8)) | X12: =IF(C12="","",COUNTIF(C12:V12,$X$8)) | Y12: =IF(C12="","",COUNTIF(C12:V12,$Y$8)) | Z12: =IF(C12="","",(W12*2))
A13: ='6 Guj'!A13 -> 5 | B13: =IF(Student!B7="","",Student!B7) | W13: =IF(C13="","",COUNTIF(C13:V13,$W$8)) | X13: =IF(C13="","",COUNTIF(C13:V13,$X$8)) | Y13: =IF(C13="","",COUNTIF(C13:V13,$Y$8)) | Z13: =IF(C13="","",(W13*2))
A14: ='6 Guj'!A14 -> 6 | B14: =IF(Student!B8="","",Student!B8) | W14: =IF(C14="","",COUNTIF(C14:V14,$W$8)) | X14: =IF(C14="","",COUNTIF(C14:V14,$X$8)) | Y14: =IF(C14="","",COUNTIF(C14:V14,$Y$8)) | Z14: =IF(C14="","",(W14*2))
A15: ='6 Guj'!A15 -> 7 | B15: =IF(Student!B9="","",Student!B9) | W15: =IF(C15="","",COUNTIF(C15:V15,$W$8)) | X15: =IF(C15="","",COUNTIF(C15:V15,$X$8)) | Y15: =IF(C15="","",COUNTIF(C15:V15,$Y$8)) | Z15: =IF(C15="","",(W15*2))
A16: ='6 Guj'!A16 -> 8 | B16: =IF(Student!B10="","",Student!B10) | W16: =IF(C16="","",COUNTIF(C16:V16,$W$8)) | X16: =IF(C16="","",COUNTIF(C16:V16,$X$8)) | Y16: =IF(C16="","",COUNTIF(C16:V16,$Y$8)) | Z16: =IF(C16="","",(W16*2))
A17: ='6 Guj'!A17 -> 9 | B17: =IF(Student!B11="","",Student!B11) | W17: =IF(C17="","",COUNTIF(C17:V17,$W$8)) | X17: =IF(C17="","",COUNTIF(C17:V17,$X$8)) | Y17: =IF(C17="","",COUNTIF(C17:V17,$Y$8)) | Z17: =IF(C17="","",(W17*2))
A18: ='6 Guj'!A18 -> 10 | B18: =IF(Student!B12="","",Student!B12) | W18: =IF(C18="","",COUNTIF(C18:V18,$W$8)) | X18: =IF(C18="","",COUNTIF(C18:V18,$X$8)) | Y18: =IF(C18="","",COUNTIF(C18:V18,$Y$8)) | Z18: =IF(C18="","",(W18*2))
A19: ='6 Guj'!A19 -> 11 | B19: =IF(Student!B13="","",Student!B13) | W19: =IF(C19="","",COUNTIF(C19:V19,$W$8)) | X19: =IF(C19="","",COUNTIF(C19:V19,$X$8)) | Y19: =IF(C19="","",COUNTIF(C19:V19,$Y$8)) | Z19: =IF(C19="","",(W19*2))
A20: ='6 Guj'!A20 -> 12 | B20: =IF(Student!B14="","",Student!B14) | W20: =IF(C20="","",COUNTIF(C20:V20,$W$8)) | X20: =IF(C20="","",COUNTIF(C20:V20,$X$8)) | Y20: =IF(C20="","",COUNTIF(C20:V20,$Y$8)) | Z20: =IF(C20="","",(W20*2))
... A104: ='6 Guj'!A104 | B104: =IF(Student!B98="","",Student!B98) | W104: =IF(C104="","",COUNTIF(C104:V104,$W$8)) | X104: =IF(C104="","",COUNTIF(C104:V104,$X$8)) | Y104: =IF(C104="","",COUNTIF(C104:V104,$Y$8)) | Z104: =IF(C104="","",(W104*2))
B108: વિષય શિક્ષકની સહી | R108: આચાર્યની સહી/સિક્કા

Sheet 6 Sci
A1: પરિશિષ્ટ - A
A2: રચનાત્મક મૂલ્યાંકન
B3: ધોરણ અને વર્ગ :- | C3: =School!B8 -> 6 | G3: વિષય :- | I3: વિજ્ઞાન | N3: સત્ર :- | P3: પ્રથમ | T3: વર્ષ :- | V3: =School!B9 -> 2025-'26
C5: અભ્યાસક્રમ પ્રમાણે પ્રતિનિધિત્વરૂપ હેતુઓ (મહત્તમ :- ૨૦)
C6: આહારના ઘટકો | G6: વસ્તુઓના જૂથ બનાવવા | J6: પદાર્થોનું અલગીકરણ | N6: વનસ્પતિની જાણકારી મેળવીએ | S6: શરીરનું હલનચલન
A7: ક્રમ | B7: વિદ્યાર્થીનું નામ | C7: ખાદ્ય પદાર્થોના ઘટકો તથા તેના સ્રોતો વિષે સમજે છે. | D7: ખાદ્યપદાર્થો માં હાજર પોષકતત્વો નું પરીક્ષણ હાથ ધરે છે. . | E7: સમતોલ આહારની ઉપયોગિતા વિશે સમજ કેળવે છે.. | F7: ખોરાકની ત્રુટીથી થતા ત્રુટીજન્ય રોગોથી માહિતગાર થાય છે . | G7: પદાર્થને તેમના દેખાવ, રચના, કાર્ય, સુવાસ વગેરે જેવા અવલોકનક્ષમ લક્ષણોના આધારે ઓળખે છે. | H7: પદાર્થને તેમના ગુણધર્મો, રચના અને કાર્યના આધારે જુદા પાડે છે. | I7: અવલોકી શકાય તેવા ગુણધર્મના આધારે વસ્તુ, સજીવ અને પ્રક્રિયાનું વર્ગીકરણ કરે છે. | J7: અલગીકરણની પદ્ધતિઓ વિશે જાણે છે. | K7: નિક્ષેપન,નિતારણ,અને ગાળણ વિશે વધુ સમજે છે.. | L7: બાષ્પીભવન અને ઘનીભવન ની ઘટનાઓ સમજે છે.. | M7: અલગીકરણની એક કરતા વધુ પધ્ધતિઓના વૈજ્ઞાનિક ખ્યાલોને રોજિંદા જીવનમાં લાગુ કરે છે. | N7: છોડ,ક્ષુપ,વ્રુક્ષ ને તેમના દેખાવ,રચના, સુવાસ વગેરે અવલોકનક્ષમ લક્ષણોના આધારે ઓળખે છે. | O7: છોડ,ક્ષુપ,વ્રુક્ષને તેમના ગુણધર્મો, રચના અને કાર્યના આધારે જુદા પાડે છે. | P7: પ્રકાંડ,પર્ણ અને મૂળ વિશે જાણે છે. | Q7: પુષ્પના વિવિધ ભાગો વિશે સમજ કેળવે છે. | R7: સ્ત્રીકેસર & પુંકેસરની નામનિર્દેશન વાળી આકૃતિ/ફ્લોચાર્ટ દોરે છે | S7: અચલ સાંધા & ચલ સાંધા વિશે જાણે છે. | T7: કંકાલતંત્ર (હાડપિંજર ) વિશે સમજ કેળવે છે. | U7: વિવિધ પ્રાણીઓની ચાલ વિશે માહિતગાર થાય છે. | V7: સજીવોની નામનિર્દેશન વાળી આકૃતિ/ફ્લોચાર્ટ દોરે છે. | W7: સત્રાંતે વિદ્યાર્થીઓએ મેળવેલ જે તે નિશાનીઓની સંખ્યા | Z7: 40 માંથી મેળવેલ ગુણ
C8: 1 | D8: 2 | E8: 3 | F8: 4 | G8: 5 | H8: 6 | I8: 7 | J8: 8 | K8: 9 | L8: 10 | M8: 11 | N8: 12 | O8: 13 | P8: 14 | Q8: 15 | R8: 16 | S8: 17 | T8: 18 | U8: 19 | V8: 20 | W8: √ | X8: ? | Y8: ×
A9: ='6 Guj'!A9 -> 1 | B9: =IF(Student!B3="","",Student!B3) | W9: =IF(C9="","",COUNTIF(C9:V9,$W$8)) | X9: =IF(C9="","",COUNTIF(C9:V9,$X$8)) | Y9: =IF(C9="","",COUNTIF(C9:V9,$Y$8)) | Z9: =IF(C9="","",(W9*2))
A10: ='6 Guj'!A10 -> 2 | B10: =IF(Student!B4="","",Student!B4) | W10: =IF(C10="","",COUNTIF(C10:V10,$W$8)) | X10: =IF(C10="","",COUNTIF(C10:V10,$X$8)) | Y10: =IF(C10="","",COUNTIF(C10:V10,$Y$8)) | Z10: =IF(C10="","",(W10*2))
A11: ='6 Guj'!A11 -> 3 | B11: =IF(Student!B5="","",Student!B5) | W11: =IF(C11="","",COUNTIF(C11:V11,$W$8)) | X11: =IF(C11="","",COUNTIF(C11:V11,$X$8)) | Y11: =IF(C11="","",COUNTIF(C11:V11,$Y$8)) | Z11: =IF(C11="","",(W11*2))
A12: ='6 Guj'!A12 -> 4 | B12: =IF(Student!B6="","",Student!B6) | W12: =IF(C12="","",COUNTIF(C12:V12,$W$8)) | X12: =IF(C12="","",COUNTIF(C12:V12,$X$8)) | Y12: =IF(C12="","",COUNTIF(C12:V12,$Y$8)) | Z12: =IF(C12="","",(W12*2))
A13: ='6 Guj'!A13 -> 5 | B13: =IF(Student!B7="","",Student!B7) | W13: =IF(C13="","",COUNTIF(C13:V13,$W$8)) | X13: =IF(C13="","",COUNTIF(C13:V13,$X$8)) | Y13: =IF(C13="","",COUNTIF(C13:V13,$Y$8)) | Z13: =IF(C13="","",(W13*2))
A14: ='6 Guj'!A14 -> 6 | B14: =IF(Student!B8="","",Student!B8) | W14: =IF(C14="","",COUNTIF(C14:V14,$W$8)) | X14: =IF(C14="","",COUNTIF(C14:V14,$X$8)) | Y14: =IF(C14="","",COUNTIF(C14:V14,$Y$8)) | Z14: =IF(C14="","",(W14*2))
A15: ='6 Guj'!A15 -> 7 | B15: =IF(Student!B9="","",Student!B9) | W15: =IF(C15="","",COUNTIF(C15:V15,$W$8)) | X15: =IF(C15="","",COUNTIF(C15:V15,$X$8)) | Y15: =IF(C15="","",COUNTIF(C15:V15,$Y$8)) | Z15: =IF(C15="","",(W15*2))
A16: ='6 Guj'!A16 -> 8 | B16: =IF(Student!B10="","",Student!B10) | W16: =IF(C16="","",COUNTIF(C16:V16,$W$8)) | X16: =IF(C16="","",COUNTIF(C16:V16,$X$8)) | Y16: =IF(C16="","",COUNTIF(C16:V16,$Y$8)) | Z16: =IF(C16="","",(W16*2))
A17: ='6 Guj'!A17 -> 9 | B17: =IF(Student!B11="","",Student!B11) | W17: =IF(C17="","",COUNTIF(C17:V17,$W$8)) | X17: =IF(C17="","",COUNTIF(C17:V17,$X$8)) | Y17: =IF(C17="","",COUNTIF(C17:V17,$Y$8)) | Z17: =IF(C17="","",(W17*2))
A18: ='6 Guj'!A18 -> 10 | B18: =IF(Student!B12="","",Student!B12) | W18: =IF(C18="","",COUNTIF(C18:V18,$W$8)) | X18: =IF(C18="","",COUNTIF(C18:V18,$X$8)) | Y18: =IF(C18="","",COUNTIF(C18:V18,$Y$8)) | Z18: =IF(C18="","",(W18*2))
A19: ='6 Guj'!A19 -> 11 | B19: =IF(Student!B13="","",Student!B13) | W19: =IF(C19="","",COUNTIF(C19:V19,$W$8)) | X19: =IF(C19="","",COUNTIF(C19:V19,$X$8)) | Y19: =IF(C19="","",COUNTIF(C19:V19,$Y$8)) | Z19: =IF(C19="","",(W19*2))
A20: ='6 Guj'!A20 -> 12 | B20: =IF(Student!B14="","",Student!B14) | W20: =IF(C20="","",COUNTIF(C20:V20,$W$8)) | X20: =IF(C20="","",COUNTIF(C20:V20,$X$8)) | Y20: =IF(C20="","",COUNTIF(C20:V20,$Y$8)) | Z20: =IF(C20="","",(W20*2))
... A104: ='6 Guj'!A104 | B104: =IF(Student!B98="","",Student!B98) | W104: =IF(C104="","",COUNTIF(C104:V104,$W$8)) | X104: =IF(C104="","",COUNTIF(C104:V104,$X$8)) | Y104: =IF(C104="","",COUNTIF(C104:V104,$Y$8)) | Z104: =IF(C104="","",(W104*2))
B108: વિષય શિક્ષકની સહી | R108: આચાર્યની સહી/સિક્કા

Sheet 6 SS
A1: પરિશિષ્ટ - A
A2: રચનાત્મક મૂલ્યાંકન
B3: ધોરણ અને વર્ગ :- | C3: =School!B8 -> 6 | G3: વિષય :- | I3: સામાજિક વિજ્ઞાન | N3: સત્ર :- | P3: પ્રથમ | T3: વર્ષ :- | V3: =School!B9 -> 2025-'26
C5: અભ્યાસક્રમ પ્રમાણે પ્રતિનિધિત્વરૂપ હેતુઓ (મહત્તમ :- ૨૦)
C6: ચાલો, ઈતિહાસ જાણીએ | E6: આપણું ઘર પૃથ્વી | J6: આદિમાનવથી સ્થાયી જીવનની સફર | L6: પ્રાચીન નગરો અને ગ્રંથો | M6: વિવિધતામાં એકતા | R6: ભારતની પ્રારંભિક રાજ્યવ્યવસ્થા | T6: પૃથ્વીના આવરણો | U6: સરકાર
A7: ક્રમ | B7: વિદ્યાર્થીનું નામ | C7: ઐતિહાસિક તથા સાહિત્યિક સ્રોતોને ઓળખી ઈતિહાસના પુનર્ગઠન માટે વિવિધ સ્રોતોના ઉપયોગનું વર્ણન કરે છે | D7: ઐતિહાસિક વિકાસને લગતી માહિતીનું વિશ્લેષણ કરે છે. | E7: તારા, ગ્રહો અને ઉપગ્રહો વચ્ચેનો તફાવત ઓળખે છે. દા.ત., સૂર્ય પૃથ્વી અને ચંદ્ર. | F7: પૃથ્વીને જીવ અસ્તિત્વ તથા વિવિધ કટિબંધો સંદર્ભે વિશિષ્ટ અવકાશીય પદાર્થ તરીકે ઓળખે છે. | G7: દિવસ-રાત અને ઋતુ પરિવર્તન દર્શાવે છે | H7: વિશ્વના નકશા પર ખંડો અને મહાસાગરોની દિશાઓનો નિર્દેશ કરે છે. | I7: ગ્રહણને લગતી અંધશ્રધ્ધાઓની વિવેચનાત્મક રીતે ચકાસણી કરે છે. | J7: ભારતના નકશામાં ઐતિહાસિક સ્થળો દર્શાવે છે. | K7: પ્રાચીન સમય દરમિયાનનાં વિકાસના તબક્કાઓ સમજી બે પ્રદેશનાં વિકાસની સરખામણી કરે છે. | L7: પ્રાચીન માનવ સંસ્કૃતિના વિશિષ્ટ લક્ષણોને ઓળખી તેના વિકાસને સમજાવે છે. | M7: પ્રાચીન કાળના વિવિધ ધર્મોના વિચારો અને મૂલ્યોનું વિશ્લેષણ કરે છે | N7: પોતાની આસપાસના માનવીય વિવિધતાના સ્વરૂપોને સમજે છે અને વર્ણવે છે. | O7: પોતાની આસપાસની વિવિધતા તરફ સ્વસ્થ વલણ વિકસાવે છે. | P7: વિવિધ પ્રકારની વિભિન્નતાઓને ઓળખી તેની પ્રકૃતિ અને સ્રોતોને સમજે છે. | Q7: સામાજિક વિવિધતાઓને ઓળખી હકારાત્મક પ્રતિક્રિયા આપે છે. | R7: ભારતના નકશામાં ઐતિહાસિક સ્થળો દર્શાવે છે. | S7: મહત્વના રાજ્યો તથા રાજવંશોના નોંધપાત્ર યોગદાનની યાદી બનાવે છે. | T7: પૃથ્વીના ગોળા અને વિશ્વના નકશા પર અક્ષાંશ-રેખાંશ, ધૃવો, વૃત્તો, આવરણો, પાડોશી દેશો વગેરે દર્શાવે છે. | U7: સ્થાનિક સ્તરે સરકારની ભૂમિકાનું વર્ણન કરે છે | V7: સરકારના વિવિધ સ્તર સ્થાનિક, રાજ્ય અને સંઘને ઓળખે છે. | W7: સત્રાંતે વિદ્યાર્થીઓએ મેળવેલ જે તે નિશાનીઓની સંખ્યા | Z7: 40 માંથી મેળવેલ ગુણ
C8: 1 | D8: 2 | E8: 3 | F8: 4 | G8: 5 | H8: 6 | I8: 7 | J8: 8 | K8: 9 | L8: 10 | M8: 11 | N8: 12 | O8: 13 | P8: 14 | Q8: 15 | R8: 16 | S8: 17 | T8: 18 | U8: 19 | V8: 20 | W8: √ | X8: ? | Y8: ×
A9: =Student!A3 -> 1 | B9: =IF(Student!B3="","",Student!B3) | W9: =IF(C9="","",COUNTIF(C9:V9,$W$8)) | X9: =IF(C9="","",COUNTIF(C9:V9,$X$8)) | Y9: =IF(C9="","",COUNTIF(C9:V9,$Y$8)) | Z9: =IF(C9="","",(W9*2))
A10: =Student!A4 -> 2 | B10: =IF(Student!B4="","",Student!B4) | W10: =IF(C10="","",COUNTIF(C10:V10,$W$8)) | X10: =IF(C10="","",COUNTIF(C10:V10,$X$8)) | Y10: =IF(C10="","",COUNTIF(C10:V10,$Y$8)) | Z10: =IF(C10="","",(W10*2))
A11: =Student!A5 -> 3 | B11: =IF(Student!B5="","",Student!B5) | W11: =IF(C11="","",COUNTIF(C11:V11,$W$8)) | X11: =IF(C11="","",COUNTIF(C11:V11,$X$8)) | Y11: =IF(C11="","",COUNTIF(C11:V11,$Y$8)) | Z11: =IF(C11="","",(W11*2))
A12: =Student!A6 -> 4 | B12: =IF(Student!B6="","",Student!B6) | W12: =IF(C12="","",COUNTIF(C12:V12,$W$8)) | X12: =IF(C12="","",COUNTIF(C12:V12,$X$8)) | Y12: =IF(C12="","",COUNTIF(C12:V12,$Y$8)) | Z12: =IF(C12="","",(W12*2))
A13: =Student!A7 -> 5 | B13: =IF(Student!B7="","",Student!B7) | W13: =IF(C13="","",COUNTIF(C13:V13,$W$8)) | X13: =IF(C13="","",COUNTIF(C13:V13,$X$8)) | Y13: =IF(C13="","",COUNTIF(C13:V13,$Y$8)) | Z13: =IF(C13="","",(W13*2))
A14: =Student!A8 -> 6 | B14: =IF(Student!B8="","",Student!B8) | W14: =IF(C14="","",COUNTIF(C14:V14,$W$8)) | X14: =IF(C14="","",COUNTIF(C14:V14,$X$8)) | Y14: =IF(C14="","",COUNTIF(C14:V14,$Y$8)) | Z14: =IF(C14="","",(W14*2))
A15: =Student!A9 -> 7 | B15: =IF(Student!B9="","",Student!B9) | W15: =IF(C15="","",COUNTIF(C15:V15,$W$8)) | X15: =IF(C15="","",COUNTIF(C15:V15,$X$8)) | Y15: =IF(C15="","",COUNTIF(C15:V15,$Y$8)) | Z15: =IF(C15="","",(W15*2))
A16: =Student!A10 -> 8 | B16: =IF(Student!B10="","",Student!B10) | W16: =IF(C16="","",COUNTIF(C16:V16,$W$8)) | X16: =IF(C16="","",COUNTIF(C16:V16,$X$8)) | Y16: =IF(C16="","",COUNTIF(C16:V16,$Y$8)) | Z16: =IF(C16="","",(W16*2))
A17: =Student!A11 -> 9 | B17: =IF(Student!B11="","",Student!B11) | W17: =IF(C17="","",COUNTIF(C17:V17,$W$8)) | X17: =IF(C17="","",COUNTIF(C17:V17,$X$8)) | Y17: =IF(C17="","",COUNTIF(C17:V17,$Y$8)) | Z17: =IF(C17="","",(W17*2))
A18: =Student!A12 -> 10 | B18: =IF(Student!B12="","",Student!B12) | W18: =IF(C18="","",COUNTIF(C18:V18,$W$8)) | X18: =IF(C18="","",COUNTIF(C18:V18,$X$8)) | Y18: =IF(C18="","",COUNTIF(C18:V18,$Y$8)) | Z18: =IF(C18="","",(W18*2))
A19: =Student!A13 -> 11 | B19: =IF(Student!B13="","",Student!B13) | W19: =IF(C19="","",COUNTIF(C19:V19,$W$8)) | X19: =IF(C19="","",COUNTIF(C19:V19,$X$8)) | Y19: =IF(C19="","",COUNTIF(C19:V19,$Y$8)) | Z19: =IF(C19="","",(W19*2))
A20: =Student!A14 -> 12 | B20: =IF(Student!B14="","",Student!B14) | W20: =IF(C20="","",COUNTIF(C20:V20,$W$8)) | X20: =IF(C20="","",COUNTIF(C20:V20,$X$8)) | Y20: =IF(C20="","",COUNTIF(C20:V20,$Y$8)) | Z20: =IF(C20="","",(W20*2))
... A104: =Student!A98 | B104: =IF(Student!B98="","",Student!B98) | W104: =IF(C104="","",COUNTIF(C104:V104,$W$8)) | X104: =IF(C104="","",COUNTIF(C104:V104,$X$8)) | Y104: =IF(C104="","",COUNTIF(C104:V104,$Y$8)) | Z104: =IF(C104="","",(W104*2))
B108: વિષય શિક્ષકની સહી | R108: આચાર્યની સહી/સિક્કા

Sheet 6 Hindi
A1: પરિશિષ્ટ - A
A2: રચનાત્મક મૂલ્યાંકન
B3: ધોરણ અને વર્ગ :- | C3: =School!B8 -> 6 | G3: વિષય :- | I3: હિન્દી | N3: સત્ર :- | P3: પ્રથમ | T3: વર્ષ :- | V3: =School!B9 -> 2025-'26
C5: અભ્યાસક્રમ પ્રમાણે પ્રતિનિધિત્વરૂપ હેતુઓ (મહત્તમ :- ૨૦)
C6: दयालु शिकारी | E6: एक जगत, एक लोक | G6: समझदार नन्ही | I6: गिनती ५१ से १०० | K6: धरती को महकाएं | N6: सुबह | Q6: बूझो तो जानें | T6: राजा का हिस्सा
A7: ક્રમ | B7: વિદ્યાર્થીનું નામ | C7: परिचित शब्द, वाक्य और सरल बातचीत सुनकर एवं पढ़कर समझते हैं । | D7: वर्णों पर से शब्दों की रचना करते हैं । | E7: वाक्य में प्रयुक्त संयुक्ताक्षरवाले शब्दों को समझते हैं । | F7: परिचित गीत, कविता, पहेलियाँ सुनकर एवं पढ़कर समझते हैं । | G7: घटना का वर्णन करते हैं । | H7: वाक्यों को सही क्रम में रखकर कहानी बनाते हैं । | I7: छपी हुई सामग्री पढ़कर समझते हैं । | J7: शब्दों और अंकों में 51 से 100 तक की गिनती का उच्चारण एवं लेखन कर सकते हैं । | K7: समानार्थी शब्द, विरुधार्थी शब्दों का वाक्य में प्रयोग करते हैं । | L7: संकेतों का अर्थघटन करते हैं । | M7: काव्य पंक्तियों को पढ़कर उनमें निहित भावों और विचारों को व्यक्त करते हैं । | N7: 'कौन' कारक के रूपों वाले प्रश्नों के उत्तर मौखिक और लिखित रूप से देते हैं | | O7: वचन परिवर्तन करके उसका वाक्य में प्रयोग करते हैं। | P7: यूथचर्चा में अपने भावों एवं विचारों को मुक्त रूप से व्यक्त करते हैं । | Q7: समान प्रासवाले शब्द बना सकते हैं । | R7: संज्ञा, सर्वनाम और विशेषण को समझकर वाक्य में प्रयोग करते हैं । | S7: चित्र देखकर या विवरण पढ़कर अनुमान लगाते हैं । | T7: बालकहानी, चुटकुले, एकांकी और पत्र सुनकर एवं पढ़कर समझते हैं । | U7: शब्दकोश का उपयोग करते हैं । | V7: छात्र में श्रव्य या वाच्य सामग्री में से अंतर्निहित मूल्य विकसित होते हैं । | W7: સત્રાંતે વિદ્યાર્થીઓએ મેળવેલ જે તે નિશાનીઓની સંખ્યા | Z7: 40 માંથી મેળવેલ ગુણ
C8: 1 | D8: 2 | E8: 3 | F8: 4 | G8: 5 | H8: 6 | I8: 7 | J8: 8 | K8: 9 | L8: 10 | M8: 11 | N8: 12 | O8: 13 | P8: 14 | Q8: 15 | R8: 16 | S8: 17 | T8: 18 | U8: 19 | V8: 20 | W8: √ | X8: ? | Y8: ×
A9: =Student!A3 -> 1 | B9: =IF(Student!B3="","",Student!B3) | W9: =IF(C9="","",COUNTIF(C9:V9,$W$8)) | X9: =IF(C9="","",COUNTIF(C9:V9,$X$8)) | Y9: =IF(C9="","",COUNTIF(C9:V9,$Y$8)) | Z9: =IF(C9="","",(W9*2))
A10: =Student!A4 -> 2 | B10: =IF(Student!B4="","",Student!B4) | W10: =IF(C10="","",COUNTIF(C10:V10,$W$8)) | X10: =IF(C10="","",COUNTIF(C10:V10,$X$8)) | Y10: =IF(C10="","",COUNTIF(C10:V10,$Y$8)) | Z10: =IF(C10="","",(W10*2))
A11: =Student!A5 -> 3 | B11: =IF(Student!B5="","",Student!B5) | W11: =IF(C11="","",COUNTIF(C11:V11,$W$8)) | X11: =IF(C11="","",COUNTIF(C11:V11,$X$8)) | Y11: =IF(C11="","",COUNTIF(C11:V11,$Y$8)) | Z11: =IF(C11="","",(W11*2))
A12: =Student!A6 -> 4 | B12: =IF(Student!B6="","",Student!B6) | W12: =IF(C12="","",COUNTIF(C12:V12,$W$8)) | X12: =IF(C12="","",COUNTIF(C12:V12,$X$8)) | Y12: =IF(C12="","",COUNTIF(C12:V12,$Y$8)) | Z12: =IF(C12="","",(W12*2))
A13: =Student!A7 -> 5 | B13: =IF(Student!B7="","",Student!B7) | W13: =IF(C13="","",COUNTIF(C13:V13,$W$8)) | X13: =IF(C13="","",COUNTIF(C13:V13,$X$8)) | Y13: =IF(C13="","",COUNTIF(C13:V13,$Y$8)) | Z13: =IF(C13="","",(W13*2))
A14: =Student!A8 -> 6 | B14: =IF(Student!B8="","",Student!B8) | W14: =IF(C14="","",COUNTIF(C14:V14,$W$8)) | X14: =IF(C14="","",COUNTIF(C14:V14,$X$8)) | Y14: =IF(C14="","",COUNTIF(C14:V14,$Y$8)) | Z14: =IF(C14="","",(W14*2))
A15: =Student!A9 -> 7 | B15: =IF(Student!B9="","",Student!B9) | W15: =IF(C15="","",COUNTIF(C15:V15,$W$8)) | X15: =IF(C15="","",COUNTIF(C15:V15,$X$8)) | Y15: =IF(C15="","",COUNTIF(C15:V15,$Y$8)) | Z15: =IF(C15="","",(W15*2))
A16: =Student!A10 -> 8 | B16: =IF(Student!B10="","",Student!B10) | W16: =IF(C16="","",COUNTIF(C16:V16,$W$8)) | X16: =IF(C16="","",COUNTIF(C16:V16,$X$8)) | Y16: =IF(C16="","",COUNTIF(C16:V16,$Y$8)) | Z16: =IF(C16="","",(W16*2))
A17: =Student!A11 -> 9 | B17: =IF(Student!B11="","",Student!B11) | W17: =IF(C17="","",COUNTIF(C17:V17,$W$8)) | X17: =IF(C17="","",COUNTIF(C17:V17,$X$8)) | Y17: =IF(C17="","",COUNTIF(C17:V17,$Y$8)) | Z17: =IF(C17="","",(W17*2))
A18: =Student!A12 -> 10 | B18: =IF(Student!B12="","",Student!B12) | W18: =IF(C18="","",COUNTIF(C18:V18,$W$8)) | X18: =IF(C18="","",COUNTIF(C18:V18,$X$8)) | Y18: =IF(C18="","",COUNTIF(C18:V18,$Y$8)) | Z18: =IF(C18="","",(W18*2))
A19: =Student!A13 -> 11 | B19: =IF(Student!B13="","",Student!B13) | W19: =IF(C19="","",COUNTIF(C19:V19,$W$8)) | X19: =IF(C19="","",COUNTIF(C19:V19,$X$8)) | Y19: =IF(C19="","",COUNTIF(C19:V19,$Y$8)) | Z19: =IF(C19="","",(W19*2))
A20: =Student!A14 -> 12 | B20: =IF(Student!B14="","",Student!B14) | W20: =IF(C20="","",COUNTIF(C20:V20,$W$8)) | X20: =IF(C20="","",COUNTIF(C20:V20,$X$8)) | Y20: =IF(C20="","",COUNTIF(C20:V20,$Y$8)) | Z20: =IF(C20="","",(W20*2))
... A104: =Student!A98 | B104: =IF(Student!B98="","",Student!B98) | W104: =IF(C104="","",COUNTIF(C104:V104,$W$8)) | X104: =IF(C104="","",COUNTIF(C104:V104,$X$8)) | Y104: =IF(C104="","",COUNTIF(C104:V104,$Y$8)) | Z104: =IF(C104="","",(W104*2))
B107: વિષય શિક્ષકની સહી | R107: આચાર્યની સહી/સિક્કા

Sheet 6 Eng
A1: પરિશિષ્ટ - A
A2: રચનાત્મક મૂલ્યાંકન
B3: ધોરણ અને વર્ગ :- | C3: =School!B8 -> 6 | G3: વિષય :- | I3: અંગ્રેજી | N3: સત્ર :- | P3: પ્રથમ | T3: વર્ષ :- | V3: =School!B9 -> 2025-'26
C5: અભ્યાસક્રમ પ્રમાણે પ્રતિનિધિત્વરૂપ હેતુઓ (મહત્તમ :- ૨૦)
C6: Health is Wealth | G6: Manners Matter | K6: Strength of Nature | O6: Circle of Love | S6: Around the World
A7: ક્રમ | B7: વિદ્યાર્થીનું નામ | C7: લોનવર્ડ્સ સહિત આશરે 500 જેટલા નવીન શબ્દો જાણી અને તેનો ઉપયોગ કરે છે. | D7: વસ્તુઓના સ્થાન અને સ્થળોનો નિર્દેશ કરે છે. | E7: વાર્તા/ પરિચ્છેદનું વાંચન કરી અર્થગ્રહણ કરે છે. | F7: ચિત્ર કે વસ્તુઓનું ત્રણ કે પાંચ વાકયોમાં વર્ણન કરે છે. | G7: ઘટના તેમજ વાર્તાના પાત્રો, સ્થળો અને ઘટના ક્રમની વિગતોની તારવણી કરે છે. | H7: પરિચિત પરિસ્થિતિમાં સંવાદ કરે છે. | I7: ચિત્ર અને પરિચ્છેદની વિગતોનું વર્ગીકરણ કરે છે. | J7: શબ્દકોશનો ઉપયોગ કરે છે. | K7: નામને અનુરૂપ ક્રિયા સૂચક શબ્દોનો ઉપયોગ કરી કાવ્ય(rhymes)ને આગળ વધારે છે. | L7: ટૂંકી પરિચિત વાર્તાઓ સાંભળી અને સહાયક સામગ્રીનો ઉપયોગ કરી વાર્તા કહે છે. | M7: પોતાની અને અન્યની શક્તિઓ અને ક્ષમતાઓ અંગે પ્રશ્નો પૂછી અને તેવાં પ્રશ્નોનાં જવાબ આપે છે. | N7: આપેલી વિગતોમાંથી અતાર્કિક શબ્દો તારવી તેને બદલે યોગ્ય શબ્દોનો ઉપયોગ કરે છે. | O7: માહિતી મેળવવા Wh (When, Where, What, How many)પ્રશ્નો પૂછી અને તેવા પ્રશ્નોના જવાબ આપે છે. | P7: પત્ર, ઈ-મેલ લખે છે અને તેનો જવાબ આપે છે. | Q7: પરિચિત ક્ષેત્રમાં બનેલી ક્રિયાનું વર્ણન કરે છે. | R7: સ્થાનિક પ્ર્યાવરણમાં ઉપલબ્ધ પરિચ્છેદ અંગ્રેજીમાં વાંચે છે. | S7: શબ્દો,શબ્દસમૂહો, અન્ય માહિતી પરથી પરિચ્છેદ લખે છે. | T7: વર્તમાન અને ભૂતકાળની ઘટનાઓની વિગતો અલગ તારવે છે. | U7: ટેબલ,ગ્રાફ,નકશા,પરિચ્છેદના આધારે વિગતો તારવી જણાવે છે. | V7: અર્થપૂર્ણ વાક્યનું અનુલેખન કરે છે. | W7: સત્રાંતે વિદ્યાર્થીઓએ મેળવેલ જે તે નિશાનીઓની સંખ્યા | Z7: 40 માંથી મેળવેલ ગુણ
C8: 1 | D8: 2 | E8: 3 | F8: 4 | G8: 5 | H8: 6 | I8: 7 | J8: 8 | K8: 9 | L8: 10 | M8: 11 | N8: 12 | O8: 13 | P8: 14 | Q8: 15 | R8: 16 | S8: 17 | T8: 18 | U8: 19 | V8: 20 | W8: √ | X8: ? | Y8: ×
A9: =Student!A3 -> 1 | B9: =IF(Student!B3="","",Student!B3) | W9: =IF(C9="","",COUNTIF(C9:V9,$W$8)) | X9: =IF(C9="","",COUNTIF(C9:V9,$X$8)) | Y9: =IF(C9="","",COUNTIF(C9:V9,$Y$8)) | Z9: =IF(C9="","",(W9*2))
A10: =Student!A4 -> 2 | B10: =IF(Student!B4="","",Student!B4) | W10: =IF(C10="","",COUNTIF(C10:V10,$W$8)) | X10: =IF(C10="","",COUNTIF(C10:V10,$X$8)) | Y10: =IF(C10="","",COUNTIF(C10:V10,$Y$8)) | Z10: =IF(C10="","",(W10*2))
A11: =Student!A5 -> 3 | B11: =IF(Student!B5="","",Student!B5) | W11: =IF(C11="","",COUNTIF(C11:V11,$W$8)) | X11: =IF(C11="","",COUNTIF(C11:V11,$X$8)) | Y11: =IF(C11="","",COUNTIF(C11:V11,$Y$8)) | Z11: =IF(C11="","",(W11*2))
A12: =Student!A6 -> 4 | B12: =IF(Student!B6="","",Student!B6) | W12: =IF(C12="","",COUNTIF(C12:V12,$W$8)) | X12: =IF(C12="","",COUNTIF(C12:V12,$X$8)) | Y12: =IF(C12="","",COUNTIF(C12:V12,$Y$8)) | Z12: =IF(C12="","",(W12*2))
A13: =Student!A7 -> 5 | B13: =IF(Student!B7="","",Student!B7) | W13: =IF(C13="","",COUNTIF(C13:V13,$W$8)) | X13: =IF(C13="","",COUNTIF(C13:V13,$X$8)) | Y13: =IF(C13="","",COUNTIF(C13:V13,$Y$8)) | Z13: =IF(C13="","",(W13*2))
A14: =Student!A8 -> 6 | B14: =IF(Student!B8="","",Student!B8) | W14: =IF(C14="","",COUNTIF(C14:V14,$W$8)) | X14: =IF(C14="","",COUNTIF(C14:V14,$X$8)) | Y14: =IF(C14="","",COUNTIF(C14:V14,$Y$8)) | Z14: =IF(C14="","",(W14*2))
A15: =Student!A9 -> 7 | B15: =IF(Student!B9="","",Student!B9) | W15: =IF(C15="","",COUNTIF(C15:V15,$W$8)) | X15: =IF(C15="","",COUNTIF(C15:V15,$X$8)) | Y15: =IF(C15="","",COUNTIF(C15:V15,$Y$8)) | Z15: =IF(C15="","",(W15*2))
A16: =Student!A10 -> 8 | B16: =IF(Student!B10="","",Student!B10) | W16: =IF(C16="","",COUNTIF(C16:V16,$W$8)) | X16: =IF(C16="","",COUNTIF(C16:V16,$X$8)) | Y16: =IF(C16="","",COUNTIF(C16:V16,$Y$8)) | Z16: =IF(C16="","",(W16*2))
A17: =Student!A11 -> 9 | B17: =IF(Student!B11="","",Student!B11) | W17: =IF(C17="","",COUNTIF(C17:V17,$W$8)) | X17: =IF(C17="","",COUNTIF(C17:V17,$X$8)) | Y17: =IF(C17="","",COUNTIF(C17:V17,$Y$8)) | Z17: =IF(C17="","",(W17*2))
A18: =Student!A12 -> 10 | B18: =IF(Student!B12="","",Student!B12) | W18: =IF(C18="","",COUNTIF(C18:V18,$W$8)) | X18: =IF(C18="","",COUNTIF(C18:V18,$X$8)) | Y18: =IF(C18="","",COUNTIF(C18:V18,$Y$8)) | Z18: =IF(C18="","",(W18*2))
A19: =Student!A13 -> 11 | B19: =IF(Student!B13="","",Student!B13) | W19: =IF(C19="","",COUNTIF(C19:V19,$W$8)) | X19: =IF(C19="","",COUNTIF(C19:V19,$X$8)) | Y19: =IF(C19="","",COUNTIF(C19:V19,$Y$8)) | Z19: =IF(C19="","",(W19*2))
A20: =Student!A14 -> 12 | B20: =IF(Student!B14="","",Student!B14) | W20: =IF(C20="","",COUNTIF(C20:V20,$W$8)) | X20: =IF(C20="","",COUNTIF(C20:V20,$X$8)) | Y20: =IF(C20="","",COUNTIF(C20:V20,$Y$8)) | Z20: =IF(C20="","",(W20*2))
... A104: =Student!A98 | B104: =IF(Student!B98="","",Student!B98) | W104: =IF(C104="","",COUNTIF(C104:V104,$W$8)) | X104: =IF(C104="","",COUNTIF(C104:V104,$X$8)) | Y104: =IF(C104="","",COUNTIF(C104:V104,$Y$8)) | Z104: =IF(C104="","",(W104*2))
B108: વિષય શિક્ષકની સહી | R108: આચાર્યની સહી/સિક્કા

Sheet 6 Sanskrit
A1: પરિશિષ્ટ - A
A2: રચનાત્મક મૂલ્યાંકન
B3: ધોરણ અને વર્ગ :- | C3: =School!B8 -> 6 | G3: વિષય :- | I3: સંસ્કૃત | N3: સત્ર :- | P3: પ્રથમ | T3: વર્ષ :- | V3: =School!B9 -> 2025-'26
C5: અભ્યાસક્રમ પ્રમાણે પ્રતિનિધિત્વરૂપ હેતુઓ (મહત્તમ :- ૨૦)
C6: चित्रपदानि १ त: ४ | E6: आकाश: पतति | G6: लेखनम | I6: सड्ख्या | K6: हस्ती हस्ती हस्ती | M6: सप्तवासरा: | O6: करोति | Q6: काकस्य चातुर्यम | T6: समय:
A7: ક્રમ | B7: વિદ્યાર્થીનું નામ | C7: સરળ ગુજરાતી શબ્દો અને સાદાં વાક્યોનો સંસ્કૃતમાં અનુવાદ કરે છે. | D7: ચિત્રોના આધારે તે વસ્તુનું નામ કે ક્રિયા ઓળખે અને સંસ્કૃતમાં લખે છે. | E7: સરળ સાદા શબ્દો અને વાક્યોનું શુદ્ધ ઉચ્ચારણ સાથે પઠન કરે છે અને સમજે છે. | F7: સાદા પ્રશ્નોના જવાબ એક શબ્દમાં કે નાના વાક્યોમાં લખે છે. | G7: સાદા શબ્દોનું અનુલેખન કરે છે. | H7: સાદા શબ્દોનું શ્રુતલેખનકરે છે. | I7: 1 થી 12 સુધીની સંખ્યા સમજીને બોલે છે. | J7: 1 થી 12 સુધીની સંખ્યા તેમજ સમયનું વાંચન કરે છે. | K7: સરળ પદ્યો (સુભાષિતો પ્રહેલિકા અને ગીતો) અને ટૂંકા વાક્યો સાંભળીને સમજે છે. | L7: સરળ પદ્યો (સુભાષિતો, પ્રહેલિકા અને ગીતો) અને ટૂંકા વાક્યો શુદ્ધ ઉચ્ચાર સાથે બોલે છે. | M7: ઉદાહરણ અથવા આપેલ નિર્દેશને આધારે સંસ્કૃત ભાષામાં નવા શબ્દો અને વાક્યોની રચના કરે છે. | N7: પાઠ્યપુસ્તકમાં સમાવિષ્ટ સુભાષિતો તેમજ શ્લોકો અંગે સભાનતા કેળવે છે. અને વ્ય.માં ઉપયોગ કરે છે. | O7: સ્વ પરિચયને લગતા ટૂંકા પ્રશ્નો સમજે છે. | P7: સ્વ-પરિચયને લગતા ટૂંકા પ્રશ્નોના મૌખિક ઉત્તર આપે છે. | Q7: સાદા વાક્યો સાંભળીને સમજે છે. | R7: સાદાં વાક્યો ( બેથી ત્રણ શબ્દો વાળાં ) બોલે છે. | S7: સરળ વાક્યોનું અનુલેખન કરે છે. | T7: પૂર્ણકલાકમાં સમય સાંભળીને સમજે છે. | U7: પૂર્ણ કલાકમાં સમય સમજીને બોલે છે. | V7: ઘડિયાળમાં પૂર્ણ સંખ્યામાં સમયનું વાંચન કરે છે. | W7: સત્રાંતે વિદ્યાર્થીઓએ મેળવેલ જે તે નિશાનીઓની સંખ્યા | Z7: 40 માંથી મેળવેલ ગુણ
C8: 1 | D8: 2 | E8: 3 | F8: 4 | G8: 5 | H8: 6 | I8: 7 | J8: 8 | K8: 9 | L8: 10 | M8: 11 | N8: 12 | O8: 13 | P8: 14 | Q8: 15 | R8: 16 | S8: 17 | T8: 18 | U8: 19 | V8: 20 | W8: √ | X8: ? | Y8: ×
A9: =Student!A3 -> 1 | B9: =IF(Student!B3="","",Student!B3) | W9: =IF(C9="","",COUNTIF(C9:V9,$W$8)) | X9: =IF(C9="","",COUNTIF(C9:V9,$X$8)) | Y9: =IF(C9="","",COUNTIF(C9:V9,$Y$8)) | Z9: =IF(C9="","",(W9*2))
A10: =Student!A4 -> 2 | B10: =IF(Student!B4="","",Student!B4) | W10: =IF(C10="","",COUNTIF(C10:V10,$W$8)) | X10: =IF(C10="","",COUNTIF(C10:V10,$X$8)) | Y10: =IF(C10="","",COUNTIF(C10:V10,$Y$8)) | Z10: =IF(C10="","",(W10*2))
A11: =Student!A5 -> 3 | B11: =IF(Student!B5="","",Student!B5) | W11: =IF(C11="","",COUNTIF(C11:V11,$W$8)) | X11: =IF(C11="","",COUNTIF(C11:V11,$X$8)) | Y11: =IF(C11="","",COUNTIF(C11:V11,$Y$8)) | Z11: =IF(C11="","",(W11*2))
A12: =Student!A6 -> 4 | B12: =IF(Student!B6="","",Student!B6) | W12: =IF(C12="","",COUNTIF(C12:V12,$W$8)) | X12: =IF(C12="","",COUNTIF(C12:V12,$X$8)) | Y12: =IF(C12="","",COUNTIF(C12:V12,$Y$8)) | Z12: =IF(C12="","",(W12*2))
A13: =Student!A7 -> 5 | B13: =IF(Student!B7="","",Student!B7) | W13: =IF(C13="","",COUNTIF(C13:V13,$W$8)) | X13: =IF(C13="","",COUNTIF(C13:V13,$X$8)) | Y13: =IF(C13="","",COUNTIF(C13:V13,$Y$8)) | Z13: =IF(C13="","",(W13*2))
A14: =Student!A8 -> 6 | B14: =IF(Student!B8="","",Student!B8) | W14: =IF(C14="","",COUNTIF(C14:V14,$W$8)) | X14: =IF(C14="","",COUNTIF(C14:V14,$X$8)) | Y14: =IF(C14="","",COUNTIF(C14:V14,$Y$8)) | Z14: =IF(C14="","",(W14*2))
A15: =Student!A9 -> 7 | B15: =IF(Student!B9="","",Student!B9) | W15: =IF(C15="","",COUNTIF(C15:V15,$W$8)) | X15: =IF(C15="","",COUNTIF(C15:V15,$X$8)) | Y15: =IF(C15="","",COUNTIF(C15:V15,$Y$8)) | Z15: =IF(C15="","",(W15*2))
A16: =Student!A10 -> 8 | B16: =IF(Student!B10="","",Student!B10) | W16: =IF(C16="","",COUNTIF(C16:V16,$W$8)) | X16: =IF(C16="","",COUNTIF(C16:V16,$X$8)) | Y16: =IF(C16="","",COUNTIF(C16:V16,$Y$8)) | Z16: =IF(C16="","",(W16*2))
A17: =Student!A11 -> 9 | B17: =IF(Student!B11="","",Student!B11) | W17: =IF(C17="","",COUNTIF(C17:V17,$W$8)) | X17: =IF(C17="","",COUNTIF(C17:V17,$X$8)) | Y17: =IF(C17="","",COUNTIF(C17:V17,$Y$8)) | Z17: =IF(C17="","",(W17*2))
A18: =Student!A12 -> 10 | B18: =IF(Student!B12="","",Student!B12) | W18: =IF(C18="","",COUNTIF(C18:V18,$W$8)) | X18: =IF(C18="","",COUNTIF(C18:V18,$X$8)) | Y18: =IF(C18="","",COUNTIF(C18:V18,$Y$8)) | Z18: =IF(C18="","",(W18*2))
A19: =Student!A13 -> 11 | B19: =IF(Student!B13="","",Student!B13) | W19: =IF(C19="","",COUNTIF(C19:V19,$W$8)) | X19: =IF(C19="","",COUNTIF(C19:V19,$X$8)) | Y19: =IF(C19="","",COUNTIF(C19:V19,$Y$8)) | Z19: =IF(C19="","",(W19*2))
A20: =Student!A14 -> 12 | B20: =IF(Student!B14="","",Student!B14) | W20: =IF(C20="","",COUNTIF(C20:V20,$W$8)) | X20: =IF(C20="","",COUNTIF(C20:V20,$X$8)) | Y20: =IF(C20="","",COUNTIF(C20:V20,$Y$8)) | Z20: =IF(C20="","",(W20*2))
... A104: =Student!A98 | B104: =IF(Student!B98="","",Student!B98) | W104: =IF(C104="","",COUNTIF(C104:V104,$W$8)) | X104: =IF(C104="","",COUNTIF(C104:V104,$X$8)) | Y104: =IF(C104="","",COUNTIF(C104:V104,$Y$8)) | Z104: =IF(C104="","",(W104*2))
B107: વિષય શિક્ષકની સહી | R107: આચાર્યની સહી/સિક્કા

Sheet 6 Guj (2)
A1: પરિશિષ્ટ - A
A2: રચનાત્મક મૂલ્યાંકન
B3: ધોરણ અને વર્ગ :- | C3: =School!B8 -> 6 | G3: વિષય :- | I3: ગુજરાતી | N3: સત્ર :- | P3: દ્વિતીય | T3: વર્ષ :- | V3: =School!B9 -> 2025-'26
C5: અભ્યાસક્રમ પ્રમાણે પ્રતિનિધિત્વરૂપ હેતુઓ (મહત્તમ :- ૨૦)
C6: દુર શું? નજીક શું? | E6: અપરાજેય | G6: પરોપકારી મનુષ્યો | I6: એક ઇડરનો વાણિયો | K6: બે રૂપિયા | M6: શેરીએ આવે સાદ | O6: સાપુતારાનો પ્રવાસ | Q6: એકલો જાને રે | S6: કોઈ દેખાડો | U6: વ્યવહારિક વ્યાકરણ
A7: ક્રમ | B7: વિદ્યાર્થીનું નામ | C7: કાવ્ય માંથી પ્રાસ વાળા શબ્દો શોધી તેની જોડી બનાવી શકે છે. | D7: પદ્યમાંથી ગદ્ય માં રૂપાંતર કરી શકે છે. | E7: આપેલ માહિતીને સમજી ક્યાં, ક્યારે, કેમ, શું, વગેરે જેવા પ્રશ્નો બનાવી શકે છે. | F7: ઘટનાના ક્રમ મુજબ વાક્યો ગોઠવી શકે છે. | G7: શબ્દ સમૂહ માટે એક શબ્દ આપી શકે છે. | H7: આપેલ વાક્યો કે ફકારામાંથી અયોગ્ય /અતાર્કિક શબ્દો શોધી સુધારી શકે છે. | I7: અનુભવેલી ઘટનાઓને આધારે યોગ્ય ઉકેલ મેળવી શકે છે. | J7: સંજ્ઞાના પ્રકાર ઓળખે છે. તથા તેના આધારે શબ્દો અલગ તારવી શકે છે. | K7: શબ્દોનો ઉપયોગ કરી સંવાદ, પરિચ્છદ કે વાર્તાની રચના કરે છે. | L7: શબ્દના લિંગ અને વચન ઓળખી શબ્દનો રૂપાંતર કરી અન્ય શબ્દ બનાવે. | M7: ભાવવાહી કાવ્ય ગાન કરે. પોતાને મનગમતું કાવ્ય કંઠસ્થ કરે. | N7: સ્થાનિક ભાષાના શબ્દોને માન્ય ભાષા ના શબ્દો સાથે સરખામણી કરે. | O7: ગદ્યની વર્ણાત્મક સામગ્રીમાંથી વિગતો શોધે સમજે અને પ્રશ્નોના ઉત્તર આપી શકે છે. | P7: સ્થાનિક ભાષાના શબ્દોને માન્ય ભાષા ના શબ્દો સાથે સરખામણી કરે. | Q7: તળપદા શબ્દોને શિષ્ટ શબ્દોથી જુદા તારવે અને તેવા શબ્દોનો વાક્ય પ્રયોગ કરે. | R7: ભાવ વાચક સંજ્ઞાને લગતા શબ્દો શોધી લખી શકે છે. | S7: કાવ્યના ભાવને સમજી તેને સમજ આપી શકે છે કે પ્રશ્નોત્તર કરી શકે છે. | T7: પરિચ્છેદ ના પ્રશ્નો ની રજૂઆત કરવા માટે સ્થાનિક ભાષાનો વિવેકપૂર્ણ ઉપયોગ કરે. | U7: લેખન કરવાના પ્રસંગોમાં પોતાની ભાષાકીય સજ્જતાનો ઉપયોગ કરે. | V7: વિધાન વાક્ય પ્રશ્નાર્થ વાક્ય ઉદગાર વાક્ય વગેરે વાક્ય પ્રકાર ઓળખી શકે છે. | W7: સત્રાંતે વિદ્યાર્થીઓએ મેળવેલ જે તે નિશાનીઓની સંખ્યા | Z7: 40 માંથી મેળવેલ ગુણ
C8: 1 | D8: 2 | E8: 3 | F8: 4 | G8: 5 | H8: 6 | I8: 7 | J8: 8 | K8: 9 | L8: 10 | M8: 11 | N8: 12 | O8: 13 | P8: 14 | Q8: 15 | R8: 16 | S8: 17 | T8: 18 | U8: 19 | V8: 20 | W8: √ | X8: ? | Y8: ×
A9: =Student!A3 -> 1 | B9: =IF(Student!B3="","",Student!B3) | W9: =IF(C9="","",COUNTIF(C9:V9,$W$8)) | X9: =IF(C9="","",COUNTIF(C9:V9,$X$8)) | Y9: =IF(C9="","",COUNTIF(C9:V9,$Y$8)) | Z9: =IF(C9="","",(W9*2))
A10: =Student!A4 -> 2 | B10: =IF(Student!B4="","",Student!B4) | W10: =IF(C10="","",COUNTIF(C10:V10,$W$8)) | X10: =IF(C10="","",COUNTIF(C10:V10,$X$8)) | Y10: =IF(C10="","",COUNTIF(C10:V10,$Y$8)) | Z10: =IF(C10="","",(W10*2))
A11: =Student!A5 -> 3 | B11: =IF(Student!B5="","",Student!B5) | W11: =IF(C11="","",COUNTIF(C11:V11,$W$8)) | X11: =IF(C11="","",COUNTIF(C11:V11,$X$8)) | Y11: =IF(C11="","",COUNTIF(C11:V11,$Y$8)) | Z11: =IF(C11="","",(W11*2))
A12: =Student!A6 -> 4 | B12: =IF(Student!B6="","",Student!B6) | W12: =IF(C12="","",COUNTIF(C12:V12,$W$8)) | X12: =IF(C12="","",COUNTIF(C12:V12,$X$8)) | Y12: =IF(C12="","",COUNTIF(C12:V12,$Y$8)) | Z12: =IF(C12="","",(W12*2))
A13: =Student!A7 -> 5 | B13: =IF(Student!B7="","",Student!B7) | W13: =IF(C13="","",COUNTIF(C13:V13,$W$8)) | X13: =IF(C13="","",COUNTIF(C13:V13,$X$8)) | Y13: =IF(C13="","",COUNTIF(C13:V13,$Y$8)) | Z13: =IF(C13="","",(W13*2))
A14: =Student!A8 -> 6 | B14: =IF(Student!B8="","",Student!B8) | W14: =IF(C14="","",COUNTIF(C14:V14,$W$8)) | X14: =IF(C14="","",COUNTIF(C14:V14,$X$8)) | Y14: =IF(C14="","",COUNTIF(C14:V14,$Y$8)) | Z14: =IF(C14="","",(W14*2))
A15: =Student!A9 -> 7 | B15: =IF(Student!B9="","",Student!B9) | W15: =IF(C15="","",COUNTIF(C15:V15,$W$8)) | X15: =IF(C15="","",COUNTIF(C15:V15,$X$8)) | Y15: =IF(C15="","",COUNTIF(C15:V15,$Y$8)) | Z15: =IF(C15="","",(W15*2))
A16: =Student!A10 -> 8 | B16: =IF(Student!B10="","",Student!B10) | W16: =IF(C16="","",COUNTIF(C16:V16,$W$8)) | X16: =IF(C16="","",COUNTIF(C16:V16,$X$8)) | Y16: =IF(C16="","",COUNTIF(C16:V16,$Y$8)) | Z16: =IF(C16="","",(W16*2))
A17: =Student!A11 -> 9 | B17: =IF(Student!B11="","",Student!B11) | W17: =IF(C17="","",COUNTIF(C17:V17,$W$8)) | X17: =IF(C17="","",COUNTIF(C17:V17,$X$8)) | Y17: =IF(C17="","",COUNTIF(C17:V17,$Y$8)) | Z17: =IF(C17="","",(W17*2))
A18: =Student!A12 -> 10 | B18: =IF(Student!B12="","",Student!B12) | W18: =IF(C18="","",COUNTIF(C18:V18,$W$8)) | X18: =IF(C18="","",COUNTIF(C18:V18,$X$8)) | Y18: =IF(C18="","",COUNTIF(C18:V18,$Y$8)) | Z18: =IF(C18="","",(W18*2))
A19: =Student!A13 -> 11 | B19: =IF(Student!B13="","",Student!B13) | W19: =IF(C19="","",COUNTIF(C19:V19,$W$8)) | X19: =IF(C19="","",COUNTIF(C19:V19,$X$8)) | Y19: =IF(C19="","",COUNTIF(C19:V19,$Y$8)) | Z19: =IF(C19="","",(W19*2))
A20: =Student!A14 -> 12 | B20: =IF(Student!B14="","",Student!B14) | W20: =IF(C20="","",COUNTIF(C20:V20,$W$8)) | X20: =IF(C20="","",COUNTIF(C20:V20,$X$8)) | Y20: =IF(C20="","",COUNTIF(C20:V20,$Y$8)) | Z20: =IF(C20="","",(W20*2))
... A104: =Student!A98 | B104: =IF(Student!B98="","",Student!B98) | W104: =IF(C104="","",COUNTIF(C104:V104,$W$8)) | X104: =IF(C104="","",COUNTIF(C104:V104,$X$8)) | Y104: =IF(C104="","",COUNTIF(C104:V104,$Y$8)) | Z104: =IF(C104="","",(W104*2))
B107: વિષય શિક્ષકની સહી | R107: આચાર્યની સહી/સિક્કા

Sheet 6 Maths (2)
A1: પરિશિષ્ટ - A
A2: રચનાત્મક મૂલ્યાંકન
B3: ધોરણ અને વર્ગ :- | C3: =School!B8 -> 6 | G3: વિષય :- | I3: ગણિત | N3: સત્ર :- | P3: દ્વિતીય | T3: વર્ષ :- | V3: =School!B9 -> 2025-'26
C5: અભ્યાસક્રમ પ્રમાણે પ્રતિનિધિત્વરૂપ હેતુઓ (મહત્તમ :- ૨૦)
C6: અપૂર્ણાંક સંખ્યાઓ | F6: દશાંશ સંખ્યાઓ | I6: માહિતીનું નિયમન | L6: માપન | P6: બીજ ગણિત | S6: ગુણોત્તર અને પ્રમાણ
A7: ક્રમ | B7: વિદ્યાર્થીનું નામ | C7: અપૂર્ણાંક સંખ્યાની સમજ મેળવી અને સંખયારેખા પર દર્શાવે છે. | D7: શુદ્ધ,અશુદ્ધ અને મિશ્ર અપૂર્ણાંક વિશે જણાવે છે. | E7: સમચ્છેદિ અને વિષમચ્છેદિ અપૂર્ણાંકના અતિસંક્ષિપ્ત સ્વરૂપમાં ફેરવે છે. | F7: દશાંશ પદ્ધતિનો ખ્યાલ સંખ્યા લેખન તેમજ અંકોની સ્થાન કિંમત જાણે છે | G7: અપૂર્ણાંક અને દશાંશ સંખ્યામાં રૂપાંતર તેમજ સરવાળા બાદબાકી કરે છે | H7: દશાંશ સંખ્યાઓના સાદા કૂટપ્રશ્નો જેમાં રૂપિયા વજન લંબાઈ તાપમાનનો સમાવેશ વિશે જાણે છે | I7: માહિતીની સમજ તેમજ એકત્રીકરણ ચકાસણી અને વર્ગીકરણ કરે છે. | J7: માહિતી પરથી ચિત્ર આલેખ દોરવા અને તેનો અર્થઘટન કરવું | K7: માહિતી પરથી લંબ આલેખ દોરવા અને તેનો અર્થઘટન કરવું | L7: જુદા જુદા આકારોની પરિમિતિ શોધી શકે છે | M7: સૂત્રના ઉપયોગથી ચોરસ અને લંબચોરસ ક્ષેત્રફળ શોધે છે | N7: આલેખ પત્રની મદદથી અનિયમિત આકારોના ક્ષેત્રફળ શોધે છે | O7: ક્ષેત્રફળ આધારિત કૂટપ્રશ્નો પ્રશ્નો ઉકેલી શકે છે | P7: બીજ ગણિતની ઓળખ તેમજ ચલ વિશેનો ખ્યાલ સમજે છે | Q7: ચલનો ઉપયોગ સમીકરણની રચનામા કરે છે | R7: આસપાસના કોયડા ચલના ઉપયોગથી ઉકેલે છે | S7: ગુણોત્તરનો ખ્યાલ અને ગુણોત્તર દર્શાવવાનીની રીત સમજે છે | T7: વિવિધ પરિસ્થિતિમાં ગુણોત્તરનો ઉપયોગ કરીને આપેલ જથ્થાઓની સરખામણી કરતા શીખે છે | U7: પ્રમાણની સમજ દર્શાવી અંત્યપદ અને મધ્યપદ જણાવે છે | V7: ગુણોત્તર પ્રમાણના કૂટપ્રશ્નો ઉકેલે છે | W7: સત્રાંતે વિદ્યાર્થીઓએ મેળવેલ જે તે નિશાનીઓની સંખ્યા | Z7: 40 માંથી મેળવેલ ગુણ
C8: 1 | D8: 2 | E8: 3 | F8: 4 | G8: 5 | H8: 6 | I8: 7 | J8: 8 | K8: 9 | L8: 10 | M8: 11 | N8: 12 | O8: 13 | P8: 14 | Q8: 15 | R8: 16 | S8: 17 | T8: 18 | U8: 19 | V8: 20 | W8: √ | X8: ? | Y8: ×
A9: =Student!A3 -> 1 | B9: =IF(Student!B3="","",Student!B3) | W9: =IF(C9="","",COUNTIF(C9:V9,$W$8)) | X9: =IF(C9="","",COUNTIF(C9:V9,$X$8)) | Y9: =IF(C9="","",COUNTIF(C9:V9,$Y$8)) | Z9: =IF(C9="","",(W9*2))
A10: =Student!A4 -> 2 | B10: =IF(Student!B4="","",Student!B4) | W10: =IF(C10="","",COUNTIF(C10:V10,$W$8)) | X10: =IF(C10="","",COUNTIF(C10:V10,$X$8)) | Y10: =IF(C10="","",COUNTIF(C10:V10,$Y$8)) | Z10: =IF(C10="","",(W10*2))
A11: =Student!A5 -> 3 | B11: =IF(Student!B5="","",Student!B5) | W11: =IF(C11="","",COUNTIF(C11:V11,$W$8)) | X11: =IF(C11="","",COUNTIF(C11:V11,$X$8)) | Y11: =IF(C11="","",COUNTIF(C11:V11,$Y$8)) | Z11: =IF(C11="","",(W11*2))
A12: =Student!A6 -> 4 | B12: =IF(Student!B6="","",Student!B6) | W12: =IF(C12="","",COUNTIF(C12:V12,$W$8)) | X12: =IF(C12="","",COUNTIF(C12:V12,$X$8)) | Y12: =IF(C12="","",COUNTIF(C12:V12,$Y$8)) | Z12: =IF(C12="","",(W12*2))
A13: =Student!A7 -> 5 | B13: =IF(Student!B7="","",Student!B7) | W13: =IF(C13="","",COUNTIF(C13:V13,$W$8)) | X13: =IF(C13="","",COUNTIF(C13:V13,$X$8)) | Y13: =IF(C13="","",COUNTIF(C13:V13,$Y$8)) | Z13: =IF(C13="","",(W13*2))
A14: =Student!A8 -> 6 | B14: =IF(Student!B8="","",Student!B8) | W14: =IF(C14="","",COUNTIF(C14:V14,$W$8)) | X14: =IF(C14="","",COUNTIF(C14:V14,$X$8)) | Y14: =IF(C14="","",COUNTIF(C14:V14,$Y$8)) | Z14: =IF(C14="","",(W14*2))
A15: =Student!A9 -> 7 | B15: =IF(Student!B9="","",Student!B9) | W15: =IF(C15="","",COUNTIF(C15:V15,$W$8)) | X15: =IF(C15="","",COUNTIF(C15:V15,$X$8)) | Y15: =IF(C15="","",COUNTIF(C15:V15,$Y$8)) | Z15: =IF(C15="","",(W15*2))
A16: =Student!A10 -> 8 | B16: =IF(Student!B10="","",Student!B10) | W16: =IF(C16="","",COUNTIF(C16:V16,$W$8)) | X16: =IF(C16="","",COUNTIF(C16:V16,$X$8)) | Y16: =IF(C16="","",COUNTIF(C16:V16,$Y$8)) | Z16: =IF(C16="","",(W16*2))
A17: =Student!A11 -> 9 | B17: =IF(Student!B11="","",Student!B11) | W17: =IF(C17="","",COUNTIF(C17:V17,$W$8)) | X17: =IF(C17="","",COUNTIF(C17:V17,$X$8)) | Y17: =IF(C17="","",COUNTIF(C17:V17,$Y$8)) | Z17: =IF(C17="","",(W17*2))
A18: =Student!A12 -> 10 | B18: =IF(Student!B12="","",Student!B12) | W18: =IF(C18="","",COUNTIF(C18:V18,$W$8)) | X18: =IF(C18="","",COUNTIF(C18:V18,$X$8)) | Y18: =IF(C18="","",COUNTIF(C18:V18,$Y$8)) | Z18: =IF(C18="","",(W18*2))
A19: =Student!A13 -> 11 | B19: =IF(Student!B13="","",Student!B13) | W19: =IF(C19="","",COUNTIF(C19:V19,$W$8)) | X19: =IF(C19="","",COUNTIF(C19:V19,$X$8)) | Y19: =IF(C19="","",COUNTIF(C19:V19,$Y$8)) | Z19: =IF(C19="","",(W19*2))
A20: =Student!A14 -> 12 | B20: =IF(Student!B14="","",Student!B14) | W20: =IF(C20="","",COUNTIF(C20:V20,$W$8)) | X20: =IF(C20="","",COUNTIF(C20:V20,$X$8)) | Y20: =IF(C20="","",COUNTIF(C20:V20,$Y$8)) | Z20: =IF(C20="","",(W20*2))
... A104: =Student!A98 | B104: =IF(Student!B98="","",Student!B98) | W104: =IF(C104="","",COUNTIF(C104:V104,$W$8)) | X104: =IF(C104="","",COUNTIF(C104:V104,$X$8)) | Y104: =IF(C104="","",COUNTIF(C104:V104,$Y$8)) | Z104: =IF(C104="","",(W104*2))
B108: વિષય શિક્ષકની સહી | R108: આચાર્યની સહી/સિક્કા

Sheet  6 Sci (2)
A1: પરિશિષ્ટ - A
A2: રચનાત્મક મૂલ્યાંકન
B3: ધોરણ અને વર્ગ :- | C3: =School!B8 -> 6 | G3: વિષય :- | I3: વિજ્ઞાન | N3: સત્ર :- | P3: દ્વિતીય | T3: વર્ષ :- | V3: =School!B9 -> 2025-'26
C5: અભ્યાસક્રમ પ્રમાણે પ્રતિનિધિત્વરૂપ હેતુઓ (મહત્તમ :- ૨૦)
C6: સજીવો-લક્ષણો અને નિવાસસ્થાન | F6: ગતિ અને અંતરનું માપન | I6: પ્રકાશ,પડછાયો અને પરાવર્તન | L6: વિદ્યુત તથા પરિપથ | P6: ચુંબક સાથે ગમ્મત | U6: આપણી આસપાસની હવા
A7: ક્રમ | B7: વિદ્યાર્થીનું નામ | C7: પ્રાણીઓના નિવાસ્થાન અને અનુકૂલનો વિશે જણાવે છે | D7: વનસ્પતિઓના નિવાસસ્થાન અને અનુકૂલનો વિશે જાણે | E7: સજીવોમાંરહેલી વિવિધ લાક્ષણિકતાઓ વિશે સમજે છે. | F7: ગતિ અને તેના વિવિધ પ્રકાર વિશે સમજે છે | G7: ભૌતિક રાશીઓ અને તેનું SI એકમ માં માપન રજુ કરે છે. | H7: માપન અને તેની ચોકસાઇનો વ્યવહારમાં ઉપયોગ કરે છે | I7: પ્રકાશના ઉદગમ સ્થાન, પારભાસક ,પારદર્શક, અપારદર્શક પદાર્થો વિશે જાણે છે | J7: પીન હોલ કેમેરા તેમજ અન્ય સાધનો નિર્માણ કરે છે | K7: પ્રકાશની સુરેખ ગતિને પ્રાયોગિક ધોરણે સાબિત કરી બતાવે છે | L7: વિદ્યુતપરિપથ તથા તેના ઘટકો વિશે સમજે છે. | M7: વિધુત સુવાહક અને અવાહકને તેમના ગુણધર્મને આધારે તારવે છે | N7: વિધુત કોષ વિધુત પરિપથ સ્વીચ નિર્માણ કરે છે | O7: વિદ્યુત(વીજળી)ના ઉપયોગમાં સાવચેતી રાખતા શીખે છે. | P7: ચુંબકીય અને બિન-ચુંબકીય પદાર્થોને જાણે છે. | Q7: ચુંબકના વિવિધ પ્રકારો વિશે જાણે અને બનાવવાની રીત સમજે છે. | R7: ચુંબકીય ધ્રુવો વિશે સમજે છે | S7: ચુંબકો વચ્ચે થતું આકર્ષણ અને અપાકર્ષણ પ્રયોગ દ્વારા સમજે છે. | T7: હોકાયંત્રની રચના અને કાર્યપદ્ધતિ જાણે છે | U7: હવાના ઘટકો વિષે જાણે અને તેની ઉપયોગિતા સમજે છે | V7: હવાને લગતા વિવિધ પ્રયોગો સાબિત કરી બતાવે છે | W7: સત્રાંતે વિદ્યાર્થીઓએ મેળવેલ જે તે નિશાનીઓની સંખ્યા | Z7: 40 માંથી મેળવેલ ગુણ
C8: 1 | D8: 2 | E8: 3 | F8: 4 | G8: 5 | H8: 6 | I8: 7 | J8: 8 | K8: 9 | L8: 10 | M8: 11 | N8: 12 | O8: 13 | P8: 14 | Q8: 15 | R8: 16 | S8: 17 | T8: 18 | U8: 19 | V8: 20 | W8: √ | X8: ? | Y8: ×
A9: =Student!A3 -> 1 | B9: =IF(Student!B3="","",Student!B3) | W9: =IF(C9="","",COUNTIF(C9:V9,$W$8)) | X9: =IF(C9="","",COUNTIF(C9:V9,$X$8)) | Y9: =IF(C9="","",COUNTIF(C9:V9,$Y$8)) | Z9: =IF(C9="","",(W9*2))
A10: =Student!A4 -> 2 | B10: =IF(Student!B4="","",Student!B4) | W10: =IF(C10="","",COUNTIF(C10:V10,$W$8)) | X10: =IF(C10="","",COUNTIF(C10:V10,$X$8)) | Y10: =IF(C10="","",COUNTIF(C10:V10,$Y$8)) | Z10: =IF(C10="","",(W10*2))
A11: =Student!A5 -> 3 | B11: =IF(Student!B5="","",Student!B5) | W11: =IF(C11="","",COUNTIF(C11:V11,$W$8)) | X11: =IF(C11="","",COUNTIF(C11:V11,$X$8)) | Y11: =IF(C11="","",COUNTIF(C11:V11,$Y$8)) | Z11: =IF(C11="","",(W11*2))
A12: =Student!A6 -> 4 | B12: =IF(Student!B6="","",Student!B6) | W12: =IF(C12="","",COUNTIF(C12:V12,$W$8)) | X12: =IF(C12="","",COUNTIF(C12:V12,$X$8)) | Y12: =IF(C12="","",COUNTIF(C12:V12,$Y$8)) | Z12: =IF(C12="","",(W12*2))
A13: =Student!A7 -> 5 | B13: =IF(Student!B7="","",Student!B7) | W13: =IF(C13="","",COUNTIF(C13:V13,$W$8)) | X13: =IF(C13="","",COUNTIF(C13:V13,$X$8)) | Y13: =IF(C13="","",COUNTIF(C13:V13,$Y$8)) | Z13: =IF(C13="","",(W13*2))
A14: =Student!A8 -> 6 | B14: =IF(Student!B8="","",Student!B8) | W14: =IF(C14="","",COUNTIF(C14:V14,$W$8)) | X14: =IF(C14="","",COUNTIF(C14:V14,$X$8)) | Y14: =IF(C14="","",COUNTIF(C14:V14,$Y$8)) | Z14: =IF(C14="","",(W14*2))
A15: =Student!A9 -> 7 | B15: =IF(Student!B9="","",Student!B9) | W15: =IF(C15="","",COUNTIF(C15:V15,$W$8)) | X15: =IF(C15="","",COUNTIF(C15:V15,$X$8)) | Y15: =IF(C15="","",COUNTIF(C15:V15,$Y$8)) | Z15: =IF(C15="","",(W15*2))
A16: =Student!A10 -> 8 | B16: =IF(Student!B10="","",Student!B10) | W16: =IF(C16="","",COUNTIF(C16:V16,$W$8)) | X16: =IF(C16="","",COUNTIF(C16:V16,$X$8)) | Y16: =IF(C16="","",COUNTIF(C16:V16,$Y$8)) | Z16: =IF(C16="","",(W16*2))
A17: =Student!A11 -> 9 | B17: =IF(Student!B11="","",Student!B11) | W17: =IF(C17="","",COUNTIF(C17:V17,$W$8)) | X17: =IF(C17="","",COUNTIF(C17:V17,$X$8)) | Y17: =IF(C17="","",COUNTIF(C17:V17,$Y$8)) | Z17: =IF(C17="","",(W17*2))
A18: =Student!A12 -> 10 | B18: =IF(Student!B12="","",Student!B12) | W18: =IF(C18="","",COUNTIF(C18:V18,$W$8)) | X18: =IF(C18="","",COUNTIF(C18:V18,$X$8)) | Y18: =IF(C18="","",COUNTIF(C18:V18,$Y$8)) | Z18: =IF(C18="","",(W18*2))
A19: =Student!A13 -> 11 | B19: =IF(Student!B13="","",Student!B13) | W19: =IF(C19="","",COUNTIF(C19:V19,$W$8)) | X19: =IF(C19="","",COUNTIF(C19:V19,$X$8)) | Y19: =IF(C19="","",COUNTIF(C19:V19,$Y$8)) | Z19: =IF(C19="","",(W19*2))
A20: =Student!A14 -> 12 | B20: =IF(Student!B14="","",Student!B14) | W20: =IF(C20="","",COUNTIF(C20:V20,$W$8)) | X20: =IF(C20="","",COUNTIF(C20:V20,$X$8)) | Y20: =IF(C20="","",COUNTIF(C20:V20,$Y$8)) | Z20: =IF(C20="","",(W20*2))
... A104: =Student!A98 | B104: =IF(Student!B98="","",Student!B98) | W104: =IF(C104="","",COUNTIF(C104:V104,$W$8)) | X104: =IF(C104="","",COUNTIF(C104:V104,$X$8)) | Y104: =IF(C104="","",COUNTIF(C104:V104,$Y$8)) | Z104: =IF(C104="","",(W104*2))
B108: વિષય શિક્ષકની સહી | R108: આચાર્યની સહી/સિક્કા

Sheet 6 SS (2)
A1: પરિશિષ્ટ - A
A2: રચનાત્મક મૂલ્યાંકન
B3: ધોરણ અને વર્ગ :- | C3: =School!B8 -> 6 | G3: વિષય :- | I3: સામાજિક વિજ્ઞાન | N3: સત્ર :- | P3: દ્વિતીય | T3: વર્ષ :- | V3: =School!B9 -> 2025-'26
C5: અભ્યાસક્રમ પ્રમાણે પ્રતિનિધિત્વરૂપ હેતુઓ (મહત્તમ :- ૨૦)
C6: એકમ-5 | E6: એકમ-6 | G6: એકમ-7 | I6: એકમ-8 | L6: એકમ-11 | N6: એકમ-12 | R6: એકમ -13 | S6: એકમ-16 | V6: એકમ -17
A7: ક્રમ | B7: વિદ્યાર્થીનું નામ | C7: આપણા પ્રાચીન ગ્રંથોથી માહિતગાર થઇ શકશે. | D7: પ્રાચીનકાળના વિવિધ ધર્મો અને ગ્રંથોનું વિશ્લેષણ કરે છે. | E7: મહત્વના રાજ્યો તથા રાજવંશીઓ નાં નોંધપાત્ર યોગદાન ની યાદી બનાવે છે. | F7: મહાજનપદોની શાસન વ્યવસ્થા અને અશોકના શિલાલેખ વિષે જાણે છે. | G7: જે તે સમયની સાહિતિક રચનાઓમાં દર્શાવેલ ઘટનાઓની ,બનાવોની અને મહાન વ્યક્તિઓની માહિતી મેળવી શકશે. | H7: સંસ્કૃતિ અને વિજ્ઞાનના ક્ષેત્રમાં ભારતનું નોંધપાત્ર યોગદાન વર્ણવે છે. | I7: ઐતિહસિક વિકાસને લગતી માહિતી નું વિશ્લેષણ કરે છે. | J7: પ્રાચીન સમય દરમિયાનના વિકાસ નાં તબ્બકાઓ સમજી બે પ્રદેશોના વિકાસની સરખામણી કરે છે. | K7: ભારતના સંપર્કમાં આવેલ બહારના પ્રદેશોના ધર્મ ,કલા,અને સ્થાપત્યોની અસરો દર્શાવે છે. | L7: ભારતના નકશામાં પર્વતો,ઉચ્ચપ્રદેશો,મેદાનો,નદીઓ જેવી ભૌગોલિક બાબતો દર્શાવી શકશે. | M7: વિવિધ ભૂમિ સ્વરૂપોનું વર્ગીકરણ કરી શકશે. | N7: ભારતના નકશામાં રાજ્યો અને કેન્દ્ર શાસિત પ્રદેશો બતાવે છે. | O7: વિશ્વના નકશામાં ખંડો અને મહાસાગરોનો દિશા નિર્દેશ કરે છે. | P7: નકશામાં રહેલી રૂઢસંજ્ઞાઓને ઓળખે છે. | Q7: દિશાઓ,પ્રમાણમાપ અને રૂઢસંજ્ઞાઓ ઉપયોગ કરી પોતાની આસપાસના નકશાને સમજે છે.અને દોરે છે | R7: ભારતના નકશામાં સ્થાન,સીમા,વિસ્તાર,દર્શાવે છે. | S7: સ્થાનિક સ્તરે સરકારની ભૂમિકાનું વર્ણન કરે છે | T7: ગ્રામ્ય અને શહેરી સ્તરે વ્યવસાયની તકો સર્જનાર વિવધ પાસાઓનું વર્ણન કરશે. | U7: સ્થાનિક કક્ષાએ સરકારના કાર્યોનું વિશ્લેષણ કરી સમજ કેળવે છે | V7: જીવન નિર્વાહ માં ગૃહઉદ્યોગો માટેની તકોને શોધી સમજ કેળવે છે. | W7: સત્રાંતે વિદ્યાર્થીઓએ મેળવેલ જે તે નિશાનીઓની સંખ્યા | Z7: 40 માંથી મેળવેલ ગુણ
C8: 1 | D8: 2 | E8: 3 | F8: 4 | G8: 5 | H8: 6 | I8: 7 | J8: 8 | K8: 9 | L8: 10 | M8: 11 | N8: 12 | O8: 13 | P8: 14 | Q8: 15 | R8: 16 | S8: 17 | T8: 18 | U8: 19 | V8: 20 | W8: √ | X8: ? | Y8: ×
A9: =Student!A3 -> 1 | B9: =IF(Student!B3="","",Student!B3) | W9: =IF(C9="","",COUNTIF(C9:V9,$W$8)) | X9: =IF(C9="","",COUNTIF(C9:V9,$X$8)) | Y9: =IF(C9="","",COUNTIF(C9:V9,$Y$8)) | Z9: =IF(C9="","",(W9*2))
A10: =Student!A4 -> 2 | B10: =IF(Student!B4="","",Student!B4) | W10: =IF(C10="","",COUNTIF(C10:V10,$W$8)) | X10: =IF(C10="","",COUNTIF(C10:V10,$X$8)) | Y10: =IF(C10="","",COUNTIF(C10:V10,$Y$8)) | Z10: =IF(C10="","",(W10*2))
A11: =Student!A5 -> 3 | B11: =IF(Student!B5="","",Student!B5) | W11: =IF(C11="","",COUNTIF(C11:V11,$W$8)) | X11: =IF(C11="","",COUNTIF(C11:V11,$X$8)) | Y11: =IF(C11="","",COUNTIF(C11:V11,$Y$8)) | Z11: =IF(C11="","",(W11*2))
A12: =Student!A6 -> 4 | B12: =IF(Student!B6="","",Student!B6) | W12: =IF(C12="","",COUNTIF(C12:V12,$W$8)) | X12: =IF(C12="","",COUNTIF(C12:V12,$X$8)) | Y12: =IF(C12="","",COUNTIF(C12:V12,$Y$8)) | Z12: =IF(C12="","",(W12*2))
A13: =Student!A7 -> 5 | B13: =IF(Student!B7="","",Student!B7) | W13: =IF(C13="","",COUNTIF(C13:V13,$W$8)) | X13: =IF(C13="","",COUNTIF(C13:V13,$X$8)) | Y13: =IF(C13="","",COUNTIF(C13:V13,$Y$8)) | Z13: =IF(C13="","",(W13*2))
A14: =Student!A8 -> 6 | B14: =IF(Student!B8="","",Student!B8) | W14: =IF(C14="","",COUNTIF(C14:V14,$W$8)) | X14: =IF(C14="","",COUNTIF(C14:V14,$X$8)) | Y14: =IF(C14="","",COUNTIF(C14:V14,$Y$8)) | Z14: =IF(C14="","",(W14*2))
A15: =Student!A9 -> 7 | B15: =IF(Student!B9="","",Student!B9) | W15: =IF(C15="","",COUNTIF(C15:V15,$W$8)) | X15: =IF(C15="","",COUNTIF(C15:V15,$X$8)) | Y15: =IF(C15="","",COUNTIF(C15:V15,$Y$8)) | Z15: =IF(C15="","",(W15*2))
A16: =Student!A10 -> 8 | B16: =IF(Student!B10="","",Student!B10) | W16: =IF(C16="","",COUNTIF(C16:V16,$W$8)) | X16: =IF(C16="","",COUNTIF(C16:V16,$X$8)) | Y16: =IF(C16="","",COUNTIF(C16:V16,$Y$8)) | Z16: =IF(C16="","",(W16*2))
A17: =Student!A11 -> 9 | B17: =IF(Student!B11="","",Student!B11) | W17: =IF(C17="","",COUNTIF(C17:V17,$W$8)) | X17: =IF(C17="","",COUNTIF(C17:V17,$X$8)) | Y17: =IF(C17="","",COUNTIF(C17:V17,$Y$8)) | Z17: =IF(C17="","",(W17*2))
A18: =Student!A12 -> 10 | B18: =IF(Student!B12="","",Student!B12) | W18: =IF(C18="","",COUNTIF(C18:V18,$W$8)) | X18: =IF(C18="","",COUNTIF(C18:V18,$X$8)) | Y18: =IF(C18="","",COUNTIF(C18:V18,$Y$8)) | Z18: =IF(C18="","",(W18*2))
A19: =Student!A13 -> 11 | B19: =IF(Student!B13="","",Student!B13) | W19: =IF(C19="","",COUNTIF(C19:V19,$W$8)) | X19: =IF(C19="","",COUNTIF(C19:V19,$X$8)) | Y19: =IF(C19="","",COUNTIF(C19:V19,$Y$8)) | Z19: =IF(C19="","",(W19*2))
A20: =Student!A14 -> 12 | B20: =IF(Student!B14="","",Student!B14) | W20: =IF(C20="","",COUNTIF(C20:V20,$W$8)) | X20: =IF(C20="","",COUNTIF(C20:V20,$X$8)) | Y20: =IF(C20="","",COUNTIF(C20:V20,$Y$8)) | Z20: =IF(C20="","",(W20*2))
... A104: =Student!A98 | B104: =IF(Student!B98="","",Student!B98) | W104: =IF(C104="","",COUNTIF(C104:V104,$W$8)) | X104: =IF(C104="","",COUNTIF(C104:V104,$X$8)) | Y104: =IF(C104="","",COUNTIF(C104:V104,$Y$8)) | Z104: =IF(C104="","",(W104*2))
B108: વિષય શિક્ષકની સહી | R108: આચાર્યની સહી/સિક્કા

Sheet 6 Hindi (2)
A1: પરિશિષ્ટ - A
A2: રચનાત્મક મૂલ્યાંકન
B3: ધોરણ અને વર્ગ :- | C3: =School!B8 -> 6 | G3: વિષય :- | I3: હિન્દી | N3: સત્ર :- | P3: દ્વિતીય | T3: વર્ષ :- | V3: =School!B9 -> 2025-'26
C5: અભ્યાસક્રમ પ્રમાણે પ્રતિનિધિત્વરૂપ હેતુઓ (મહત્તમ :- ૨૦)
C6: 1 इतनी शक्ति हमें देना | F6: 2 अनूठे इन्सान | I6: 3 जरा मुस्कुराइए | K6: 4 पुस्तक - हमारी मित्र | N6: 5 जय विज्ञान की | Q6: 6 न्याय | T6: 7 यह भी एक परीक्षा
A7: ક્રમ | B7: વિદ્યાર્થીનું નામ | C7: परिचित कविता सुनकर एवं पढकर समझते हैं। | D7: कौन कारक के रूपोवाले प्रश्नों के उत्तर दे सकते हैं। | E7: समानार्थी शब्दों का वाक्य में प्रयोग करते हैं। | F7: वाक्य में प्रयुक्त संयुक्ताक्षरवाले शब्दों को समझते हैं। | G7: घटना का वर्णन करते हैं। | H7: संज्ञा और विशेषण को समझकर वाक्य में प्रयोग करते हैं। | I7: चुटकुले सुनकर एवं पढकर समझते हैं। | J7: शब्द पर से वाक्य बनाते हैं। | K7: पत्र सुनकर एवं पढकर समझते हैं। | L7: संकेतो का अर्थघटन करते हैं। | M7: परिस्थिति अनुसार सरल भाषा में चिट्ठी लिख सकते हैं। | N7: रोजमर्रा के व्यवहार की शब्दावली समझते हैं। | O7: समान प्रासवाले शब्द बनाते है। | P7: परिचित विषय पर अपने विचार मौखिक रूप से व्यक्त कर सकते है। | Q7: कहानी सुनकर एवं पढकर समझते है। | R7: वाक्यों को सही क्रम में रखकर कहानी बना सकते है। | S7: क्रिया को समझकर उसका वाक्य में प्रयोग करते है। | T7: लिंगभेद को समझकर उसका वाक्य में प्रयोग कर सकते है। | U7: वचन परिवर्तन करके उसका वाक्य में प्रयोग करते है। | V7: जुझ चर्चा में अपने भावों एवं विचारों को मुक्त रूप से व्यक्त करते है। | W7: સત્રાંતે વિદ્યાર્થીઓએ મેળવેલ જે તે નિશાનીઓની સંખ્યા | Z7: 40 માંથી મેળવેલ ગુણ
C8: 1 | D8: 2 | E8: 3 | F8: 4 | G8: 5 | H8: 6 | I8: 7 | J8: 8 | K8: 9 | L8: 10 | M8: 11 | N8: 12 | O8: 13 | P8: 14 | Q8: 15 | R8: 16 | S8: 17 | T8: 18 | U8: 19 | V8: 20 | W8: √ | X8: ? | Y8: ×
A9: =Student!A3 -> 1 | B9: =IF(Student!B3="","",Student!B3) | W9: =IF(C9="","",COUNTIF(C9:V9,$W$8)) | X9: =IF(C9="","",COUNTIF(C9:V9,$X$8)) | Y9: =IF(C9="","",COUNTIF(C9:V9,$Y$8)) | Z9: =IF(C9="","",(W9*2))
A10: =Student!A4 -> 2 | B10: =IF(Student!B4="","",Student!B4) | W10: =IF(C10="","",COUNTIF(C10:V10,$W$8)) | X10: =IF(C10="","",COUNTIF(C10:V10,$X$8)) | Y10: =IF(C10="","",COUNTIF(C10:V10,$Y$8)) | Z10: =IF(C10="","",(W10*2))
A11: =Student!A5 -> 3 | B11: =IF(Student!B5="","",Student!B5) | W11: =IF(C11="","",COUNTIF(C11:V11,$W$8)) | X11: =IF(C11="","",COUNTIF(C11:V11,$X$8)) | Y11: =IF(C11="","",COUNTIF(C11:V11,$Y$8)) | Z11: =IF(C11="","",(W11*2))
A12: =Student!A6 -> 4 | B12: =IF(Student!B6="","",Student!B6) | W12: =IF(C12="","",COUNTIF(C12:V12,$W$8)) | X12: =IF(C12="","",COUNTIF(C12:V12,$X$8)) | Y12: =IF(C12="","",COUNTIF(C12:V12,$Y$8)) | Z12: =IF(C12="","",(W12*2))
A13: =Student!A7 -> 5 | B13: =IF(Student!B7="","",Student!B7) | W13: =IF(C13="","",COUNTIF(C13:V13,$W$8)) | X13: =IF(C13="","",COUNTIF(C13:V13,$X$8)) | Y13: =IF(C13="","",COUNTIF(C13:V13,$Y$8)) | Z13: =IF(C13="","",(W13*2))
A14: =Student!A8 -> 6 | B14: =IF(Student!B8="","",Student!B8) | W14: =IF(C14="","",COUNTIF(C14:V14,$W$8)) | X14: =IF(C14="","",COUNTIF(C14:V14,$X$8)) | Y14: =IF(C14="","",COUNTIF(C14:V14,$Y$8)) | Z14: =IF(C14="","",(W14*2))
A15: =Student!A9 -> 7 | B15: =IF(Student!B9="","",Student!B9) | W15: =IF(C15="","",COUNTIF(C15:V15,$W$8)) | X15: =IF(C15="","",COUNTIF(C15:V15,$X$8)) | Y15: =IF(C15="","",COUNTIF(C15:V15,$Y$8)) | Z15: =IF(C15="","",(W15*2))
A16: =Student!A10 -> 8 | B16: =IF(Student!B10="","",Student!B10) | W16: =IF(C16="","",COUNTIF(C16:V16,$W$8)) | X16: =IF(C16="","",COUNTIF(C16:V16,$X$8)) | Y16: =IF(C16="","",COUNTIF(C16:V16,$Y$8)) | Z16: =IF(C16="","",(W16*2))
A17: =Student!A11 -> 9 | B17: =IF(Student!B11="","",Student!B11) | W17: =IF(C17="","",COUNTIF(C17:V17,$W$8)) | X17: =IF(C17="","",COUNTIF(C17:V17,$X$8)) | Y17: =IF(C17="","",COUNTIF(C17:V17,$Y$8)) | Z17: =IF(C17="","",(W17*2))
A18: =Student!A12 -> 10 | B18: =IF(Student!B12="","",Student!B12) | W18: =IF(C18="","",COUNTIF(C18:V18,$W$8)) | X18: =IF(C18="","",COUNTIF(C18:V18,$X$8)) | Y18: =IF(C18="","",COUNTIF(C18:V18,$Y$8)) | Z18: =IF(C18="","",(W18*2))
A19: =Student!A13 -> 11 | B19: =IF(Student!B13="","",Student!B13) | W19: =IF(C19="","",COUNTIF(C19:V19,$W$8)) | X19: =IF(C19="","",COUNTIF(C19:V19,$X$8)) | Y19: =IF(C19="","",COUNTIF(C19:V19,$Y$8)) | Z19: =IF(C19="","",(W19*2))
A20: =Student!A14 -> 12 | B20: =IF(Student!B14="","",Student!B14) | W20: =IF(C20="","",COUNTIF(C20:V20,$W$8)) | X20: =IF(C20="","",COUNTIF(C20:V20,$X$8)) | Y20: =IF(C20="","",COUNTIF(C20:V20,$Y$8)) | Z20: =IF(C20="","",(W20*2))
... A104: =Student!A98 | B104: =IF(Student!B98="","",Student!B98) | W104: =IF(C104="","",COUNTIF(C104:V104,$W$8)) | X104: =IF(C104="","",COUNTIF(C104:V104,$X$8)) | Y104: =IF(C104="","",COUNTIF(C104:V104,$Y$8)) | Z104: =IF(C104="","",(W104*2))
B107: વિષય શિક્ષકની સહી | R107: આચાર્યની સહી/સિક્કા

Sheet 6 Eng (2)
A1: પરિશિષ્ટ - A
A2: રચનાત્મક મૂલ્યાંકન
B3: ધોરણ અને વર્ગ :- | C3: =School!B8 -> 6 | G3: વિષય :- | I3: અંગ્રેજી | N3: સત્ર :- | P3: દ્વિતીય | T3: વર્ષ :- | V3: =School!B9 -> 2025-'26
C5: અભ્યાસક્રમ પ્રમાણે પ્રતિનિધિત્વરૂપ હેતુઓ (મહત્તમ :- ૨૦)
C6: 6. Unity in Diversity | G6: 7. Be a Champion | K6: 8. I am Capable | O6: 9. Techno - Tour | S6: 10. School of Skills
A7: ક્રમ | B7: વિદ્યાર્થીનું નામ | C7: અર્થપૂર્ણ સંદર્ભમાં આપેલ શબ્દો, વાક્યોનું અનુલેખન કરી શકે છે. | D7: લોનવર્ડ્સ સહિત આશરે 500 જેટલા નવીન શબ્દો જાણી અને તેનો ઉપયોગ કરે છે. | E7: આપેલ વિગતોમાંયી અતાકિંક અંશો દુર કરી તેને સુધારી શકશે. | F7: આપેલ કોષ્ટક/ચિત્રોનો અભ્યાસ કરી પ્રશ્નોના ઉત્તર આપી શકે છે. | G7: ઘટના તેમજ વાર્તાના પાત્રો, સ્થળો અને ઘટના ક્રમની વિગતોની તારવણી કરે છે. | H7: નામને અનુરૂપ શબ્દોનો ઉપાયોગ કરી કાવ્ય લખી શકે છે. | I7: શબ્ઘ્કોશનો ઉપયોગ કરી શબ્દો શોધી શકશે | J7: ટેબલ, ગ્રાફ ,નકશાની માહિતીને વાક્યના સ્વરૂપમાં રજૂ કરી શકશે | K7: આપેલ શબ્દોના Rhyming words શોધી લખી શકે છે. | L7: સૂચનાઓ સમજી આપેલ સૂચના મુજબ વર્તન કરી શકશે | M7: ઘટના અને વાર્તાને યોગ્ય ક્રમમાં ગોઠવી શકશે | N7: આપેલ પશ્નોના "Yes","No" માં યોગ્ય રીતે ઉત્તર લખી શકે છે. | O7: આપેલા શબ્દોનો ઉપયોગ કરી યોગ્ય વાક્ય રચના કરી શકે છે. | P7: ચિત્રનો અભ્યાસ કરી પ્રશ્નોના જવાબ આપી શકે છે. | Q7: યોગ્ય નામપદ/સર્વનામ નો ઉપયોગ કરી ખાલી જગ્યા ભરી શકે છે. | R7: પોતાની અને અન્યની માહિતી મેળવવા પ્રશ્રો પૂછી શકશે અને તેવા પ્રશ્નોના જવાબ આપી શકશે. | S7: વાક્યોમા પદ ક્રમ ગોઠવી શકશે અને વિરામયિન્હોનો યોગ્ય ઉપયોગ કરી શકશે | T7: વાક્યોને and, but, so જેવા સંયોજકો વડે જોડી શકે છે. | U7: આપેલ શબ્દ સમૂહ માંથી અતાર્કિક શબ્દો અલગ કરી શકે છે. | V7: માહિતી મેળવવા Wh પ્રકારના પ્રશ્નો કરી શકે છે. | W7: સત્રાંતે વિદ્યાર્થીઓએ મેળવેલ જે તે નિશાનીઓની સંખ્યા | Z7: 40 માંથી મેળવેલ ગુણ
C8: 1 | D8: 2 | E8: 3 | F8: 4 | G8: 5 | H8: 6 | I8: 7 | J8: 8 | K8: 9 | L8: 10 | M8: 11 | N8: 12 | O8: 13 | P8: 14 | Q8: 15 | R8: 16 | S8: 17 | T8: 18 | U8: 19 | V8: 20 | W8: √ | X8: ? | Y8: ×
A9: =Student!A3 -> 1 | B9: =IF(Student!B3="","",Student!B3) | W9: =IF(C9="","",COUNTIF(C9:V9,$W$8)) | X9: =IF(C9="","",COUNTIF(C9:V9,$X$8)) | Y9: =IF(C9="","",COUNTIF(C9:V9,$Y$8)) | Z9: =IF(C9="","",(W9*2))
A10: =Student!A4 -> 2 | B10: =IF(Student!B4="","",Student!B4) | W10: =IF(C10="","",COUNTIF(C10:V10,$W$8)) | X10: =IF(C10="","",COUNTIF(C10:V10,$X$8)) | Y10: =IF(C10="","",COUNTIF(C10:V10,$Y$8)) | Z10: =IF(C10="","",(W10*2))
A11: =Student!A5 -> 3 | B11: =IF(Student!B5="","",Student!B5) | W11: =IF(C11="","",COUNTIF(C11:V11,$W$8)) | X11: =IF(C11="","",COUNTIF(C11:V11,$X$8)) | Y11: =IF(C11="","",COUNTIF(C11:V11,$Y$8)) | Z11: =IF(C11="","",(W11*2))
A12: =Student!A6 -> 4 | B12: =IF(Student!B6="","",Student!B6) | W12: =IF(C12="","",COUNTIF(C12:V12,$W$8)) | X12: =IF(C12="","",COUNTIF(C12:V12,$X$8)) | Y12: =IF(C12="","",COUNTIF(C12:V12,$Y$8)) | Z12: =IF(C12="","",(W12*2))
A13: =Student!A7 -> 5 | B13: =IF(Student!B7="","",Student!B7) | W13: =IF(C13="","",COUNTIF(C13:V13,$W$8)) | X13: =IF(C13="","",COUNTIF(C13:V13,$X$8)) | Y13: =IF(C13="","",COUNTIF(C13:V13,$Y$8)) | Z13: =IF(C13="","",(W13*2))
A14: =Student!A8 -> 6 | B14: =IF(Student!B8="","",Student!B8) | W14: =IF(C14="","",COUNTIF(C14:V14,$W$8)) | X14: =IF(C14="","",COUNTIF(C14:V14,$X$8)) | Y14: =IF(C14="","",COUNTIF(C14:V14,$Y$8)) | Z14: =IF(C14="","",(W14*2))
A15: =Student!A9 -> 7 | B15: =IF(Student!B9="","",Student!B9) | W15: =IF(C15="","",COUNTIF(C15:V15,$W$8)) | X15: =IF(C15="","",COUNTIF(C15:V15,$X$8)) | Y15: =IF(C15="","",COUNTIF(C15:V15,$Y$8)) | Z15: =IF(C15="","",(W15*2))
A16: =Student!A10 -> 8 | B16: =IF(Student!B10="","",Student!B10) | W16: =IF(C16="","",COUNTIF(C16:V16,$W$8)) | X16: =IF(C16="","",COUNTIF(C16:V16,$X$8)) | Y16: =IF(C16="","",COUNTIF(C16:V16,$Y$8)) | Z16: =IF(C16="","",(W16*2))
A17: =Student!A11 -> 9 | B17: =IF(Student!B11="","",Student!B11) | W17: =IF(C17="","",COUNTIF(C17:V17,$W$8)) | X17: =IF(C17="","",COUNTIF(C17:V17,$X$8)) | Y17: =IF(C17="","",COUNTIF(C17:V17,$Y$8)) | Z17: =IF(C17="","",(W17*2))
A18: =Student!A12 -> 10 | B18: =IF(Student!B12="","",Student!B12) | W18: =IF(C18="","",COUNTIF(C18:V18,$W$8)) | X18: =IF(C18="","",COUNTIF(C18:V18,$X$8)) | Y18: =IF(C18="","",COUNTIF(C18:V18,$Y$8)) | Z18: =IF(C18="","",(W18*2))
A19: =Student!A13 -> 11 | B19: =IF(Student!B13="","",Student!B13) | W19: =IF(C19="","",COUNTIF(C19:V19,$W$8)) | X19: =IF(C19="","",COUNTIF(C19:V19,$X$8)) | Y19: =IF(C19="","",COUNTIF(C19:V19,$Y$8)) | Z19: =IF(C19="","",(W19*2))
A20: =Student!A14 -> 12 | B20: =IF(Student!B14="","",Student!B14) | W20: =IF(C20="","",COUNTIF(C20:V20,$W$8)) | X20: =IF(C20="","",COUNTIF(C20:V20,$X$8)) | Y20: =IF(C20="","",COUNTIF(C20:V20,$Y$8)) | Z20: =IF(C20="","",(W20*2))
... A104: =Student!A98 | B104: =IF(Student!B98="","",Student!B98) | W104: =IF(C104="","",COUNTIF(C104:V104,$W$8)) | X104: =IF(C104="","",COUNTIF(C104:V104,$X$8)) | Y104: =IF(C104="","",COUNTIF(C104:V104,$Y$8)) | Z104: =IF(C104="","",(W104*2))
B108: વિષય શિક્ષકની સહી | R108: આચાર્યની સહી/સિક્કા

Sheet 6 Sans (2)
A1: પરિશિષ્ટ - A
A2: રચનાત્મક મૂલ્યાંકન
B3: ધોરણ અને વર્ગ :- | C3: =School!B8 -> 6 | G3: વિષય :- | I3: સંસ્કૃત | N3: સત્ર :- | P3: દ્વિતીય | T3: વર્ષ :- | V3: =School!B9 -> 2025-'26
C5: અભ્યાસક્રમ પ્રમાણે પ્રતિનિધિત્વરૂપ હેતુઓ (મહત્તમ :- ૨૦)
C6: 1 मम अंगानि | D6: 2 दक्षिणपादम् | F6: 3 करोमि | H6: 4 प्रहेलिकाः | J6: 5 मम विद्यालयः | M6: 6 भवतु भारतम् | O6: 7 सुभाषितानि | R6: 8 जन्मोदिनोत्सवः | U6: 9 सूक्तयः
A7: ક્રમ | B7: વિદ્યાર્થીનું નામ | C7: સાદા શબ્દોનું અનુલેખન કરે છે. | D7: સરળ પદ્યો (સુભાષિતો, પ્રહેલિકા અને ગીતો) અને ટૂંકા વાક્યો સાંભળીને સમજે છે. | E7: સાદા, સરળ અને ગેય સુભાષિતો અને ગીતોનું લયબદ્ધ પઠન કરી શકે છે અને ગાન કરે છે. | F7: સ્વ પરિચયને લગતા ટૂંકા પ્રશ્નો સમજી શકે છે. | G7: સ્વ પરિચયને લગતા ટૂંકા પ્રશ્નોના મૌખિક ઉત્તર આપી શકશે. | H7: સરળ પદ્યો, સુભાષિતો અને ટૂંકા વાક્યો શુદ્ધ ઉચ્ચાર સાથે બોલી શકશે. | I7: ઉદાહરણ અથવા આપેલ નિર્દેશને આધારે સંસ્કૃત ભાષામાં નવા શબ્દો અને વાક્યોની રચના કરી શકશે. | J7: પૂર્ણ કલાકમાં સમય સાંભળીને સમજી શકશે. | K7: પૂર્ણ કલાકમાં સમય બોલીને સમજી શકશે. | L7: સરળ ગુજરાતી શબ્દોનો સંસ્કૃતમાં અનુવાદ કરી શકશે. | M7: કંઠસ્થ કરેલ સુભાષિત કે પદ્યના કોઈ | N7: પાઠ્યપુસ્તકમાં સમાવિષ્ટ વિષયવસ્તુના આધારે ભારતીય સંસ્કૃતિના સનાતન મૂલ્યો અંગે જાગૃત થશે, તેમજ તેના પાલન માટે તત્પરતા કેશવે છે. | O7: સરળ પદ્યો (સુભાષિતો, પ્રહેલિકા અને ગીતો) અને ટૂંકા વાક્યો શુદ્ધ ઉચ્ચાર સાથે બોલે છે. | P7: સરળ વાક્યોનું અનુલેખન કરી શકે છે. | Q7: સરળ સાદાં શબ્દો અને વાક્યોનું શુદ્ધ ઉચ્ચારણ સાથે પઠન કરે છે અને સમજે છે. | R7: સાદા વાક્યો સાંભળીને સમજે છે. | S7: વિવિધ ઉત્સવોની ઉજવમીમાં બારતીય પરંપરાઓના પાલન માટે પ્રતિબદ્ધ બનશે. | T7: સાદાં વાક્યો (બેથી ત્રણ શબ્દોવાળાં) બોલે છે. | U7: સરળ વાક્યો, સૂક્તિઓ અને સુભાષિતોમાં આવેલ વિસર્ગ અને અનુસ્વારવાળા પદોનું વાચન કરી શકશે. | V7: પાઠ્યપુસ્તકમાં સમાવિષ્ટ સુભાષિતો તેમજ શ્લોકો અંગે સબાનતા કેળવશે અને વ્યવહારમાં ઉપયોગ કરશે. | W7: સત્રાંતે વિદ્યાર્થીઓએ મેળવેલ જે તે નિશાનીઓની સંખ્યા | Z7: 40 માંથી મેળવેલ ગુણ
C8: 1 | D8: 2 | E8: 3 | F8: 4 | G8: 5 | H8: 6 | I8: 7 | J8: 8 | K8: 9 | L8: 10 | M8: 11 | N8: 12 | O8: 13 | P8: 14 | Q8: 15 | R8: 16 | S8: 17 | T8: 18 | U8: 19 | V8: 20 | W8: √ | X8: ? | Y8: ×
A9: =Student!A3 -> 1 | B9: =IF(Student!B3="","",Student!B3) | W9: =IF(C9="","",COUNTIF(C9:V9,$W$8)) | X9: =IF(C9="","",COUNTIF(C9:V9,$X$8)) | Y9: =IF(C9="","",COUNTIF(C9:V9,$Y$8)) | Z9: =IF(C9="","",(W9*2))
A10: =Student!A4 -> 2 | B10: =IF(Student!B4="","",Student!B4) | W10: =IF(C10="","",COUNTIF(C10:V10,$W$8)) | X10: =IF(C10="","",COUNTIF(C10:V10,$X$8)) | Y10: =IF(C10="","",COUNTIF(C10:V10,$Y$8)) | Z10: =IF(C10="","",(W10*2))
A11: =Student!A5 -> 3 | B11: =IF(Student!B5="","",Student!B5) | W11: =IF(C11="","",COUNTIF(C11:V11,$W$8)) | X11: =IF(C11="","",COUNTIF(C11:V11,$X$8)) | Y11: =IF(C11="","",COUNTIF(C11:V11,$Y$8)) | Z11: =IF(C11="","",(W11*2))
A12: =Student!A6 -> 4 | B12: =IF(Student!B6="","",Student!B6) | W12: =IF(C12="","",COUNTIF(C12:V12,$W$8)) | X12: =IF(C12="","",COUNTIF(C12:V12,$X$8)) | Y12: =IF(C12="","",COUNTIF(C12:V12,$Y$8)) | Z12: =IF(C12="","",(W12*2))
A13: =Student!A7 -> 5 | B13: =IF(Student!B7="","",Student!B7) | W13: =IF(C13="","",COUNTIF(C13:V13,$W$8)) | X13: =IF(C13="","",COUNTIF(C13:V13,$X$8)) | Y13: =IF(C13="","",COUNTIF(C13:V13,$Y$8)) | Z13: =IF(C13="","",(W13*2))
A14: =Student!A8 -> 6 | B14: =IF(Student!B8="","",Student!B8) | W14: =IF(C14="","",COUNTIF(C14:V14,$W$8)) | X14: =IF(C14="","",COUNTIF(C14:V14,$X$8)) | Y14: =IF(C14="","",COUNTIF(C14:V14,$Y$8)) | Z14: =IF(C14="","",(W14*2))
A15: =Student!A9 -> 7 | B15: =IF(Student!B9="","",Student!B9) | W15: =IF(C15="","",COUNTIF(C15:V15,$W$8)) | X15: =IF(C15="","",COUNTIF(C15:V15,$X$8)) | Y15: =IF(C15="","",COUNTIF(C15:V15,$Y$8)) | Z15: =IF(C15="","",(W15*2))
A16: =Student!A10 -> 8 | B16: =IF(Student!B10="","",Student!B10) | W16: =IF(C16="","",COUNTIF(C16:V16,$W$8)) | X16: =IF(C16="","",COUNTIF(C16:V16,$X$8)) | Y16: =IF(C16="","",COUNTIF(C16:V16,$Y$8)) | Z16: =IF(C16="","",(W16*2))
A17: =Student!A11 -> 9 | B17: =IF(Student!B11="","",Student!B11) | W17: =IF(C17="","",COUNTIF(C17:V17,$W$8)) | X17: =IF(C17="","",COUNTIF(C17:V17,$X$8)) | Y17: =IF(C17="","",COUNTIF(C17:V17,$Y$8)) | Z17: =IF(C17="","",(W17*2))
A18: =Student!A12 -> 10 | B18: =IF(Student!B12="","",Student!B12) | W18: =IF(C18="","",COUNTIF(C18:V18,$W$8)) | X18: =IF(C18="","",COUNTIF(C18:V18,$X$8)) | Y18: =IF(C18="","",COUNTIF(C18:V18,$Y$8)) | Z18: =IF(C18="","",(W18*2))
A19: =Student!A13 -> 11 | B19: =IF(Student!B13="","",Student!B13) | W19: =IF(C19="","",COUNTIF(C19:V19,$W$8)) | X19: =IF(C19="","",COUNTIF(C19:V19,$X$8)) | Y19: =IF(C19="","",COUNTIF(C19:V19,$Y$8)) | Z19: =IF(C19="","",(W19*2))
A20: =Student!A14 -> 12 | B20: =IF(Student!B14="","",Student!B14) | W20: =IF(C20="","",COUNTIF(C20:V20,$W$8)) | X20: =IF(C20="","",COUNTIF(C20:V20,$X$8)) | Y20: =IF(C20="","",COUNTIF(C20:V20,$Y$8)) | Z20: =IF(C20="","",(W20*2))
... A104: =Student!A98 | B104: =IF(Student!B98="","",Student!B98) | W104: =IF(C104="","",COUNTIF(C104:V104,$W$8)) | X104: =IF(C104="","",COUNTIF(C104:V104,$X$8)) | Y104: =IF(C104="","",COUNTIF(C104:V104,$Y$8)) | Z104: =IF(C104="","",(W104*2))
B107: વિષય શિક્ષકની સહી | R107: આચાર્યની સહી/સિક્કા
