Workbook

Sheet Instructions
C2: આ sheet ના ઉપયોગ માટેના સામાન્ય સૂચનો :-
A4: 1 | B4: આ શીટમાં શક્ય હોય ત્યાં સુધી શ્રુતિ ફોન્ટમાં જ માહિતી ભરવી. (બીજા ફોન્ટમાં માહિતી ભરી શકાશે.)
A5: 2 | B5: 'શાળા' અને 'વિદ્યાર્થીઓની' ની શીટ માં જરૂરી માહિતી ભરી દો. જે બીજી શીટ માટે આધાર છે.
A6: 3 | B6: આપ આ sheet માં વધુમાં વધુ '૯૫' વિદ્યાર્થીઓની માહિતી ભરી શકશો.
A7: 4 | B7: દરેક વિષયની sheets માં ક્રમ નંબર 1 પર filter માટે બટન આપેલ છે જેના પર ક્લિક કરી OK બટન પર ક્લિક કરવાથી જેટલા વિદ્યાર્થીઓ હશે તેટલી જ રો ખુલશે અને વધારાની કોરી રો હાઇડ થઇ જશે તેથી જરૂર જેટલા જ પેજ પ્રિન્ટ થશે.
A8: 5 | B8: દરેક વિષયની જરૂરિયાત મુજબ A4 સાઇઝના કાગળ પર પ્રિંટ કાઢી શકાશે.
A9: 6 | B9: જે તે પેજ ને અનલોક કરવા માટે પાસવર્ડ તરીકે 1438 નાખવો.
A10: 7 | B10: વિષય પ્રમાણેની શીટમાં વિદ્યાર્થીઓના નામ આપમેળે આવી જશે. જે તે પેજ પર જવા માટે આપેલ બટન પર ક્લિક કરો.
A11: 8 | B11: "Sheet"ની વિશેષતા એ છે કે આપ 'Auto' અને 'Blank' બંને રીતે ઉપયોગ કરી શકો છો.
B13: જ્યાં સુધી 'Whatsapp' થી ચાલે એમ હોય, ત્યાં સુધી ફોન કરવો નહિ. શાળા સમયમાં ફોન કરશો નહિ. | H13: MADE BY
H14: Pradipsinh.P.Sisodiya
H15: Gabat - 1 Primary School
H16: Ta :- Bayad, Di :- Arvalli
H17: Contect No. :- 9428313097
B19: નોધ :- ફાઈલને મોબાઈલમાં ખોલવી નહિ. તેથી ફાઈલ કરપ્ટ થવાની સંભાવના રહેલી છે. જેથી સાચી ગણતરી ના પણ થાય.!!

Sheet School
A1: શાળાની માહિતી
A2: શાળાનું નામ :-
A3: ગામનું નામ :-
A4: શાળાનો ડાયસકોડ :- | D4: ફાઈલના ઉપયોગ માટેની Video Link
A5: તાલુકો :- | D5: https://youtu.be/2ql5gwFdXt0
A6: જિલ્લો :-
A7: સી.આર.સી. :-
A8: ધોરણ અને વર્ગ :- | B8: 4
A9: શૈક્ષણિક વર્ષ :- | B9: 2025-'26
A10: વર્ગ શિક્ષકનું નામ :-
A11: પરિણામની તારીખ :-

Sheet Student
A1: વિદ્યાર્થીની માહિતી
A2: ક્રમ | B2: વિદ્યાર્થીનું નામ | C2: રજી. સંખ્યા :- | E2: 30
A3: =IF($E$2>0,1,"") -> 1
A4: =IF($E$2>A3,A3+1,"") -> 2
A5: =IF($E$2>A4,A4+1,"") -> 3 | F5: આવી અપડેટ ફાઈલો અને ફાઈલમાં ઉપયોગમાં લેવાયેલ ફોન્ટ નીચેની Google Link પરથી મળી જશે. માટે વારંવાર પર્સનલ મેસેજ કે ફોન કરી ફાઈલો માંગવી નહિ.
A6: =IF($E$2>A5,A5+1,"") -> 4
A7: =IF($E$2>A6,A6+1,"") -> 5
A8: =IF($E$2>A7,A7+1,"") -> 6 | G8: https://drive.google.com/drive/folders/1Wyxs6RQwl-i4qPoNP65CEmWq7scY8NsS?usp=sharing
A9: =IF($E$2>A8,A8+1,"") -> 7
A10: =IF($E$2>A9,A9+1,"") -> 8
A11: =IF($E$2>A10,A10+1,"") -> 9 | F11: 👉🏻 આ Google link પર ક્લિક કરી આખું ફોલ્ડર અથવા ફાઈલ ડાઉનલોડ કરવા માટે જે પેજ ખુલે એમાં જમણી બાજુ ઉપર 3 ટપકા પર ક્લિક કરી ડાઉનલોડ ઓપ્શન પર ક્લિક કરો અથવા જો ⬇(ડાઉન એરો) જેવું નિશાન દેખાય તો એના પર ક્લિક કરી આખું ફોલ્ડર અથવા જે તે ફાઈલ ડાઉનલોડ કરી લો અને ફાઈલ ડાઉનલોડ થઈ જાય પછી તેનો ઉપયોગ કરી શકશો..
A12: =IF($E$2>A11,A11+1,"") -> 10
A13: =IF($E$2>A12,A12+1,"") -> 11
A14: =IF($E$2>A13,A13+1,"") -> 12
A15: =IF($E$2>A14,A14+1,"") -> 13
A16: =IF($E$2>A15,A15+1,"") -> 14
A17: =IF($E$2>A16,A16+1,"") -> 15
A18: =IF($E$2>A17,A17+1,"") -> 16
A19: =IF($E$2>A18,A18+1,"") -> 17
A20: =IF($E$2>A19,A19+1,"") -> 18
A21: =IF($E$2>A20,A20+1,"") -> 19
A22: =IF($E$2>A21,A21+1,"") -> 20
A23: =IF($E$2>A22,A22+1,"") -> 21
... A102: =IF($E$2>A101,A101+1,"")

Sheet Patrak-A First Page
C3: શાળાકીય સર્વગ્રાહી મૂલ્યાંકન
D4: (SCE)
D11: પત્રક - અ
F15: ધોરણ :- | H15: =School!B8 -> 4
D17: રચનાત્મક મૂલ્યાંકન પત્રક
E19: વર્ષ :- | G19: =School!B9 -> 2025-'26
D22: શાળાનું નામ :- | F22: =IF(School!B2="","",School!B2)
D24: ગામ :- | E24: =IF(School!B3="","",School!B3) | G24: તાલુકો :- | H24: =IF(School!B5="","",School!B5) | I24: જિલ્લો :- | J24: =IF(School!B6="","",School!B6)
D26: ધોરણ અને વર્ગ :- | F26: =IF(School!B8="","",School!B8) -> 4 | H26: પરિણામની તારીખ :- | J26: =IF(School!B11="","",School!B11)
D28: વર્ગ શિક્ષકનું નામ :- | F28: =IF(School!B10="","",School!B10) | I28: સી.આર.સી :- | K28: =IF(School!B7="","",School!B7)
D32: વર્ગ શિક્ષકની સહી | I32: આચાર્યશ્રીની સહી/સિક્કા

Sheet 4 Guj
A1: પરિશિષ્ટ - A
A2: રચનાત્મક મૂલ્યાંકન
B3: ધોરણ અને વર્ગ :- | C3: =School!B8 -> 4 | G3: વિષય :- | I3: ગુજરાતી | N3: સત્ર :- | P3: પ્રથમ | T3: વર્ષ :- | V3: =School!B9 -> 2025-'26
C5: અભ્યાસક્રમ પ્રમાણે પ્રતિનિધિત્વરૂપ હેતુઓ (મહત્તમ :- ૨૦)
C6: ખિસ્સામાં પહેલવાન? હા! | G6: તેને તે ઉગશે ? | K6: શંખલાની બહેન છીપલી | O6: સિંહ ઘુંઘવે બકરો ભાગે | S6: પવન ખીજાય તો ગોળ ઝપાટો
A7: ક્રમ | B7: વિદ્યાર્થીનું નામ | C7: કાવ્યાત્મક લખાણમાંથી વિગતો શોધે છે. | D7: આપેલ ચિત્રનું અવલોકન કરીને તેના આધારે પ્રશ્નોત્તર કરી શકે છે. | E7: પ્રાદેશિક ભાષાનો ઉપયોગ કરીને શ્રવણ, વાંચન કે ચિત્ર આધારિત વર્ણનો કરી શકે છે. | F7: કાવ્યનું વ્યક્તિગત કે સામૂહિક રીતે લયતાલ સાથે ગાન કરી શકે છે. | G7: વાક્ય રચનાના જુદા જુદા ભાગોને ઓળખાવી શકે છે. | H7: આપેલા શબ્દોનો ઉપયોગ કરી અર્થપૂર્ણ વાક્યની રચના કરી શકે છે. | I7: માહિતીલક્ષી લખાણમાંથી વિગતો વચ્ચેનો સંબંધ સમજે છે. | J7: વાર્તા કે અન્ય લખાણને સમજીને તેમાંથી તર્કલક્ષી પ્રશ્નોના ઉત્તરો આપી શકે છે. | K7: 10 શબ્દો સુધીના સાદા વાક્યોનું શ્રુતલેખન કરી શકે છે. | L7: આપેલ શબ્દ પરથી અન્ય અર્થપૂર્ણ શબ્દો બનાવી તેવા શબ્દોનો વાક્ય પ્રયોગ કરી શકે છે. | M7: કાવ્યનો રસાસ્વાદ માણી તેના આધારે પ્રશ્નોના ઉત્તરો આપી શકે છે. | N7: કાવ્ય કે વાર્તાને નાટ્ય સંવાદમાં રૂપાંતર કરી અભિનય રજૂ કરી શકે છે. | O7: જૂથ કે જોડીમાં એક પરિચ્છેદ નું વાંચન કરી નવા શબ્દોના અર્થ સમજી શકે છે. | P7: એક શબ્દના આધારે અન્ય શબ્દો બનાવી તેને શબ્દકોશના ક્રમમાં ગોઠવી શકે છે. | Q7: ટંગ ટ્વીસ્ટર (જભતોડ) શબ્દો કે વાક્ય બોલી શકે છે. | R7: વ્યવહારિક વ્યાકરણનો બોલચાલની ભાષામાં ઉપયોગ કરી શકે છે. | S7: વાક્યના શબ્દોના પ્રકારને ઓળખી શકે છે. જેમકે ક્રિયાપદ, કર્મ વગેરે | T7: સમાનાર્થી શબ્દો શોધી વાક્ય પ્રયોગ કરે છે. | U7: આપેલ શબ્દોના વિરુદ્ધાર્થી શબ્દો શોધી શકે છે. | V7: આપેલ પરીચ્છેદ નું સુંદર અને સુવાચ્ય અક્ષરે અનુલેખન કરી શકે છે. | W7: સત્રાંતે વિદ્યાર્થીઓએ મેળવેલ જે તે નિશાનીઓની સંખ્યા | Z7: 40 માંથી મેળવેલ ગુણ
C8: 1 | D8: 2 | E8: 3 | F8: 4 | G8: 5 | H8: 6 | I8: 7 | J8: 8 | K8: 9 | L8: 10 | M8: 11 | N8: 12 | O8: 13 | P8: 14 | Q8: 15 | R8: 16 | S8: 17 | T8: 18 | U8: 19 | V8: 20 | W8: √ | X8: ? | Y8: ×
A9: =Student!A3 -> 1 | B9: =IF(Student!B3="","",Student!B3) | W9: =IF(C9="","",COUNTIF(C9:V9,$W$8)) | X9: =IF(C9="","",COUNTIF(C9:V9,$X$8)) | Y9: =IF(C9="","",COUNTIF(C9:V9,$Y$8)) | Z9: =IF(W9="","",W9*2)
A10: =Student!A4 -> 2 | B10: =IF(Student!B4="","",Student!B4) | W10: =IF(C10="","",COUNTIF(C10:V10,$W$8)) | X10: =IF(C10="","",COUNTIF(C10:V10,$X$8)) | Y10: =IF(C10="","",COUNTIF(C10:V10,$Y$8)) | Z10: =IF(W10="","",W10*2)
A11: =Student!A5 -> 3 | B11: =IF(Student!B5="","",Student!B5) | W11: =IF(C11="","",COUNTIF(C11:V11,$W$8)) | X11: =IF(C11="","",COUNTIF(C11:V11,$X$8)) | Y11: =IF(C11="","",COUNTIF(C11:V11,$Y$8)) | Z11: =IF(W11="","",W11*2)
A12: =Student!A6 -> 4 | B12: =IF(Student!B6="","",Student!B6) | W12: =IF(C12="","",COUNTIF(C12:V12,$W$8)) | X12: =IF(C12="","",COUNTIF(C12:V12,$X$8)) | Y12: =IF(C12="","",COUNTIF(C12:V12,$Y$8)) | Z12: =IF(W12="","",W12*2)
A13: =Student!A7 -> 5 | B13: =IF(Student!B7="","",Student!B7) | W13: =IF(C13="","",COUNTIF(C13:V13,$W$8)) | X13: =IF(C13="","",COUNTIF(C13:V13,$X$8)) | Y13: =IF(C13="","",COUNTIF(C13:V13,$Y$8)) | Z13: =IF(W13="","",W13*2)
A14: =Student!A8 -> 6 | B14: =IF(Student!B8="","",Student!B8) | W14: =IF(C14="","",COUNTIF(C14:V14,$W$8)) | X14: =IF(C14="","",COUNTIF(C14:V14,$X$8)) | Y14: =IF(C14="","",COUNTIF(C14:V14,$Y$8)) | Z14: =IF(W14="","",W14*2)
A15: =Student!A9 -> 7 | B15: =IF(Student!B9="","",Student!B9) | W15: =IF(C15="","",COUNTIF(C15:V15,$W$8)) | X15: =IF(C15="","",COUNTIF(C15:V15,$X$8)) | Y15: =IF(C15="","",COUNTIF(C15:V15,$Y$8)) | Z15: =IF(W15="","",W15*2)
A16: =Student!A10 -> 8 | B16: =IF(Student!B10="","",Student!B10) | W16: =IF(C16="","",COUNTIF(C16:V16,$W$8)) | X16: =IF(C16="","",COUNTIF(C16:V16,$X$8)) | Y16: =IF(C16="","",COUNTIF(C16:V16,$Y$8)) | Z16: =IF(W16="","",W16*2)
A17: =Student!A11 -> 9 | B17: =IF(Student!B11="","",Student!B11) | W17: =IF(C17="","",COUNTIF(C17:V17,$W$8)) | X17: =IF(C17="","",COUNTIF(C17:V17,$X$8)) | Y17: =IF(C17="","",COUNTIF(C17:V17,$Y$8)) | Z17: =IF(W17="","",W17*2)
A18: =Student!A12 -> 10 | B18: =IF(Student!B12="","",Student!B12) | W18: =IF(C18="","",COUNTIF(C18:V18,$W$8)) | X18: =IF(C18="","",COUNTIF(C18:V18,$X$8)) | Y18: =IF(C18="","",COUNTIF(C18:V18,$Y$8)) | Z18: =IF(W18="","",W18*2)
A19: =Student!A13 -> 11 | B19: =IF(Student!B13="","",Student!B13) | W19: =IF(C19="","",COUNTIF(C19:V19,$W$8)) | X19: =IF(C19="","",COUNTIF(C19:V19,$X$8)) | Y19: =IF(C19="","",COUNTIF(C19:V19,$Y$8)) | Z19: =IF(W19="","",W19*2)
A20: =Student!A14 -> 12 | B20: =IF(Student!B14="","",Student!B14) | W20: =IF(C20="","",COUNTIF(C20:V20,$W$8)) | X20: =IF(C20="","",COUNTIF(C20:V20,$X$8)) | Y20: =IF(C20="","",COUNTIF(C20:V20,$Y$8)) | Z20: =IF(W20="","",W20*2)
... A104: =Student!A98 | B104: =IF(Student!B98="","",Student!B98) | W104: =IF(C104="","",COUNTIF(C104:V104,$W$8)) | X104: =IF(C104="","",COUNTIF(C104:V104,$X$8)) | Y104: =IF(C104="","",COUNTIF(C104:V104,$Y$8)) | Z104: =IF(W104="","",W104*2)
B107: વિષય શિક્ષકની સહી | R107: આચાર્યની સહી/સિક્કા

Sheet 4 Maths
A1: પરિશિષ્ટ - A
A2: રચનાત્મક મૂલ્યાંકન
B3: ધોરણ અને વર્ગ :- | C3: =School!B8 -> 4 | G3: વિષય :- | I3: ગણિત | N3: સત્ર :- | P3: પ્રથમ | T3: વર્ષ :- | V3: =School!B9 -> 2025-'26
C5: અભ્યાસક્રમ પ્રમાણે પ્રતિનિધિત્વરૂપ હેતુઓ (મહત્તમ :- ૨૦)
C6: ઈંટોની ઈમારત | F6: લાંબૂ અને ટુંકુ | H6: ભોપાલનો પ્રવાસ | J6: ટીક ટીક ટીક | O6: દુનિયા જોવાનો રસ્તો | R6: ભંગાર વેચનાર | U6: જગ અને મગ
A7: ક્રમ | B7: વિદ્યાર્થીનું નામ | C7: ઈટોના આકાર અને તેની ગોઠવણી ની પેટન જાણે | D7: ૧૦,૦૦૦ સુધીની સંખ્યાઓ ની સ્થાન કિંમત ને આધારે સંખ્યા વાંચે અને લખી શકે | E7: સરવાળા બાદબાકી ગુણાકાર અને ભાગાકાર કરી શકે | F7: અંતરના નાના-મોટા એકમ જાણે અને રૂપાંતર કરે | G7: ઊંચાઈ સેમી મીટર ના સંદર્ભમાં સમજે અને રૂપાંતર કરે | H7: બે અને ત્રણ અંકી સંખ્યાઓના એક અંક સાથે ગુણાકાર ભાગાકાર કરી શકે | I7: ગુણાકાર ભાગાકાર ના આંતર સબન્ધોથી સમય અંતર રૂપિયા પૈસા ના વ્યવહારુ કોયડા ઉકેલે | J7: ઘડિયાળનો સમયમાં છે તથા આપેલા સમય આધારિત કલાક કાંટો મિનિટ કાટો દોરે | K7: સમયના સંદર્ભમાં દિવસ અઠવાડિયા અને વર્ષ વિશે સમજી | L7: સમયના સંદર્ભમાં કેલેન્ડર સમજે | M7: ૧૨ કલાક અને ૨૪ કલાક ઘડિયાળનો સંબંધ શોધી શકે | N7: રોજિંદા જીવનની આગળ પાછળ ઘટનાઓના સમયગાળા વિશે સમજે અને ક્રમ આપે | O7: વસ્તુઓને બધી બાજુએથી જોતા કેવી દેખાશે તેના વિશે જાણે સમજે અને દોરે | P7: નકશા આધારિત રસ્તાઓ સમજે | Q7: આસપાસ જોઇને કાચો નકશો દોરે | R7: વાસ્તવિક જીવનની પરિસ્થિતિઓ સાથે જોડાયેલ રૂપિયા-પૈસાના ગુણાકાર અને ભાગાકાર કરી શકે | S7: રૂપિયા પૈસા આધારિત વ્યવહાર ઉકેલી શકે છે | T7: હજાર સુધી નોટ સિક્કાના સરવાળા કરે છે | U7: વાસણોની ગુંજાશ મિલી અને લિટરમાં જાણે સમજે | V7: ગુંજાશ આધારિત વ્યવહારિક કોયડા ઉકેલે | W7: સત્રાંતે વિદ્યાર્થીઓએ મેળવેલ જે તે નિશાનીઓની સંખ્યા | Z7: 40 માંથી મેળવેલ ગુણ
C8: 1 | D8: 2 | E8: 3 | F8: 4 | G8: 5 | H8: 6 | I8: 7 | J8: 8 | K8: 9 | L8: 10 | M8: 11 | N8: 12 | O8: 13 | P8: 14 | Q8: 15 | R8: 16 | S8: 17 | T8: 18 | U8: 19 | V8: 20 | W8: √ | X8: ? | Y8: ×
A9: ='4 Guj'!A9 -> 1 | B9: =IF(Student!B3="","",Student!B3) | W9: =IF(C9="","",COUNTIF(C9:V9,$W$8)) | X9: =IF(C9="","",COUNTIF(C9:V9,$X$8)) | Y9: =IF(C9="","",COUNTIF(C9:V9,$Y$8)) | Z9: =IF(W9="","",W9*2)
A10: ='4 Guj'!A10 -> 2 | B10: =IF(Student!B4="","",Student!B4) | W10: =IF(C10="","",COUNTIF(C10:V10,$W$8)) | X10: =IF(C10="","",COUNTIF(C10:V10,$X$8)) | Y10: =IF(C10="","",COUNTIF(C10:V10,$Y$8)) | Z10: =IF(W10="","",W10*2)
A11: ='4 Guj'!A11 -> 3 | B11: =IF(Student!B5="","",Student!B5) | W11: =IF(C11="","",COUNTIF(C11:V11,$W$8)) | X11: =IF(C11="","",COUNTIF(C11:V11,$X$8)) | Y11: =IF(C11="","",COUNTIF(C11:V11,$Y$8)) | Z11: =IF(W11="","",W11*2)
A12: ='4 Guj'!A12 -> 4 | B12: =IF(Student!B6="","",Student!B6) | W12: =IF(C12="","",COUNTIF(C12:V12,$W$8)) | X12: =IF(C12="","",COUNTIF(C12:V12,$X$8)) | Y12: =IF(C12="","",COUNTIF(C12:V12,$Y$8)) | Z12: =IF(W12="","",W12*2)
A13: ='4 Guj'!A13 -> 5 | B13: =IF(Student!B7="","",Student!B7) | W13: =IF(C13="","",COUNTIF(C13:V13,$W$8)) | X13: =IF(C13="","",COUNTIF(C13:V13,$X$8)) | Y13: =IF(C13="","",COUNTIF(C13:V13,$Y$8)) | Z13: =IF(W13="","",W13*2)
A14: ='4 Guj'!A14 -> 6 | B14: =IF(Student!B8="","",Student!B8) | W14: =IF(C14="","",COUNTIF(C14:V14,$W$8)) | X14: =IF(C14="","",COUNTIF(C14:V14,$X$8)) | Y14: =IF(C14="","",COUNTIF(C14:V14,$Y$8)) | Z14: =IF(W14="","",W14*2)
A15: ='4 Guj'!A15 -> 7 | B15: =IF(Student!B9="","",Student!B9) | W15: =IF(C15="","",COUNTIF(C15:V15,$W$8)) | X15: =IF(C15="","",COUNTIF(C15:V15,$X$8)) | Y15: =IF(C15="","",COUNTIF(C15:V15,$Y$8)) | Z15: =IF(W15="","",W15*2)
A16: ='4 Guj'!A16 -> 8 | B16: =IF(Student!B10="","",Student!B10) | W16: =IF(C16="","",COUNTIF(C16:V16,$W$8)) | X16: =IF(C16="","",COUNTIF(C16:V16,$X$8)) | Y16: =IF(C16="","",COUNTIF(C16:V16,$Y$8)) | Z16: =IF(W16="","",W16*2)
A17: ='4 Guj'!A17 -> 9 | B17: =IF(Student!B11="","",Student!B11) | W17: =IF(C17="","",COUNTIF(C17:V17,$W$8)) | X17: =IF(C17="","",COUNTIF(C17:V17,$X$8)) | Y17: =IF(C17="","",COUNTIF(C17:V17,$Y$8)) | Z17: =IF(W17="","",W17*2)
A18: ='4 Guj'!A18 -> 10 | B18: =IF(Student!B12="","",Student!B12) | W18: =IF(C18="","",COUNTIF(C18:V18,$W$8)) | X18: =IF(C18="","",COUNTIF(C18:V18,$X$8)) | Y18: =IF(C18="","",COUNTIF(C18:V18,$Y$8)) | Z18: =IF(W18="","",W18*2)
A19: ='4 Guj'!A19 -> 11 | B19: =IF(Student!B13="","",Student!B13) | W19: =IF(C19="","",COUNTIF(C19:V19,$W$8)) | X19: =IF(C19="","",COUNTIF(C19:V19,$X$8)) | Y19: =IF(C19="","",COUNTIF(C19:V19,$Y$8)) | Z19: =IF(W19="","",W19*2)
A20: ='4 Guj'!A20 -> 12 | B20: =IF(Student!B14="","",Student!B14) | W20: =IF(C20="","",COUNTIF(C20:V20,$W$8)) | X20: =IF(C20="","",COUNTIF(C20:V20,$X$8)) | Y20: =IF(C20="","",COUNTIF(C20:V20,$Y$8)) | Z20: =IF(W20="","",W20*2)
... A104: ='4 Guj'!A104 | B104: =IF(Student!B98="","",Student!B98) | W104: =IF(C104="","",COUNTIF(C104:V104,$W$8)) | X104: =IF(C104="","",COUNTIF(C104:V104,$X$8)) | Y104: =IF(C104="","",COUNTIF(C104:V104,$Y$8)) | Z104: =IF(W104="","",W104*2)
B108: વિષય શિક્ષકની સહી | R108: આચાર્યની સહી/સિક્કા

Sheet 4 EVS
A1: પરિશિષ્ટ - A
A2: રચનાત્મક મૂલ્યાંકન
B3: ધોરણ અને વર્ગ :- | C3: =School!B8 -> 4 | G3: વિષય :- | I3: પર્યાવરણ | N3: સત્ર :- | P3: પ્રથમ | T3: વર્ષ :- | V3: =School!B9 -> 2025-'26
C5: અભ્યાસક્રમ પ્રમાણે પ્રતિનિધિત્વરૂપ હેતુઓ (મહત્તમ :- ૨૦)
C6: રોજ નિશાળે જઈએ | F6: કાનથી કાન | G6: નંદુ સાથે એક દિવસ | H6: અમૃતાની વાર્તા | J6: અનીતા અને મધમાખી | L6: રિયાની મુસાફરી | M6: રિયાની ટ્રેન મોડી પડી | N6: રિયાની પંહોચી મામા ને ઘેર | O6: બદલાતા કુટુંબો | Q6: કબડ્ડી ...કબડ્ડી .. | S6: વાડીમાં | U6: બદલાતો સમય
A7: ક્રમ | B7: વિદ્યાર્થીનું નામ | C7: વાહનવ્યવહારના વિવિધ સાધનો વિષે જાણે છે. | D7: મેદાન ના વિવિધ પ્રકારો વિશે જાણે છે. | E7: બાળ મજૂરી અને પ્રાણીમાત્ર પ્રત્યે તથા અપંગો પ્રત્યે સહાનુભૂતિ ધરાવેછે. | F7: વિવિધ પ્રાણીઓના કાનના આકાર અને પ્રકાર વિશે જાણે છે. | G7: હાથી વગેરે પ્રાણીઓમાં રહેલ સમૂહભાવના વિશે જાણેછે. | H7: પર્યાવરણના પ્રાકૃતિક તત્વો પ્રત્યે પ્રેમભાવ કેળવે છે. | I7: વિવિધ પ્રકારના વૃક્ષો ,પશુઓ ,પક્ષીઓ વિશે જાણે છે. | J7: મધમાખી ,કીડી જેવા જીવજંતુઓના વર્તન વ્યવહાર ને સમજે છે. | K7: ચલણી નાણાં ને ઓળખી ને ઉપયોગ કરતાં શીખે છે. | L7: અવલોકન અને અનુભવ ના આધારે મૌખિક અભિપ્રાય આપે છે. | M7: પ્રવાસ પર્યટન ના અનુભવ લખી ને વ્યક્ત કરે છે. | N7: ટ્રેન ,બસ વગેરેના સમય પત્રક વાંચી ને સમજે છે. | O7: કુટુંબ વ્યવસ્થા વિશે જાણે છે. | P7: કુટુંબ માં થતાં ફેરફાર વિશે સમજે છે. | Q7: કબડ્ડી જેવી રમતો ખેલદિલી થી રમે છે. | R7: રમતવીરોના સંઘર્ષ અને સફળતા વિશે જાણે છે. | S7: ફૂલોને તેના રંગરૂપ થી ઓળખે છે. | T7: ફૂલોના વિવિધ ઉપયોગ વિશે જાણે છે. | U7: મકાન વગેરે ના બાંધકામ ની પ્રક્રિયા વિશે જાણે છે. | V7: નકશામાં જિલ્લા અને તાલુકા ઓળખી દર્શાવે છે. | W7: સત્રાંતે વિદ્યાર્થીઓએ મેળવેલ જે તે નિશાનીઓની સંખ્યા | Z7: 40 માંથી મેળવેલ ગુણ
C8: 1 | D8: 2 | E8: 3 | F8: 4 | G8: 5 | H8: 6 | I8: 7 | J8: 8 | K8: 9 | L8: 10 | M8: 11 | N8: 12 | O8: 13 | P8: 14 | Q8: 15 | R8: 16 | S8: 17 | T8: 18 | U8: 19 | V8: 20 | W8: √ | X8: ? | Y8: ×
A9: =Student!A3 -> 1 | B9: =IF(Student!B3="","",Student!B3) | W9: =IF(C9="","",COUNTIF(C9:V9,$W$8)) | X9: =IF(C9="","",COUNTIF(C9:V9,$X$8)) | Y9: =IF(C9="","",COUNTIF(C9:V9,$Y$8)) | Z9: =IF(W9="","",W9*2)
A10: =Student!A4 -> 2 | B10: =IF(Student!B4="","",Student!B4) | W10: =IF(C10="","",COUNTIF(C10:V10,$W$8)) | X10: =IF(C10="","",COUNTIF(C10:V10,$X$8)) | Y10: =IF(C10="","",COUNTIF(C10:V10,$Y$8)) | Z10: =IF(W10="","",W10*2)
A11: =Student!A5 -> 3 | B11: =IF(Student!B5="","",Student!B5) | W11: =IF(C11="","",COUNTIF(C11:V11,$W$8)) | X11: =IF(C11="","",COUNTIF(C11:V11,$X$8)) | Y11: =IF(C11="","",COUNTIF(C11:V11,$Y$8)) | Z11: =IF(W11="","",W11*2)
A12: =Student!A6 -> 4 | B12: =IF(Student!B6="","",Student!B6) | W12: =IF(C12="","",COUNTIF(C12:V12,$W$8)) | X12: =IF(C12="","",COUNTIF(C12:V12,$X$8)) | Y12: =IF(C12="","",COUNTIF(C12:V12,$Y$8)) | Z12: =IF(W12="","",W12*2)
A13: =Student!A7 -> 5 | B13: =IF(Student!B7="","",Student!B7) | W13: =IF(C13="","",COUNTIF(C13:V13,$W$8)) | X13: =IF(C13="","",COUNTIF(C13:V13,$X$8)) | Y13: =IF(C13="","",COUNTIF(C13:V13,$Y$8)) | Z13: =IF(W13="","",W13*2)
A14: =Student!A8 -> 6 | B14: =IF(Student!B8="","",Student!B8) | W14: =IF(C14="","",COUNTIF(C14:V14,$W$8)) | X14: =IF(C14="","",COUNTIF(C14:V14,$X$8)) | Y14: =IF(C14="","",COUNTIF(C14:V14,$Y$8)) | Z14: =IF(W14="","",W14*2)
A15: =Student!A9 -> 7 | B15: =IF(Student!B9="","",Student!B9) | W15: =IF(C15="","",COUNTIF(C15:V15,$W$8)) | X15: =IF(C15="","",COUNTIF(C15:V15,$X$8)) | Y15: =IF(C15="","",COUNTIF(C15:V15,$Y$8)) | Z15: =IF(W15="","",W15*2)
A16: =Student!A10 -> 8 | B16: =IF(Student!B10="","",Student!B10) | W16: =IF(C16="","",COUNTIF(C16:V16,$W$8)) | X16: =IF(C16="","",COUNTIF(C16:V16,$X$8)) | Y16: =IF(C16="","",COUNTIF(C16:V16,$Y$8)) | Z16: =IF(W16="","",W16*2)
A17: =Student!A11 -> 9 | B17: =IF(Student!B11="","",Student!B11) | W17: =IF(C17="","",COUNTIF(C17:V17,$W$8)) | X17: =IF(C17="","",COUNTIF(C17:V17,$X$8)) | Y17: =IF(C17="","",COUNTIF(C17:V17,$Y$8)) | Z17: =IF(W17="","",W17*2)
A18: =Student!A12 -> 10 | B18: =IF(Student!B12="","",Student!B12) | W18: =IF(C18="","",COUNTIF(C18:V18,$W$8)) | X18: =IF(C18="","",COUNTIF(C18:V18,$X$8)) | Y18: =IF(C18="","",COUNTIF(C18:V18,$Y$8)) | Z18: =IF(W18="","",W18*2)
A19: =Student!A13 -> 11 | B19: =IF(Student!B13="","",Student!B13) | W19: =IF(C19="","",COUNTIF(C19:V19,$W$8)) | X19: =IF(C19="","",COUNTIF(C19:V19,$X$8)) | Y19: =IF(C19="","",COUNTIF(C19:V19,$Y$8)) | Z19: =IF(W19="","",W19*2)
A20: =Student!A14 -> 12 | B20: =IF(Student!B14="","",Student!B14) | W20: =IF(C20="","",COUNTIF(C20:V20,$W$8)) | X20: =IF(C20="","",COUNTIF(C20:V20,$X$8)) | Y20: =IF(C20="","",COUNTIF(C20:V20,$Y$8)) | Z20: =IF(W20="","",W20*2)
... A104: =Student!A98 | B104: =IF(Student!B98="","",Student!B98) | W104: =IF(C104="","",COUNTIF(C104:V104,$W$8)) | X104: =IF(C104="","",COUNTIF(C104:V104,$X$8)) | Y104: =IF(C104="","",COUNTIF(C104:V104,$Y$8)) | Z104: =IF(W104="","",W104*2)
B108: વિષય શિક્ષકની સહી | R108: આચાર્યની સહી/સિક્કા

Sheet 4 Eng
A1: પરિશિષ્ટ - A
A2: રચનાત્મક મૂલ્યાંકન
B3: ધોરણ અને વર્ગ :- | C3: =School!B8 -> 4 | G3: વિષય :- | I3: અંગ્રેજી | N3: સત્ર :- | P3: પ્રથમ | T3: વર્ષ :- | V3: =School!B9 -> 2025-'26
C5: અભ્યાસક્રમ પ્રમાણે પ્રતિનિધિત્વરૂપ હેતુઓ (મહત્તમ :- ૨૦)
C6: 1. Let's Celebrate | G6: 2. Aniimals - Our Faithful Friends | K6: 3. My Actions | O6: 4. I Love My Family | S6: 5. I Can
A7: ક્રમ | B7: વિદ્યાર્થીનું નામ | C7: Rhyming words, ખૂટતા અક્ષરો મૂકી મૂકી શબ્દ લખી શકે છે. | D7: આપેલ શબ્દોને Alphabet ના ક્રમમાં ગોઠવી શકે છે. | E7: કાવ્યને સાંભળી તેનો આનંદ મેળવી શકે છે અને ગઈ શકે છે. | F7: ઉદાહરણ મુજબ આપેલ શબ્દોનો ઉપયોગ કરી વાક્ય બનાવી શકે છે. | G7: શબ્દોને અનુરૂપ ચિત્ર સાથે જોડી શકશે | H7: એકવચનના શબ્દો પરથી બહુવચનના શબ્દો બનાવતા શીખે. | I7: This નો ઉપયોગ કરી વાક્ય બનાવી શકે છે. | J7: This is અને These are નો ઉપયોગ કરતા શીખે. | K7: Action words (ક્રિયા વાચક) શબ્દો ને ઓળખે અને તે મુજબ કરે છે. | L7: રંગોના નામ પ્રમાણે ચિત્રોમાં યોગ્ય રીતે રંગ પુરાની કરી શકે છે. | M7: વાર્તાને સાંભળી તેના આધારે વાક્યને ખરા કે ખોટા (True/False) કરી શકે છે. | N7: ફકરાનું સુંદર અને સુવાચ્ય અક્ષરે અનુલેખન કરી શકે છે. | O7: કુટુંબના સભ્યોના સંબંધને અંગ્રેજીના શબ્દોમાં જાણે. | P7: વાર્તા પરથી સારી કે ખરાબ બાબતને ઓળખી શકે છે. | Q7: વસ્તુના સ્થાને In. On. Under, Behind, Over શબ્દને આધારે દર્શાવી શકે છે. | R7: પોતાના વિશે ટૂંકમાં પરિચય આપી શકે છે. | S7: Can શબ્દ વિશે મહાવરો કરી તેના ઉપયોગ વિશે જાણે. | T7: બીલ કે રીસીપ્ટનો અભ્યાસ કરી તેના પ્રશ્નોના જવાબ આપી શકે છે. | U7: વ્યવસાયકારોને ઓળખી તમના નામ જણાવી શકે છે. | V7: સાદા વાકયોનું અનુલેખન કરી શકશે . | W7: સત્રાંતે વિદ્યાર્થીઓએ મેળવેલ જે તે નિશાનીઓની સંખ્યા | Z7: 40 માંથી મેળવેલ ગુણ
C8: 1 | D8: 2 | E8: 3 | F8: 4 | G8: 5 | H8: 6 | I8: 7 | J8: 8 | K8: 9 | L8: 10 | M8: 11 | N8: 12 | O8: 13 | P8: 14 | Q8: 15 | R8: 16 | S8: 17 | T8: 18 | U8: 19 | V8: 20 | W8: √ | X8: ? | Y8: ×
A9: =Student!A3 -> 1 | B9: =IF(Student!B3="","",Student!B3) | W9: =IF(C9="","",COUNTIF(C9:V9,$W$8)) | X9: =IF(C9="","",COUNTIF(C9:V9,$X$8)) | Y9: =IF(C9="","",COUNTIF(C9:V9,$Y$8)) | Z9: =IF(W9="","",W9*2)
A10: =Student!A4 -> 2 | B10: =IF(Student!B4="","",Student!B4) | W10: =IF(C10="","",COUNTIF(C10:V10,$W$8)) | X10: =IF(C10="","",COUNTIF(C10:V10,$X$8)) | Y10: =IF(C10="","",COUNTIF(C10:V10,$Y$8)) | Z10: =IF(W10="","",W10*2)
A11: =Student!A5 -> 3 | B11: =IF(Student!B5="","",Student!B5) | W11: =IF(C11="","",COUNTIF(C11:V11,$W$8)) | X11: =IF(C11="","",COUNTIF(C11:V11,$X$8)) | Y11: =IF(C11="","",COUNTIF(C11:V11,$Y$8)) | Z11: =IF(W11="","",W11*2)
A12: =Student!A6 -> 4 | B12: =IF(Student!B6="","",Student!B6) | W12: =IF(C12="","",COUNTIF(C12:V12,$W$8)) | X12: =IF(C12="","",COUNTIF(C12:V12,$X$8)) | Y12: =IF(C12="","",COUNTIF(C12:V12,$Y$8)) | Z12: =IF(W12="","",W12*2)
A13: =Student!A7 -> 5 | B13: =IF(Student!B7="","",Student!B7) | W13: =IF(C13="","",COUNTIF(C13:V13,$W$8)) | X13: =IF(C13="","",COUNTIF(C13:V13,$X$8)) | Y13: =IF(C13="","",COUNTIF(C13:V13,$Y$8)) | Z13: =IF(W13="","",W13*2)
A14: =Student!A8 -> 6 | B14: =IF(Student!B8="","",Student!B8) | W14: =IF(C14="","",COUNTIF(C14:V14,$W$8)) | X14: =IF(C14="","",COUNTIF(C14:V14,$X$8)) | Y14: =IF(C14="","",COUNTIF(C14:V14,$Y$8)) | Z14: =IF(W14="","",W14*2)
A15: =Student!A9 -> 7 | B15: =IF(Student!B9="","",Student!B9) | W15: =IF(C15="","",COUNTIF(C15:V15,$W$8)) | X15: =IF(C15="","",COUNTIF(C15:V15,$X$8)) | Y15: =IF(C15="","",COUNTIF(C15:V15,$Y$8)) | Z15: =IF(W15="","",W15*2)
A16: =Student!A10 -> 8 | B16: =IF(Student!B10="","",Student!B10) | W16: =IF(C16="","",COUNTIF(C16:V16,$W$8)) | X16: =IF(C16="","",COUNTIF(C16:V16,$X$8)) | Y16: =IF(C16="","",COUNTIF(C16:V16,$Y$8)) | Z16: =IF(W16="","",W16*2)
A17: =Student!A11 -> 9 | B17: =IF(Student!B11="","",Student!B11) | W17: =IF(C17="","",COUNTIF(C17:V17,$W$8)) | X17: =IF(C17="","",COUNTIF(C17:V17,$X$8)) | Y17: =IF(C17="","",COUNTIF(C17:V17,$Y$8)) | Z17: =IF(W17="","",W17*2)
A18: =Student!A12 -> 10 | B18: =IF(Student!B12="","",Student!B12) | W18: =IF(C18="","",COUNTIF(C18:V18,$W$8)) | X18: =IF(C18="","",COUNTIF(C18:V18,$X$8)) | Y18: =IF(C18="","",COUNTIF(C18:V18,$Y$8)) | Z18: =IF(W18="","",W18*2)
A19: =Student!A13 -> 11 | B19: =IF(Student!B13="","",Student!B13) | W19: =IF(C19="","",COUNTIF(C19:V19,$W$8)) | X19: =IF(C19="","",COUNTIF(C19:V19,$X$8)) | Y19: =IF(C19="","",COUNTIF(C19:V19,$Y$8)) | Z19: =IF(W19="","",W19*2)
A20: =Student!A14 -> 12 | B20: =IF(Student!B14="","",Student!B14) | W20: =IF(C20="","",COUNTIF(C20:V20,$W$8)) | X20: =IF(C20="","",COUNTIF(C20:V20,$X$8)) | Y20: =IF(C20="","",COUNTIF(C20:V20,$Y$8)) | Z20: =IF(W20="","",W20*2)
... A104: =Student!A98 | B104: =IF(Student!B98="","",Student!B98) | W104: =IF(C104="","",COUNTIF(C104:V104,$W$8)) | X104: =IF(C104="","",COUNTIF(C104:V104,$X$8)) | Y104: =IF(C104="","",COUNTIF(C104:V104,$Y$8)) | Z104: =IF(W104="","",W104*2)
B108: વિષય શિક્ષકની સહી | R108: આચાર્યની સહી/સિક્કા

Sheet 4 Guj (2)
A1: પરિશિષ્ટ - A
A2: રચનાત્મક મૂલ્યાંકન
B3: ધોરણ અને વર્ગ :- | C3: =School!B8 -> 4 | G3: વિષય :- | I3: ગુજરાતી | N3: સત્ર :- | P3: દ્વિતીય | T3: વર્ષ :- | V3: =School!B9 -> 2025-'26
C5: અભ્યાસક્રમ પ્રમાણે પ્રતિનિધિત્વરૂપ હેતુઓ (મહત્તમ :- ૨૦)
C6: ભાઈબંધ મારો બોલ્યો કુહૂ | G6: ખોટો જાદુ ખોટો બાવો? | J6: ટામેટાની દળી રમે દાદા દાદી | N6: કમળજળ કમળજળ કમળજળ કમળજળ | S6: રંગે સંગે કામ કરો, ફરી એક લટાર
A7: ક્રમ | B7: વિદ્યાર્થીનું નામ | C7: વાક્ય સંરચનાના જુદા જુદા પાસા ઓળખાવે અને તેમનો ઉપયોગ કરે છે. | D7: નામ ઓળખાવ્યા વિના વ્યાકરણના ઘટકો ઓળખે અને પ્રયોજે છે. | E7: નવા શબ્દોના અર્થની ધારણા કરે છે. | F7: માહિતીલક્ષી લખાણમાંથી વિગતો શોધી શકે છે. | G7: જોડાક્ષરોનું શ્રાવણ, વાંચન અને લેખન સ્પષ્ટ રીતે કરે છે. | H7: સમાનાર્થી તેમજ વિરુદ્ધાર્થી શબ્દ શોધે અને ઓળખાવે છે. | I7: ભાવાત્મક વલણ દર્શાવે છે. | J7: શબ્દનો રૂપાંતર કરી અન્ય શબ્દ બનાવે છે. | K7: વાર્તા, કાવ્ય, ગીત સાંભળી/ વાંચી તેના અંશોનું લેખન કરે છે. | L7: વર્તમાન, ભૂત અને ભવિષ્ય સૂચક વાક્ય ઓળખાવે અને પરિસ્થિતિ મુજબ ઉપયોગ કરે છે. | M7: લિંગ ઓળખાવી લિંગ અને વચન અનુસાર વાક્ય બનાવી શકે છે. | N7: ક્રિયાપદ અને વિશેષણ ઓળખાવી વાક્ય બનાવી શકે છે. | O7: અભિનય સાથે કાવ્યા ગાન કરી શકે છે. | P7: સંયોજકો (પણ, છતાં, પરંતુ, તેથી, અથવા, કેમ કે વગેરે) નો વાક્યમાં પ્રયોગ કરી શકે છે. | Q7: ચિત્રાનુ વર્ણન 7-8 વાક્યો માં લખી શકે છે. | R7: આપેલ ઘટના કે પ્રસંગની તે પછીની ઘટના કે પ્રસંગની ધારણા કરી શકે છે. | S7: લાયાત્મક કાવ્ય ગાન કરે છે. | T7: ગદ્ય અને પદ્ય લખાણમાંથી વિગતો શોધે છે. | U7: મનો શારીરિક કેળવણી ની રમતો રમે છે. | V7: શબ્દો હાવ ભાવ કે સંકેતો દ્વારા ભાવાત્મક પ્રતિભાવ આપે છે. | W7: સત્રાંતે વિદ્યાર્થીઓએ મેળવેલ જે તે નિશાનીઓની સંખ્યા | Z7: 40 માંથી મેળવેલ ગુણ
C8: 1 | D8: 2 | E8: 3 | F8: 4 | G8: 5 | H8: 6 | I8: 7 | J8: 8 | K8: 9 | L8: 10 | M8: 11 | N8: 12 | O8: 13 | P8: 14 | Q8: 15 | R8: 16 | S8: 17 | T8: 18 | U8: 19 | V8: 20 | W8: √ | X8: ? | Y8: ×
A9: =Student!A3 -> 1 | B9: =IF(Student!B3="","",Student!B3) | W9: =IF(C9="","",COUNTIF(C9:V9,$W$8)) | X9: =IF(C9="","",COUNTIF(C9:V9,$X$8)) | Y9: =IF(C9="","",COUNTIF(C9:V9,$Y$8)) | Z9: =IF(W9="","",W9*2)
A10: =Student!A4 -> 2 | B10: =IF(Student!B4="","",Student!B4) | W10: =IF(C10="","",COUNTIF(C10:V10,$W$8)) | X10: =IF(C10="","",COUNTIF(C10:V10,$X$8)) | Y10: =IF(C10="","",COUNTIF(C10:V10,$Y$8)) | Z10: =IF(W10="","",W10*2)
A11: =Student!A5 -> 3 | B11: =IF(Student!B5="","",Student!B5) | W11: =IF(C11="","",COUNTIF(C11:V11,$W$8)) | X11: =IF(C11="","",COUNTIF(C11:V11,$X$8)) | Y11: =IF(C11="","",COUNTIF(C11:V11,$Y$8)) | Z11: =IF(W11="","",W11*2)
A12: =Student!A6 -> 4 | B12: =IF(Student!B6="","",Student!B6) | W12: =IF(C12="","",COUNTIF(C12:V12,$W$8)) | X12: =IF(C12="","",COUNTIF(C12:V12,$X$8)) | Y12: =IF(C12="","",COUNTIF(C12:V12,$Y$8)) | Z12: =IF(W12="","",W12*2)
A13: =Student!A7 -> 5 | B13: =IF(Student!B7="","",Student!B7) | W13: =IF(C13="","",COUNTIF(C13:V13,$W$8)) | X13: =IF(C13="","",COUNTIF(C13:V13,$X$8)) | Y13: =IF(C13="","",COUNTIF(C13:V13,$Y$8)) | Z13: =IF(W13="","",W13*2)
A14: =Student!A8 -> 6 | B14: =IF(Student!B8="","",Student!B8) | W14: =IF(C14="","",COUNTIF(C14:V14,$W$8)) | X14: =IF(C14="","",COUNTIF(C14:V14,$X$8)) | Y14: =IF(C14="","",COUNTIF(C14:V14,$Y$8)) | Z14: =IF(W14="","",W14*2)
A15: =Student!A9 -> 7 | B15: =IF(Student!B9="","",Student!B9) | W15: =IF(C15="","",COUNTIF(C15:V15,$W$8)) | X15: =IF(C15="","",COUNTIF(C15:V15,$X$8)) | Y15: =IF(C15="","",COUNTIF(C15:V15,$Y$8)) | Z15: =IF(W15="","",W15*2)
A16: =Student!A10 -> 8 | B16: =IF(Student!B10="","",Student!B10) | W16: =IF(C16="","",COUNTIF(C16:V16,$W$8)) | X16: =IF(C16="","",COUNTIF(C16:V16,$X$8)) | Y16: =IF(C16="","",COUNTIF(C16:V16,$Y$8)) | Z16: =IF(W16="","",W16*2)
A17: =Student!A11 -> 9 | B17: =IF(Student!B11="","",Student!B11) | W17: =IF(C17="","",COUNTIF(C17:V17,$W$8)) | X17: =IF(C17="","",COUNTIF(C17:V17,$X$8)) | Y17: =IF(C17="","",COUNTIF(C17:V17,$Y$8)) | Z17: =IF(W17="","",W17*2)
A18: =Student!A12 -> 10 | B18: =IF(Student!B12="","",Student!B12) | W18: =IF(C18="","",COUNTIF(C18:V18,$W$8)) | X18: =IF(C18="","",COUNTIF(C18:V18,$X$8)) | Y18: =IF(C18="","",COUNTIF(C18:V18,$Y$8)) | Z18: =IF(W18="","",W18*2)
A19: =Student!A13 -> 11 | B19: =IF(Student!B13="","",Student!B13) | W19: =IF(C19="","",COUNTIF(C19:V19,$W$8)) | X19: =IF(C19="","",COUNTIF(C19:V19,$X$8)) | Y19: =IF(C19="","",COUNTIF(C19:V19,$Y$8)) | Z19: =IF(W19="","",W19*2)
A20: =Student!A14 -> 12 | B20: =IF(Student!B14="","",Student!B14) | W20: =IF(C20="","",COUNTIF(C20:V20,$W$8)) | X20: =IF(C20="","",COUNTIF(C20:V20,$X$8)) | Y20: =IF(C20="","",COUNTIF(C20:V20,$Y$8)) | Z20: =IF(W20="","",W20*2)
... A104: =Student!A98 | B104: =IF(Student!B98="","",Student!B98) | W104: =IF(C104="","",COUNTIF(C104:V104,$W$8)) | X104: =IF(C104="","",COUNTIF(C104:V104,$X$8)) | Y104: =IF(C104="","",COUNTIF(C104:V104,$Y$8)) | Z104: =IF(W104="","",W104*2)
B107: વિષય શિક્ષકની સહી | R107: આચાર્યની સહી/સિક્કા

Sheet 4 Maths (2)
A1: પરિશિષ્ટ - A
A2: રચનાત્મક મૂલ્યાંકન
B3: ધોરણ અને વર્ગ :- | C3: =School!B8 -> 4 | G3: વિષય :- | I3: ગણિત | N3: સત્ર :- | P3: દ્વિતીય | T3: વર્ષ :- | V3: =School!B9 -> 2025-'26
C5: અભ્યાસક્રમ પ્રમાણે પ્રતિનિધિત્વરૂપ હેતુઓ (મહત્તમ :- ૨૦)
C6: ગાડુ અને પૈડા | F6: અડધુ અને પા | I6: પેટન ની રમત | K6: ઘડિયા અને ભાગાકાર | M6: કેટલુ ભારે કેટલુ હલકુ | P6: ખેતર અને વાડ | S6: સ્માર્ટ ચાર્ટ | U6: વ્યવહારુ ગણિત
A7: ક્રમ | B7: વિદ્યાર્થીનું નામ | C7: વર્તુળનું કેન્દ્ર ત્રિજ્યા અને વ્યાસ વિશે સમજે છે | D7: વર્તુળ આધારે ડિઝાઈન દોરે | E7: આસપાસ જોવા મળતી વર્તુળાકાર વસ્તુઓ જાણે | F7: આકારો વસ્તુઓના ૧/૨,૧/૪ અને ૩/૪ ભાગ સમજે | G7: ભાગ આધારિત વ્યવહારુ કોયડા ઉકેલે | H7: રુપિયા પૈસા વજન ના ભાગ આધારિત કોયડા | I7: આજુબાજુમાં દેખાતી પેટન સમજી અને આગળ વધારે | J7: વિવિધ આકારો ની સંખ્યાત્મક પેટન તેમજ મુળાક્ષરો ની પેટન સમજે | K7: ઘડિયા સમજે અને બનાવે | L7: ઘડિયા અને ભાગાકાર આધારિત વ્યવહારુ કોયડા ઉકેલે | M7: વજન ના નાના મોટા એકમો સમજે અને રૂપાંતર કરે | N7: સાદા ત્રાજવાની મદદથી હલકી ભારે વસ્તુઓ નક્કી કરે | O7: વજન અને રૂપિયા પૈસા ના આંતરસબંધો ધરાવતા વ્યવહારુ કોયડ ઉકેલે | P7: સાદી ભૌમિતિક આકૃતિઓ ની પરિમિત શોધી શકે | Q7: ક્ષેત્રફળ નો ખ્યાલ સમજે | R7: પરિમિતિ અને ક્ષેત્રફળ આધારિત સાદા કોયડા ઉકેલે | S7: સંગ્રહિત માહિતી નું અર્થઘટન કરે | T7: માહિતી નું કોષ્ટક બનાવે અને આલેખમાં દર્શાવી શકે | U7: સરવાળા - બાદબાકીને લગતા વ્યવહારુ કોયડા ઉકેલી શકે. | V7: ગુણાકાર - ભાગાકારને લગતા વ્યવહારુ કોયડા ઉકેલી શકે. | W7: સત્રાંતે વિદ્યાર્થીઓએ મેળવેલ જે તે નિશાનીઓની સંખ્યા | Z7: 40 માંથી મેળવેલ ગુણ
C8: 1 | D8: 2 | E8: 3 | F8: 4 | G8: 5 | H8: 6 | I8: 7 | J8: 8 | K8: 9 | L8: 10 | M8: 11 | N8: 12 | O8: 13 | P8: 14 | Q8: 15 | R8: 16 | S8: 17 | T8: 18 | U8: 19 | V8: 20 | W8: √ | X8: ? | Y8: ×
A9: =Student!A3 -> 1 | B9: =IF(Student!B3="","",Student!B3) | W9: =IF(C9="","",COUNTIF(C9:V9,$W$8)) | X9: =IF(C9="","",COUNTIF(C9:V9,$X$8)) | Y9: =IF(C9="","",COUNTIF(C9:V9,$Y$8)) | Z9: =IF(W9="","",W9*2)
A10: =Student!A4 -> 2 | B10: =IF(Student!B4="","",Student!B4) | W10: =IF(C10="","",COUNTIF(C10:V10,$W$8)) | X10: =IF(C10="","",COUNTIF(C10:V10,$X$8)) | Y10: =IF(C10="","",COUNTIF(C10:V10,$Y$8)) | Z10: =IF(W10="","",W10*2)
A11: =Student!A5 -> 3 | B11: =IF(Student!B5="","",Student!B5) | W11: =IF(C11="","",COUNTIF(C11:V11,$W$8)) | X11: =IF(C11="","",COUNTIF(C11:V11,$X$8)) | Y11: =IF(C11="","",COUNTIF(C11:V11,$Y$8)) | Z11: =IF(W11="","",W11*2)
A12: =Student!A6 -> 4 | B12: =IF(Student!B6="","",Student!B6) | W12: =IF(C12="","",COUNTIF(C12:V12,$W$8)) | X12: =IF(C12="","",COUNTIF(C12:V12,$X$8)) | Y12: =IF(C12="","",COUNTIF(C12:V12,$Y$8)) | Z12: =IF(W12="","",W12*2)
A13: =Student!A7 -> 5 | B13: =IF(Student!B7="","",Student!B7) | W13: =IF(C13="","",COUNTIF(C13:V13,$W$8)) | X13: =IF(C13="","",COUNTIF(C13:V13,$X$8)) | Y13: =IF(C13="","",COUNTIF(C13:V13,$Y$8)) | Z13: =IF(W13="","",W13*2)
A14: =Student!A8 -> 6 | B14: =IF(Student!B8="","",Student!B8) | W14: =IF(C14="","",COUNTIF(C14:V14,$W$8)) | X14: =IF(C14="","",COUNTIF(C14:V14,$X$8)) | Y14: =IF(C14="","",COUNTIF(C14:V14,$Y$8)) | Z14: =IF(W14="","",W14*2)
A15: =Student!A9 -> 7 | B15: =IF(Student!B9="","",Student!B9) | W15: =IF(C15="","",COUNTIF(C15:V15,$W$8)) | X15: =IF(C15="","",COUNTIF(C15:V15,$X$8)) | Y15: =IF(C15="","",COUNTIF(C15:V15,$Y$8)) | Z15: =IF(W15="","",W15*2)
A16: =Student!A10 -> 8 | B16: =IF(Student!B10="","",Student!B10) | W16: =IF(C16="","",COUNTIF(C16:V16,$W$8)) | X16: =IF(C16="","",COUNTIF(C16:V16,$X$8)) | Y16: =IF(C16="","",COUNTIF(C16:V16,$Y$8)) | Z16: =IF(W16="","",W16*2)
A17: =Student!A11 -> 9 | B17: =IF(Student!B11="","",Student!B11) | W17: =IF(C17="","",COUNTIF(C17:V17,$W$8)) | X17: =IF(C17="","",COUNTIF(C17:V17,$X$8)) | Y17: =IF(C17="","",COUNTIF(C17:V17,$Y$8)) | Z17: =IF(W17="","",W17*2)
A18: =Student!A12 -> 10 | B18: =IF(Student!B12="","",Student!B12) | W18: =IF(C18="","",COUNTIF(C18:V18,$W$8)) | X18: =IF(C18="","",COUNTIF(C18:V18,$X$8)) | Y18: =IF(C18="","",COUNTIF(C18:V18,$Y$8)) | Z18: =IF(W18="","",W18*2)
A19: =Student!A13 -> 11 | B19: =IF(Student!B13="","",Student!B13) | W19: =IF(C19="","",COUNTIF(C19:V19,$W$8)) | X19: =IF(C19="","",COUNTIF(C19:V19,$X$8)) | Y19: =IF(C19="","",COUNTIF(C19:V19,$Y$8)) | Z19: =IF(W19="","",W19*2)
A20: =Student!A14 -> 12 | B20: =IF(Student!B14="","",Student!B14) | W20: =IF(C20="","",COUNTIF(C20:V20,$W$8)) | X20: =IF(C20="","",COUNTIF(C20:V20,$X$8)) | Y20: =IF(C20="","",COUNTIF(C20:V20,$Y$8)) | Z20: =IF(W20="","",W20*2)
... A104: =Student!A98 | B104: =IF(Student!B98="","",Student!B98) | W104: =IF(C104="","",COUNTIF(C104:V104,$W$8)) | X104: =IF(C104="","",COUNTIF(C104:V104,$X$8)) | Y104: =IF(C104="","",COUNTIF(C104:V104,$Y$8)) | Z104: =IF(W104="","",W104*2)
B108: વિષય શિક્ષકની સહી | R108: આચાર્યની સહી/સિક્કા

Sheet  4 EVS (2)
A1: પરિશિષ્ટ - A
A2: રચનાત્મક મૂલ્યાંકન
B3: ધોરણ અને વર્ગ :- | C3: =School!B8 -> 4 | G3: વિષય :- | I3: પર્યાવરણ | N3: સત્ર :- | P3: દ્વિતીય | T3: વર્ષ :- | V3: =School!B9 -> 2025-'26
C5: અભ્યાસક્રમ પ્રમાણે પ્રતિનિધિત્વરૂપ હેતુઓ (મહત્તમ :- ૨૦)
A6: ક્રમ | B6: વિદ્યાર્થીનું નામ | C6: નદીની સફર | F6: બજારથી ઘર સુઘી | G6: કામનો મહિનો | I6: તેજલ અમદાવાદમાં | J6: ગામ ગામનાં પાણી | L6: સાથે જમીએ | M6: ખોરાક અને મજા | N6: ૫ટોળા | P6: દેશ ૫રદેશ | R6: મસાલેદાર કોયડા | T6: મારો જીલ્લો | W6: સત્રાંતે વિદ્યાર્થીઓએ મેળવેલ જે તે નિશાનીઓની સંખ્યા | Z6: 40 માંથી મેળવેલ ગુણ
C7: આસપાસ જોવા મળતી વનસ્પતિના મૂળ, ફૂલ અને ફળોના સદા લક્ષણોને ઓળખે છે. | D7: રોજીંદા જીવનમાં (ખેતી, બાંધકામ, કલા, હસ્તકલા વગરે) કૌશલ્યોનું વર્ણન કરે છે. | E7: દૈનિક જરૂરિયાતો જેવી કે ખોરાક, પાણી, કપડાનાં ઉત્પાદન અને પ્રાપ્ત કરવાની પ્રક્રિયા સમજે. | F7: ખોરાક, પાણી, કપડાં જેવી મૂળભૂત જરૂરિયાતોના ઉત્પાદન અને વિસ્તરણની પ્રક્રિયા સમજે. | G7: પક્ષીઓ અને પ્રાણીઓમાં રહેલી વિવિધતાઓને ઓળખે છે. | H7: મોટા કે નાના સમુહમાં રહેતા પ્રાણીઓમાં રહેલ ફેરફારોને સમજે. | I7: વિસ્તૃત બનતા કુટુંબના સભ્યો સાથે પોતાના અને સભ્યો સાથેના પરસ્પરના સબંધોને ઓળખે છે. | J7: મૂળભૂત જરૂરિયાત જેવી કે ખોરાક, પાણી કપડાં મેળવવાની જગ્યાઓ વિષે જાણકારી પ્રાપ્ત કરે. | K7: પ્રમાણિત અને બિનપ્રમાણિત એકમોની ચકાસણી કરે. | L7: જોયેલી અને અનુભવેલ (શાળા/પરિવાર/ ફળિયા) બાબતોને સમજાવે છે. | M7: પોતાના મુલાકાત લીધેલ સ્થળો અંગે અવલોકનો અને અનુભવોને આધારે યોગ્ય નોંધ લખે છે. | N7: વારસાગત મળેલ વિવિધ કૌશલ્યો જેવા કે ખેતી,બાંધકામ,કલા અને હસ્તઉદ્યોગ વગેરેની દૈનિક જીવનમાં ભૂમિકા વર્ણવે છે. | O7: લુપ્ત થતી જતી હસ્તકારીગરીને કાયમ રાખવા કરવા પડતા સંઘર્ષો અને તેનાં કારીગરોની મનોદશા સમજે. | P7: પોતાના અવલાકનો,અનુભવો,વસ્તુ અંગેની માહિતિ, પ્રવૃત્તિઓ, મહત્વની ઘટનાઓ, મુલાકાત લીધેલ સ્થળો અલગ રીતે નોંધશે. | Q7: ભારત દેશના લોકો,પહેરવેશ,વાહનવ્યવહાર,મકાનો, આબોહવાની અન્ય દેશો સાથેની સમાનતા અને ભિન્નતા વિશે | R7: પાતાની આસપાસમાં ઉગતા વૃક્ષો ,ફૂલો ,અને ફળોને તેના આકાર,રંગ,સુગંધ જેવા લક્ષણોને આધારે ઓળખશે. | S7: અવલોકનક્ષમ લક્ષણોના આધારે પ્રાણીઓ,પક્ષીઓ,છોડ,પદાર્થો વગેરેનાં જૂથ પાડે અને પર્યાવરણનું જતન કરવા પ્રેરાય. | T7: ગુજરાત રાજયનાં જિલ્લાઓનાં નામ જાણે. | U7: પોતાનાં જિલ્લાનાં તાલુકાઓની માહિતિ મેળવે, તેના વિશેની ભૌગોલિક બાબતોનું જ્ઞાન મેળવે. | V7: સકતા,વસ્તુઓનુ સ્થાન,શાળા અને આસપાસના વિસ્તારનાં નકશા વગેરેનો ઉપયોગ કરીને માર્ગદર્શન આ૫શે.
C8: 1 | D8: 2 | E8: 3 | F8: 4 | G8: 5 | H8: 6 | I8: 7 | J8: 8 | K8: 9 | L8: 10 | M8: 11 | N8: 12 | O8: 13 | P8: 14 | Q8: 15 | R8: 16 | S8: 17 | T8: 18 | U8: 19 | V8: 20 | W8: √ | X8: ? | Y8: ×
A9: =Student!A3 -> 1 | B9: =IF(Student!B3="","",Student!B3) | W9: =IF(C9="","",COUNTIF(C9:V9,$W$8)) | X9: =IF(C9="","",COUNTIF(C9:V9,$X$8)) | Y9: =IF(C9="","",COUNTIF(C9:V9,$Y$8)) | Z9: =IF(W9="","",W9*2)
A10: =Student!A4 -> 2 | B10: =IF(Student!B4="","",Student!B4) | W10: =IF(C10="","",COUNTIF(C10:V10,$W$8)) | X10: =IF(C10="","",COUNTIF(C10:V10,$X$8)) | Y10: =IF(C10="","",COUNTIF(C10:V10,$Y$8)) | Z10: =IF(W10="","",W10*2)
A11: =Student!A5 -> 3 | B11: =IF(Student!B5="","",Student!B5) | W11: =IF(C11="","",COUNTIF(C11:V11,$W$8)) | X11: =IF(C11="","",COUNTIF(C11:V11,$X$8)) | Y11: =IF(C11="","",COUNTIF(C11:V11,$Y$8)) | Z11: =IF(W11="","",W11*2)
A12: =Student!A6 -> 4 | B12: =IF(Student!B6="","",Student!B6) | W12: =IF(C12="","",COUNTIF(C12:V12,$W$8)) | X12: =IF(C12="","",COUNTIF(C12:V12,$X$8)) | Y12: =IF(C12="","",COUNTIF(C12:V12,$Y$8)) | Z12: =IF(W12="","",W12*2)
A13: =Student!A7 -> 5 | B13: =IF(Student!B7="","",Student!B7) | W13: =IF(C13="","",COUNTIF(C13:V13,$W$8)) | X13: =IF(C13="","",COUNTIF(C13:V13,$X$8)) | Y13: =IF(C13="","",COUNTIF(C13:V13,$Y$8)) | Z13: =IF(W13="","",W13*2)
A14: =Student!A8 -> 6 | B14: =IF(Student!B8="","",Student!B8) | W14: =IF(C14="","",COUNTIF(C14:V14,$W$8)) | X14: =IF(C14="","",COUNTIF(C14:V14,$X$8)) | Y14: =IF(C14="","",COUNTIF(C14:V14,$Y$8)) | Z14: =IF(W14="","",W14*2)
A15: =Student!A9 -> 7 | B15: =IF(Student!B9="","",Student!B9) | W15: =IF(C15="","",COUNTIF(C15:V15,$W$8)) | X15: =IF(C15="","",COUNTIF(C15:V15,$X$8)) | Y15: =IF(C15="","",COUNTIF(C15:V15,$Y$8)) | Z15: =IF(W15="","",W15*2)
A16: =Student!A10 -> 8 | B16: =IF(Student!B10="","",Student!B10) | W16: =IF(C16="","",COUNTIF(C16:V16,$W$8)) | X16: =IF(C16="","",COUNTIF(C16:V16,$X$8)) | Y16: =IF(C16="","",COUNTIF(C16:V16,$Y$8)) | Z16: =IF(W16="","",W16*2)
A17: =Student!A11 -> 9 | B17: =IF(Student!B11="","",Student!B11) | W17: =IF(C17="","",COUNTIF(C17:V17,$W$8)) | X17: =IF(C17="","",COUNTIF(C17:V17,$X$8)) | Y17: =IF(C17="","",COUNTIF(C17:V17,$Y$8)) | Z17: =IF(W17="","",W17*2)
A18: =Student!A12 -> 10 | B18: =IF(Student!B12="","",Student!B12) | W18: =IF(C18="","",COUNTIF(C18:V18,$W$8)) | X18: =IF(C18="","",COUNTIF(C18:V18,$X$8)) | Y18: =IF(C18="","",COUNTIF(C18:V18,$Y$8)) | Z18: =IF(W18="","",W18*2)
A19: =Student!A13 -> 11 | B19: =IF(Student!B13="","",Student!B13) | W19: =IF(C19="","",COUNTIF(C19:V19,$W$8)) | X19: =IF(C19="","",COUNTIF(C19:V19,$X$8)) | Y19: =IF(C19="","",COUNTIF(C19:V19,$Y$8)) | Z19: =IF(W19="","",W19*2)
A20: =Student!A14 -> 12 | B20: =IF(Student!B14="","",Student!B14) | W20: =IF(C20="","",COUNTIF(C20:V20,$W$8)) | X20: =IF(C20="","",COUNTIF(C20:V20,$X$8)) | Y20: =IF(C20="","",COUNTIF(C20:V20,$Y$8)) | Z20: =IF(W20="","",W20*2)
... A104: =Student!A98 | B104: =IF(Student!B98="","",Student!B98) | W104: =IF(C104="","",COUNTIF(C104:V104,$W$8)) | X104: =IF(C104="","",COUNTIF(C104:V104,$X$8)) | Y104: =IF(C104="","",COUNTIF(C104:V104,$Y$8)) | Z104: =IF(W104="","",W104*2)
B108: વિષય શિક્ષકની સહી | R108: આચાર્યની સહી/સિક્કા

Sheet 4 Hindi (2)
A1: પરિશિષ્ટ - A
A2: રચનાત્મક મૂલ્યાંકન
B3: ધોરણ અને વર્ગ :- | C3: =School!B8 -> 4 | G3: વિષય :- | I3: હિન્દી | N3: સત્ર :- | P3: દ્વિતીય | T3: વર્ષ :- | V3: =School!B9 -> 2025-'26
C5: અભ્યાસક્રમ પ્રમાણે પ્રતિનિધિત્વરૂપ હેતુઓ (મહત્તમ :- ૨૦)
C6: नई राह | F6: बढ़ते कदम | I6: गिनती १ से २० | L6: अपने बारे में | N6: धम्मक धम्मक आता हाथी | Q6: टपका का डर | T6: झूला | U6: चतुर चूहा
A7: ક્રમ | B7: વિદ્યાર્થીનું નામ | C7: हिंदी के लिपि संकेत को समझते हैं। | D7: वर्णों का शुद्ध उच्चारण एवं लेखन करते हैं। | E7: सामान्य शब्दों को सजिक रूप से लिख सकते है। | F7: मातृभाषा तथा हिंदी की वर्ण ध्वनियों के बीच का अंतर समझते हैं। | G7: शब्द और सरल वाक्य का शुद्ध रूप से उच्चारण एवं लेखन करते हैं। | H7: कौन, क्यों, कब और कहाँ वाले प्रश्नों को समझते हैं। | I7: 1 से 20 तक के अंकों को सुनकर पढ़कर समझते हैं। | J7: 1 से 20 तक की गिनती अंकों में लेखन करते हैं। | K7: 1 से 20 तक की गिनती शब्दों में लेखन करते हैं। | L7: परिचित परिस्थितियों में सामान्य सूचनाओं को पढ़कर समझते हैं। | M7: परिचित सरल गीत का सामूहिक दान करते हैं। | N7: चित्र का वर्णन करते हैं। | O7: श्रव्य या वाक्य सामग्री में से अंतर्निहित मूल्य विकसित करते हैं। | P7: परीक्षित विषय पर चार पांच वाक्य बोलते हैं। | Q7: सरल शब्दों का वाक्य में प्रयोग करते हैं। | R7: परिचित गद्य और पद्य सुनकर समझते हैं। | S7: वाक्यों का विरामचिह्नो के साथ अनुलेखन करते है। | T7: समानार्थी विरुद्धार्थी शब्दों का वाक्य में प्रयोग करते हैं। | U7: सूचना अनुसार अभिनय करते हैं। | V7: चित्र के आधार पर कहानी का वर्णन करते हैं। | W7: સત્રાંતે વિદ્યાર્થીઓએ મેળવેલ જે તે નિશાનીઓની સંખ્યા | Z7: 40 માંથી મેળવેલ ગુણ
C8: 1 | D8: 2 | E8: 3 | F8: 4 | G8: 5 | H8: 6 | I8: 7 | J8: 8 | K8: 9 | L8: 10 | M8: 11 | N8: 12 | O8: 13 | P8: 14 | Q8: 15 | R8: 16 | S8: 17 | T8: 18 | U8: 19 | V8: 20 | W8: √ | X8: ? | Y8: ×
A9: =Student!A3 -> 1 | B9: =IF(Student!B3="","",Student!B3) | W9: =IF(C9="","",COUNTIF(C9:V9,$W$8)) | X9: =IF(C9="","",COUNTIF(C9:V9,$X$8)) | Y9: =IF(C9="","",COUNTIF(C9:V9,$Y$8)) | Z9: =IF(W9="","",W9*2)
A10: =Student!A4 -> 2 | B10: =IF(Student!B4="","",Student!B4) | W10: =IF(C10="","",COUNTIF(C10:V10,$W$8)) | X10: =IF(C10="","",COUNTIF(C10:V10,$X$8)) | Y10: =IF(C10="","",COUNTIF(C10:V10,$Y$8)) | Z10: =IF(W10="","",W10*2)
A11: =Student!A5 -> 3 | B11: =IF(Student!B5="","",Student!B5) | W11: =IF(C11="","",COUNTIF(C11:V11,$W$8)) | X11: =IF(C11="","",COUNTIF(C11:V11,$X$8)) | Y11: =IF(C11="","",COUNTIF(C11:V11,$Y$8)) | Z11: =IF(W11="","",W11*2)
A12: =Student!A6 -> 4 | B12: =IF(Student!B6="","",Student!B6) | W12: =IF(C12="","",COUNTIF(C12:V12,$W$8)) | X12: =IF(C12="","",COUNTIF(C12:V12,$X$8)) | Y12: =IF(C12="","",COUNTIF(C12:V12,$Y$8)) | Z12: =IF(W12="","",W12*2)
A13: =Student!A7 -> 5 | B13: =IF(Student!B7="","",Student!B7) | W13: =IF(C13="","",COUNTIF(C13:V13,$W$8)) | X13: =IF(C13="","",COUNTIF(C13:V13,$X$8)) | Y13: =IF(C13="","",COUNTIF(C13:V13,$Y$8)) | Z13: =IF(W13="","",W13*2)
A14: =Student!A8 -> 6 | B14: =IF(Student!B8="","",Student!B8) | W14: =IF(C14="","",COUNTIF(C14:V14,$W$8)) | X14: =IF(C14="","",COUNTIF(C14:V14,$X$8)) | Y14: =IF(C14="","",COUNTIF(C14:V14,$Y$8)) | Z14: =IF(W14="","",W14*2)
A15: =Student!A9 -> 7 | B15: =IF(Student!B9="","",Student!B9) | W15: =IF(C15="","",COUNTIF(C15:V15,$W$8)) | X15: =IF(C15="","",COUNTIF(C15:V15,$X$8)) | Y15: =IF(C15="","",COUNTIF(C15:V15,$Y$8)) | Z15: =IF(W15="","",W15*2)
A16: =Student!A10 -> 8 | B16: =IF(Student!B10="","",Student!B10) | W16: =IF(C16="","",COUNTIF(C16:V16,$W$8)) | X16: =IF(C16="","",COUNTIF(C16:V16,$X$8)) | Y16: =IF(C16="","",COUNTIF(C16:V16,$Y$8)) | Z16: =IF(W16="","",W16*2)
A17: =Student!A11 -> 9 | B17: =IF(Student!B11="","",Student!B11) | W17: =IF(C17="","",COUNTIF(C17:V17,$W$8)) | X17: =IF(C17="","",COUNTIF(C17:V17,$X$8)) | Y17: =IF(C17="","",COUNTIF(C17:V17,$Y$8)) | Z17: =IF(W17="","",W17*2)
A18: =Student!A12 -> 10 | B18: =IF(Student!B12="","",Student!B12) | W18: =IF(C18="","",COUNTIF(C18:V18,$W$8)) | X18: =IF(C18="","",COUNTIF(C18:V18,$X$8)) | Y18: =IF(C18="","",COUNTIF(C18:V18,$Y$8)) | Z18: =IF(W18="","",W18*2)
A19: =Student!A13 -> 11 | B19: =IF(Student!B13="","",Student!B13) | W19: =IF(C19="","",COUNTIF(C19:V19,$W$8)) | X19: =IF(C19="","",COUNTIF(C19:V19,$X$8)) | Y19: =IF(C19="","",COUNTIF(C19:V19,$Y$8)) | Z19: =IF(W19="","",W19*2)
A20: =Student!A14 -> 12 | B20: =IF(Student!B14="","",Student!B14) | W20: =IF(C20="","",COUNTIF(C20:V20,$W$8)) | X20: =IF(C20="","",COUNTIF(C20:V20,$X$8)) | Y20: =IF(C20="","",COUNTIF(C20:V20,$Y$8)) | Z20: =IF(W20="","",W20*2)
... A104: =Student!A98 | B104: =IF(Student!B98="","",Student!B98) | W104: =IF(C104="","",COUNTIF(C104:V104,$W$8)) | X104: =IF(C104="","",COUNTIF(C104:V104,$X$8)) | Y104: =IF(C104="","",COUNTIF(C104:V104,$Y$8)) | Z104: =IF(W104="","",W104*2)
B107: વિષય શિક્ષકની સહી | R107: આચાર્યની સહી/સિક્કા

Sheet 4 Eng (2)
A1: પરિશિષ્ટ - A
A2: રચનાત્મક મૂલ્યાંકન
B3: ધોરણ અને વર્ગ :- | C3: =School!B8 -> 4 | G3: વિષય :- | I3: અંગ્રેજી | N3: સત્ર :- | P3: દ્વિતીય | T3: વર્ષ :- | V3: =School!B9 -> 2025-'26
C5: અભ્યાસક્રમ પ્રમાણે પ્રતિનિધિત્વરૂપ હેતુઓ (મહત્તમ :- ૨૦)
C6: The Sky is Falling | G6: Did it Yesterday, Do it Today | K6: My Moods, My Feellings | O6: Our Words | S6: Safety First
A7: ક્રમ | B7: વિદ્યાર્થીનું નામ | C7: Action Songs યોગ્ય હાવ ભાવ અને અભિનય સાથે ગાય છે. | D7: વિવિધ રમતો ભાષા રમતો અંગેની સૂચનાઓ અંગ્રેજીમાં સાંભળે છે અને અનુસરે છે. | E7: યોગ્ય વિરામચિહ્નોનો ઉપયોગ કરી સાદા અંગ્રેજી વાક્યોનું અનુલેખન કરે છે. | F7: ભૂતકાળની ક્રિયાઓનું વર્ણન કરે છે ઉદાહરણ. : Yesterday was Sunday. | G7: વાર્તા કાવ્ય સાંભળીને અને વાંચીને સમજે છે અને પ્રશ્નોના જવાબ આપી શકે છે. | H7: વસ્તુના કદ આકાર રંગ સંખ્યા અને વજન વિશે ચાર થી પાંચ શબ્દો જણાવે છે. | I7: આપેલ લખાણ સમજપૂર્વક વાંચે છે અને લખાણની વિગતો સમજે છે. | J7: પોતાના પરિચય ક્ષેત્રના શબ્દો શબ્દકોશમાંથી શોધે છે. | K7: આપેલ શબ્દોના સમાન ઉચ્ચાર વાળા શબ્દો શોધી શકે છે. | L7: પોતાના માતા પિતા ભાઈ બહેન અને મિત્રોનો સામાન્ય પરિચય આપે છે. | M7: In, Into, On, Under શબ્દોનો ઉપયોગ કરી વસ્તુના સ્થાનને દર્શાવી શકે છે. | N7: વિરામચિન્હનો ઉપયોગ કરી સાદા અંગ્રેજી વાક્યોનું અનુલેખન કરે છે. | O7: આશરે 300 જેટલા લોન વર્ડ્સ જાણે અને તેનો ઉપયોગ શીખે. | P7: શબ્દકોશ માંથી શબ્દો શોધી Alphabets ના ક્રમમાં ગોઠવી શકે છે.. | Q7: શબ્દોનો ઉપયોગ કરીને ટૂંકા સાદા વાક્યો લખે છે. | R7: And', 'But', 'Or' નો ઉપયોગ કરીને શબ્દો કે વાક્યોને જોડે છે. | S7: 101 થી 10000 સુધીની સંખ્યાને અંગ્રેજી અંકોમાં વાંચે અને લખે છે. તથા વ્યવહારમાં ઉપયોગ કરે છે. | T7: ચિત્રમાં રહેલા તફાવત શોધી શકે છે. | U7: પોતાનો સામાન્ય પરિચય આપી શકે છે. | V7: મોબાઇલમાં SMS લખી કે અન્ય વિગતો શોધી શકે છે. | W7: સત્રાંતે વિદ્યાર્થીઓએ મેળવેલ જે તે નિશાનીઓની સંખ્યા | Z7: 40 માંથી મેળવેલ ગુણ
C8: 1 | D8: 2 | E8: 3 | F8: 4 | G8: 5 | H8: 6 | I8: 7 | J8: 8 | K8: 9 | L8: 10 | M8: 11 | N8: 12 | O8: 13 | P8: 14 | Q8: 15 | R8: 16 | S8: 17 | T8: 18 | U8: 19 | V8: 20 | W8: √ | X8: ? | Y8: ×
A9: =Student!A3 -> 1 | B9: =IF(Student!B3="","",Student!B3) | W9: =IF(C9="","",COUNTIF(C9:V9,$W$8)) | X9: =IF(C9="","",COUNTIF(C9:V9,$X$8)) | Y9: =IF(C9="","",COUNTIF(C9:V9,$Y$8)) | Z9: =IF(W9="","",W9*2)
A10: =Student!A4 -> 2 | B10: =IF(Student!B4="","",Student!B4) | W10: =IF(C10="","",COUNTIF(C10:V10,$W$8)) | X10: =IF(C10="","",COUNTIF(C10:V10,$X$8)) | Y10: =IF(C10="","",COUNTIF(C10:V10,$Y$8)) | Z10: =IF(W10="","",W10*2)
A11: =Student!A5 -> 3 | B11: =IF(Student!B5="","",Student!B5) | W11: =IF(C11="","",COUNTIF(C11:V11,$W$8)) | X11: =IF(C11="","",COUNTIF(C11:V11,$X$8)) | Y11: =IF(C11="","",COUNTIF(C11:V11,$Y$8)) | Z11: =IF(W11="","",W11*2)
A12: =Student!A6 -> 4 | B12: =IF(Student!B6="","",Student!B6) | W12: =IF(C12="","",COUNTIF(C12:V12,$W$8)) | X12: =IF(C12="","",COUNTIF(C12:V12,$X$8)) | Y12: =IF(C12="","",COUNTIF(C12:V12,$Y$8)) | Z12: =IF(W12="","",W12*2)
A13: =Student!A7 -> 5 | B13: =IF(Student!B7="","",Student!B7) | W13: =IF(C13="","",COUNTIF(C13:V13,$W$8)) | X13: =IF(C13="","",COUNTIF(C13:V13,$X$8)) | Y13: =IF(C13="","",COUNTIF(C13:V13,$Y$8)) | Z13: =IF(W13="","",W13*2)
A14: =Student!A8 -> 6 | B14: =IF(Student!B8="","",Student!B8) | W14: =IF(C14="","",COUNTIF(C14:V14,$W$8)) | X14: =IF(C14="","",COUNTIF(C14:V14,$X$8)) | Y14: =IF(C14="","",COUNTIF(C14:V14,$Y$8)) | Z14: =IF(W14="","",W14*2)
A15: =Student!A9 -> 7 | B15: =IF(Student!B9="","",Student!B9) | W15: =IF(C15="","",COUNTIF(C15:V15,$W$8)) | X15: =IF(C15="","",COUNTIF(C15:V15,$X$8)) | Y15: =IF(C15="","",COUNTIF(C15:V15,$Y$8)) | Z15: =IF(W15="","",W15*2)
A16: =Student!A10 -> 8 | B16: =IF(Student!B10="","",Student!B10) | W16: =IF(C16="","",COUNTIF(C16:V16,$W$8)) | X16: =IF(C16="","",COUNTIF(C16:V16,$X$8)) | Y16: =IF(C16="","",COUNTIF(C16:V16,$Y$8)) | Z16: =IF(W16="","",W16*2)
A17: =Student!A11 -> 9 | B17: =IF(Student!B11="","",Student!B11) | W17: =IF(C17="","",COUNTIF(C17:V17,$W$8)) | X17: =IF(C17="","",COUNTIF(C17:V17,$X$8)) | Y17: =IF(C17="","",COUNTIF(C17:V17,$Y$8)) | Z17: =IF(W17="","",W17*2)
A18: =Student!A12 -> 10 | B18: =IF(Student!B12="","",Student!B12) | W18: =IF(C18="","",COUNTIF(C18:V18,$W$8)) | X18: =IF(C18="","",COUNTIF(C18:V18,$X$8)) | Y18: =IF(C18="","",COUNTIF(C18:V18,$Y$8)) | Z18: =IF(W18="","",W18*2)
A19: =Student!A13 -> 11 | B19: =IF(Student!B13="","",Student!B13) | W19: =IF(C19="","",COUNTIF(C19:V19,$W$8)) | X19: =IF(C19="","",COUNTIF(C19:V19,$X$8)) | Y19: =IF(C19="","",COUNTIF(C19:V19,$Y$8)) | Z19: =IF(W19="","",W19*2)
A20: =Student!A14 -> 12 | B20: =IF(Student!B14="","",Student!B14) | W20: =IF(C20="","",COUNTIF(C20:V20,$W$8)) | X20: =IF(C20="","",COUNTIF(C20:V20,$X$8)) | Y20: =IF(C20="","",COUNTIF(C20:V20,$Y$8)) | Z20: =IF(W20="","",W20*2)
... A104: =Student!A98 | B104: =IF(Student!B98="","",Student!B98) | W104: =IF(C104="","",COUNTIF(C104:V104,$W$8)) | X104: =IF(C104="","",COUNTIF(C104:V104,$X$8)) | Y104: =IF(C104="","",COUNTIF(C104:V104,$Y$8)) | Z104: =IF(W104="","",W104*2)
B108: વિષય શિક્ષકની સહી | R108: આચાર્યની સહી/સિક્કા
