Workbook

Sheet Insructions
C2: આ sheet ના ઉપયોગ માટેના સામાન્ય સૂચનો :-
A4: 1 | B4: આ શીટમાં શક્ય હોય ત્યાં સુધી શ્રુતિ ફોન્ટમાં જ માહિતી ભરવી. (બીજા ફોન્ટમાં માહિતી ભરી શકાશે.)
A5: 2 | B5: 'શાળા' અને 'વિદ્યાર્થીઓની' ની શીટ માં જરૂરી માહિતી ભરી દો. જે બીજી શીટ માટે આધાર છે.
A6: 3 | B6: આપ આ sheet માં વધુમાં વધુ '100' વિદ્યાર્થીઓની માહિતી ભરી શકશો.
A7: 4 | B7: દરેક વિષયની sheets માં ક્રમ નંબર 1 પર filter માટે બટન આપેલ છે જેના પર ક્લિક કરી OK બટન પર ક્લિક કરવાથી જેટલા વિદ્યાર્થીઓ હશે તેટલી જ રો ખુલશે અને વધારાની કોરી રો હાઇડ થઇ જશે તેથી જરૂર જેટલા જ પેજ પ્રિન્ટ થશે.
A8: 5 | B8: દરેક વિષયની જરૂરિયાત મુજબ A4 સાઇઝના કાગળ પર પ્રિંટ કાઢી શકાશે.
A9: 6 | B9: જે તે પેજ ને અનલોક કરવા માટે પાસવર્ડ તરીકે 1438 નાખવો.
A10: 7 | B10: વિષય પ્રમાણેની શીટમાં વિદ્યાર્થીઓના નામ આપમેળે આવી જશે. જે તે પેજ પર જવા માટે આપેલ બટન પર ક્લિક કરો.
A11: 8 | B11: "Sheet"ની વિશેષતા એ છે કે આપ 'Auto' અને 'Blank' બંને રીતે ઉપયોગ કરી શકો છો.
B13: જ્યાં સુધી 'Whatsapp' થી ચાલે એમ હોય, ત્યાં સુધી ફોન કરવો નહિ. શાળા સમયમાં ફોન કરશો નહિ. | H13: MADE BY
H14: Pradipsinh.P.Sisodiya
H15: Gabat -1 Pri. School
H16: Ta :- Bayad, Di :- Arvalli
H17: Contect No. :- 9428313097

Sheet School
A1: શાળાની માહિતી
A2: શાળાનું નામ :-
A3: ગામનું નામ :-
A4: શાળાનો ડાયસકોડ :- | D4: ફાઈલના ઉપયોગ માટેની Video Link
A5: તાલુકો :- | D5: https://youtu.be/2ql5gwFdXt0
A6: જિલ્લો :-
A7: સી.આર.સી. :-
A8: ધોરણ અને વર્ગ :- | B8: 3
A9: શૈક્ષણિક વર્ષ :- | B9: 2025-'26
A10: વર્ગ શિક્ષકનું નામ :-
A11: પરિણામની તારીખ :-

Sheet Student
A1: વિદ્યાર્થીની માહિતી
A2: ક્રમ | B2: વિદ્યાર્થીનું નામ | C2: રજી. સંખ્યા :- | E2: 30
A3: =IF(E2>0,1,"") -> 1
A4: =IF($E$2>A3,A3+1,"") -> 2
A5: =IF($E$2>A4,A4+1,"") -> 3 | F5: આવી અપડેટ ફાઈલો અને ફાઈલમાં ઉપયોગમાં લેવાયેલ ફોન્ટ નીચેની Google Link પરથી મળી જશે. માટે વારંવાર પર્સનલ મેસેજ કે ફોન કરી ફાઈલો માંગવી નહિ.
A6: =IF($E$2>A5,A5+1,"") -> 4
A7: =IF($E$2>A6,A6+1,"") -> 5
A8: =IF($E$2>A7,A7+1,"") -> 6 | G8: https://drive.google.com/drive/folders/1Wyxs6RQwl-i4qPoNP65CEmWq7scY8NsS?usp=sharing
A9: =IF($E$2>A8,A8+1,"") -> 7
A10: =IF($E$2>A9,A9+1,"") -> 8
A11: =IF($E$2>A10,A10+1,"") -> 9 | F11: 👉🏻 આ Google link પર ક્લિક કરી આખું ફોલ્ડર અથવા ફાઈલ ડાઉનલોડ કરવા માટે જે પેજ ખુલે એમાં જમણી બાજુ ઉપર 3 ટપકા પર ક્લિક કરી ડાઉનલોડ ઓપ્શન પર ક્લિક કરો અથવા જો ⬇(ડાઉન એરો) જેવું નિશાન દેખાય તો એના પર ક્લિક કરી આખું ફોલ્ડર અથવા જે તે ફાઈલ ડાઉનલોડ કરી લો અને ફાઈલ ડાઉનલોડ થઈ જાય પછી તેનો ઉપયોગ કરી શકશો..
A12: =IF($E$2>A11,A11+1,"") -> 10
A13: =IF($E$2>A12,A12+1,"") -> 11
A14: =IF($E$2>A13,A13+1,"") -> 12
A15: =IF($E$2>A14,A14+1,"") -> 13
A16: =IF($E$2>A15,A15+1,"") -> 14
A17: =IF($E$2>A16,A16+1,"") -> 15
A18: =IF($E$2>A17,A17+1,"") -> 16
A19: =IF($E$2>A18,A18+1,"") -> 17
A20: =IF($E$2>A19,A19+1,"") -> 18
A21: =IF($E$2>A20,A20+1,"") -> 19
A22: =IF($E$2>A21,A21+1,"") -> 20
A23: =IF($E$2>A22,A22+1,"") -> 21
... A102: =IF($E$2>A101,A101+1,"")

Sheet Patrak-A First Page
C3: શાળાકીય સર્વગ્રાહી મૂલ્યાંકન
D4: (SCE)
D11: પત્રક - અ
F15: ધોરણ :- | H15: =School!B8 -> 3
D17: રચનાત્મક મૂલ્યાંકન પત્રક
E19: વર્ષ :- | G19: =School!B9 -> 2025-'26
D22: શાળાનું નામ :- | F22: =School!B2 -> 0
D24: ગામ :- | E24: =School!B3 -> 0 | G24: તાલુકો :- | H24: =School!B5 -> 0 | I24: જિલ્લો :- | J24: =School!B6 -> 0
D26: ધોરણ અને વર્ગ :- | F26: =School!B8 -> 3 | H26: પરિણામની તારીખ :- | J26: =School!B11 -> 0
D28: વર્ગ શિક્ષકનું નામ :- | F28: =School!B10 -> 0 | I28: સી.આર.સી :- | K28: =School!B7 -> 0
D32: વર્ગ શિક્ષકની સહી | I32: આચાર્યશ્રીની સહી/સિક્કા

Sheet 3 Guj
A1: પરિશિષ્ટ - A
A2: રચનાત્મક મૂલ્યાંકન
B3: ધોરણ અને વર્ગ :- | C3: =School!B8 -> 3 | G3: વિષય :- | I3: ગુજરાતી | N3: સત્ર :- | P3: પ્રથમ | T3: વર્ષ :- | V3: =School!B9 -> 2025-'26
C5: અભ્યાસક્રમ પ્રમાણે પ્રતિનિધિત્વરૂપ હેતુઓ (મહત્તમ :- ૨૦)
C6: વાંદરાને વાંચતા ન આવડે | G6: પોટલા ટપકે ટપ ટપ | J6: હું પતંગિયું મારા પીલ્લુંનું | N6: પાછળ | R6: કોરો કાચબો અને ભીનો ચાંદો
A7: ક્રમ | B7: વિદ્યાર્થીનું નામ | C7: કાવ્યાત્મક લખાણમાંથી વાંચન-અથથગ્રહણ કરી શકે છે. | D7: કાવ્યનું લય તાલ સાથે વ્યક્તિગત કે સામુહિક ગાન કરી શકે છે. | E7: પરિચિત શબ્દ અને એના સમાનાર્થી અને વિરુદ્ધાર્થી શોધી તેમનો લખાણમાં ઉપયોગ કરી શકે છે. | F7: ભાવાત્મક સમાવેશન કરી શકે છે. | G7: કાવ્યાત્મક લખાણમાંથી વાંચન-અર્થગ્રહણ કરી પ્રશ્નોના જવાબ આપી શકે છે. | H7: પ્રકીર્ણ, છૂટાછવાયા લખાણમાંથી વાંચન અર્થગ્રહણ કરે છે. | I7: ભાષા સજ્જતા અને વ્યાકરણના વિવિધ ઘટકોને નામ ઓળખાવ્યા વિના ઓળખતો-સમજતો થાય. | J7: પ્રકીર્ણ, છૂટાછવાયા લખાણમાંથી વાંચન અર્થગ્રહણ કરી વ્યવહારિક ભાષામાં ઉપયોગ કરી શકે છે. | K7: ભાષા સજ્જતા અને વ્યાકરણના વિવિધ ઘટકોને નામ ઓળખાવ્યા વિના ઓળખતો-સમજતો થાય. | L7: પરિચિત શબ્દ અને એના સમાનાર્થી અને વિરુદ્ધાર્થી શોધી તેમનો વાતચીતમાં ઉપયોગ કરી શકે છે. | M7: શબ્દનુ રૂપાંતર કરી નવા શબ્દો બનાવી તેના ઉપયોગ કરી વાક્ય રચના કરી શકે છે. | N7: ભાષા સજ્જતા અને વ્યાકરણના વિવિધ ઘટકોને નામ ઓળખાવ્યા વિના ઓળખતો-સમજતો થાય. | O7: શબ્દનુ રૂપાંતર કરી નવા શબ્દો બનાવી તેના અર્થ સમજી શકે છે. | P7: શબ્દો અને વાતચીતમાં જરૂરી સાંકેતોનો ઉપયોગ યોગ્ય રીતે કરે છે. | Q7: પ્રકીર્ણ, છૂટાછવાયા લખાણમાંથી લેખન અર્થગ્રહણ કરે છે. | R7: માહીતીલક્ષી લખાણમાંથી વાંચન-અથથગ્રહણ કરે છે. | S7: લેખનની જુદી જુદી રૂઢિ પ્રમાણે લેખિત અભિવ્યક્તિ કરી શકે છે. | T7: સમાનાથી અને વિરુદ્ધાર્થી શબ્દોનોવાતચીતમાં ઉપયોગ કરી શકે છે. | U7: ભાષા સજ્જતા અને વ્યાકરણના વિવિધ ઘટકોને નામ ઓળખાવ્યા વિના ઓળખતો-સમજતો થાય. | V7: શબ્દનુ રૂપાંતર કરી નવા શબ્દો બનાવી તેના વાક્ય પ્રયોગ કરી શકે છે. | W7: સત્રાંતે મેળવેલ નિશાનીઓની સંખ્યા | Z7: 40 માંથી મેળવેલ ગુણ
C8: 1 | D8: 2 | E8: 3 | F8: 4 | G8: 5 | H8: 6 | I8: 7 | J8: 8 | K8: 9 | L8: 10 | M8: 11 | N8: 12 | O8: 13 | P8: 14 | Q8: 15 | R8: 16 | S8: 17 | T8: 18 | U8: 19 | V8: 20 | W8: √ | X8: ? | Y8: ×
A9: =Student!A3 -> 1 | B9: =IF(Student!B3="","",Student!B3) | W9: =IF(C9="","",COUNTIF(C9:V9,$W$8)) | X9: =IF(C9="","",COUNTIF(C9:V9,$X$8)) | Y9: =IF(C9="","",COUNTIF(C9:V9,$Y$8)) | Z9: =IF(W9="","",W9*2)
A10: =Student!A4 -> 2 | B10: =IF(Student!B4="","",Student!B4) | W10: =IF(C10="","",COUNTIF(C10:V10,$W$8)) | X10: =IF(C10="","",COUNTIF(C10:V10,$X$8)) | Y10: =IF(C10="","",COUNTIF(C10:V10,$Y$8)) | Z10: =IF(W10="","",W10*2)
A11: =Student!A5 -> 3 | B11: =IF(Student!B5="","",Student!B5) | W11: =IF(C11="","",COUNTIF(C11:V11,$W$8)) | X11: =IF(C11="","",COUNTIF(C11:V11,$X$8)) | Y11: =IF(C11="","",COUNTIF(C11:V11,$Y$8)) | Z11: =IF(W11="","",W11*2)
A12: =Student!A6 -> 4 | B12: =IF(Student!B6="","",Student!B6) | W12: =IF(C12="","",COUNTIF(C12:V12,$W$8)) | X12: =IF(C12="","",COUNTIF(C12:V12,$X$8)) | Y12: =IF(C12="","",COUNTIF(C12:V12,$Y$8)) | Z12: =IF(W12="","",W12*2)
A13: =Student!A7 -> 5 | B13: =IF(Student!B7="","",Student!B7) | W13: =IF(C13="","",COUNTIF(C13:V13,$W$8)) | X13: =IF(C13="","",COUNTIF(C13:V13,$X$8)) | Y13: =IF(C13="","",COUNTIF(C13:V13,$Y$8)) | Z13: =IF(W13="","",W13*2)
A14: =Student!A8 -> 6 | B14: =IF(Student!B8="","",Student!B8) | W14: =IF(C14="","",COUNTIF(C14:V14,$W$8)) | X14: =IF(C14="","",COUNTIF(C14:V14,$X$8)) | Y14: =IF(C14="","",COUNTIF(C14:V14,$Y$8)) | Z14: =IF(W14="","",W14*2)
A15: =Student!A9 -> 7 | B15: =IF(Student!B9="","",Student!B9) | W15: =IF(C15="","",COUNTIF(C15:V15,$W$8)) | X15: =IF(C15="","",COUNTIF(C15:V15,$X$8)) | Y15: =IF(C15="","",COUNTIF(C15:V15,$Y$8)) | Z15: =IF(W15="","",W15*2)
A16: =Student!A10 -> 8 | B16: =IF(Student!B10="","",Student!B10) | W16: =IF(C16="","",COUNTIF(C16:V16,$W$8)) | X16: =IF(C16="","",COUNTIF(C16:V16,$X$8)) | Y16: =IF(C16="","",COUNTIF(C16:V16,$Y$8)) | Z16: =IF(W16="","",W16*2)
A17: =Student!A11 -> 9 | B17: =IF(Student!B11="","",Student!B11) | W17: =IF(C17="","",COUNTIF(C17:V17,$W$8)) | X17: =IF(C17="","",COUNTIF(C17:V17,$X$8)) | Y17: =IF(C17="","",COUNTIF(C17:V17,$Y$8)) | Z17: =IF(W17="","",W17*2)
A18: =Student!A12 -> 10 | B18: =IF(Student!B12="","",Student!B12) | W18: =IF(C18="","",COUNTIF(C18:V18,$W$8)) | X18: =IF(C18="","",COUNTIF(C18:V18,$X$8)) | Y18: =IF(C18="","",COUNTIF(C18:V18,$Y$8)) | Z18: =IF(W18="","",W18*2)
A19: =Student!A13 -> 11 | B19: =IF(Student!B13="","",Student!B13) | W19: =IF(C19="","",COUNTIF(C19:V19,$W$8)) | X19: =IF(C19="","",COUNTIF(C19:V19,$X$8)) | Y19: =IF(C19="","",COUNTIF(C19:V19,$Y$8)) | Z19: =IF(W19="","",W19*2)
A20: =Student!A14 -> 12 | B20: =IF(Student!B14="","",Student!B14) | W20: =IF(C20="","",COUNTIF(C20:V20,$W$8)) | X20: =IF(C20="","",COUNTIF(C20:V20,$X$8)) | Y20: =IF(C20="","",COUNTIF(C20:V20,$Y$8)) | Z20: =IF(W20="","",W20*2)
... A99: =Student!A93 | B99: =IF(Student!B93="","",Student!B93) | W99: =IF(C99="","",COUNTIF(C99:V99,$W$8)) | X99: =IF(C99="","",COUNTIF(C99:V99,$X$8)) | Y99: =IF(C99="","",COUNTIF(C99:V99,$Y$8)) | Z99: =IF(W99="","",W99*2)
A100: =Student!A94 | B100: =IF(Student!B94="","",Student!B94) | X100: =IF(C100="","",COUNTIF(C100:V100,$X$8)) | Y100: =IF(C100="","",COUNTIF(C100:V100,$Y$8)) | Z100: =IF(W100="","",W100*2)
A101: =Student!A95 | B101: =IF(Student!B95="","",Student!B95) | X101: =IF(C101="","",COUNTIF(C101:V101,$X$8)) | Y101: =IF(C101="","",COUNTIF(C101:V101,$Y$8)) | Z101: =IF(W101="","",W101*2)
A102: =Student!A96 | B102: =IF(Student!B96="","",Student!B96) | X102: =IF(C102="","",COUNTIF(C102:V102,$X$8)) | Y102: =IF(C102="","",COUNTIF(C102:V102,$Y$8)) | Z102: =IF(W102="","",W102*2)
A103: =Student!A97 | B103: =IF(Student!B97="","",Student!B97) | X103: =IF(C103="","",COUNTIF(C103:V103,$X$8)) | Y103: =IF(C103="","",COUNTIF(C103:V103,$Y$8)) | Z103: =IF(W103="","",W103*2)
A104: =Student!A98 | B104: =IF(Student!B98="","",Student!B98) | W104: =IF(C104="","",COUNTIF(C104:V104,$W$8)) | X104: =IF(C104="","",COUNTIF(C104:V104,$X$8)) | Y104: =IF(C104="","",COUNTIF(C104:V104,$Y$8)) | Z104: =IF(W104="","",W104*2)
A105: =Student!A99 | B105: =IF(Student!B99="","",Student!B99) | W105: =IF(C105="","",COUNTIF(C105:V105,$W$8)) | X105: =IF(C105="","",COUNTIF(C105:V105,$X$8)) | Y105: =IF(C105="","",COUNTIF(C105:V105,$Y$8)) | Z105: =IF(W105="","",W105*2)
A106: =Student!A100 | B106: =IF(Student!B100="","",Student!B100) | W106: =IF(C106="","",COUNTIF(C106:V106,$W$8)) | X106: =IF(C106="","",COUNTIF(C106:V106,$X$8)) | Y106: =IF(C106="","",COUNTIF(C106:V106,$Y$8)) | Z106: =IF(W106="","",W106*2)
A107: =Student!A101 | B107: =IF(Student!B101="","",Student!B101) | W107: =IF(C107="","",COUNTIF(C107:V107,$W$8)) | X107: =IF(C107="","",COUNTIF(C107:V107,$X$8)) | Y107: =IF(C107="","",COUNTIF(C107:V107,$Y$8)) | Z107: =IF(W107="","",W107*2)
A108: =Student!A102 | B108: =IF(Student!B102="","",Student!B102) | W108: =IF(C108="","",COUNTIF(C108:V108,$W$8)) | X108: =IF(C108="","",COUNTIF(C108:V108,$X$8)) | Y108: =IF(C108="","",COUNTIF(C108:V108,$Y$8)) | Z108: =IF(W108="","",W108*2)
B111: વિષય શિક્ષકની સહી | R111: આચાર્યની સહી/સિક્કા

Sheet 3 Maths
A1: પરિશિષ્ટ - A
A2: રચનાત્મક મૂલ્યાંકન
B3: ધોરણ અને વર્ગ :- | C3: =School!B8 -> 3 | G3: વિષય :- | I3: ગણિત | N3: સત્ર :- | P3: પ્રથમ | T3: વર્ષ :- | V3: =School!B9 -> 2025-'26
C5: અભ્યાસક્રમ પ્રમાણે પ્રતિનિધિત્વરૂપ હેતુઓ (મહત્તમ :- ૨૦)
C6: ક્યાંથી જોવું | E6: સંખ્યાની ગમત | H6: આપો અને લો | K6: લાંબુ અને ટૂંકુ | N6: આકાર અને ભાત | R6: આપ લે ની રમત | U6: સમય વહી જાય છે
A7: ક્રમ | B7: વિદ્યાર્થીનું નામ | C7: દ્રિપરીમાણીય (2D) આકારોની સમજ ધરાવે છે. | D7: સીધી રેખાનો ઉપયોગ કરીને ત્રુટક રેખા પરથી કાગળને કાપીને, કાગળને ગડી પાડીને વગેરે દ્રિપરીમાણીય (2D) આકારો બનાવે છે. | E7: ત્રણ અંકની સંખ્યા સાથે કામ કરે છે. | F7: સ્થાન દ્રકંમતનો ઉપયોગ કરીને ૯૯૯ સુધીની સંખ્યાઓ વાંચે છે અને લખે છે. | G7: પોતાની આસપાસની વસ્તુઓના મોટા જથ્થાની ગણતરી ૧, ૧૦, ૧૦૦ માં કરે છે. | H7: ૯૯૯ થી વધે નદ્રિ તેવા વદ્દી વગરના તથા વદ્દીવાળા સરવાળા કરે છે. | I7: જૂથ પાડીને સરવાળા - બાદબાકી કરે છે. | J7: સરવાળા આધારિત વ્યવહારુ કોયડાઓ ઉકેલે છે. | K7: સેમી અને મીટર જેવા એકમોનો ઉપયોગ કરીને લંબાઈ અને અંતરનો અંદાજ લગાવે છે. | L7: પ્રમાણમાપ એકમોનો ઉપયોગ કરીને બાળકો પોતાની આજુબાજુની વસ્તુઓને જુદી જુદી રીતે માપે અને માપન કરે. | M7: લંબાઈ માપનના સાધનોની મદદથી વસ્તુની લંબાઈ માપે. | N7: દ્વિપરીમાણીય (2D) આકારોની સમજ ધરાવે છે. | O7: કાગળની ગડી કરી દ્વિપરીમાણીય આકારો બનાવે છે. | P7: ધાર, ખુણાઓ અને વિકર્ણની સંખ્યાના આધારે દ્રિપરીમાણીય આકારોનું વણણન કરે છે. | Q7: આપેલ વિસ્તારમાં જગ્યા છોડ્યા વગર આપેલ આકારની લાદી ગોઠવે. | R7: ત્રણ અંકની સંખ્યા સાથે કામ કરે છે. | S7: સરવાળો કે બાદબાકીની ક્રિયાનો ઉપયોગ કરી રોજીંદા જીવનના કોયડાઓ ઉકેલે છે. | T7: આપેલ પરિસ્થિતિનું વિશ્લેષણ કરી તેના માટે યોગ્ય અંક ક્રિયાનો ઉપયોગ કરે છે. | U7: કેલેન્ડર પર ચોક્કસ દ્રદવસ અને તારીખ બતાવે છે. | V7: ઘદ્રડયાળનો ઉપયોગ કરી ચોક્કસ સમય કલાકમાં જણાવે | W7: સત્રાંતે મેળવેલ નિશાનીઓની સંખ્યા | Z7: 40 માંથી મેળવેલ ગુણ
C8: 1 | D8: 2 | E8: 3 | F8: 4 | G8: 5 | H8: 6 | I8: 7 | J8: 8 | K8: 9 | L8: 10 | M8: 11 | N8: 12 | O8: 13 | P8: 14 | Q8: 15 | R8: 16 | S8: 17 | T8: 18 | U8: 19 | V8: 20 | W8: √ | X8: ? | Y8: ×
A9: ='3 Guj'!A9 -> 1 | B9: =IF(Student!B3="","",Student!B3) | W9: =IF(C9="","",COUNTIF(C9:V9,$W$8)) | X9: =IF(C9="","",COUNTIF(C9:V9,$X$8)) | Y9: =IF(C9="","",COUNTIF(C9:V9,$Y$8)) | Z9: =IF(W9="","",W9*2)
A10: ='3 Guj'!A10 -> 2 | B10: =IF(Student!B4="","",Student!B4) | W10: =IF(C10="","",COUNTIF(C10:V10,$W$8)) | X10: =IF(C10="","",COUNTIF(C10:V10,$X$8)) | Y10: =IF(C10="","",COUNTIF(C10:V10,$Y$8)) | Z10: =IF(W10="","",W10*2)
A11: ='3 Guj'!A11 -> 3 | B11: =IF(Student!B5="","",Student!B5) | W11: =IF(C11="","",COUNTIF(C11:V11,$W$8)) | X11: =IF(C11="","",COUNTIF(C11:V11,$X$8)) | Y11: =IF(C11="","",COUNTIF(C11:V11,$Y$8)) | Z11: =IF(W11="","",W11*2)
A12: ='3 Guj'!A12 -> 4 | B12: =IF(Student!B6="","",Student!B6) | W12: =IF(C12="","",COUNTIF(C12:V12,$W$8)) | X12: =IF(C12="","",COUNTIF(C12:V12,$X$8)) | Y12: =IF(C12="","",COUNTIF(C12:V12,$Y$8)) | Z12: =IF(W12="","",W12*2)
A13: ='3 Guj'!A13 -> 5 | B13: =IF(Student!B7="","",Student!B7) | W13: =IF(C13="","",COUNTIF(C13:V13,$W$8)) | X13: =IF(C13="","",COUNTIF(C13:V13,$X$8)) | Y13: =IF(C13="","",COUNTIF(C13:V13,$Y$8)) | Z13: =IF(W13="","",W13*2)
A14: ='3 Guj'!A14 -> 6 | B14: =IF(Student!B8="","",Student!B8) | W14: =IF(C14="","",COUNTIF(C14:V14,$W$8)) | X14: =IF(C14="","",COUNTIF(C14:V14,$X$8)) | Y14: =IF(C14="","",COUNTIF(C14:V14,$Y$8)) | Z14: =IF(W14="","",W14*2)
A15: ='3 Guj'!A15 -> 7 | B15: =IF(Student!B9="","",Student!B9) | W15: =IF(C15="","",COUNTIF(C15:V15,$W$8)) | X15: =IF(C15="","",COUNTIF(C15:V15,$X$8)) | Y15: =IF(C15="","",COUNTIF(C15:V15,$Y$8)) | Z15: =IF(W15="","",W15*2)
A16: ='3 Guj'!A16 -> 8 | B16: =IF(Student!B10="","",Student!B10) | W16: =IF(C16="","",COUNTIF(C16:V16,$W$8)) | X16: =IF(C16="","",COUNTIF(C16:V16,$X$8)) | Y16: =IF(C16="","",COUNTIF(C16:V16,$Y$8)) | Z16: =IF(W16="","",W16*2)
A17: ='3 Guj'!A17 -> 9 | B17: =IF(Student!B11="","",Student!B11) | W17: =IF(C17="","",COUNTIF(C17:V17,$W$8)) | X17: =IF(C17="","",COUNTIF(C17:V17,$X$8)) | Y17: =IF(C17="","",COUNTIF(C17:V17,$Y$8)) | Z17: =IF(W17="","",W17*2)
A18: ='3 Guj'!A18 -> 10 | B18: =IF(Student!B12="","",Student!B12) | W18: =IF(C18="","",COUNTIF(C18:V18,$W$8)) | X18: =IF(C18="","",COUNTIF(C18:V18,$X$8)) | Y18: =IF(C18="","",COUNTIF(C18:V18,$Y$8)) | Z18: =IF(W18="","",W18*2)
A19: ='3 Guj'!A19 -> 11 | B19: =IF(Student!B13="","",Student!B13) | W19: =IF(C19="","",COUNTIF(C19:V19,$W$8)) | X19: =IF(C19="","",COUNTIF(C19:V19,$X$8)) | Y19: =IF(C19="","",COUNTIF(C19:V19,$Y$8)) | Z19: =IF(W19="","",W19*2)
A20: ='3 Guj'!A20 -> 12 | B20: =IF(Student!B14="","",Student!B14) | W20: =IF(C20="","",COUNTIF(C20:V20,$W$8)) | X20: =IF(C20="","",COUNTIF(C20:V20,$X$8)) | Y20: =IF(C20="","",COUNTIF(C20:V20,$Y$8)) | Z20: =IF(W20="","",W20*2)
... A99: ='3 Guj'!A99 | B99: =IF(Student!B93="","",Student!B93) | W99: =IF(C99="","",COUNTIF(C99:V99,$W$8)) | X99: =IF(C99="","",COUNTIF(C99:V99,$X$8)) | Y99: =IF(C99="","",COUNTIF(C99:V99,$Y$8)) | Z99: =IF(W99="","",W99*2)
A100: ='3 Guj'!A100 | B100: =IF(Student!B94="","",Student!B94) | X100: =IF(C100="","",COUNTIF(C100:V100,$X$8)) | Y100: =IF(C100="","",COUNTIF(C100:V100,$Y$8)) | Z100: =IF(W100="","",W100*2)
A101: ='3 Guj'!A101 | B101: =IF(Student!B95="","",Student!B95) | X101: =IF(C101="","",COUNTIF(C101:V101,$X$8)) | Y101: =IF(C101="","",COUNTIF(C101:V101,$Y$8)) | Z101: =IF(W101="","",W101*2)
A102: ='3 Guj'!A102 | B102: =IF(Student!B96="","",Student!B96) | X102: =IF(C102="","",COUNTIF(C102:V102,$X$8)) | Y102: =IF(C102="","",COUNTIF(C102:V102,$Y$8)) | Z102: =IF(W102="","",W102*2)
A103: ='3 Guj'!A103 | B103: =IF(Student!B97="","",Student!B97) | X103: =IF(C103="","",COUNTIF(C103:V103,$X$8)) | Y103: =IF(C103="","",COUNTIF(C103:V103,$Y$8)) | Z103: =IF(W103="","",W103*2)
A104: ='3 Guj'!A104 | B104: =IF(Student!B98="","",Student!B98) | W104: =IF(C104="","",COUNTIF(C104:V104,$W$8)) | X104: =IF(C104="","",COUNTIF(C104:V104,$X$8)) | Y104: =IF(C104="","",COUNTIF(C104:V104,$Y$8)) | Z104: =IF(W104="","",W104*2)
A105: ='3 Guj'!A105 | B105: =IF(Student!B99="","",Student!B99) | W105: =IF(C105="","",COUNTIF(C105:V105,$W$8)) | X105: =IF(C105="","",COUNTIF(C105:V105,$X$8)) | Y105: =IF(C105="","",COUNTIF(C105:V105,$Y$8)) | Z105: =IF(W105="","",W105*2)
A106: ='3 Guj'!A106 | B106: =IF(Student!B100="","",Student!B100) | W106: =IF(C106="","",COUNTIF(C106:V106,$W$8)) | X106: =IF(C106="","",COUNTIF(C106:V106,$X$8)) | Y106: =IF(C106="","",COUNTIF(C106:V106,$Y$8)) | Z106: =IF(W106="","",W106*2)
A107: ='3 Guj'!A107 | B107: =IF(Student!B101="","",Student!B101) | W107: =IF(C107="","",COUNTIF(C107:V107,$W$8)) | X107: =IF(C107="","",COUNTIF(C107:V107,$X$8)) | Y107: =IF(C107="","",COUNTIF(C107:V107,$Y$8)) | Z107: =IF(W107="","",W107*2)
A108: ='3 Guj'!A108 | B108: =IF(Student!B102="","",Student!B102) | W108: =IF(C108="","",COUNTIF(C108:V108,$W$8)) | X108: =IF(C108="","",COUNTIF(C108:V108,$X$8)) | Y108: =IF(C108="","",COUNTIF(C108:V108,$Y$8)) | Z108: =IF(W108="","",W108*2)
B112: વિષય શિક્ષકની સહી | R112: આચાર્યની સહી/સિક્કા

Sheet 3 EVS
A1: પરિશિષ્ટ - A
A2: રચનાત્મક મૂલ્યાંકન
B3: ધોરણ અને વર્ગ :- | C3: =School!B8 -> 3 | G3: વિષય :- | I3: પર્યાવરણ | N3: સત્ર :- | P3: પ્રથમ | T3: વર્ષ :- | V3: =School!B9 -> 2025-'26
C5: અભ્યાસક્રમ પ્રમાણે પ્રતિનિધિત્વરૂપ હેતુઓ (મહત્તમ :- ૨૦)
C6: પૂનમે શું જોયું | E6: વનપરી | G6: પાણી જ પાણી | H6: છોટુ નું ઘર | I6: ઘર એક શાળા | J6: ખાધા વિના ન ચાલે | L6: અનોખો સંવાદ | M6: ફરરર | N6: આવ રે વરસાદ | P6: રસોડા ની વાત | R6: આપણા વાહનો | S6: આપણા કામ | U6: આપણી લાગણીઓ ની ભાગીદારી
A7: ક્રમ | B7: વિદ્યાર્થીનું નામ | C7: આસપાસના વાતાવરણમાં જોવા મળતા પ્રાણીઓ અને જીવજુંતુના સામાન્ય લક્ષણો. હલન-ચલન | D7: રહેઠાણ, ખોરાક લેવાની ટેવો, ખોરાક કેવો લેવો તેમજ પક્ષીઓના અવાજ ઓળખી શકશે | E7: સાદા અવલોકનો સમજી શકશે જેવા કે આકાર રંગ રચના આધારે આસપાસના વૃક્ષોનાં પાંદડા ડાળીઓને ઓળખી શકશે | F7: વનસ્પતીની ઉપયોગીતા સમજી તેના પ્રત્યે સભાનતા કેળવે | G7: જુદાજુદા વયજૂથના વ્યક્તિઓ જીવ-જુંતુઓ, વૃક્ષો, છોડ માટે પાણીની ઉપલબ્ધી તથા અન્ય રીતે પાણીના ઉપયોગોનું વર્ણન કરી શકશે | H7: આસપાસની વસ્તુઓ ઘર અને તેના ભાગ તેમજ સ્વચ્છતા વગેરેની જરૂરિયાત વિશે જાણી શકશે | I7: વિદ્યાથીઓ પરિવારના સભ્યોની ભૂમિકા, પ્રભાવ, કાર્યો, સંસ્કાર, વ્યવહાર અને સાથે રહેવાની જરૂરિયાતોનુ વર્ણન કરી શકશે | J7: જુદી જુદી વયજૂથની વ્યક્તિઓના આહાર, ખોરાક વિશે બાબતો અને ઉપલબ્ધિઓ વિશે જાણ છે | K7: ખોરાક માટેની ચીજો ક્યાંથી મળશે તે વિશે જાણકારી પ્રાપ્ત કરશે | L7: જરૂરિયાતવાળા લોકોની જરૂરિયાતને સમજી શકશે તેમને ઓળખીને મદદરૂપ થવાની ભાવના વિવિધ પરિસ્થિતિમાં ચહેરાના હાવભાવની ઓળખ મેળવી શકશે | M7: સમાનતાઓ અસમાનતાઓ જેમ કે રહેઠાણ ભોજન આવનજાવન પ્રસન્ન આ પ્રશ્નોના અનુસાર વસ્તુઓ જીવ-જુંતુઓના જુદા જુદા અંગો ના ઉપયોગ દ્વારા ઓળખીને તેનો બનાવે છે | N7: પાણીની જરૂરરયાત તેમજ તેના બચાવનુ મહ્તત્વ સમજે છે. | O7: વરસાદ થી થતા ફાયદા નુકસાન વરસાદ સમયના વગેરે બાબતો તવષે વણણન કરી શકશે | P7: વિદ્યાથીઓ તેમના રહેઠાણ તેમજ શાળાના રસોડામાં બનતી વાનગીઓ જાણે છે. | Q7: રસોઈ બનાવવાની પ્રરિયા રસોઈ બનાવવાની રીતો તવશે જાણ છે. | R7: વિદ્યાથીઓ આવાગમનનાના સાધનો તથા અન્ય સાધનો જેવા કે પોલીસ ફાયર બ્રિગેડમાં વિશેની માહિતી મેળવવી અને કહી શકશે | S7: વિદ્યાથીઓ જાહેર સ્થળો સુંસ્થાઓનો કાયણક્ષેત્ર જાણશે | T7: ગામના વ્યવસાયકારો અને કારીગરો થી પરિચિત થશે અને કુટુંબની સમૂહ ભાવના કાર્યો ,કાર્યરીતો થી માહિતગાર થશે | U7: વિશેષ જરૂરિયાતવાળા કે પ્રજ્ઞાચક્ષુ લોકોની જરૂરિયાતને સમજી શકશે | V7: બધાને મદદરૂપ થવાની ભાવના કેળવે છે તેમની લાગણીઓને સમજી શકશે. | W7: સત્રાંતે મેળવેલ નિશાનીઓની સંખ્યા | Z7: 40 માંથી મેળવેલ ગુણ
C8: 1 | D8: 2 | E8: 3 | F8: 4 | G8: 5 | H8: 6 | I8: 7 | J8: 8 | K8: 9 | L8: 10 | M8: 11 | N8: 12 | O8: 13 | P8: 14 | Q8: 15 | R8: 16 | S8: 17 | T8: 18 | U8: 19 | V8: 20 | W8: √ | X8: ? | Y8: ×
A9: =Student!A3 -> 1 | B9: =IF(Student!B3="","",Student!B3) | W9: =IF(C9="","",COUNTIF(C9:V9,$W$8)) | X9: =IF(C9="","",COUNTIF(C9:V9,$X$8)) | Y9: =IF(C9="","",COUNTIF(C9:V9,$Y$8)) | Z9: =IF(W9="","",W9*2)
A10: =Student!A4 -> 2 | B10: =IF(Student!B4="","",Student!B4) | W10: =IF(C10="","",COUNTIF(C10:V10,$W$8)) | X10: =IF(C10="","",COUNTIF(C10:V10,$X$8)) | Y10: =IF(C10="","",COUNTIF(C10:V10,$Y$8)) | Z10: =IF(W10="","",W10*2)
A11: =Student!A5 -> 3 | B11: =IF(Student!B5="","",Student!B5) | W11: =IF(C11="","",COUNTIF(C11:V11,$W$8)) | X11: =IF(C11="","",COUNTIF(C11:V11,$X$8)) | Y11: =IF(C11="","",COUNTIF(C11:V11,$Y$8)) | Z11: =IF(W11="","",W11*2)
A12: =Student!A6 -> 4 | B12: =IF(Student!B6="","",Student!B6) | W12: =IF(C12="","",COUNTIF(C12:V12,$W$8)) | X12: =IF(C12="","",COUNTIF(C12:V12,$X$8)) | Y12: =IF(C12="","",COUNTIF(C12:V12,$Y$8)) | Z12: =IF(W12="","",W12*2)
A13: =Student!A7 -> 5 | B13: =IF(Student!B7="","",Student!B7) | W13: =IF(C13="","",COUNTIF(C13:V13,$W$8)) | X13: =IF(C13="","",COUNTIF(C13:V13,$X$8)) | Y13: =IF(C13="","",COUNTIF(C13:V13,$Y$8)) | Z13: =IF(W13="","",W13*2)
A14: =Student!A8 -> 6 | B14: =IF(Student!B8="","",Student!B8) | W14: =IF(C14="","",COUNTIF(C14:V14,$W$8)) | X14: =IF(C14="","",COUNTIF(C14:V14,$X$8)) | Y14: =IF(C14="","",COUNTIF(C14:V14,$Y$8)) | Z14: =IF(W14="","",W14*2)
A15: =Student!A9 -> 7 | B15: =IF(Student!B9="","",Student!B9) | W15: =IF(C15="","",COUNTIF(C15:V15,$W$8)) | X15: =IF(C15="","",COUNTIF(C15:V15,$X$8)) | Y15: =IF(C15="","",COUNTIF(C15:V15,$Y$8)) | Z15: =IF(W15="","",W15*2)
A16: =Student!A10 -> 8 | B16: =IF(Student!B10="","",Student!B10) | W16: =IF(C16="","",COUNTIF(C16:V16,$W$8)) | X16: =IF(C16="","",COUNTIF(C16:V16,$X$8)) | Y16: =IF(C16="","",COUNTIF(C16:V16,$Y$8)) | Z16: =IF(W16="","",W16*2)
A17: =Student!A11 -> 9 | B17: =IF(Student!B11="","",Student!B11) | W17: =IF(C17="","",COUNTIF(C17:V17,$W$8)) | X17: =IF(C17="","",COUNTIF(C17:V17,$X$8)) | Y17: =IF(C17="","",COUNTIF(C17:V17,$Y$8)) | Z17: =IF(W17="","",W17*2)
A18: =Student!A12 -> 10 | B18: =IF(Student!B12="","",Student!B12) | W18: =IF(C18="","",COUNTIF(C18:V18,$W$8)) | X18: =IF(C18="","",COUNTIF(C18:V18,$X$8)) | Y18: =IF(C18="","",COUNTIF(C18:V18,$Y$8)) | Z18: =IF(W18="","",W18*2)
A19: =Student!A13 -> 11 | B19: =IF(Student!B13="","",Student!B13) | W19: =IF(C19="","",COUNTIF(C19:V19,$W$8)) | X19: =IF(C19="","",COUNTIF(C19:V19,$X$8)) | Y19: =IF(C19="","",COUNTIF(C19:V19,$Y$8)) | Z19: =IF(W19="","",W19*2)
A20: =Student!A14 -> 12 | B20: =IF(Student!B14="","",Student!B14) | W20: =IF(C20="","",COUNTIF(C20:V20,$W$8)) | X20: =IF(C20="","",COUNTIF(C20:V20,$X$8)) | Y20: =IF(C20="","",COUNTIF(C20:V20,$Y$8)) | Z20: =IF(W20="","",W20*2)
... A99: =Student!A93 | B99: =IF(Student!B93="","",Student!B93) | W99: =IF(C99="","",COUNTIF(C99:V99,$W$8)) | X99: =IF(C99="","",COUNTIF(C99:V99,$X$8)) | Y99: =IF(C99="","",COUNTIF(C99:V99,$Y$8)) | Z99: =IF(W99="","",W99*2)
A100: =Student!A94 | B100: =IF(Student!B94="","",Student!B94) | X100: =IF(C100="","",COUNTIF(C100:V100,$X$8)) | Y100: =IF(C100="","",COUNTIF(C100:V100,$Y$8)) | Z100: =IF(W100="","",W100*2)
A101: =Student!A95 | B101: =IF(Student!B95="","",Student!B95) | X101: =IF(C101="","",COUNTIF(C101:V101,$X$8)) | Y101: =IF(C101="","",COUNTIF(C101:V101,$Y$8)) | Z101: =IF(W101="","",W101*2)
A102: =Student!A96 | B102: =IF(Student!B96="","",Student!B96) | X102: =IF(C102="","",COUNTIF(C102:V102,$X$8)) | Y102: =IF(C102="","",COUNTIF(C102:V102,$Y$8)) | Z102: =IF(W102="","",W102*2)
A103: =Student!A97 | B103: =IF(Student!B97="","",Student!B97) | X103: =IF(C103="","",COUNTIF(C103:V103,$X$8)) | Y103: =IF(C103="","",COUNTIF(C103:V103,$Y$8)) | Z103: =IF(W103="","",W103*2)
A104: =Student!A98 | B104: =IF(Student!B98="","",Student!B98) | W104: =IF(C104="","",COUNTIF(C104:V104,$W$8)) | X104: =IF(C104="","",COUNTIF(C104:V104,$X$8)) | Y104: =IF(C104="","",COUNTIF(C104:V104,$Y$8)) | Z104: =IF(W104="","",W104*2)
A105: =Student!A99 | B105: =IF(Student!B99="","",Student!B99) | W105: =IF(C105="","",COUNTIF(C105:V105,$W$8)) | X105: =IF(C105="","",COUNTIF(C105:V105,$X$8)) | Y105: =IF(C105="","",COUNTIF(C105:V105,$Y$8)) | Z105: =IF(W105="","",W105*2)
A106: =Student!A100 | B106: =IF(Student!B100="","",Student!B100) | W106: =IF(C106="","",COUNTIF(C106:V106,$W$8)) | X106: =IF(C106="","",COUNTIF(C106:V106,$X$8)) | Y106: =IF(C106="","",COUNTIF(C106:V106,$Y$8)) | Z106: =IF(W106="","",W106*2)
A107: =Student!A101 | B107: =IF(Student!B101="","",Student!B101) | W107: =IF(C107="","",COUNTIF(C107:V107,$W$8)) | X107: =IF(C107="","",COUNTIF(C107:V107,$X$8)) | Y107: =IF(C107="","",COUNTIF(C107:V107,$Y$8)) | Z107: =IF(W107="","",W107*2)
A108: =Student!A102 | B108: =IF(Student!B102="","",Student!B102) | W108: =IF(C108="","",COUNTIF(C108:V108,$W$8)) | X108: =IF(C108="","",COUNTIF(C108:V108,$X$8)) | Y108: =IF(C108="","",COUNTIF(C108:V108,$Y$8)) | Z108: =IF(W108="","",W108*2)
B112: વિષય શિક્ષકની સહી | R112: આચાર્યની સહી/સિક્કા

Sheet 3 Eng
A1: પરિશિષ્ટ - A
A2: રચનાત્મક મૂલ્યાંકન
B3: ધોરણ અને વર્ગ :- | C3: =School!B8 -> 3 | G3: વિષય :- | I3: અંગ્રેજી | N3: સત્ર :- | P3: પ્રથમ | T3: વર્ષ :- | V3: =School!B9 -> 2025-'26
C5: અભ્યાસક્રમ પ્રમાણે પ્રતિનિધિત્વરૂપ હેતુઓ (મહત્તમ :- ૨૦)
C6: 1. Colours All Arounds | H6: 2. Beautiful Birds | M6: 3. Rainbow | R6: 4. Lion or Donkey ?
A7: ક્રમ | B7: વિદ્યાર્થીનું નામ | C7: Standup, Sit down, Jump, Clap જેવી સાદી સૂચનાઓને અનુસરે છે અને તે મુજબ ક્રિયા કરે છે. | D7: Rhymes', 'Action Songs', 'Poems', 'Prayers' સામૂહિક રીતે અભિનય સાથે ગાય છે. | E7: જુદા જુદા રંગોને ઓળખી શકે છે અને તેને ઉચ્ચારી શકે છે. | F7: 51 થી 100 સુધીના અંગ્રેજી અંકો વાંચે છે લખે છે તેમ જ વ્યવહારમાં ઉપયોગ કરે છે. | G7: સાદા શબ્દો તેમજ વાક્યોનું સુંદર અક્ષરે અનુલેખન કરે છે. | H7: આપેલ કાવ્ય (Rhymes)ને અભિનય સાથે વ્યક્તિગત કે સામુહિક રીતે ગાન કરી શકે છે. | I7: આપેલ શબ્દો માંથી અલગ પડતો શબ્દ શોધી શકે છે. | J7: This, That નો ઉપયોગ કરી વસ્તુઓનું સ્થાન દર્શાવે છે. | K7: વાર્તા કે કાવ્ય સાંભળીને સમજે તથા પ્રતિભાવ આપી શકે છે. | L7: લોન વર્ડ સહિત આશરે 300 જેટલા શબ્દો જાણે. | M7: આસપાસના પર્યાવરણમાં ઉપલબ્ધ વસ્તુઓનો ઉપયોગ કરી અંગ્રેજી શબ્દો ઉચ્ચાર કરી શકે છે. | N7: શબ્દોને ચિત્રો સાથે જોડી શકે છે. | O7: સાદા અંગ્રેજી વાક્યોનું વિરામચિન્હો સહિત અનુલેખન કરે છે. | P7: અંગ્રેજી મૂળાક્ષર વાંચે છે તેમજ ખૂટતા અક્ષર મૂકી શબ્દ પૂર્ણ કરી શકે છે. | Q7: વસ્તુના કદ આકાર રંગ સંખ્યા દર્શાવવા યોગ્ય શબ્દોનો ઉપયોગ કરી શકે છે. (Red, Blue, Big, Small, Two, Three etc.) | R7: Please, Good Night, Sorry, Good Morning, Thank You જેવા શબ્દોનો યોગ્ય રીતે ઉપયોગ કરી શકે છે. | S7: શબ્દકોશ નો સાચો ક્રમ સમજે છે. શબ્દકોશના સાચા ક્રમ પ્રમાણે શબ્દો ગોઠવી શકે છે. | T7: વર્તમાનમાં ચાલુ હોય તેવી ક્રિયાઓનું વર્ણન કરે છે. જેમ કે Today is Sunday. , I am Talking. | U7: ક્રિયા સૂચક શબ્દો નો ઉપયોગ કરી શકે છે. (જેમ કે Play, Walk, Jump, Dance etc.) | V7: How Many', 'How Much' ને લગતા પ્રશ્નોના ટૂંકમાં જવાબ આપી શકે છે. | W7: સત્રાંતે મેળવેલ નિશાનીઓની સંખ્યા | Z7: 40 માંથી મેળવેલ ગુણ
C8: 1 | D8: 2 | E8: 3 | F8: 4 | G8: 5 | H8: 6 | I8: 7 | J8: 8 | K8: 9 | L8: 10 | M8: 11 | N8: 12 | O8: 13 | P8: 14 | Q8: 15 | R8: 16 | S8: 17 | T8: 18 | U8: 19 | V8: 20 | W8: √ | X8: ? | Y8: ×
A9: =Student!A3 -> 1 | B9: =IF(Student!B3="","",Student!B3) | W9: =IF(C9="","",COUNTIF(C9:V9,$W$8)) | X9: =IF(C9="","",COUNTIF(C9:V9,$X$8)) | Y9: =IF(C9="","",COUNTIF(C9:V9,$Y$8)) | Z9: =IF(W9="","",W9*2)
A10: =Student!A4 -> 2 | B10: =IF(Student!B4="","",Student!B4) | W10: =IF(C10="","",COUNTIF(C10:V10,$W$8)) | X10: =IF(C10="","",COUNTIF(C10:V10,$X$8)) | Y10: =IF(C10="","",COUNTIF(C10:V10,$Y$8)) | Z10: =IF(W10="","",W10*2)
A11: =Student!A5 -> 3 | B11: =IF(Student!B5="","",Student!B5) | W11: =IF(C11="","",COUNTIF(C11:V11,$W$8)) | X11: =IF(C11="","",COUNTIF(C11:V11,$X$8)) | Y11: =IF(C11="","",COUNTIF(C11:V11,$Y$8)) | Z11: =IF(W11="","",W11*2)
A12: =Student!A6 -> 4 | B12: =IF(Student!B6="","",Student!B6) | W12: =IF(C12="","",COUNTIF(C12:V12,$W$8)) | X12: =IF(C12="","",COUNTIF(C12:V12,$X$8)) | Y12: =IF(C12="","",COUNTIF(C12:V12,$Y$8)) | Z12: =IF(W12="","",W12*2)
A13: =Student!A7 -> 5 | B13: =IF(Student!B7="","",Student!B7) | W13: =IF(C13="","",COUNTIF(C13:V13,$W$8)) | X13: =IF(C13="","",COUNTIF(C13:V13,$X$8)) | Y13: =IF(C13="","",COUNTIF(C13:V13,$Y$8)) | Z13: =IF(W13="","",W13*2)
A14: =Student!A8 -> 6 | B14: =IF(Student!B8="","",Student!B8) | W14: =IF(C14="","",COUNTIF(C14:V14,$W$8)) | X14: =IF(C14="","",COUNTIF(C14:V14,$X$8)) | Y14: =IF(C14="","",COUNTIF(C14:V14,$Y$8)) | Z14: =IF(W14="","",W14*2)
A15: =Student!A9 -> 7 | B15: =IF(Student!B9="","",Student!B9) | W15: =IF(C15="","",COUNTIF(C15:V15,$W$8)) | X15: =IF(C15="","",COUNTIF(C15:V15,$X$8)) | Y15: =IF(C15="","",COUNTIF(C15:V15,$Y$8)) | Z15: =IF(W15="","",W15*2)
A16: =Student!A10 -> 8 | B16: =IF(Student!B10="","",Student!B10) | W16: =IF(C16="","",COUNTIF(C16:V16,$W$8)) | X16: =IF(C16="","",COUNTIF(C16:V16,$X$8)) | Y16: =IF(C16="","",COUNTIF(C16:V16,$Y$8)) | Z16: =IF(W16="","",W16*2)
A17: =Student!A11 -> 9 | B17: =IF(Student!B11="","",Student!B11) | W17: =IF(C17="","",COUNTIF(C17:V17,$W$8)) | X17: =IF(C17="","",COUNTIF(C17:V17,$X$8)) | Y17: =IF(C17="","",COUNTIF(C17:V17,$Y$8)) | Z17: =IF(W17="","",W17*2)
A18: =Student!A12 -> 10 | B18: =IF(Student!B12="","",Student!B12) | W18: =IF(C18="","",COUNTIF(C18:V18,$W$8)) | X18: =IF(C18="","",COUNTIF(C18:V18,$X$8)) | Y18: =IF(C18="","",COUNTIF(C18:V18,$Y$8)) | Z18: =IF(W18="","",W18*2)
A19: =Student!A13 -> 11 | B19: =IF(Student!B13="","",Student!B13) | W19: =IF(C19="","",COUNTIF(C19:V19,$W$8)) | X19: =IF(C19="","",COUNTIF(C19:V19,$X$8)) | Y19: =IF(C19="","",COUNTIF(C19:V19,$Y$8)) | Z19: =IF(W19="","",W19*2)
A20: =Student!A14 -> 12 | B20: =IF(Student!B14="","",Student!B14) | W20: =IF(C20="","",COUNTIF(C20:V20,$W$8)) | X20: =IF(C20="","",COUNTIF(C20:V20,$X$8)) | Y20: =IF(C20="","",COUNTIF(C20:V20,$Y$8)) | Z20: =IF(W20="","",W20*2)
... A99: =Student!A93 | B99: =IF(Student!B93="","",Student!B93) | W99: =IF(C99="","",COUNTIF(C99:V99,$W$8)) | X99: =IF(C99="","",COUNTIF(C99:V99,$X$8)) | Y99: =IF(C99="","",COUNTIF(C99:V99,$Y$8)) | Z99: =IF(W99="","",W99*2)
A100: =Student!A94 | B100: =IF(Student!B94="","",Student!B94) | X100: =IF(C100="","",COUNTIF(C100:V100,$X$8)) | Y100: =IF(C100="","",COUNTIF(C100:V100,$Y$8)) | Z100: =IF(W100="","",W100*2)
A101: =Student!A95 | B101: =IF(Student!B95="","",Student!B95) | X101: =IF(C101="","",COUNTIF(C101:V101,$X$8)) | Y101: =IF(C101="","",COUNTIF(C101:V101,$Y$8)) | Z101: =IF(W101="","",W101*2)
A102: =Student!A96 | B102: =IF(Student!B96="","",Student!B96) | X102: =IF(C102="","",COUNTIF(C102:V102,$X$8)) | Y102: =IF(C102="","",COUNTIF(C102:V102,$Y$8)) | Z102: =IF(W102="","",W102*2)
A103: =Student!A97 | B103: =IF(Student!B97="","",Student!B97) | X103: =IF(C103="","",COUNTIF(C103:V103,$X$8)) | Y103: =IF(C103="","",COUNTIF(C103:V103,$Y$8)) | Z103: =IF(W103="","",W103*2)
A104: =Student!A98 | B104: =IF(Student!B98="","",Student!B98) | W104: =IF(C104="","",COUNTIF(C104:V104,$W$8)) | X104: =IF(C104="","",COUNTIF(C104:V104,$X$8)) | Y104: =IF(C104="","",COUNTIF(C104:V104,$Y$8)) | Z104: =IF(W104="","",W104*2)
A105: =Student!A99 | B105: =IF(Student!B99="","",Student!B99) | W105: =IF(C105="","",COUNTIF(C105:V105,$W$8)) | X105: =IF(C105="","",COUNTIF(C105:V105,$X$8)) | Y105: =IF(C105="","",COUNTIF(C105:V105,$Y$8)) | Z105: =IF(W105="","",W105*2)
A106: =Student!A100 | B106: =IF(Student!B100="","",Student!B100) | W106: =IF(C106="","",COUNTIF(C106:V106,$W$8)) | X106: =IF(C106="","",COUNTIF(C106:V106,$X$8)) | Y106: =IF(C106="","",COUNTIF(C106:V106,$Y$8)) | Z106: =IF(W106="","",W106*2)
A107: =Student!A101 | B107: =IF(Student!B101="","",Student!B101) | W107: =IF(C107="","",COUNTIF(C107:V107,$W$8)) | X107: =IF(C107="","",COUNTIF(C107:V107,$X$8)) | Y107: =IF(C107="","",COUNTIF(C107:V107,$Y$8)) | Z107: =IF(W107="","",W107*2)
A108: =Student!A102 | B108: =IF(Student!B102="","",Student!B102) | W108: =IF(C108="","",COUNTIF(C108:V108,$W$8)) | X108: =IF(C108="","",COUNTIF(C108:V108,$X$8)) | Y108: =IF(C108="","",COUNTIF(C108:V108,$Y$8)) | Z108: =IF(W108="","",W108*2)
B111: વિષય શિક્ષકની સહી | R111: આચાર્યની સહી/સિક્કા

Sheet 3 Guj (2)
A1: પરિશિષ્ટ - A
A2: રચનાત્મક મૂલ્યાંકન
B3: ધોરણ અને વર્ગ :- | C3: =School!B8 -> 3 | G3: વિષય :- | I3: ગુજરાતી | N3: સત્ર :- | P3: દ્વિતીય | T3: વર્ષ :- | V3: =School!B9 -> 2025-'26
C5: અભ્યાસક્રમ પ્રમાણે પ્રતિનિધિત્વરૂપ હેતુઓ (મહત્તમ :- ૨૦)
C6: 6. બતક અને અથવા પણ હંસ | G6: 7. એક છલાંગે દરિયો કૂદો | J6: 8. કીડી હતી કે હાથી હશે? | N6: 9. રંગબેરંગી મસાલિયું | S6: 10. ચાલો સૌને રમત મુબારક
A7: ક્રમ | B7: વિદ્યાર્થીનું નામ | C7: વાક્યમાં વિરામચિન્હ નો પારખે છે. | D7: શબ્દો વચ્ચેનો ભેદ ઓળખે છે. | E7: પરિચિત પ્રસંગો, સ્થળ અને વ્યક્તિનું વર્ણન કરે છે. | F7: વાર્તા કે અંશનો વાંચી કે સાંભળી ગીત, કાવ્ય લેખન કરે છે. | G7: ભાવાત્મક પ્રતિભાવ આપે છે. | H7: પ્રકરણ લખાણમાંથી વિગતો શોધે છે. | I7: સાંભળેલી વિગતોને દ્રશ્યાત્મક રીતે રજૂ કરે છે. | J7: નામને બદલે સર્વનામ નો ઉપયોગ કરે છે. | K7: વર્ણનાત્મક લખાણની વિગતોનો ઉપયોગ કરે છે. | L7: વિશેષણ ઓળખે અને ઉપયોગ કરે છે. | M7: નવા શબ્દોના અર્થની ધારણા કરી શકે છે. | N7: વચન ઓળખે, પરિવર્તન કરે અને ઉપયોગ કરે છે. | O7: આપેલા શબ્દોનો ઉપયોગ કરી અર્થપૂર્ણ વાક્ય બનાવે છે. | P7: સ્થળ અને સમય વાચક અવ્યય ને ઓળખી ઉપયોગ કરે છે. | Q7: શબ્દો, વાક્યો કે પરિચ્છેદનું સ્ત્રોત લેખન કરે છે. | R7: આશરે 300 જેટલા નવા શબ્દો જાણે છે તથા ઉપયોગ કરે છે. | S7: શબ્દનો રૂપાંતર કરી અન્ય શબ્દ બનાવે છે. | T7: ક્રિયાનું ભૂતકાળનું સ્વરૂપ ઓળખે અને ઉપયોગ કરે છે. | U7: વિરુદ્ધાર્થી શબ્દ શોધી ઉપયોગ કરી શકે છે. | V7: ચિત્રનું વર્ણન 7-8 વાક્યોમાં કરી શકે છે. | W7: સત્રાંતે મેળવેલ નિશાનીઓની સંખ્યા | Z7: 40 માંથી મેળવેલ ગુણ
C8: 1 | D8: 2 | E8: 3 | F8: 4 | G8: 5 | H8: 6 | I8: 7 | J8: 8 | K8: 9 | L8: 10 | M8: 11 | N8: 12 | O8: 13 | P8: 14 | Q8: 15 | R8: 16 | S8: 17 | T8: 18 | U8: 19 | V8: 20 | W8: √ | X8: ? | Y8: ×
A9: =Student!A3 -> 1 | B9: =IF(Student!B3="","",Student!B3) | W9: =IF(C9="","",COUNTIF(C9:V9,$W$8)) | X9: =IF(C9="","",COUNTIF(C9:V9,$X$8)) | Y9: =IF(C9="","",COUNTIF(C9:V9,$Y$8)) | Z9: =IF(W9="","",W9*2)
A10: =Student!A4 -> 2 | B10: =IF(Student!B4="","",Student!B4) | W10: =IF(C10="","",COUNTIF(C10:V10,$W$8)) | X10: =IF(C10="","",COUNTIF(C10:V10,$X$8)) | Y10: =IF(C10="","",COUNTIF(C10:V10,$Y$8)) | Z10: =IF(W10="","",W10*2)
A11: =Student!A5 -> 3 | B11: =IF(Student!B5="","",Student!B5) | W11: =IF(C11="","",COUNTIF(C11:V11,$W$8)) | X11: =IF(C11="","",COUNTIF(C11:V11,$X$8)) | Y11: =IF(C11="","",COUNTIF(C11:V11,$Y$8)) | Z11: =IF(W11="","",W11*2)
A12: =Student!A6 -> 4 | B12: =IF(Student!B6="","",Student!B6) | W12: =IF(C12="","",COUNTIF(C12:V12,$W$8)) | X12: =IF(C12="","",COUNTIF(C12:V12,$X$8)) | Y12: =IF(C12="","",COUNTIF(C12:V12,$Y$8)) | Z12: =IF(W12="","",W12*2)
A13: =Student!A7 -> 5 | B13: =IF(Student!B7="","",Student!B7) | W13: =IF(C13="","",COUNTIF(C13:V13,$W$8)) | X13: =IF(C13="","",COUNTIF(C13:V13,$X$8)) | Y13: =IF(C13="","",COUNTIF(C13:V13,$Y$8)) | Z13: =IF(W13="","",W13*2)
A14: =Student!A8 -> 6 | B14: =IF(Student!B8="","",Student!B8) | W14: =IF(C14="","",COUNTIF(C14:V14,$W$8)) | X14: =IF(C14="","",COUNTIF(C14:V14,$X$8)) | Y14: =IF(C14="","",COUNTIF(C14:V14,$Y$8)) | Z14: =IF(W14="","",W14*2)
A15: =Student!A9 -> 7 | B15: =IF(Student!B9="","",Student!B9) | W15: =IF(C15="","",COUNTIF(C15:V15,$W$8)) | X15: =IF(C15="","",COUNTIF(C15:V15,$X$8)) | Y15: =IF(C15="","",COUNTIF(C15:V15,$Y$8)) | Z15: =IF(W15="","",W15*2)
A16: =Student!A10 -> 8 | B16: =IF(Student!B10="","",Student!B10) | W16: =IF(C16="","",COUNTIF(C16:V16,$W$8)) | X16: =IF(C16="","",COUNTIF(C16:V16,$X$8)) | Y16: =IF(C16="","",COUNTIF(C16:V16,$Y$8)) | Z16: =IF(W16="","",W16*2)
A17: =Student!A11 -> 9 | B17: =IF(Student!B11="","",Student!B11) | W17: =IF(C17="","",COUNTIF(C17:V17,$W$8)) | X17: =IF(C17="","",COUNTIF(C17:V17,$X$8)) | Y17: =IF(C17="","",COUNTIF(C17:V17,$Y$8)) | Z17: =IF(W17="","",W17*2)
A18: =Student!A12 -> 10 | B18: =IF(Student!B12="","",Student!B12) | W18: =IF(C18="","",COUNTIF(C18:V18,$W$8)) | X18: =IF(C18="","",COUNTIF(C18:V18,$X$8)) | Y18: =IF(C18="","",COUNTIF(C18:V18,$Y$8)) | Z18: =IF(W18="","",W18*2)
A19: =Student!A13 -> 11 | B19: =IF(Student!B13="","",Student!B13) | W19: =IF(C19="","",COUNTIF(C19:V19,$W$8)) | X19: =IF(C19="","",COUNTIF(C19:V19,$X$8)) | Y19: =IF(C19="","",COUNTIF(C19:V19,$Y$8)) | Z19: =IF(W19="","",W19*2)
A20: =Student!A14 -> 12 | B20: =IF(Student!B14="","",Student!B14) | W20: =IF(C20="","",COUNTIF(C20:V20,$W$8)) | X20: =IF(C20="","",COUNTIF(C20:V20,$X$8)) | Y20: =IF(C20="","",COUNTIF(C20:V20,$Y$8)) | Z20: =IF(W20="","",W20*2)
... A108: =Student!A102 | B108: =IF(Student!B102="","",Student!B102) | W108: =IF(C108="","",COUNTIF(C108:V108,$W$8)) | X108: =IF(C108="","",COUNTIF(C108:V108,$X$8)) | Y108: =IF(C108="","",COUNTIF(C108:V108,$Y$8)) | Z108: =IF(W108="","",W108*2)
B112: વિષય શિક્ષકની સહી | R112: આચાર્યની સહી/સિક્કા

Sheet 3 Maths (2)
A1: પરિશિષ્ટ - A
A2: રચનાત્મક મૂલ્યાંકન
B3: ધોરણ અને વર્ગ :- | C3: =School!B8 -> 3 | G3: વિષય :- | I3: ગણિત | N3: સત્ર :- | P3: દ્વિતીય | T3: વર્ષ :- | V3: =School!B9 -> 2025-'26
C5: અભ્યાસક્રમ પ્રમાણે પ્રતિનિધિત્વરૂપ હેતુઓ (મહત્તમ :- ૨૦)
C6: વધુ ભારે કોણ? | F6: કેટલા વખત | I6: પેટર્ન ની રમત | K6: જગ અને મગ | N6: આપણે ભાગ પાડી શકીશું? | P6: સ્માર્ટ ચાર્ટ | R6: રૂપિયા પૈસા | U6: વ્યવહારુ કોયડા
A7: ક્રમ | B7: વિદ્યાર્થીનું નામ | C7: વજન ના નાના મોટા એકમો આધારિત હલકા અને ભારે ની તુલના કરે. | D7: સાદા ત્રાજવા અને તુલા થી વસ્તુઓનું વજન કરે | E7: વજન આધારિત વ્યવહારુ કોયડા ઉકેલે છે | F7: ૨ ૩ ૪ ૫ અને ૧૦ ના ઘડિયા બનાવે તેમજ આગળ વધારે | G7: રોજીંદા જીવનની પરિસ્થિતિઓમાં ઉપયોગ કરે | H7: બે અંક ના એક અંક સાથે અને બે અંક સાથેના ગુણાકાર કરી શકે | I7: સાદા આકારો વસ્તુઓ અક્ષરો પેટન સમજે તથા આગળ વધારે | J7: આસપાસ ની વસ્તુઓ મા પેટ્ર્ન ને શોધે સમજે | K7: સપ્રમાણિત એકમોથી ગુંજાશ ની તુલના કરે | L7: ગુંજાશના નાના મોટા એકમો વિશે સમજે છે | M7: વ્યવહાર મા ગુંજાશને લગતા ઉદાહરણો સમજે | N7: જુથ વિભાજન અને પુનરાવર્તિત બાદબાકીથી ભાગાકાર કરે | O7: ભાગાકાર આધારિત વ્યવહારો કોયડા ઉકેલે છે | P7: માહિતીને ટેલિમાર્ક અને ચિત્રાત્મક રજૂઆત કરી શકે | Q7: આલેખ અને તારણોનો અર્થઘટન કરી શકે | R7: નોટો સિક્કાની ગણતરી કરી રકમ મેળવે | S7: રૂપિયા-પૈસાના વ્યવહારુ કોયડા સરવાળા બાદબાકી થી ઉકેલે | T7: રૂપિયા-પૈસાના સાદા બિલ બનાવી શકે | U7: સરવાળાના વ્યવહારુ કોયડા ઉકેલી શકે. | V7: બાદબાકીના વ્યવહારુ કોયડા ઉકેલી શકે. | W7: સત્રાંતે મેળવેલ નિશાનીઓની સંખ્યા | Z7: 40 માંથી મેળવેલ ગુણ
C8: 1 | D8: 2 | E8: 3 | F8: 4 | G8: 5 | H8: 6 | I8: 7 | J8: 8 | K8: 9 | L8: 10 | M8: 11 | N8: 12 | O8: 13 | P8: 14 | Q8: 15 | R8: 16 | S8: 17 | T8: 18 | U8: 19 | V8: 20 | W8: √ | X8: ? | Y8: ×
A9: =Student!A3 -> 1 | B9: =IF(Student!B3="","",Student!B3) | W9: =IF(C9="","",COUNTIF(C9:V9,$W$8)) | X9: =IF(C9="","",COUNTIF(C9:V9,$X$8)) | Y9: =IF(C9="","",COUNTIF(C9:V9,$Y$8)) | Z9: =IF(W9="","",W9*2)
A10: =Student!A4 -> 2 | B10: =IF(Student!B4="","",Student!B4) | W10: =IF(C10="","",COUNTIF(C10:V10,$W$8)) | X10: =IF(C10="","",COUNTIF(C10:V10,$X$8)) | Y10: =IF(C10="","",COUNTIF(C10:V10,$Y$8)) | Z10: =IF(W10="","",W10*2)
A11: =Student!A5 -> 3 | B11: =IF(Student!B5="","",Student!B5) | W11: =IF(C11="","",COUNTIF(C11:V11,$W$8)) | X11: =IF(C11="","",COUNTIF(C11:V11,$X$8)) | Y11: =IF(C11="","",COUNTIF(C11:V11,$Y$8)) | Z11: =IF(W11="","",W11*2)
A12: =Student!A6 -> 4 | B12: =IF(Student!B6="","",Student!B6) | W12: =IF(C12="","",COUNTIF(C12:V12,$W$8)) | X12: =IF(C12="","",COUNTIF(C12:V12,$X$8)) | Y12: =IF(C12="","",COUNTIF(C12:V12,$Y$8)) | Z12: =IF(W12="","",W12*2)
A13: =Student!A7 -> 5 | B13: =IF(Student!B7="","",Student!B7) | W13: =IF(C13="","",COUNTIF(C13:V13,$W$8)) | X13: =IF(C13="","",COUNTIF(C13:V13,$X$8)) | Y13: =IF(C13="","",COUNTIF(C13:V13,$Y$8)) | Z13: =IF(W13="","",W13*2)
A14: =Student!A8 -> 6 | B14: =IF(Student!B8="","",Student!B8) | W14: =IF(C14="","",COUNTIF(C14:V14,$W$8)) | X14: =IF(C14="","",COUNTIF(C14:V14,$X$8)) | Y14: =IF(C14="","",COUNTIF(C14:V14,$Y$8)) | Z14: =IF(W14="","",W14*2)
A15: =Student!A9 -> 7 | B15: =IF(Student!B9="","",Student!B9) | W15: =IF(C15="","",COUNTIF(C15:V15,$W$8)) | X15: =IF(C15="","",COUNTIF(C15:V15,$X$8)) | Y15: =IF(C15="","",COUNTIF(C15:V15,$Y$8)) | Z15: =IF(W15="","",W15*2)
A16: =Student!A10 -> 8 | B16: =IF(Student!B10="","",Student!B10) | W16: =IF(C16="","",COUNTIF(C16:V16,$W$8)) | X16: =IF(C16="","",COUNTIF(C16:V16,$X$8)) | Y16: =IF(C16="","",COUNTIF(C16:V16,$Y$8)) | Z16: =IF(W16="","",W16*2)
A17: =Student!A11 -> 9 | B17: =IF(Student!B11="","",Student!B11) | W17: =IF(C17="","",COUNTIF(C17:V17,$W$8)) | X17: =IF(C17="","",COUNTIF(C17:V17,$X$8)) | Y17: =IF(C17="","",COUNTIF(C17:V17,$Y$8)) | Z17: =IF(W17="","",W17*2)
A18: =Student!A12 -> 10 | B18: =IF(Student!B12="","",Student!B12) | W18: =IF(C18="","",COUNTIF(C18:V18,$W$8)) | X18: =IF(C18="","",COUNTIF(C18:V18,$X$8)) | Y18: =IF(C18="","",COUNTIF(C18:V18,$Y$8)) | Z18: =IF(W18="","",W18*2)
A19: =Student!A13 -> 11 | B19: =IF(Student!B13="","",Student!B13) | W19: =IF(C19="","",COUNTIF(C19:V19,$W$8)) | X19: =IF(C19="","",COUNTIF(C19:V19,$X$8)) | Y19: =IF(C19="","",COUNTIF(C19:V19,$Y$8)) | Z19: =IF(W19="","",W19*2)
A20: =Student!A14 -> 12 | B20: =IF(Student!B14="","",Student!B14) | W20: =IF(C20="","",COUNTIF(C20:V20,$W$8)) | X20: =IF(C20="","",COUNTIF(C20:V20,$X$8)) | Y20: =IF(C20="","",COUNTIF(C20:V20,$Y$8)) | Z20: =IF(W20="","",W20*2)
... A108: =Student!A102 | B108: =IF(Student!B102="","",Student!B102) | W108: =IF(C108="","",COUNTIF(C108:V108,$W$8)) | X108: =IF(C108="","",COUNTIF(C108:V108,$X$8)) | Y108: =IF(C108="","",COUNTIF(C108:V108,$Y$8)) | Z108: =IF(W108="","",W108*2)
B112: વિષય શિક્ષકની સહી | R112: આચાર્યની સહી/સિક્કા

Sheet 3 EVS (2)
A1: પરિશિષ્ટ - A
A2: રચનાત્મક મૂલ્યાંકન
B3: ધોરણ અને વર્ગ :- | C3: =School!B8 -> 3 | G3: વિષય :- | I3: પર્યાવરણ | N3: સત્ર :- | P3: દ્વિતીય | T3: વર્ષ :- | V3: =School!B9 -> 2025-'26
C5: અભ્યાસક્રમ પ્રમાણે પ્રતિનિધિત્વરૂપ હેતુઓ (મહત્તમ :- ૨૦)
C6: આપણો ખોરાક | E6: માટી ની મજા | G6: મારુ ઘર | H6: પત્ર નો પ્રવાસ | J6: રમતા રમતા | K6: આપણા સાથી | M6: કેટલા રે કેટલા | O6: પાણી બચાવીએ | P6: ડાબું જમણું | R6: સુંદર કપડો | T6: જીવનનું જાળુ | U6: મારો તાલુકો
A7: ક્રમ | B7: વિદ્યાર્થીનું નામ | C7: વિદ્યાર્થીઓ કુટુંબના સભ્યો ની કામગીરી વિશે જાણ છે ખોરાક શામાંથી બને તેની માહિતી પ્રાપ્ત કરશે | D7: રસોડાના મસાલા ઔષધી રીતે ઉપયોગી છે તે જાણી શકશે | E7: વિદ્યાર્થીઓ માટીના વિવિધ ઉપયોગો વિશે જાણ છે | F7: માટીના રમકડા જેવાકે માટલા વાસણો પ્રાણી-પક્ષી વાહનો બનાવતા શીખે તથા ગ્રામ્ય કારીગરોને ઓળખીને તેમના વિશે કહી શકશે | G7: વિદ્યાર્થીઓ વિવિધ પ્રકારના રહેઠાણ વિશે જાણ છે અને તેની ઉપયોગિતા વિશે કહી શકશે | H7: વિદ્યાર્થીઓ પોસ્ટ ઓફિસની કામગીરીથી પરિચિત થશે અને તેની કામગીરી વિશે કહી શકશે | I7: સંદેશા રહેવાના માધ્યમ તરીકે ટેલીફોન મોબાઇલ વિશે કહી શકશે | J7: વિદ્યાર્થીઓ રમતો જેવી કે સ્થાનિક તેમજ સામુહિક કાર્યમાં નિયમોનું અવલોકન કરે તથા તેના વિશે પરિચિત થાય | K7: વિદ્યાર્થીઓ આસપાસના વાતાવરણના પ્રાણીઓ પશુ પક્ષીઓ પ્રત્યે સંવેદનશીલતા દર્શાવે છે તથા તેમની સંભાળ રાખી શકે છે | L7: પોતાના રોજિંદા જીવનમાં પ્રાણીઓ ની ઉપયોગીતા અંગે માહિતી મેળવી શકશે | M7: વિદ્યાર્થીઓ પરિવાર અને પરિવારના સભ્ય સાથેના સબંધો ઓળખે છે | N7: કૌટુંબિક સભ્યોની ભૂમિકા, કાર્યો અને કુટુંબની જરૂરિયાત સમજે છે | O7: વિદ્યાર્થીઓ પાણીની જરૂરિયાત પાણીની કરકસર અને પાણીની તંગીથી પેદા થતી પરિસ્થિતિ વિશે જાણે છે અને વર્ણન કરી શકશે | P7: વિદ્યાર્થીઓ વર્ગખંડ- શાળાના નકશા માં વસ્તુઓની દિશાઓ અને સ્થાન ઓળખે છે | Q7: મૌખિક રીતે જણાવે છે કે નકશાની મદદથી સ્થાન સ્થળ અને અંતર વિષે સમજે છે | R7: વિદ્યાર્થીઓ કપડો ની બનાવટ અને વૈવિધ્યતા વિશે સમજે છે | S7: કપડાની છાપકામ બાબતે જાણી તેની ઉપયોગીતા વિશે કહી શકશે | T7: વિદ્યાર્થીઓ આપણું જીવન વૃક્ષ પાણી સૂર્યપ્રકાશ હવા પ્રાણીઓ વાહન વગેરે વસ્તુઓ બાબતો પર નિર્ભર રહે છે તે વિષે જાણે કહી શકશે | U7: વિદ્યાર્થીઓ ઘર ગામ અને તાલુકા વિશે જાણે છે તેમજ પોતાના તાલુકા વિશેની માહિતી રજુ કરશે અને કહી શકશે | V7: પોતાના ગામની આજુબાજુના ગામ વિશે જાણે અને તેના નામ લખે | W7: સત્રાંતે મેળવેલ નિશાનીઓની સંખ્યા | Z7: 40 માંથી મેળવેલ ગુણ
C8: 1 | D8: 2 | E8: 3 | F8: 4 | G8: 5 | H8: 6 | I8: 7 | J8: 8 | K8: 9 | L8: 10 | M8: 11 | N8: 12 | O8: 13 | P8: 14 | Q8: 15 | R8: 16 | S8: 17 | T8: 18 | U8: 19 | V8: 20 | W8: √ | X8: ? | Y8: ×
A9: =Student!A3 -> 1 | B9: =IF(Student!B3="","",Student!B3) | W9: =IF(C9="","",COUNTIF(C9:V9,$W$8)) | X9: =IF(C9="","",COUNTIF(C9:V9,$X$8)) | Y9: =IF(C9="","",COUNTIF(C9:V9,$Y$8)) | Z9: =IF(W9="","",W9*2)
A10: =Student!A4 -> 2 | B10: =IF(Student!B4="","",Student!B4) | W10: =IF(C10="","",COUNTIF(C10:V10,$W$8)) | X10: =IF(C10="","",COUNTIF(C10:V10,$X$8)) | Y10: =IF(C10="","",COUNTIF(C10:V10,$Y$8)) | Z10: =IF(W10="","",W10*2)
A11: =Student!A5 -> 3 | B11: =IF(Student!B5="","",Student!B5) | W11: =IF(C11="","",COUNTIF(C11:V11,$W$8)) | X11: =IF(C11="","",COUNTIF(C11:V11,$X$8)) | Y11: =IF(C11="","",COUNTIF(C11:V11,$Y$8)) | Z11: =IF(W11="","",W11*2)
A12: =Student!A6 -> 4 | B12: =IF(Student!B6="","",Student!B6) | W12: =IF(C12="","",COUNTIF(C12:V12,$W$8)) | X12: =IF(C12="","",COUNTIF(C12:V12,$X$8)) | Y12: =IF(C12="","",COUNTIF(C12:V12,$Y$8)) | Z12: =IF(W12="","",W12*2)
A13: =Student!A7 -> 5 | B13: =IF(Student!B7="","",Student!B7) | W13: =IF(C13="","",COUNTIF(C13:V13,$W$8)) | X13: =IF(C13="","",COUNTIF(C13:V13,$X$8)) | Y13: =IF(C13="","",COUNTIF(C13:V13,$Y$8)) | Z13: =IF(W13="","",W13*2)
A14: =Student!A8 -> 6 | B14: =IF(Student!B8="","",Student!B8) | W14: =IF(C14="","",COUNTIF(C14:V14,$W$8)) | X14: =IF(C14="","",COUNTIF(C14:V14,$X$8)) | Y14: =IF(C14="","",COUNTIF(C14:V14,$Y$8)) | Z14: =IF(W14="","",W14*2)
A15: =Student!A9 -> 7 | B15: =IF(Student!B9="","",Student!B9) | W15: =IF(C15="","",COUNTIF(C15:V15,$W$8)) | X15: =IF(C15="","",COUNTIF(C15:V15,$X$8)) | Y15: =IF(C15="","",COUNTIF(C15:V15,$Y$8)) | Z15: =IF(W15="","",W15*2)
A16: =Student!A10 -> 8 | B16: =IF(Student!B10="","",Student!B10) | W16: =IF(C16="","",COUNTIF(C16:V16,$W$8)) | X16: =IF(C16="","",COUNTIF(C16:V16,$X$8)) | Y16: =IF(C16="","",COUNTIF(C16:V16,$Y$8)) | Z16: =IF(W16="","",W16*2)
A17: =Student!A11 -> 9 | B17: =IF(Student!B11="","",Student!B11) | W17: =IF(C17="","",COUNTIF(C17:V17,$W$8)) | X17: =IF(C17="","",COUNTIF(C17:V17,$X$8)) | Y17: =IF(C17="","",COUNTIF(C17:V17,$Y$8)) | Z17: =IF(W17="","",W17*2)
A18: =Student!A12 -> 10 | B18: =IF(Student!B12="","",Student!B12) | W18: =IF(C18="","",COUNTIF(C18:V18,$W$8)) | X18: =IF(C18="","",COUNTIF(C18:V18,$X$8)) | Y18: =IF(C18="","",COUNTIF(C18:V18,$Y$8)) | Z18: =IF(W18="","",W18*2)
A19: =Student!A13 -> 11 | B19: =IF(Student!B13="","",Student!B13) | W19: =IF(C19="","",COUNTIF(C19:V19,$W$8)) | X19: =IF(C19="","",COUNTIF(C19:V19,$X$8)) | Y19: =IF(C19="","",COUNTIF(C19:V19,$Y$8)) | Z19: =IF(W19="","",W19*2)
A20: =Student!A14 -> 12 | B20: =IF(Student!B14="","",Student!B14) | W20: =IF(C20="","",COUNTIF(C20:V20,$W$8)) | X20: =IF(C20="","",COUNTIF(C20:V20,$X$8)) | Y20: =IF(C20="","",COUNTIF(C20:V20,$Y$8)) | Z20: =IF(W20="","",W20*2)
... A108: =Student!A102 | B108: =IF(Student!B102="","",Student!B102) | W108: =IF(C108="","",COUNTIF(C108:V108,$W$8)) | X108: =IF(C108="","",COUNTIF(C108:V108,$X$8)) | Y108: =IF(C108="","",COUNTIF(C108:V108,$Y$8)) | Z108: =IF(W108="","",W108*2)
B112: વિષય શિક્ષકની સહી | R112: આચાર્યની સહી/સિક્કા

Sheet 3 Eng (2)
A1: પરિશિષ્ટ - A
A2: રચનાત્મક મૂલ્યાંકન
B3: ધોરણ અને વર્ગ :- | C3: =School!B8 -> 3 | G3: વિષય :- | I3: અંગ્રેજી | N3: સત્ર :- | P3: દ્વિતીય | T3: વર્ષ :- | V3: =School!B9 -> 2025-'26
C5: અભ્યાસક્રમ પ્રમાણે પ્રતિનિધિત્વરૂપ હેતુઓ (મહત્તમ :- ૨૦)
C6: 5. Happy Cloud | G6: 6. Useful Things | K6: 7. Our Halpers | O6: 8. Animals, Our Friends | S6: 9. Not Hard at All
A7: ક્રમ | B7: વિદ્યાર્થીનું નામ | C7: Rhymes, Action Songs, Poems યોગ્ય હાવભાવ અને અભિનય સાથે ગાય છે. | D7: આપેલ શબ્દો માંથી અલગ પડતા શબ્દો ને શોધી શકે છે. | E7: 70 થી 90 સુધીના આંક ક્રમશઃ ઉચ્ચારણ કરે અને લખી શકે છે. | F7: પુછાયેલ પ્રશ્નનો પ્રતિભાવ આપી શકે છે. જેમકે How are you?, Excuse me, Thank you etc. | G7: આપેલ શબ્દોના સમાન ઉચ્ચાર વાળા શબ્દો શોધી શકે છે. (Rhyming words) | H7: આપેલ ચિત્રનું મૌખિક વર્ણન તુટક શબ્દો વડે પણ કરી શકે છે. | I7: આપેલ ચિત્રો કે વસ્તુઓના અંગ્રેજી નામ, શબ્દોનું ઉચ્ચારણ કરી શકે છે. | J7: ક્રિયા સૂચક શબ્દો (Action words) સંભાળીને પ્રતિભાવ આપી શકે છે. | K7: આપેલા ટૂંકા વાક્યોનું વિરામચિહ્નો સહિત અનુલેખન કરી શકે છે. | L7: ચિત્રોને જોઈ આપેલ કોષ્ટક માંથી spellings શોધીને લખી શકે છે. | M7: આપણા વ્યવસાયકારો વિશે જાણી કૌશમાં આપેલ શબ્દોને ચિત્રો સાથે જોડી કે લખી શકે છે. | N7: આપેલ કોયડામાં શબ્દોમાં ખૂટતા અક્ષરો મૂકી શકે છે. | O7: આપેલ ચિત્રો ફરતે શિક્ષાની સુચના અનુસાર નોધી શકે છે. | P7: ચિત્રમાં કે આસપાસના પર્યાવરણમાં ઉપલબ્ધ પ્રાણીઓના નામ ઉચ્ચારી શકે છે. | Q7: વાર્તાને સંભાળીને તેના આધારે વાક્યોને ઘટના ક્રમમાં ગોઠવી શકે છે. | R7: વસ્તુઓના નામ એક વચન અને બહુ વચનમાં સ્પષ્ટ રીતે ઓળખી શકે અને બોલી શકે છે. | S7: Action Songs યોગ્ય હાવભાવ અને અભિનય સાથે વ્યક્તિગત/સમુહમાં ગાય છે. | T7: જુદા જુદા Action words નો ઉપયોગ કરી કાવ્યને પૂર્ણ કરી શકે છે. | U7: આપેલ શબ્દોને શબ્દકોશમાં શોધી શકે છે અને તેને શબ્દકોશના ક્રમમાં ગોઠવી શકે છે. | V7: જુદા જુદા Action words નો ઉપયોગ કરી ટૂંકા વાક્યો બનાવી શકે છે. | W7: સત્રાંતે મેળવેલ નિશાનીઓની સંખ્યા | Z7: 40 માંથી મેળવેલ ગુણ
C8: 1 | D8: 2 | E8: 3 | F8: 4 | G8: 5 | H8: 6 | I8: 7 | J8: 8 | K8: 9 | L8: 10 | M8: 11 | N8: 12 | O8: 13 | P8: 14 | Q8: 15 | R8: 16 | S8: 17 | T8: 18 | U8: 19 | V8: 20 | W8: √ | X8: ? | Y8: ×
A9: =Student!A3 -> 1 | B9: =IF(Student!B3="","",Student!B3) | W9: =IF(C9="","",COUNTIF(C9:V9,$W$8)) | X9: =IF(C9="","",COUNTIF(C9:V9,$X$8)) | Y9: =IF(C9="","",COUNTIF(C9:V9,$Y$8)) | Z9: =IF(W9="","",W9*2)
A10: =Student!A4 -> 2 | B10: =IF(Student!B4="","",Student!B4) | W10: =IF(C10="","",COUNTIF(C10:V10,$W$8)) | X10: =IF(C10="","",COUNTIF(C10:V10,$X$8)) | Y10: =IF(C10="","",COUNTIF(C10:V10,$Y$8)) | Z10: =IF(W10="","",W10*2)
A11: =Student!A5 -> 3 | B11: =IF(Student!B5="","",Student!B5) | W11: =IF(C11="","",COUNTIF(C11:V11,$W$8)) | X11: =IF(C11="","",COUNTIF(C11:V11,$X$8)) | Y11: =IF(C11="","",COUNTIF(C11:V11,$Y$8)) | Z11: =IF(W11="","",W11*2)
A12: =Student!A6 -> 4 | B12: =IF(Student!B6="","",Student!B6) | W12: =IF(C12="","",COUNTIF(C12:V12,$W$8)) | X12: =IF(C12="","",COUNTIF(C12:V12,$X$8)) | Y12: =IF(C12="","",COUNTIF(C12:V12,$Y$8)) | Z12: =IF(W12="","",W12*2)
A13: =Student!A7 -> 5 | B13: =IF(Student!B7="","",Student!B7) | W13: =IF(C13="","",COUNTIF(C13:V13,$W$8)) | X13: =IF(C13="","",COUNTIF(C13:V13,$X$8)) | Y13: =IF(C13="","",COUNTIF(C13:V13,$Y$8)) | Z13: =IF(W13="","",W13*2)
A14: =Student!A8 -> 6 | B14: =IF(Student!B8="","",Student!B8) | W14: =IF(C14="","",COUNTIF(C14:V14,$W$8)) | X14: =IF(C14="","",COUNTIF(C14:V14,$X$8)) | Y14: =IF(C14="","",COUNTIF(C14:V14,$Y$8)) | Z14: =IF(W14="","",W14*2)
A15: =Student!A9 -> 7 | B15: =IF(Student!B9="","",Student!B9) | W15: =IF(C15="","",COUNTIF(C15:V15,$W$8)) | X15: =IF(C15="","",COUNTIF(C15:V15,$X$8)) | Y15: =IF(C15="","",COUNTIF(C15:V15,$Y$8)) | Z15: =IF(W15="","",W15*2)
A16: =Student!A10 -> 8 | B16: =IF(Student!B10="","",Student!B10) | W16: =IF(C16="","",COUNTIF(C16:V16,$W$8)) | X16: =IF(C16="","",COUNTIF(C16:V16,$X$8)) | Y16: =IF(C16="","",COUNTIF(C16:V16,$Y$8)) | Z16: =IF(W16="","",W16*2)
A17: =Student!A11 -> 9 | B17: =IF(Student!B11="","",Student!B11) | W17: =IF(C17="","",COUNTIF(C17:V17,$W$8)) | X17: =IF(C17="","",COUNTIF(C17:V17,$X$8)) | Y17: =IF(C17="","",COUNTIF(C17:V17,$Y$8)) | Z17: =IF(W17="","",W17*2)
A18: =Student!A12 -> 10 | B18: =IF(Student!B12="","",Student!B12) | W18: =IF(C18="","",COUNTIF(C18:V18,$W$8)) | X18: =IF(C18="","",COUNTIF(C18:V18,$X$8)) | Y18: =IF(C18="","",COUNTIF(C18:V18,$Y$8)) | Z18: =IF(W18="","",W18*2)
A19: =Student!A13 -> 11 | B19: =IF(Student!B13="","",Student!B13) | W19: =IF(C19="","",COUNTIF(C19:V19,$W$8)) | X19: =IF(C19="","",COUNTIF(C19:V19,$X$8)) | Y19: =IF(C19="","",COUNTIF(C19:V19,$Y$8)) | Z19: =IF(W19="","",W19*2)
A20: =Student!A14 -> 12 | B20: =IF(Student!B14="","",Student!B14) | W20: =IF(C20="","",COUNTIF(C20:V20,$W$8)) | X20: =IF(C20="","",COUNTIF(C20:V20,$X$8)) | Y20: =IF(C20="","",COUNTIF(C20:V20,$Y$8)) | Z20: =IF(W20="","",W20*2)
... A108: =Student!A102 | B108: =IF(Student!B102="","",Student!B102) | W108: =IF(C108="","",COUNTIF(C108:V108,$W$8)) | X108: =IF(C108="","",COUNTIF(C108:V108,$X$8)) | Y108: =IF(C108="","",COUNTIF(C108:V108,$Y$8)) | Z108: =IF(W108="","",W108*2)
B111: વિષય શિક્ષકની સહી | R111: આચાર્યની સહી/સિક્કા
