Workbook
Name SUBJ: '[1]brc-2'!$C$40:$C$53
Name SUBJ: '[1]brc-2'!$C$40:$C$53
Name SUBJ: '[1]brc-2'!$C$40:$C$53
Name SUBJ: '[1]brc-2'!$C$40:$C$53
Name SUBJ: '[1]brc-2'!$C$40:$C$53
Name SUBJ: '[1]brc-2'!$C$40:$C$53
Name SUBJ: '[1]brc-2'!$C$40:$C$53
Name SUBJ: '[1]brc-2'!$C$40:$C$53
Name SUBJ: '[1]brc-2'!$C$40:$C$53
Name SUBJ: '[1]brc-2'!$C$40:$C$53
Name SUBJ: '[1]brc-2'!$C$40:$C$53
Name SUBJ: '[1]brc-2'!$C$40:$C$53
Name SUBJ: '[1]brc-2'!$C$40:$C$53
Name SUBJ: '[1]brc-2'!$C$40:$C$53

Sheet HOME
A1: ="AUTO TIME TABLE : STD "&HOME!$A$6&","&HOME!$A$7&","&HOME!$A$8 -> AUTO TIME TABLE : STD 6,7,8
A3: શાળાનું નામ : | C3: શ્રી નોખાણિયા પં. પ્રા.શાળા | F3: તાલુકો : | G3: ભુજ | H3: જિલ્લો : | I3: કચ્છ | J3: સત્ર : | K3: 1 | L3: વર્ષ : | M3: 2026-'27
A5: ધોરણ | B5: વર્ગ શિક્ષકનું નામ | E5: ટૂંકાક્ષરી નામ | F5: વિષય ફાળવણી | L5: વિષયો
A6: 6 | B6: મહેતા નિરાલી દિક્ષિતભાઈ | E6: N.M. | F6: સા.વિ. | G6: હિન્દી | H6: સર્વાંગી | I6: કમ્પ્યુટર | L6: ગુજરાતી
A7: 7 | B7: ઓડેદરા કેશુભાઈ ગીગાભાઈ | E7: K.O. | F7: વિજ્ઞાન | G7: ગણિત | H7: સર્વાંગી | I7: કમ્પ્યુટર | L7: ગણિત
A8: 8 | B8: બુચ બ્રિજેશ જનકરાય | E8: B.J. | F8: ગુજરાતી | G8: અંગ્રેજી | H8: સંસ્કૃત | I8: કમ્પ્યુટર | J8: સર્વાંગી | L8: અંગ્રેજી
L9: હિન્દી
L10: સંસ્કૃત
L11: વિજ્ઞાન
L12: સા.વિ.
L13: શા.શિ.
A14: સૂચના :- | L14: સંગીત
A15: 1) | B15: સૌપ્રથમ બાજુમાં આપેલ QR કોડ સ્કેન કરીને "અખંડ ગુજરાતી" ફોન્ટ ડાઉનલોડ કરીને ઈન્સ્ટોલ કરવા. | L15: ચિત્ર
A16: 2) | B16: HOME શીટમાં પીળા કલરના સેલની તમામ વિગત ભરવી. | L16: સર્વાંગી
A17: 3) | B17: શિક્ષકની વિગત લખી વિષય ફાળવણીમાં શિક્ષકના વિષય સિલેક્ટ કરવા. | L17: કમ્પ્યુટર
A18: 4) | B18: નવો વિષય એડ કરવો હોય તો વિષયની કોલમમાં ટાઈપ કરી શકશો. | L18: પુસ્તકાલય
A19: 5) | B19: GENERAL TIME TABLE શીટમાં જે તે ધોરણ અને વાર પ્રમાણે વિષય અને શિક્ષકનું ટૂંકાક્ષરી નામ સિલેક્ટ કરવું.
A20: 6) | B20: બાકીની તમામ વિગત તથા ધોરણવાઈઝ અને શિક્ષક વાઈઝ ટાઈમ ટેબલ ઓટોમેટિક બની જશે, જેની પ્રિન્ટ લઈ શકશો.
A21: 7) | B21: નોંધ :- આ ટાઈમ ટેબલ ત્રણ શિક્ષકો અને ત્રણ વર્ગ માટે જ ઉપયોગમાં લઈ શકાશે.
F36: ="STD-"&$A$6 -> STD-6
F37: ="STD-"&$A$7 -> STD-7
F38: ="STD-"&$A$8 -> STD-8
R46: 1) પ્રથમ શાળાનું નામ, વર્ષ, વર્ગ શિક્ષકનું નામ, તેમનું ટૂંકાક્ષરી નામ અને વિષય ફાળવણી મુજબ વિષયનું નામ લખવું.
R48: 2) ત્યારબાદ જે-તે ધોરણની કોલમના તાસમાં શિક્ષક અને વિષય સિલેક્ટ કરવા.
R49: 3) બાકીની વિગત અને ધોરણવાઈઝ ટાઈમ ટેબલ ઓટોમેટિક બની જશે.
R50: 4) બાજુમાં આપેલ QR કોડ સ્કેન કરીને "અખંડ ગુજરાતી" ફોન્ટ મેળવી શકશો.

Sheet GENERAL TIME TABLE
A1: ="સમયપત્રક (ધોરણ-"&HOME!$A$6&","&HOME!$A$7&","&HOME!$A$8&")" -> સમયપત્રક (ધોરણ-6,7,8)
A2: શાળા : | C2: =HOME!C3&", તા."&HOME!G3&", જિ."&HOME!I3 -> શ્રી નોખાણિયા પં. પ્રા.શાળા, તા.ભુજ, જિ.કચ્છ | O2: =IF(HOME!K3="","",HOME!J3) -> સત્ર : | P2: =IF(HOME!K3="","",HOME!K3) -> 1 | R2: વર્ષ : | S2: =HOME!M3 -> 2026-'27
A3: તા સ | B3: સમય | C3: સોમવાર | F3: મંગળવાર | I3: બુધવાર | L3: ગુરુવાર | O3: શુક્રવાર | R3: શનિવાર | U3: સમય
C4: ="ધો-"&HOME!$A$6 -> ધો-6 | D4: ="ધો-"&HOME!$A$7 -> ધો-7 | E4: ="ધો-"&HOME!$A$8 -> ધો-8 | F4: ="ધો-"&HOME!$A$6 -> ધો-6 | G4: ="ધો-"&HOME!$A$7 -> ધો-7 | H4: ="ધો-"&HOME!$A$8 -> ધો-8 | I4: ="ધો-"&HOME!$A$6 -> ધો-6 | J4: ="ધો-"&HOME!$A$7 -> ધો-7 | K4: ="ધો-"&HOME!$A$8 -> ધો-8 | L4: ="ધો-"&HOME!$A$6 -> ધો-6 | M4: ="ધો-"&HOME!$A$7 -> ધો-7 | N4: ="ધો-"&HOME!$A$8 -> ધો-8 | O4: ="ધો-"&HOME!$A$6 -> ધો-6 | P4: ="ધો-"&HOME!$A$7 -> ધો-7 | Q4: ="ધો-"&HOME!$A$8 -> ધો-8 | R4: ="ધો-"&HOME!$A$6 -> ધો-6 | S4: ="ધો-"&HOME!$A$7 -> ધો-7 | T4: ="ધો-"&HOME!$A$8 -> ધો-8
B5: 10:30-10:45 | C5: સમૂહજીવન, શાળાસફાઈ અને શૈક્ષણિક કાર્ય માટેની પૂર્વતૈયારી | U5: 07:00-07:20
B6: 10:45 - 11:10 | C6: પ્રાર્થના સંમેલન | U6: 07:30-07:50
A7: 1 | B7: 11:10-11:50 | C7: N.M. | D7: K.O. | E7: B.J. | F7: N.M. | G7: K.O. | H7: B.J. | I7: N.M. | J7: K.O. | K7: B.J. | L7: N.M. | M7: K.O. | N7: B.J. | O7: N.M. | P7: K.O. | Q7: B.J. | R7: K.O. | S7: B.J. | T7: N.M. | U7: 07:50-08:35
C8: સા.વિ. | D8: ગણિત | E8: ગુજરાતી | F8: સા.વિ. | G8: ગણિત | H8: ગુજરાતી | I8: સા.વિ. | J8: ગણિત | K8: ગુજરાતી | L8: સા.વિ. | M8: ગણિત | N8: ગુજરાતી | O8: સા.વિ. | P8: ગણિત | Q8: ગુજરાતી | R8: શા.શિ. | S8: સંસ્કૃત | T8: શા.શિ.
A9: 2 | B9: 11:50-12:30 | C9: N.M. | D9: K.O. | E9: B.J. | F9: N.M. | G9: K.O. | H9: B.J. | I9: N.M. | J9: K.O. | K9: B.J. | L9: N.M. | M9: K.O. | N9: B.J. | O9: N.M. | P9: K.O. | Q9: B.J. | R9: B.J. | S9: N.M. | T9: K.O. | U9: 08:35-09:15
C10: હિન્દી | D10: વિજ્ઞાન | E10: અંગ્રેજી | F10: હિન્દી | G10: વિજ્ઞાન | H10: અંગ્રેજી | I10: હિન્દી | J10: વિજ્ઞાન | K10: અંગ્રેજી | L10: સા.વિ. | M10: વિજ્ઞાન | N10: અંગ્રેજી | O10: હિન્દી | P10: વિજ્ઞાન | Q10: અંગ્રેજી | R10: સંસ્કૃત | S10: શા.શિ. | T10: ચિત્ર
B11: 12:30-12:40 | C11: વિરામ | R11: K.O. | S11: B.J. | T11: N.M. | U11: 09:15-10:00 | AK11: 10200 90050 34557
R12: ગણિત | S12: ગુજરાતી | T12: સા.વિ.
A13: 3 | B13: 12:40-01:15 | C13: B.J. | D13: N.M. | E13: K.O. | F13: B.J. | G13: N.M. | H13: K.O. | I13: B.J. | J13: N.M. | K13: K.O. | L13: B.J. | M13: N.M. | N13: K.O. | O13: B.J. | P13: N.M. | Q13: K.O. | R13: વિરામ | U13: 10:00-10:30
C14: ગુજરાતી | D14: સા.વિ. | E14: ગણિત | F14: ગુજરાતી | G14: સા.વિ. | H14: ગણિત | I14: ગુજરાતી | J14: સા.વિ. | K14: ગણિત | L14: ગુજરાતી | M14: સા.વિ. | N14: ગણિત | O14: ગુજરાતી | P14: સા.વિ. | Q14: ગણિત
A15: 4 | B15: 01:15 -01:50 | C15: B.J. | D15: N.M. | E15: K.O. | F15: B.J. | G15: N.M. | H15: K.O. | I15: B.J. | J15: N.M. | K15: K.O. | L15: B.J. | M15: N.M. | N15: K.O. | O15: B.J. | P15: N.M. | Q15: K.O. | R15: B.J. | S15: N.M. | T15: K.O. | U15: 10:30-11:00
C16: અંગ્રેજી | D16: સા.વિ. | E16: વિજ્ઞાન | F16: અંગ્રેજી | G16: હિન્દી | H16: વિજ્ઞાન | I16: અંગ્રેજી | J16: હિન્દી | K16: વિજ્ઞાન | L16: અંગ્રેજી | M16: હિન્દી | N16: વિજ્ઞાન | O16: અંગ્રેજી | P16: હિન્દી | Q16: વિજ્ઞાન | R16: ગુજરાતી | S16: સંગીત | T16: વિજ્ઞાન
B17: 01:50-02:30 | C17: મધ્યાહન ભોજન - વિરામ | R17: K.O. | S17: N.M. | T17: B.J. | U17: 11:00-11:30
A18: 5 | B18: 02:30-03:05 | C18: K.O. | D18: B.J. | E18: N.M. | F18: K.O. | G18: B.J. | H18: N.M. | I18: K.O. | J18: B.J. | K18: N.M. | L18: K.O. | M18: B.J. | N18: N.M. | O18: K.O. | P18: B.J. | Q18: N.M. | R18: વિજ્ઞાન | S18: ચિત્ર | T18: સંસ્કૃત
C19: ગણિત | D19: ગુજરાતી | E19: સા.વિ. | F19: ગણિત | G19: ગુજરાતી | H19: સા.વિ. | I19: ગણિત | J19: ગુજરાતી | K19: સા.વિ. | L19: ગણિત | M19: ગુજરાતી | N19: સા.વિ. | O19: ગણિત | P19: ગુજરાતી | Q19: સા.વિ. | R19: વિષય ફાળવણી
A20: 6 | B20: 03:05-03:40 | C20: K.O. | D20: B.J. | E20: N.M. | F20: K.O. | G20: B.J. | H20: N.M. | I20: K.O. | J20: B.J. | K20: N.M. | L20: K.O. | M20: B.J. | N20: N.M. | O20: K.O. | P20: B.J. | Q20: N.M. | R20: =HOME!E6 -> N.M. | T20: =HOME!F6&IF(HOME!G6="","",", "&HOME!G6)&IF(HOME!H6="","",", "&HOME!H6)&IF(HOME!I6="","",", "&HOME!I6)&IF(HOME!J6="","",", "&HOME!J6) -> સા.વિ., હિન્દી, સર્વાંગી, કમ્પ્યુટર
C21: વિજ્ઞાન | D21: અંગ્રેજી | E21: હિન્દી | F21: વિજ્ઞાન | G21: અંગ્રેજી | H21: હિન્દી | I21: વિજ્ઞાન | J21: અંગ્રેજી | K21: હિન્દી | L21: વિજ્ઞાન | M21: અંગ્રેજી | N21: હિન્દી | O21: વિજ્ઞાન | P21: અંગ્રેજી | Q21: હિન્દી | R21: =HOME!E7 -> K.O. | T21: =HOME!F7&IF(HOME!G7="","",", "&HOME!G7)&IF(HOME!H7="","",", "&HOME!H7)&IF(HOME!I7="","",", "&HOME!I7)&IF(HOME!J7="","",", "&HOME!J7) -> વિજ્ઞાન, ગણિત, સર્વાંગી, કમ્પ્યુટર
B22: 03:40-03:50 | C22: વિરામ | R22: =HOME!E8 -> B.J. | T22: =HOME!F8&IF(HOME!G8="","",", "&HOME!G8)&IF(HOME!H8="","",", "&HOME!H8)&IF(HOME!I8="","",", "&HOME!I8)&IF(HOME!J8="","",", "&HOME!J8) -> ગુજરાતી, અંગ્રેજી, સંસ્કૃત, કમ્પ્યુટર, સર્વાંગી
A23: 7 | B23: 03:50-04:25 | C23: N.M. | D23: K.O. | E23: B.J. | F23: N.M. | G23: K.O. | H23: B.J. | I23: N.M. | J23: B.J. | K23: K.O. | L23: N.M. | M23: B.J. | N23: K.O. | O23: K.O. | P23: B.J. | Q23: N.M. | R23: વર્ગ શિક્ષકનું નામ
C24: હિન્દી | D24: ગણિત | E24: સંસ્કૃત | F24: સંગીત | G24: ગણિત | H24: ગુજરાતી | I24: ચિત્ર | J24: અંગ્રેજી | K24: ગણિત | L24: કમ્પ્યુટર | M24: સંસ્કૃત | N24: વિજ્ઞાન | O24: ગણિત | P24: ગુજરાતી | Q24: સંગીત | R24: STD | S24: =HOME!A6 -> 6 | T24: =TRIM(LEFT(SUBSTITUTE(HOME!B6," ",REPT(" ",100)),100))&" "&MID(HOME!B6,FIND(" ",HOME!B6)+1,FIND(" ",HOME!B6,FIND(" ",HOME!B6)+1)-1-FIND(" ",HOME!B6))&" ("&HOME!E6&")" -> મહેતા નિરાલી (N.M.)
A25: 8 | B25: 04:25-05:00 | C25: B.J. | D25: N.M. | E25: K.O. | F25: N.M. | G25: K.O. | H25: B.J. | I25: B.J. | J25: K.O. | K25: N.M. | L25: B.J. | M25: K.O. | N25: N.M. | O25: K.O. | P25: N.M. | Q25: B.J. | R25: STD | S25: =HOME!A7 -> 7 | T25: =TRIM(LEFT(SUBSTITUTE(HOME!B7," ",REPT(" ",100)),100))&" "&MID(HOME!B7,FIND(" ",HOME!B7)+1,FIND(" ",HOME!B7,FIND(" ",HOME!B7)+1)-1-FIND(" ",HOME!B7))&" ("&HOME!E7&")" -> ઓડેદરા કેશુભાઈ (K.O.)
C26: ગુજરાતી | D26: હિન્દી | E26: ગણિત | F26: સર્વાંગી | G26: વિજ્ઞાન | H26: ગુજરાતી | I26: અંગ્રેજી | J26: વિજ્ઞાન | K26: સર્વાંગી | L26: સંસ્કૃત | M26: કમ્પ્યુટર | N26: કમ્પ્યુટર | O26: વિજ્ઞાન | P26: સર્વાંગી | Q26: અંગ્રેજી | R26: STD | S26: =HOME!A8 -> 8 | T26: =TRIM(LEFT(SUBSTITUTE(HOME!B8," ",REPT(" ",100)),100))&" "&MID(HOME!B8,FIND(" ",HOME!B8)+1,FIND(" ",HOME!B8,FIND(" ",HOME!B8)+1)-1-FIND(" ",HOME!B8))&" ("&HOME!E8&")" -> બુચ બ્રિજેશ (B.J.)
A27: દરેક ધોરણમાં શિક્ષકના કુલ તાસની માહિતી → | D27: ="ધો-"&HOME!$A$6 -> ધો-6 | E27: ="ધો-"&HOME!$A$7 -> ધો-7 | F27: ="ધો-"&HOME!$A$8 -> ધો-8 | G27: કુલ | H27: દરેક ધોરણમાં જે તે વિષયના કુલ તાસની માહિતી → | K27: ગુજરાતી | L27: હિન્દી | M27: અંગ્રેજી | N27: સંસ્કૃત | O27: ગણિત | P27: વિજ્ઞાન | Q27: સા.વિ. | R27: શા.શિ. | S27: ચિત્ર | T27: સંગીત | U27: કમ્પ્યુટર | V27: સર્વાંગી | W27: કુલ
C28: =HOME!E6 -> N.M. | D28: =D45 -> 15 | E28: =D52 -> 15 | F28: =D59 -> 15 | G28: =SUM(D28:F28) -> 45 | J28: ="ધો-"&HOME!A6 -> ધો-6 | K28: =IF(K$27="","",K45) -> 7 | L28: =IF(L$27="","",L45) -> 5 | M28: =IF(M$27="","",M45) -> 6 | N28: =IF(N$27="","",N45) -> 2 | O28: =IF(O$27="","",O45) -> 7 | P28: =IF(P$27="","",P45) -> 7 | Q28: =IF(Q$27="","",Q45) -> 6 | R28: =IF(R$27="","",R45) -> 1 | ... V28: =IF(V$27="","",V45) -> 1 | W28: =SUM(K28:V28) -> 45
C29: =HOME!E7 -> K.O. | D29: =E45 -> 15 | E29: =E52 -> 15 | F29: =E59 -> 15 | G29: =SUM(D29:F29) -> 45 | J29: ="ધો-"&HOME!A7 -> ધો-7 | K29: =IF(K$27="","",K52) -> 7 | L29: =IF(L$27="","",L52) -> 5 | M29: =IF(M$27="","",M52) -> 6 | N29: =IF(N$27="","",N52) -> 2 | O29: =IF(O$27="","",O52) -> 7 | P29: =IF(P$27="","",P52) -> 7 | Q29: =IF(Q$27="","",Q52) -> 6 | R29: =IF(R$27="","",R52) -> 1 | ... V29: =IF(V$27="","",V52) -> 1 | W29: =SUM(K29:V29) -> 45
C30: =HOME!E8 -> B.J. | D30: =F45 -> 15 | E30: =F52 -> 15 | F30: =F59 -> 15 | G30: =SUM(D30:F30) -> 45 | J30: ="ધો-"&HOME!A8 -> ધો-8 | K30: =IF(K$27="","",K59) -> 7 | L30: =IF(L$27="","",L59) -> 5 | M30: =IF(M$27="","",M59) -> 6 | N30: =IF(N$27="","",N59) -> 2 | O30: =IF(O$27="","",O59) -> 7 | P30: =IF(P$27="","",P59) -> 7 | Q30: =IF(Q$27="","",Q59) -> 6 | R30: =IF(R$27="","",R59) -> 1 | ... V30: =IF(V$27="","",V59) -> 1 | W30: =SUM(K30:V30) -> 45
C31: કુલ | D31: 45 | E31: 45 | F31: 45 | G31: 135 | J31: કુલ | K31: =IF(K$27="","",SUM(K28:K30)) -> 21 | L31: =IF(L$27="","",SUM(L28:L30)) -> 15 | M31: =IF(M$27="","",SUM(M28:M30)) -> 18 | N31: =IF(N$27="","",SUM(N28:N30)) -> 6 | O31: =IF(O$27="","",SUM(O28:O30)) -> 21 | P31: =IF(P$27="","",SUM(P28:P30)) -> 21 | Q31: =IF(Q$27="","",SUM(Q28:Q30)) -> 18 | R31: =IF(R$27="","",SUM(R28:R30)) -> 3 | ... V31: =IF(V$27="","",SUM(V28:V30)) -> 3 | W31: =SUM(W28:W30) -> 135
C39: ="ધોરણ-"&HOME!$A$6 -> ધોરણ-6 | D39: =COUNTIF($C$7:$C$26,$R$20) -> 3 | E39: =COUNTIF($C$7:$C$26,$R$21) -> 2 | F39: =COUNTIF($C$7:$C$26,$R$22) -> 3 | J39: ="ધોરણ-"&HOME!$A$6 -> ધોરણ-6 | K39: =COUNTIF($C$7:$C$26,K27) -> 2 | L39: =COUNTIF($C$7:$C$26,L27) -> 2 | M39: =COUNTIF($C$7:$C$26,M27) -> 1 | N39: =COUNTIF($C$7:$C$26,N27) -> 0 | O39: =COUNTIF($C$7:$C$26,O27) -> 1 | P39: =COUNTIF($C$7:$C$26,P27) -> 1 | Q39: =COUNTIF($C$7:$C$26,Q27) -> 1 | R39: =COUNTIF($C$7:$C$26,R27) -> 0 | ... V39: =COUNTIF($C$7:$C$26,V27) -> 0
D40: =COUNTIF($F$7:$F$26,$R$20) -> 4 | E40: =COUNTIF($F$7:$F$26,$R$21) -> 2 | F40: =COUNTIF($F$7:$F$26,$R$22) -> 2 | K40: =COUNTIF($F$7:$F$26,K27) -> 1 | L40: =COUNTIF($F$7:$F$26,L27) -> 1 | M40: =COUNTIF($F$7:$F$26,M27) -> 1 | N40: =COUNTIF($F$7:$F$26,N27) -> 0 | O40: =COUNTIF($F$7:$F$26,O27) -> 1 | P40: =COUNTIF($F$7:$F$26,P27) -> 1 | Q40: =COUNTIF($F$7:$F$26,Q27) -> 1 | R40: =COUNTIF($F$7:$F$26,R27) -> 0 | ... V40: =COUNTIF($F$7:$F$26,V27) -> 1
D41: =COUNTIF($I$7:$I$26,$R$20) -> 3 | E41: =COUNTIF($I$7:$I$26,$R$21) -> 2 | F41: =COUNTIF($I$7:$I$26,$R$22) -> 3 | K41: =COUNTIF($I$7:$I$26,K27) -> 1 | L41: =COUNTIF($I$7:$I$26,L27) -> 1 | M41: =COUNTIF($I$7:$I$26,M27) -> 2 | N41: =COUNTIF($I$7:$I$26,N27) -> 0 | O41: =COUNTIF($I$7:$I$26,O27) -> 1 | P41: =COUNTIF($I$7:$I$26,P27) -> 1 | Q41: =COUNTIF($I$7:$I$26,Q27) -> 1 | R41: =COUNTIF($I$7:$I$26,R27) -> 0 | ... V41: =COUNTIF($I$7:$I$26,V27) -> 0
D42: =COUNTIF($L$7:$L$26,$R$20) -> 3 | E42: =COUNTIF($L$7:$L$26,$R$21) -> 2 | F42: =COUNTIF($L$7:$L$26,$R$22) -> 3 | K42: =COUNTIF($L$7:$L$26,K27) -> 1 | L42: =COUNTIF($L$7:$L$26,L27) -> 0 | M42: =COUNTIF($L$7:$L$26,M27) -> 1 | N42: =COUNTIF($L$7:$L$26,N27) -> 1 | O42: =COUNTIF($L$7:$L$26,O27) -> 1 | P42: =COUNTIF($L$7:$L$26,P27) -> 1 | Q42: =COUNTIF($L$7:$L$26,Q27) -> 2 | R42: =COUNTIF($L$7:$L$26,R27) -> 0 | ... V42: =COUNTIF($L$7:$L$26,V27) -> 0
D43: =COUNTIF($O$7:$O$26,$R$20) -> 2 | E43: =COUNTIF($O$7:$O$26,$R$21) -> 4 | F43: =COUNTIF($O$7:$O$26,$R$22) -> 2 | K43: =COUNTIF($O$7:$O$26,K27) -> 1 | L43: =COUNTIF($O$7:$O$26,L27) -> 1 | M43: =COUNTIF($O$7:$O$26,M27) -> 1 | N43: =COUNTIF($O$7:$O$26,N27) -> 0 | O43: =COUNTIF($O$7:$O$26,O27) -> 2 | P43: =COUNTIF($O$7:$O$26,P27) -> 2 | Q43: =COUNTIF($O$7:$O$26,Q27) -> 1 | R43: =COUNTIF($O$7:$O$26,R27) -> 0 | ... V43: =COUNTIF($O$7:$O$26,V27) -> 0
D44: =COUNTIF($R$7:$R$18,$R$20) -> 0 | E44: =COUNTIF($R$7:$R$18,$R$21) -> 3 | F44: =COUNTIF($R$7:$R$18,$R$22) -> 2 | K44: =COUNTIF($R$7:$R$18,K27) -> 1 | L44: =COUNTIF($R$7:$R$18,L27) -> 0 | M44: =COUNTIF($R$7:$R$18,M27) -> 0 | N44: =COUNTIF($R$7:$R$18,N27) -> 1 | O44: =COUNTIF($R$7:$R$18,O27) -> 1 | P44: =COUNTIF($R$7:$R$18,P27) -> 1 | Q44: =COUNTIF($R$7:$R$18,Q27) -> 0 | R44: =COUNTIF($R$7:$R$18,R27) -> 1 | ... V44: =COUNTIF($R$7:$R$18,V27) -> 0
D45: =SUM(D39:D44) -> 15 | E45: =SUM(E39:E44) -> 15 | F45: =SUM(F39:F44) -> 15 | K45: =SUM(K39:K44) -> 7 | L45: =SUM(L39:L44) -> 5 | M45: =SUM(M39:M44) -> 6 | N45: =SUM(N39:N44) -> 2 | O45: =SUM(O39:O44) -> 7 | P45: =SUM(P39:P44) -> 7 | Q45: =SUM(Q39:Q44) -> 6 | R45: =SUM(R39:R44) -> 1 | ... V45: =SUM(V39:V44) -> 1
C46: ="ધોરણ-"&HOME!$A$7 -> ધોરણ-7 | D46: =COUNTIF($D$7:$D$26,$R$20) -> 3 | E46: =COUNTIF($D$7:$D$26,$R$21) -> 3 | F46: =COUNTIF($D$7:$D$26,$R$22) -> 2 | J46: ="ધોરણ-"&HOME!$A$7 -> ધોરણ-7 | K46: =COUNTIF($D$7:$D$26,K27) -> 1 | L46: =COUNTIF($D$7:$D$26,L27) -> 1 | M46: =COUNTIF($D$7:$D$26,M27) -> 1 | N46: =COUNTIF($D$7:$D$26,N27) -> 0 | O46: =COUNTIF($D$7:$D$26,O27) -> 2 | P46: =COUNTIF($D$7:$D$26,P27) -> 1 | Q46: =COUNTIF($D$7:$D$26,Q27) -> 2 | R46: =COUNTIF($D$7:$D$26,R27) -> 0 | ... V46: =COUNTIF($D$7:$D$26,V27) -> 0
D47: =COUNTIF($G$7:$G$26,$R$20) -> 2 | E47: =COUNTIF($G$7:$G$26,$R$21) -> 4 | F47: =COUNTIF($G$7:$G$26,$R$22) -> 2 | K47: =COUNTIF($G$7:$G$26,K27) -> 1 | L47: =COUNTIF($G$7:$G$26,L27) -> 1 | M47: =COUNTIF($G$7:$G$26,M27) -> 1 | N47: =COUNTIF($G$7:$G$26,N27) -> 0 | O47: =COUNTIF($G$7:$G$26,O27) -> 2 | P47: =COUNTIF($G$7:$G$26,P27) -> 2 | Q47: =COUNTIF($G$7:$G$26,Q27) -> 1 | R47: =COUNTIF($G$7:$G$26,R27) -> 0 | ... V47: =COUNTIF($G$7:$G$26,V27) -> 0
...

Sheet STD-6
A1: ='GENERAL TIME TABLE'!A2&" "&'GENERAL TIME TABLE'!C2&" "&'GENERAL TIME TABLE'!R2&""&'GENERAL TIME TABLE'!S2 -> શાળા : શ્રી નોખાણિયા પં. પ્રા.શાળા, તા.ભુજ, જિ.કચ્છ વર્ષ :2026-'27
A3: ="સમયપત્રક (ધોરણ-"&HOME!$A$6&")" -> સમયપત્રક (ધોરણ-6)
A4: તાસ | B4: સમય | C4: સોમવાર | D4: મંગળવાર | E4: બુધવાર | F4: ગુરુવાર | G4: શુક્રવાર | H4: તાસ | I4: સમય | J4: શનિવાર
B5: ='GENERAL TIME TABLE'!$B$5 -> 10:30-10:45 | C5: ='GENERAL TIME TABLE'!$C$5 -> સમૂહજીવન, શાળાસફાઈ અને શૈક્ષણિક કાર્ય માટેની પૂર્વતૈયારી | I5: ='GENERAL TIME TABLE'!$U$5 -> 07:00-07:20 | J5: શાળાસફાઈ
B6: ='GENERAL TIME TABLE'!$B$6 -> 10:45 - 11:10 | C6: ='GENERAL TIME TABLE'!$C$6 -> પ્રાર્થના સંમેલન | I6: ='GENERAL TIME TABLE'!$U$6 -> 07:30-07:50 | J6: પ્રાર્થના
A7: 1 | B7: ='GENERAL TIME TABLE'!$B$7 -> 11:10-11:50 | C7: ='GENERAL TIME TABLE'!C8 -> સા.વિ. | D7: ='GENERAL TIME TABLE'!F8 -> સા.વિ. | E7: ='GENERAL TIME TABLE'!I8 -> સા.વિ. | F7: ='GENERAL TIME TABLE'!L8 -> સા.વિ. | G7: ='GENERAL TIME TABLE'!O8 -> સા.વિ. | H7: 1 | I7: ='GENERAL TIME TABLE'!$U$7 -> 07:50-08:35 | J7: ='GENERAL TIME TABLE'!R8 -> શા.શિ.
A8: 2 | B8: ='GENERAL TIME TABLE'!$B$9 -> 11:50-12:30 | C8: ='GENERAL TIME TABLE'!C10 -> હિન્દી | D8: ='GENERAL TIME TABLE'!F10 -> હિન્દી | E8: ='GENERAL TIME TABLE'!I10 -> હિન્દી | F8: ='GENERAL TIME TABLE'!L10 -> સા.વિ. | G8: ='GENERAL TIME TABLE'!O10 -> હિન્દી | H8: 2 | I8: ='GENERAL TIME TABLE'!$U$9 -> 08:35-09:15 | J8: ='GENERAL TIME TABLE'!R10 -> સંસ્કૃત
B9: ='GENERAL TIME TABLE'!$B$11 -> 12:30-12:40 | C9: ='GENERAL TIME TABLE'!$C$11 -> વિરામ | H9: 3 | I9: ='GENERAL TIME TABLE'!$U$11 -> 09:15-10:00 | J9: ='GENERAL TIME TABLE'!R12 -> ગણિત
A10: 3 | B10: ='GENERAL TIME TABLE'!$B$13 -> 12:40-01:15 | C10: ='GENERAL TIME TABLE'!C14 -> ગુજરાતી | D10: ='GENERAL TIME TABLE'!F14 -> ગુજરાતી | E10: ='GENERAL TIME TABLE'!I14 -> ગુજરાતી | F10: ='GENERAL TIME TABLE'!L14 -> ગુજરાતી | G10: ='GENERAL TIME TABLE'!O14 -> ગુજરાતી | I10: ='GENERAL TIME TABLE'!$U$13 -> 10:00-10:30 | J10: વિરામ
A11: 4 | B11: ='GENERAL TIME TABLE'!$B$15 -> 01:15 -01:50 | C11: ='GENERAL TIME TABLE'!C16 -> અંગ્રેજી | D11: ='GENERAL TIME TABLE'!F16 -> અંગ્રેજી | E11: ='GENERAL TIME TABLE'!I16 -> અંગ્રેજી | F11: ='GENERAL TIME TABLE'!L16 -> અંગ્રેજી | G11: ='GENERAL TIME TABLE'!O16 -> અંગ્રેજી | H11: 4 | I11: ='GENERAL TIME TABLE'!$U$15 -> 10:30-11:00 | J11: ='GENERAL TIME TABLE'!R16 -> ગુજરાતી
B12: ='GENERAL TIME TABLE'!$B$17 -> 01:50-02:30 | C12: ='GENERAL TIME TABLE'!$C$17 -> મધ્યાહન ભોજન - વિરામ | H12: 5 | I12: ='GENERAL TIME TABLE'!$U$17 -> 11:00-11:30 | J12: ='GENERAL TIME TABLE'!R18 -> વિજ્ઞાન
A13: 5 | B13: ='GENERAL TIME TABLE'!$B$18 -> 02:30-03:05 | C13: ='GENERAL TIME TABLE'!C19 -> ગણિત | D13: ='GENERAL TIME TABLE'!F19 -> ગણિત | E13: ='GENERAL TIME TABLE'!I19 -> ગણિત | F13: ='GENERAL TIME TABLE'!L19 -> ગણિત | G13: ='GENERAL TIME TABLE'!O19 -> ગણિત | H13: : વર્ગ શિક્ષકશ્રી :
A14: 6 | B14: ='GENERAL TIME TABLE'!$B$20 -> 03:05-03:40 | C14: ='GENERAL TIME TABLE'!C21 -> વિજ્ઞાન | D14: ='GENERAL TIME TABLE'!F21 -> વિજ્ઞાન | E14: ='GENERAL TIME TABLE'!I21 -> વિજ્ઞાન | F14: ='GENERAL TIME TABLE'!L21 -> વિજ્ઞાન | G14: ='GENERAL TIME TABLE'!O21 -> વિજ્ઞાન
B15: ='GENERAL TIME TABLE'!$B$22 -> 03:40-03:50 | C15: ='GENERAL TIME TABLE'!$C$22 -> વિરામ | H15: =IF(HOME!$B$6="","",HOME!$B$6) -> મહેતા નિરાલી દિક્ષિતભાઈ
A16: 7 | B16: ='GENERAL TIME TABLE'!$B$23 -> 03:50-04:25 | C16: ='GENERAL TIME TABLE'!C24 -> હિન્દી | D16: ='GENERAL TIME TABLE'!F24 -> સંગીત | E16: ='GENERAL TIME TABLE'!I24 -> ચિત્ર | F16: ='GENERAL TIME TABLE'!L24 -> કમ્પ્યુટર | G16: ='GENERAL TIME TABLE'!O24 -> ગણિત
A17: 8 | B17: ='GENERAL TIME TABLE'!$B$25 -> 04:25-05:00 | C17: ='GENERAL TIME TABLE'!C26 -> ગુજરાતી | D17: ='GENERAL TIME TABLE'!F26 -> સર્વાંગી | E17: ='GENERAL TIME TABLE'!I26 -> અંગ્રેજી | F17: ='GENERAL TIME TABLE'!L26 -> સંસ્કૃત | G17: ='GENERAL TIME TABLE'!O26 -> વિજ્ઞાન

Sheet STD-7
A1: ='GENERAL TIME TABLE'!A2&" "&'GENERAL TIME TABLE'!C2&" "&'GENERAL TIME TABLE'!R2&""&'GENERAL TIME TABLE'!S2 -> શાળા : શ્રી નોખાણિયા પં. પ્રા.શાળા, તા.ભુજ, જિ.કચ્છ વર્ષ :2026-'27
A3: ="સમયપત્રક (ધોરણ-"&HOME!$A$7&")" -> સમયપત્રક (ધોરણ-7)
A4: તાસ | B4: સમય | C4: સોમવાર | D4: મંગળવાર | E4: બુધવાર | F4: ગુરુવાર | G4: શુક્રવાર | H4: તાસ | I4: સમય | J4: શનિવાર
B5: ='GENERAL TIME TABLE'!$B$5 -> 10:30-10:45 | C5: ='GENERAL TIME TABLE'!$C$5 -> સમૂહજીવન, શાળાસફાઈ અને શૈક્ષણિક કાર્ય માટેની પૂર્વતૈયારી | I5: ='GENERAL TIME TABLE'!$U$5 -> 07:00-07:20 | J5: શાળાસફાઈ
B6: ='GENERAL TIME TABLE'!$B$6 -> 10:45 - 11:10 | C6: ='GENERAL TIME TABLE'!$C$6 -> પ્રાર્થના સંમેલન | I6: ='GENERAL TIME TABLE'!$U$6 -> 07:30-07:50 | J6: પ્રાર્થના
A7: 1 | B7: ='GENERAL TIME TABLE'!$B$7 -> 11:10-11:50 | C7: ='GENERAL TIME TABLE'!D8 -> ગણિત | D7: ='GENERAL TIME TABLE'!G8 -> ગણિત | E7: ='GENERAL TIME TABLE'!J8 -> ગણિત | F7: ='GENERAL TIME TABLE'!M8 -> ગણિત | G7: ='GENERAL TIME TABLE'!P8 -> ગણિત | H7: 1 | I7: ='GENERAL TIME TABLE'!$U$7 -> 07:50-08:35 | J7: ='GENERAL TIME TABLE'!S8 -> સંસ્કૃત
A8: 2 | B8: ='GENERAL TIME TABLE'!$B$9 -> 11:50-12:30 | C8: ='GENERAL TIME TABLE'!D10 -> વિજ્ઞાન | D8: ='GENERAL TIME TABLE'!G10 -> વિજ્ઞાન | E8: ='GENERAL TIME TABLE'!J10 -> વિજ્ઞાન | F8: ='GENERAL TIME TABLE'!M10 -> વિજ્ઞાન | G8: ='GENERAL TIME TABLE'!P10 -> વિજ્ઞાન | H8: 2 | I8: ='GENERAL TIME TABLE'!$U$9 -> 08:35-09:15 | J8: ='GENERAL TIME TABLE'!S10 -> શા.શિ.
B9: ='GENERAL TIME TABLE'!$B$11 -> 12:30-12:40 | C9: ='GENERAL TIME TABLE'!$C$11 -> વિરામ | H9: 3 | I9: ='GENERAL TIME TABLE'!$U$11 -> 09:15-10:00 | J9: ='GENERAL TIME TABLE'!S12 -> ગુજરાતી
A10: 3 | B10: ='GENERAL TIME TABLE'!$B$13 -> 12:40-01:15 | C10: ='GENERAL TIME TABLE'!D14 -> સા.વિ. | D10: ='GENERAL TIME TABLE'!G14 -> સા.વિ. | E10: ='GENERAL TIME TABLE'!J14 -> સા.વિ. | F10: ='GENERAL TIME TABLE'!M14 -> સા.વિ. | G10: ='GENERAL TIME TABLE'!P14 -> સા.વિ. | I10: ='GENERAL TIME TABLE'!$U$13 -> 10:00-10:30 | J10: વિરામ
A11: 4 | B11: ='GENERAL TIME TABLE'!$B$15 -> 01:15 -01:50 | C11: ='GENERAL TIME TABLE'!D16 -> સા.વિ. | D11: ='GENERAL TIME TABLE'!G16 -> હિન્દી | E11: ='GENERAL TIME TABLE'!J16 -> હિન્દી | F11: ='GENERAL TIME TABLE'!M16 -> હિન્દી | G11: ='GENERAL TIME TABLE'!P16 -> હિન્દી | H11: 4 | I11: ='GENERAL TIME TABLE'!$U$15 -> 10:30-11:00 | J11: ='GENERAL TIME TABLE'!S16 -> સંગીત
B12: ='GENERAL TIME TABLE'!$B$17 -> 01:50-02:30 | C12: ='GENERAL TIME TABLE'!$C$17 -> મધ્યાહન ભોજન - વિરામ | H12: 5 | I12: ='GENERAL TIME TABLE'!$U$17 -> 11:00-11:30 | J12: ='GENERAL TIME TABLE'!S18 -> ચિત્ર
A13: 5 | B13: ='GENERAL TIME TABLE'!$B$18 -> 02:30-03:05 | C13: ='GENERAL TIME TABLE'!D19 -> ગુજરાતી | D13: ='GENERAL TIME TABLE'!G19 -> ગુજરાતી | E13: ='GENERAL TIME TABLE'!J19 -> ગુજરાતી | F13: ='GENERAL TIME TABLE'!M19 -> ગુજરાતી | G13: ='GENERAL TIME TABLE'!P19 -> ગુજરાતી | H13: : વર્ગ શિક્ષકશ્રી :
A14: 6 | B14: ='GENERAL TIME TABLE'!$B$20 -> 03:05-03:40 | C14: ='GENERAL TIME TABLE'!D21 -> અંગ્રેજી | D14: ='GENERAL TIME TABLE'!G21 -> અંગ્રેજી | E14: ='GENERAL TIME TABLE'!J21 -> અંગ્રેજી | F14: ='GENERAL TIME TABLE'!M21 -> અંગ્રેજી | G14: ='GENERAL TIME TABLE'!P21 -> અંગ્રેજી
B15: ='GENERAL TIME TABLE'!$B$22 -> 03:40-03:50 | C15: ='GENERAL TIME TABLE'!$C$22 -> વિરામ | H15: =IF(HOME!$B$7="","",HOME!$B$7) -> ઓડેદરા કેશુભાઈ ગીગાભાઈ
A16: 7 | B16: ='GENERAL TIME TABLE'!$B$23 -> 03:50-04:25 | C16: ='GENERAL TIME TABLE'!D24 -> ગણિત | D16: ='GENERAL TIME TABLE'!G24 -> ગણિત | E16: ='GENERAL TIME TABLE'!J24 -> અંગ્રેજી | F16: ='GENERAL TIME TABLE'!M24 -> સંસ્કૃત | G16: ='GENERAL TIME TABLE'!P24 -> ગુજરાતી
A17: 8 | B17: ='GENERAL TIME TABLE'!$B$25 -> 04:25-05:00 | C17: ='GENERAL TIME TABLE'!D26 -> હિન્દી | D17: ='GENERAL TIME TABLE'!G26 -> વિજ્ઞાન | E17: ='GENERAL TIME TABLE'!J26 -> વિજ્ઞાન | F17: ='GENERAL TIME TABLE'!M26 -> કમ્પ્યુટર | G17: ='GENERAL TIME TABLE'!P26 -> સર્વાંગી

Sheet STD-8
A1: ='GENERAL TIME TABLE'!A2&" "&'GENERAL TIME TABLE'!C2&" "&'GENERAL TIME TABLE'!R2&""&'GENERAL TIME TABLE'!S2 -> શાળા : શ્રી નોખાણિયા પં. પ્રા.શાળા, તા.ભુજ, જિ.કચ્છ વર્ષ :2026-'27
A3: ="સમયપત્રક (ધોરણ-"&HOME!$A$8&")" -> સમયપત્રક (ધોરણ-8)
A4: તાસ | B4: સમય | C4: સોમવાર | D4: મંગળવાર | E4: બુધવાર | F4: ગુરુવાર | G4: શુક્રવાર | H4: તાસ | I4: સમય | J4: શનિવાર
B5: ='GENERAL TIME TABLE'!$B$5 -> 10:30-10:45 | C5: ='GENERAL TIME TABLE'!$C$5 -> સમૂહજીવન, શાળાસફાઈ અને શૈક્ષણિક કાર્ય માટેની પૂર્વતૈયારી | I5: ='GENERAL TIME TABLE'!$U$5 -> 07:00-07:20 | J5: શાળાસફાઈ
B6: ='GENERAL TIME TABLE'!$B$6 -> 10:45 - 11:10 | C6: ='GENERAL TIME TABLE'!$C$6 -> પ્રાર્થના સંમેલન | I6: ='GENERAL TIME TABLE'!$U$6 -> 07:30-07:50 | J6: પ્રાર્થના
A7: 1 | B7: ='GENERAL TIME TABLE'!$B$7 -> 11:10-11:50 | C7: ='GENERAL TIME TABLE'!E8 -> ગુજરાતી | D7: ='GENERAL TIME TABLE'!H8 -> ગુજરાતી | E7: ='GENERAL TIME TABLE'!K8 -> ગુજરાતી | F7: ='GENERAL TIME TABLE'!N8 -> ગુજરાતી | G7: ='GENERAL TIME TABLE'!Q8 -> ગુજરાતી | H7: 1 | I7: ='GENERAL TIME TABLE'!$U$7 -> 07:50-08:35 | J7: ='GENERAL TIME TABLE'!T8 -> શા.શિ.
A8: 2 | B8: ='GENERAL TIME TABLE'!$B$9 -> 11:50-12:30 | C8: ='GENERAL TIME TABLE'!E10 -> અંગ્રેજી | D8: ='GENERAL TIME TABLE'!H10 -> અંગ્રેજી | E8: ='GENERAL TIME TABLE'!K10 -> અંગ્રેજી | F8: ='GENERAL TIME TABLE'!N10 -> અંગ્રેજી | G8: ='GENERAL TIME TABLE'!Q10 -> અંગ્રેજી | H8: 2 | I8: ='GENERAL TIME TABLE'!$U$9 -> 08:35-09:15 | J8: ='GENERAL TIME TABLE'!T10 -> ચિત્ર
B9: ='GENERAL TIME TABLE'!$B$11 -> 12:30-12:40 | C9: ='GENERAL TIME TABLE'!$C$11 -> વિરામ | H9: 3 | I9: ='GENERAL TIME TABLE'!$U$11 -> 09:15-10:00 | J9: ='GENERAL TIME TABLE'!T12 -> સા.વિ.
A10: 3 | B10: ='GENERAL TIME TABLE'!$B$13 -> 12:40-01:15 | C10: ='GENERAL TIME TABLE'!E14 -> ગણિત | D10: ='GENERAL TIME TABLE'!H14 -> ગણિત | E10: ='GENERAL TIME TABLE'!K14 -> ગણિત | F10: ='GENERAL TIME TABLE'!N14 -> ગણિત | G10: ='GENERAL TIME TABLE'!Q14 -> ગણિત | I10: ='GENERAL TIME TABLE'!$U$13 -> 10:00-10:30 | J10: વિરામ
A11: 4 | B11: ='GENERAL TIME TABLE'!$B$15 -> 01:15 -01:50 | C11: ='GENERAL TIME TABLE'!E16 -> વિજ્ઞાન | D11: ='GENERAL TIME TABLE'!H16 -> વિજ્ઞાન | E11: ='GENERAL TIME TABLE'!K16 -> વિજ્ઞાન | F11: ='GENERAL TIME TABLE'!N16 -> વિજ્ઞાન | G11: ='GENERAL TIME TABLE'!Q16 -> વિજ્ઞાન | H11: 4 | I11: ='GENERAL TIME TABLE'!$U$15 -> 10:30-11:00 | J11: ='GENERAL TIME TABLE'!T16 -> વિજ્ઞાન
B12: ='GENERAL TIME TABLE'!$B$17 -> 01:50-02:30 | C12: ='GENERAL TIME TABLE'!$C$17 -> મધ્યાહન ભોજન - વિરામ | H12: 5 | I12: ='GENERAL TIME TABLE'!$U$17 -> 11:00-11:30 | J12: ='GENERAL TIME TABLE'!T18 -> સંસ્કૃત
A13: 5 | B13: ='GENERAL TIME TABLE'!$B$18 -> 02:30-03:05 | C13: ='GENERAL TIME TABLE'!E19 -> સા.વિ. | D13: ='GENERAL TIME TABLE'!H19 -> સા.વિ. | E13: ='GENERAL TIME TABLE'!K19 -> સા.વિ. | F13: ='GENERAL TIME TABLE'!N19 -> સા.વિ. | G13: ='GENERAL TIME TABLE'!Q19 -> સા.વિ. | H13: : વર્ગ શિક્ષકશ્રી :
A14: 6 | B14: ='GENERAL TIME TABLE'!$B$20 -> 03:05-03:40 | C14: ='GENERAL TIME TABLE'!E21 -> હિન્દી | D14: ='GENERAL TIME TABLE'!H21 -> હિન્દી | E14: ='GENERAL TIME TABLE'!K21 -> હિન્દી | F14: ='GENERAL TIME TABLE'!N21 -> હિન્દી | G14: ='GENERAL TIME TABLE'!Q21 -> હિન્દી
B15: ='GENERAL TIME TABLE'!$B$22 -> 03:40-03:50 | C15: ='GENERAL TIME TABLE'!$C$22 -> વિરામ | H15: =IF(HOME!$B$8="","",HOME!$B$8) -> બુચ બ્રિજેશ જનકરાય
A16: 7 | B16: ='GENERAL TIME TABLE'!$B$23 -> 03:50-04:25 | C16: ='GENERAL TIME TABLE'!E24 -> સંસ્કૃત | D16: ='GENERAL TIME TABLE'!H24 -> ગુજરાતી | E16: ='GENERAL TIME TABLE'!K24 -> ગણિત | F16: ='GENERAL TIME TABLE'!N24 -> વિજ્ઞાન | G16: ='GENERAL TIME TABLE'!Q24 -> સંગીત
A17: 8 | B17: ='GENERAL TIME TABLE'!$B$25 -> 04:25-05:00 | C17: ='GENERAL TIME TABLE'!E26 -> ગણિત | D17: ='GENERAL TIME TABLE'!H26 -> ગુજરાતી | E17: ='GENERAL TIME TABLE'!K26 -> સર્વાંગી | F17: ='GENERAL TIME TABLE'!N26 -> કમ્પ્યુટર | G17: ='GENERAL TIME TABLE'!Q26 -> અંગ્રેજી

Sheet T-1
A1: ='GENERAL TIME TABLE'!A2&" "&'GENERAL TIME TABLE'!C2&" "&'GENERAL TIME TABLE'!R2&""&'GENERAL TIME TABLE'!S2 -> શાળા : શ્રી નોખાણિયા પં. પ્રા.શાળા, તા.ભુજ, જિ.કચ્છ વર્ષ :2026-'27
A3: શિક્ષકનું સમયપત્રક
A4: તાસ | B4: સમય | C4: સોમવાર | D4: મંગળવાર | E4: બુધવાર | F4: ગુરુવાર | G4: શુક્રવાર | H4: તાસ | I4: સમય | J4: શનિવાર
B5: ='GENERAL TIME TABLE'!$B$5 -> 10:30-10:45 | C5: ='GENERAL TIME TABLE'!$C$5 -> સમૂહજીવન, શાળાસફાઈ અને શૈક્ષણિક કાર્ય માટેની પૂર્વતૈયારી | I5: ='GENERAL TIME TABLE'!$U$5 -> 07:00-07:20 | J5: શાળાસફાઈ
B6: ='GENERAL TIME TABLE'!$B$6 -> 10:45 - 11:10 | C6: ='GENERAL TIME TABLE'!$C$6 -> પ્રાર્થના સંમેલન | I6: ='GENERAL TIME TABLE'!$U$6 -> 07:30-07:50 | J6: પ્રાર્થના
A7: 1 | B7: ='GENERAL TIME TABLE'!$B$7 -> 11:10-11:50 | C7: =IF('GENERAL TIME TABLE'!$C$7='GENERAL TIME TABLE'!$R$20,'GENERAL TIME TABLE'!$C$8&"-"&HOME!$A$6,IF('GENERAL TIME TABLE'!$D$7='GENERAL TIME TABLE'!$R$20,'GENERAL TIME TABLE'!$D$8&"-"&HOME!$A$7,IF('GENERAL TIME TABLE'!$E$7='GENERAL TIME TABLE'!$R$20,'GENERAL TIME TABLE'!$E$8&"-"&HOME!$A$8,""))) -> સા.વિ.-6 | D7: =IF('GENERAL TIME TABLE'!$F$7='GENERAL TIME TABLE'!$R$20,'GENERAL TIME TABLE'!$F$8&"-"&HOME!$A$6,IF('GENERAL TIME TABLE'!$G$7='GENERAL TIME TABLE'!$R$20,'GENERAL TIME TABLE'!$G$8&"-"&HOME!$A$7,IF('GENERAL TIME TABLE'!$H$7='GENERAL TIME TABLE'!$R$20,'GENERAL TIME TABLE'!$H$8&"-"&HOME!$A$8,""))) -> સા.વિ.-6 | E7: =IF('GENERAL TIME TABLE'!$I$7='GENERAL TIME TABLE'!$R$20,'GENERAL TIME TABLE'!$I$8&"-"&HOME!$A$6,IF('GENERAL TIME TABLE'!$J$7='GENERAL TIME TABLE'!$R$20,'GENERAL TIME TABLE'!$J$8&"-"&HOME!$A$7,IF('GENERAL TIME TABLE'!$K$7='GENERAL TIME TABLE'!$R$20,'GENERAL TIME TABLE'!$K$8&"-"&HOME!$A$8,""))) -> સા.વિ.-6 | F7: =IF('GENERAL TIME TABLE'!$L$7='GENERAL TIME TABLE'!$R$20,'GENERAL TIME TABLE'!$L$8&"-"&HOME!$A$6,IF('GENERAL TIME TABLE'!$M$7='GENERAL TIME TABLE'!$R$20,'GENERAL TIME TABLE'!$M$8&"-"&HOME!$A$7,IF('GENERAL TIME TABLE'!$N$7='GENERAL TIME TABLE'!$R$20,'GENERAL TIME TABLE'!$N$8&"-"&HOME!$A$8,""))) -> સા.વિ.-6 | G7: =IF('GENERAL TIME TABLE'!$O$7='GENERAL TIME TABLE'!$R$20,'GENERAL TIME TABLE'!$O$8&"-"&HOME!$A$6,IF('GENERAL TIME TABLE'!$P$7='GENERAL TIME TABLE'!$R$20,'GENERAL TIME TABLE'!$P$8&"-"&HOME!$A$7,IF('GENERAL TIME TABLE'!$Q$7='GENERAL TIME TABLE'!$R$20,'GENERAL TIME TABLE'!$Q$8&"-"&HOME!$A$8,""))) -> સા.વિ.-6 | H7: 1 | I7: ='GENERAL TIME TABLE'!$U$7 -> 07:50-08:35 | J7: =IF('GENERAL TIME TABLE'!$R$7='GENERAL TIME TABLE'!$R$20,'GENERAL TIME TABLE'!$R$8&"-"&HOME!$A$6,IF('GENERAL TIME TABLE'!$S$7='GENERAL TIME TABLE'!$R$20,'GENERAL TIME TABLE'!$S$8&"-"&HOME!$A$7,IF('GENERAL TIME TABLE'!$T$7='GENERAL TIME TABLE'!$R$20,'GENERAL TIME TABLE'!$T$8&"-"&HOME!$A$8,""))) -> શા.શિ.-8
A8: 2 | B8: ='GENERAL TIME TABLE'!$B$9 -> 11:50-12:30 | C8: =IF('GENERAL TIME TABLE'!$C$9='GENERAL TIME TABLE'!$R$20,'GENERAL TIME TABLE'!$C$10&"-"&HOME!$A$6,IF('GENERAL TIME TABLE'!$D$9='GENERAL TIME TABLE'!$R$20,'GENERAL TIME TABLE'!$D$10&"-"&HOME!$A$7,IF('GENERAL TIME TABLE'!$E$9='GENERAL TIME TABLE'!$R$20,'GENERAL TIME TABLE'!$E$10&"-"&HOME!$A$8,""))) -> હિન્દી-6 | D8: =IF('GENERAL TIME TABLE'!$F$9='GENERAL TIME TABLE'!$R$20,'GENERAL TIME TABLE'!$F$10&"-"&HOME!$A$6,IF('GENERAL TIME TABLE'!$G$9='GENERAL TIME TABLE'!$R$20,'GENERAL TIME TABLE'!$G$10&"-"&HOME!$A$7,IF('GENERAL TIME TABLE'!$H$9='GENERAL TIME TABLE'!$R$20,'GENERAL TIME TABLE'!$H$10&"-"&HOME!$A$8,""))) -> હિન્દી-6 | E8: =IF('GENERAL TIME TABLE'!$I$9='GENERAL TIME TABLE'!$R$20,'GENERAL TIME TABLE'!$I$10&"-"&HOME!$A$6,IF('GENERAL TIME TABLE'!$J$9='GENERAL TIME TABLE'!$R$20,'GENERAL TIME TABLE'!$J$10&"-"&HOME!$A$7,IF('GENERAL TIME TABLE'!$K$9='GENERAL TIME TABLE'!$R$20,'GENERAL TIME TABLE'!$K$10&"-"&HOME!$A$8,""))) -> હિન્દી-6 | F8: =IF('GENERAL TIME TABLE'!$L$9='GENERAL TIME TABLE'!$R$20,'GENERAL TIME TABLE'!$L$10&"-"&HOME!$A$6,IF('GENERAL TIME TABLE'!$M$9='GENERAL TIME TABLE'!$R$20,'GENERAL TIME TABLE'!$M$10&"-"&HOME!$A$7,IF('GENERAL TIME TABLE'!$N$9='GENERAL TIME TABLE'!$R$20,'GENERAL TIME TABLE'!$N$10&"-"&HOME!$A$8,""))) -> સા.વિ.-6 | G8: =IF('GENERAL TIME TABLE'!$O$9='GENERAL TIME TABLE'!$R$20,'GENERAL TIME TABLE'!$O$10&"-"&HOME!$A$6,IF('GENERAL TIME TABLE'!$P$9='GENERAL TIME TABLE'!$R$20,'GENERAL TIME TABLE'!$P$10&"-"&HOME!$A$7,IF('GENERAL TIME TABLE'!$Q$9='GENERAL TIME TABLE'!$R$20,'GENERAL TIME TABLE'!$Q$10&"-"&HOME!$A$8,""))) -> હિન્દી-6 | H8: 2 | I8: ='GENERAL TIME TABLE'!$U$9 -> 08:35-09:15 | J8: =IF('GENERAL TIME TABLE'!$R$9='GENERAL TIME TABLE'!$R$20,'GENERAL TIME TABLE'!$R$10&"-"&HOME!$A$6,IF('GENERAL TIME TABLE'!$S$9='GENERAL TIME TABLE'!$R$20,'GENERAL TIME TABLE'!$S$10&"-"&HOME!$A$7,IF('GENERAL TIME TABLE'!$T$9='GENERAL TIME TABLE'!$R$20,'GENERAL TIME TABLE'!$T$10&"-"&HOME!$A$8,""))) -> શા.શિ.-7
B9: ='GENERAL TIME TABLE'!$B$11 -> 12:30-12:40 | C9: ='GENERAL TIME TABLE'!$C$11 -> વિરામ | H9: 3 | I9: ='GENERAL TIME TABLE'!$U$11 -> 09:15-10:00 | J9: =IF('GENERAL TIME TABLE'!$R$11='GENERAL TIME TABLE'!$R$20,'GENERAL TIME TABLE'!$R$12&"-"&HOME!$A$6,IF('GENERAL TIME TABLE'!$S$11='GENERAL TIME TABLE'!$R$20,'GENERAL TIME TABLE'!$S$12&"-"&HOME!$A$7,IF('GENERAL TIME TABLE'!$T$11='GENERAL TIME TABLE'!$R$20,'GENERAL TIME TABLE'!$T$12&"-"&HOME!$A$8,""))) -> સા.વિ.-8
A10: 3 | B10: ='GENERAL TIME TABLE'!$B$13 -> 12:40-01:15 | C10: =IF('GENERAL TIME TABLE'!$C$13='GENERAL TIME TABLE'!$R$20,'GENERAL TIME TABLE'!$C$14&"-"&HOME!$A$6,IF('GENERAL TIME TABLE'!$D$13='GENERAL TIME TABLE'!$R$20,'GENERAL TIME TABLE'!$D$14&"-"&HOME!$A$7,IF('GENERAL TIME TABLE'!$E$13='GENERAL TIME TABLE'!$R$20,'GENERAL TIME TABLE'!$E$14&"-"&HOME!$A$8,""))) -> સા.વિ.-7 | D10: =IF('GENERAL TIME TABLE'!$F$13='GENERAL TIME TABLE'!$R$20,'GENERAL TIME TABLE'!$F$14&"-"&HOME!$A$6,IF('GENERAL TIME TABLE'!$G$13='GENERAL TIME TABLE'!$R$20,'GENERAL TIME TABLE'!$G$14&"-"&HOME!$A$7,IF('GENERAL TIME TABLE'!$H$13='GENERAL TIME TABLE'!$R$20,'GENERAL TIME TABLE'!$H$14&"-"&HOME!$A$8,""))) -> સા.વિ.-7 | E10: =IF('GENERAL TIME TABLE'!$I$13='GENERAL TIME TABLE'!$R$20,'GENERAL TIME TABLE'!$I$14&"-"&HOME!$A$6,IF('GENERAL TIME TABLE'!$J$13='GENERAL TIME TABLE'!$R$20,'GENERAL TIME TABLE'!$J$14&"-"&HOME!$A$7,IF('GENERAL TIME TABLE'!$K$13='GENERAL TIME TABLE'!$R$20,'GENERAL TIME TABLE'!$K$14&"-"&HOME!$A$8,""))) -> સા.વિ.-7 | F10: =IF('GENERAL TIME TABLE'!$L$13='GENERAL TIME TABLE'!$R$20,'GENERAL TIME TABLE'!$L$14&"-"&HOME!$A$6,IF('GENERAL TIME TABLE'!$M$13='GENERAL TIME TABLE'!$R$20,'GENERAL TIME TABLE'!$M$14&"-"&HOME!$A$7,IF('GENERAL TIME TABLE'!$N$13='GENERAL TIME TABLE'!$R$20,'GENERAL TIME TABLE'!$N$14&"-"&HOME!$A$8,""))) -> સા.વિ.-7 | G10: =IF('GENERAL TIME TABLE'!$O$13='GENERAL TIME TABLE'!$R$20,'GENERAL TIME TABLE'!$O$14&"-"&HOME!$A$6,IF('GENERAL TIME TABLE'!$P$13='GENERAL TIME TABLE'!$R$20,'GENERAL TIME TABLE'!$P$14&"-"&HOME!$A$7,IF('GENERAL TIME TABLE'!$Q$13='GENERAL TIME TABLE'!$R$20,'GENERAL TIME TABLE'!$Q$14&"-"&HOME!$A$8,""))) -> સા.વિ.-7 | I10: ='GENERAL TIME TABLE'!$U$13 -> 10:00-10:30 | J10: વિરામ
A11: 4 | B11: ='GENERAL TIME TABLE'!$B$15 -> 01:15 -01:50 | C11: =IF('GENERAL TIME TABLE'!$C$15='GENERAL TIME TABLE'!$R$20,'GENERAL TIME TABLE'!$C$16&"-"&HOME!$A$6,IF('GENERAL TIME TABLE'!$D$15='GENERAL TIME TABLE'!$R$20,'GENERAL TIME TABLE'!$D$16&"-"&HOME!$A$7,IF('GENERAL TIME TABLE'!$E$15='GENERAL TIME TABLE'!$R$20,'GENERAL TIME TABLE'!$E$16&"-"&HOME!$A$8,""))) -> સા.વિ.-7 | D11: =IF('GENERAL TIME TABLE'!$F$15='GENERAL TIME TABLE'!$R$20,'GENERAL TIME TABLE'!$F$16&"-"&HOME!$A$6,IF('GENERAL TIME TABLE'!$G$15='GENERAL TIME TABLE'!$R$20,'GENERAL TIME TABLE'!$G$16&"-"&HOME!$A$7,IF('GENERAL TIME TABLE'!$H$15='GENERAL TIME TABLE'!$R$20,'GENERAL TIME TABLE'!$H$16&"-"&HOME!$A$8,""))) -> હિન્દી-7 | E11: =IF('GENERAL TIME TABLE'!$I$15='GENERAL TIME TABLE'!$R$20,'GENERAL TIME TABLE'!$I$16&"-"&HOME!$A$6,IF('GENERAL TIME TABLE'!$J$15='GENERAL TIME TABLE'!$R$20,'GENERAL TIME TABLE'!$J$16&"-"&HOME!$A$7,IF('GENERAL TIME TABLE'!$K$15='GENERAL TIME TABLE'!$R$20,'GENERAL TIME TABLE'!$K$16&"-"&HOME!$A$8,""))) -> હિન્દી-7 | F11: =IF('GENERAL TIME TABLE'!$L$15='GENERAL TIME TABLE'!$R$20,'GENERAL TIME TABLE'!$L$16&"-"&HOME!$A$6,IF('GENERAL TIME TABLE'!$M$15='GENERAL TIME TABLE'!$R$20,'GENERAL TIME TABLE'!$M$16&"-"&HOME!$A$7,IF('GENERAL TIME TABLE'!$N$15='GENERAL TIME TABLE'!$R$20,'GENERAL TIME TABLE'!$N$16&"-"&HOME!$A$8,""))) -> હિન્દી-7 | G11: =IF('GENERAL TIME TABLE'!$O$15='GENERAL TIME TABLE'!$R$20,'GENERAL TIME TABLE'!$O$16&"-"&HOME!$A$6,IF('GENERAL TIME TABLE'!$P$15='GENERAL TIME TABLE'!$R$20,'GENERAL TIME TABLE'!$P$16&"-"&HOME!$A$7,IF('GENERAL TIME TABLE'!$Q$15='GENERAL TIME TABLE'!$R$20,'GENERAL TIME TABLE'!$Q$16&"-"&HOME!$A$8,""))) -> હિન્દી-7 | H11: 4 | I11: ='GENERAL TIME TABLE'!$U$15 -> 10:30-11:00 | J11: =IF('GENERAL TIME TABLE'!$R$15='GENERAL TIME TABLE'!$R$20,'GENERAL TIME TABLE'!$R$16&"-"&HOME!$A$6,IF('GENERAL TIME TABLE'!$S$15='GENERAL TIME TABLE'!$R$20,'GENERAL TIME TABLE'!$S$16&"-"&HOME!$A$7,IF('GENERAL TIME TABLE'!$T$15='GENERAL TIME TABLE'!$R$20,'GENERAL TIME TABLE'!$T$16&"-"&HOME!$A$8,""))) -> સંગીત-7
B12: ='GENERAL TIME TABLE'!$B$17 -> 01:50-02:30 | C12: ='GENERAL TIME TABLE'!$C$17 -> મધ્યાહન ભોજન - વિરામ | H12: 5 | I12: ='GENERAL TIME TABLE'!$U$17 -> 11:00-11:30 | J12: =IF('GENERAL TIME TABLE'!$R$17='GENERAL TIME TABLE'!$R$20,'GENERAL TIME TABLE'!$R$18&"-"&HOME!$A$6,IF('GENERAL TIME TABLE'!$S$17='GENERAL TIME TABLE'!$R$20,'GENERAL TIME TABLE'!$S$18&"-"&HOME!$A$7,IF('GENERAL TIME TABLE'!$T$17='GENERAL TIME TABLE'!$R$20,'GENERAL TIME TABLE'!$T$18&"-"&HOME!$A$8,""))) -> ચિત્ર-7
A13: 5 | B13: ='GENERAL TIME TABLE'!$B$18 -> 02:30-03:05 | C13: =IF('GENERAL TIME TABLE'!$C$18='GENERAL TIME TABLE'!$R$20,'GENERAL TIME TABLE'!$C$19&"-"&HOME!$A$6,IF('GENERAL TIME TABLE'!$D$18='GENERAL TIME TABLE'!$R$20,'GENERAL TIME TABLE'!$D$19&"-"&HOME!$A$7,IF('GENERAL TIME TABLE'!$E$18='GENERAL TIME TABLE'!$R$20,'GENERAL TIME TABLE'!$E$19&"-"&HOME!$A$8,""))) -> સા.વિ.-8 | D13: =IF('GENERAL TIME TABLE'!$F$18='GENERAL TIME TABLE'!$R$20,'GENERAL TIME TABLE'!$F$19&"-"&HOME!$A$6,IF('GENERAL TIME TABLE'!$G$18='GENERAL TIME TABLE'!$R$20,'GENERAL TIME TABLE'!$G$19&"-"&HOME!$A$7,IF('GENERAL TIME TABLE'!$H$18='GENERAL TIME TABLE'!$R$20,'GENERAL TIME TABLE'!$H$19&"-"&HOME!$A$8,""))) -> સા.વિ.-8 | E13: =IF('GENERAL TIME TABLE'!$I$18='GENERAL TIME TABLE'!$R$20,'GENERAL TIME TABLE'!$I$19&"-"&HOME!$A$6,IF('GENERAL TIME TABLE'!$J$18='GENERAL TIME TABLE'!$R$20,'GENERAL TIME TABLE'!$J$19&"-"&HOME!$A$7,IF('GENERAL TIME TABLE'!$K$18='GENERAL TIME TABLE'!$R$20,'GENERAL TIME TABLE'!$K$19&"-"&HOME!$A$8,""))) -> સા.વિ.-8 | F13: =IF('GENERAL TIME TABLE'!$L$18='GENERAL TIME TABLE'!$R$20,'GENERAL TIME TABLE'!$L$19&"-"&HOME!$A$6,IF('GENERAL TIME TABLE'!$M$18='GENERAL TIME TABLE'!$R$20,'GENERAL TIME TABLE'!$M$19&"-"&HOME!$A$7,IF('GENERAL TIME TABLE'!$N$18='GENERAL TIME TABLE'!$R$20,'GENERAL TIME TABLE'!$N$19&"-"&HOME!$A$8,""))) -> સા.વિ.-8 | G13: =IF('GENERAL TIME TABLE'!$O$18='GENERAL TIME TABLE'!$R$20,'GENERAL TIME TABLE'!$O$19&"-"&HOME!$A$6,IF('GENERAL TIME TABLE'!$P$18='GENERAL TIME TABLE'!$R$20,'GENERAL TIME TABLE'!$P$19&"-"&HOME!$A$7,IF('GENERAL TIME TABLE'!$Q$18='GENERAL TIME TABLE'!$R$20,'GENERAL TIME TABLE'!$Q$19&"-"&HOME!$A$8,""))) -> સા.વિ.-8 | H13: : શિક્ષકશ્રી :
A14: 6 | B14: ='GENERAL TIME TABLE'!$B$20 -> 03:05-03:40 | C14: =IF('GENERAL TIME TABLE'!$C$20='GENERAL TIME TABLE'!$R$20,'GENERAL TIME TABLE'!$C$21&"-"&HOME!$A$6,IF('GENERAL TIME TABLE'!$D$20='GENERAL TIME TABLE'!$R$20,'GENERAL TIME TABLE'!$D$21&"-"&HOME!$A$7,IF('GENERAL TIME TABLE'!$E$20='GENERAL TIME TABLE'!$R$20,'GENERAL TIME TABLE'!$E$21&"-"&HOME!$A$8,""))) -> હિન્દી-8 | D14: =IF('GENERAL TIME TABLE'!$F$20='GENERAL TIME TABLE'!$R$20,'GENERAL TIME TABLE'!$F$21&"-"&HOME!$A$6,IF('GENERAL TIME TABLE'!$G$20='GENERAL TIME TABLE'!$R$20,'GENERAL TIME TABLE'!$G$21&"-"&HOME!$A$7,IF('GENERAL TIME TABLE'!$H$20='GENERAL TIME TABLE'!$R$20,'GENERAL TIME TABLE'!$H$21&"-"&HOME!$A$8,""))) -> હિન્દી-8 | E14: =IF('GENERAL TIME TABLE'!$I$20='GENERAL TIME TABLE'!$R$20,'GENERAL TIME TABLE'!$I$21&"-"&HOME!$A$6,IF('GENERAL TIME TABLE'!$J$20='GENERAL TIME TABLE'!$R$20,'GENERAL TIME TABLE'!$J$21&"-"&HOME!$A$7,IF('GENERAL TIME TABLE'!$K$20='GENERAL TIME TABLE'!$R$20,'GENERAL TIME TABLE'!$K$21&"-"&HOME!$A$8,""))) -> હિન્દી-8 | F14: =IF('GENERAL TIME TABLE'!$L$20='GENERAL TIME TABLE'!$R$20,'GENERAL TIME TABLE'!$L$21&"-"&HOME!$A$6,IF('GENERAL TIME TABLE'!$M$20='GENERAL TIME TABLE'!$R$20,'GENERAL TIME TABLE'!$M$21&"-"&HOME!$A$7,IF('GENERAL TIME TABLE'!$N$20='GENERAL TIME TABLE'!$R$20,'GENERAL TIME TABLE'!$N$21&"-"&HOME!$A$8,""))) -> હિન્દી-8 | G14: =IF('GENERAL TIME TABLE'!$O$20='GENERAL TIME TABLE'!$R$20,'GENERAL TIME TABLE'!$O$21&"-"&HOME!$A$6,IF('GENERAL TIME TABLE'!$P$20='GENERAL TIME TABLE'!$R$20,'GENERAL TIME TABLE'!$P$21&"-"&HOME!$A$7,IF('GENERAL TIME TABLE'!$Q$20='GENERAL TIME TABLE'!$R$20,'GENERAL TIME TABLE'!$Q$21&"-"&HOME!$A$8,""))) -> હિન્દી-8
B15: ='GENERAL TIME TABLE'!$B$22 -> 03:40-03:50 | C15: ='GENERAL TIME TABLE'!$C$22 -> વિરામ | H15: =IF(HOME!$B$6="","",HOME!$B$6) -> મહેતા નિરાલી દિક્ષિતભાઈ
A16: 7 | B16: ='GENERAL TIME TABLE'!$B$23 -> 03:50-04:25 | C16: =IF('GENERAL TIME TABLE'!$C$23='GENERAL TIME TABLE'!$R$20,'GENERAL TIME TABLE'!$C$24&"-"&HOME!$A$6,IF('GENERAL TIME TABLE'!$D$23='GENERAL TIME TABLE'!$R$20,'GENERAL TIME TABLE'!$D$24&"-"&HOME!$A$7,IF('GENERAL TIME TABLE'!$E$23='GENERAL TIME TABLE'!$R$20,'GENERAL TIME TABLE'!$E$24&"-"&HOME!$A$8,""))) -> હિન્દી-6 | D16: =IF('GENERAL TIME TABLE'!$F$23='GENERAL TIME TABLE'!$R$20,'GENERAL TIME TABLE'!$F$24&"-"&HOME!$A$6,IF('GENERAL TIME TABLE'!$G$23='GENERAL TIME TABLE'!$R$20,'GENERAL TIME TABLE'!$G$24&"-"&HOME!$A$7,IF('GENERAL TIME TABLE'!$H$23='GENERAL TIME TABLE'!$R$20,'GENERAL TIME TABLE'!$H$24&"-"&HOME!$A$8,""))) -> સંગીત-6 | E16: =IF('GENERAL TIME TABLE'!$I$23='GENERAL TIME TABLE'!$R$20,'GENERAL TIME TABLE'!$I$24&"-"&HOME!$A$6,IF('GENERAL TIME TABLE'!$J$23='GENERAL TIME TABLE'!$R$20,'GENERAL TIME TABLE'!$J$24&"-"&HOME!$A$7,IF('GENERAL TIME TABLE'!$K$23='GENERAL TIME TABLE'!$R$20,'GENERAL TIME TABLE'!$K$24&"-"&HOME!$A$8,""))) -> ચિત્ર-6 | F16: =IF('GENERAL TIME TABLE'!$L$23='GENERAL TIME TABLE'!$R$20,'GENERAL TIME TABLE'!$L$24&"-"&HOME!$A$6,IF('GENERAL TIME TABLE'!$M$23='GENERAL TIME TABLE'!$R$20,'GENERAL TIME TABLE'!$M$24&"-"&HOME!$A$7,IF('GENERAL TIME TABLE'!$N$23='GENERAL TIME TABLE'!$R$20,'GENERAL TIME TABLE'!$N$24&"-"&HOME!$A$8,""))) -> કમ્પ્યુટર-6 | G16: =IF('GENERAL TIME TABLE'!$O$23='GENERAL TIME TABLE'!$R$20,'GENERAL TIME TABLE'!$O$24&"-"&HOME!$A$6,IF('GENERAL TIME TABLE'!$P$23='GENERAL TIME TABLE'!$R$20,'GENERAL TIME TABLE'!$P$24&"-"&HOME!$A$7,IF('GENERAL TIME TABLE'!$Q$23='GENERAL TIME TABLE'!$R$20,'GENERAL TIME TABLE'!$Q$24&"-"&HOME!$A$8,""))) -> સંગીત-8
A17: 8 | B17: ='GENERAL TIME TABLE'!$B$25 -> 04:25-05:00 | C17: =IF('GENERAL TIME TABLE'!$C$25='GENERAL TIME TABLE'!$R$20,'GENERAL TIME TABLE'!$C$26&"-"&HOME!$A$6,IF('GENERAL TIME TABLE'!$D$25='GENERAL TIME TABLE'!$R$20,'GENERAL TIME TABLE'!$D$26&"-"&HOME!$A$7,IF('GENERAL TIME TABLE'!$E$25='GENERAL TIME TABLE'!$R$20,'GENERAL TIME TABLE'!$E$26&"-"&HOME!$A$8,""))) -> હિન્દી-7 | D17: =IF('GENERAL TIME TABLE'!$F$25='GENERAL TIME TABLE'!$R$20,'GENERAL TIME TABLE'!$F$26&"-"&HOME!$A$6,IF('GENERAL TIME TABLE'!$G$25='GENERAL TIME TABLE'!$R$20,'GENERAL TIME TABLE'!$G$26&"-"&HOME!$A$7,IF('GENERAL TIME TABLE'!$H$25='GENERAL TIME TABLE'!$R$20,'GENERAL TIME TABLE'!$H$26&"-"&HOME!$A$8,""))) -> સર્વાંગી-6 | E17: =IF('GENERAL TIME TABLE'!$I$25='GENERAL TIME TABLE'!$R$20,'GENERAL TIME TABLE'!$I$26&"-"&HOME!$A$6,IF('GENERAL TIME TABLE'!$J$25='GENERAL TIME TABLE'!$R$20,'GENERAL TIME TABLE'!$J$26&"-"&HOME!$A$7,IF('GENERAL TIME TABLE'!$K$25='GENERAL TIME TABLE'!$R$20,'GENERAL TIME TABLE'!$K$26&"-"&HOME!$A$8,""))) -> સર્વાંગી-8 | F17: =IF('GENERAL TIME TABLE'!$L$25='GENERAL TIME TABLE'!$R$20,'GENERAL TIME TABLE'!$L$26&"-"&HOME!$A$6,IF('GENERAL TIME TABLE'!$M$25='GENERAL TIME TABLE'!$R$20,'GENERAL TIME TABLE'!$M$26&"-"&HOME!$A$7,IF('GENERAL TIME TABLE'!$N$25='GENERAL TIME TABLE'!$R$20,'GENERAL TIME TABLE'!$N$26&"-"&HOME!$A$8,""))) -> કમ્પ્યુટર-8 | G17: =IF('GENERAL TIME TABLE'!$O$25='GENERAL TIME TABLE'!$R$20,'GENERAL TIME TABLE'!$O$26&"-"&HOME!$A$6,IF('GENERAL TIME TABLE'!$P$25='GENERAL TIME TABLE'!$R$20,'GENERAL TIME TABLE'!$P$26&"-"&HOME!$A$7,IF('GENERAL TIME TABLE'!$Q$25='GENERAL TIME TABLE'!$R$20,'GENERAL TIME TABLE'!$Q$26&"-"&HOME!$A$8,""))) -> સર્વાંગી-7

Sheet T-2
A1: ='GENERAL TIME TABLE'!A2&" "&'GENERAL TIME TABLE'!C2&" "&'GENERAL TIME TABLE'!R2&""&'GENERAL TIME TABLE'!S2 -> શાળા : શ્રી નોખાણિયા પં. પ્રા.શાળા, તા.ભુજ, જિ.કચ્છ વર્ષ :2026-'27
A3: શિક્ષકનું સમયપત્રક
A4: તાસ | B4: સમય | C4: સોમવાર | D4: મંગળવાર | E4: બુધવાર | F4: ગુરુવાર | G4: શુક્રવાર | H4: તાસ | I4: સમય | J4: શનિવાર
B5: ='GENERAL TIME TABLE'!$B$5 -> 10:30-10:45 | C5: ='GENERAL TIME TABLE'!$C$5 -> સમૂહજીવન, શાળાસફાઈ અને શૈક્ષણિક કાર્ય માટેની પૂર્વતૈયારી | I5: ='GENERAL TIME TABLE'!$U$5 -> 07:00-07:20 | J5: શાળાસફાઈ
B6: ='GENERAL TIME TABLE'!$B$6 -> 10:45 - 11:10 | C6: ='GENERAL TIME TABLE'!$C$6 -> પ્રાર્થના સંમેલન | I6: ='GENERAL TIME TABLE'!$U$6 -> 07:30-07:50 | J6: પ્રાર્થના
A7: 1 | B7: ='GENERAL TIME TABLE'!$B$7 -> 11:10-11:50 | C7: =IF('GENERAL TIME TABLE'!$C$7='GENERAL TIME TABLE'!$R$21,'GENERAL TIME TABLE'!$C$8&"-"&HOME!$A$6,IF('GENERAL TIME TABLE'!$D$7='GENERAL TIME TABLE'!$R$21,'GENERAL TIME TABLE'!$D$8&"-"&HOME!$A$7,IF('GENERAL TIME TABLE'!$E$7='GENERAL TIME TABLE'!$R$21,'GENERAL TIME TABLE'!$E$8&"-"&HOME!$A$8,""))) -> ગણિત-7 | D7: =IF('GENERAL TIME TABLE'!$F$7='GENERAL TIME TABLE'!$R$21,'GENERAL TIME TABLE'!$F$8&"-"&HOME!$A$6,IF('GENERAL TIME TABLE'!$G$7='GENERAL TIME TABLE'!$R$21,'GENERAL TIME TABLE'!$G$8&"-"&HOME!$A$7,IF('GENERAL TIME TABLE'!$H$7='GENERAL TIME TABLE'!$R$21,'GENERAL TIME TABLE'!$H$8&"-"&HOME!$A$8,""))) -> ગણિત-7 | E7: =IF('GENERAL TIME TABLE'!$I$7='GENERAL TIME TABLE'!$R$21,'GENERAL TIME TABLE'!$I$8&"-"&HOME!$A$6,IF('GENERAL TIME TABLE'!$J$7='GENERAL TIME TABLE'!$R$21,'GENERAL TIME TABLE'!$J$8&"-"&HOME!$A$7,IF('GENERAL TIME TABLE'!$K$7='GENERAL TIME TABLE'!$R$21,'GENERAL TIME TABLE'!$K$8&"-"&HOME!$A$8,""))) -> ગણિત-7 | F7: =IF('GENERAL TIME TABLE'!$L$7='GENERAL TIME TABLE'!$R$21,'GENERAL TIME TABLE'!$L$8&"-"&HOME!$A$6,IF('GENERAL TIME TABLE'!$M$7='GENERAL TIME TABLE'!$R$21,'GENERAL TIME TABLE'!$M$8&"-"&HOME!$A$7,IF('GENERAL TIME TABLE'!$N$7='GENERAL TIME TABLE'!$R$21,'GENERAL TIME TABLE'!$N$8&"-"&HOME!$A$8,""))) -> ગણિત-7 | G7: =IF('GENERAL TIME TABLE'!$O$7='GENERAL TIME TABLE'!$R$21,'GENERAL TIME TABLE'!$O$8&"-"&HOME!$A$6,IF('GENERAL TIME TABLE'!$P$7='GENERAL TIME TABLE'!$R$21,'GENERAL TIME TABLE'!$P$8&"-"&HOME!$A$7,IF('GENERAL TIME TABLE'!$Q$7='GENERAL TIME TABLE'!$R$21,'GENERAL TIME TABLE'!$Q$8&"-"&HOME!$A$8,""))) -> ગણિત-7 | H7: 1 | I7: ='GENERAL TIME TABLE'!$U$7 -> 07:50-08:35 | J7: =IF('GENERAL TIME TABLE'!$R$7='GENERAL TIME TABLE'!$R$21,'GENERAL TIME TABLE'!$R$8&"-"&HOME!$A$6,IF('GENERAL TIME TABLE'!$S$7='GENERAL TIME TABLE'!$R$21,'GENERAL TIME TABLE'!$S$8&"-"&HOME!$A$7,IF('GENERAL TIME TABLE'!$T$7='GENERAL TIME TABLE'!$R$21,'GENERAL TIME TABLE'!$T$8&"-"&HOME!$A$8,""))) -> શા.શિ.-6
A8: 2 | B8: ='GENERAL TIME TABLE'!$B$9 -> 11:50-12:30 | C8: =IF('GENERAL TIME TABLE'!$C$9='GENERAL TIME TABLE'!$R$21,'GENERAL TIME TABLE'!$C$10&"-"&HOME!$A$6,IF('GENERAL TIME TABLE'!$D$9='GENERAL TIME TABLE'!$R$21,'GENERAL TIME TABLE'!$D$10&"-"&HOME!$A$7,IF('GENERAL TIME TABLE'!$E$9='GENERAL TIME TABLE'!$R$21,'GENERAL TIME TABLE'!$E$10&"-"&HOME!$A$8,""))) -> વિજ્ઞાન-7 | D8: =IF('GENERAL TIME TABLE'!$F$9='GENERAL TIME TABLE'!$R$21,'GENERAL TIME TABLE'!$F$10&"-"&HOME!$A$6,IF('GENERAL TIME TABLE'!$G$9='GENERAL TIME TABLE'!$R$21,'GENERAL TIME TABLE'!$G$10&"-"&HOME!$A$7,IF('GENERAL TIME TABLE'!$H$9='GENERAL TIME TABLE'!$R$21,'GENERAL TIME TABLE'!$H$10&"-"&HOME!$A$8,""))) -> વિજ્ઞાન-7 | E8: =IF('GENERAL TIME TABLE'!$I$9='GENERAL TIME TABLE'!$R$21,'GENERAL TIME TABLE'!$I$10&"-"&HOME!$A$6,IF('GENERAL TIME TABLE'!$J$9='GENERAL TIME TABLE'!$R$21,'GENERAL TIME TABLE'!$J$10&"-"&HOME!$A$7,IF('GENERAL TIME TABLE'!$K$9='GENERAL TIME TABLE'!$R$21,'GENERAL TIME TABLE'!$K$10&"-"&HOME!$A$8,""))) -> વિજ્ઞાન-7 | F8: =IF('GENERAL TIME TABLE'!$L$9='GENERAL TIME TABLE'!$R$21,'GENERAL TIME TABLE'!$L$10&"-"&HOME!$A$6,IF('GENERAL TIME TABLE'!$M$9='GENERAL TIME TABLE'!$R$21,'GENERAL TIME TABLE'!$M$10&"-"&HOME!$A$7,IF('GENERAL TIME TABLE'!$N$9='GENERAL TIME TABLE'!$R$21,'GENERAL TIME TABLE'!$N$10&"-"&HOME!$A$8,""))) -> વિજ્ઞાન-7 | G8: =IF('GENERAL TIME TABLE'!$O$9='GENERAL TIME TABLE'!$R$21,'GENERAL TIME TABLE'!$O$10&"-"&HOME!$A$6,IF('GENERAL TIME TABLE'!$P$9='GENERAL TIME TABLE'!$R$21,'GENERAL TIME TABLE'!$P$10&"-"&HOME!$A$7,IF('GENERAL TIME TABLE'!$Q$9='GENERAL TIME TABLE'!$R$21,'GENERAL TIME TABLE'!$Q$10&"-"&HOME!$A$8,""))) -> વિજ્ઞાન-7 | H8: 2 | I8: ='GENERAL TIME TABLE'!$U$9 -> 08:35-09:15 | J8: =IF('GENERAL TIME TABLE'!$R$9='GENERAL TIME TABLE'!$R$21,'GENERAL TIME TABLE'!$R$10&"-"&HOME!$A$6,IF('GENERAL TIME TABLE'!$S$9='GENERAL TIME TABLE'!$R$21,'GENERAL TIME TABLE'!$S$10&"-"&HOME!$A$7,IF('GENERAL TIME TABLE'!$T$9='GENERAL TIME TABLE'!$R$21,'GENERAL TIME TABLE'!$T$10&"-"&HOME!$A$8,""))) -> ચિત્ર-8
B9: ='GENERAL TIME TABLE'!$B$11 -> 12:30-12:40 | C9: ='GENERAL TIME TABLE'!$C$11 -> વિરામ | H9: 3 | I9: ='GENERAL TIME TABLE'!$U$11 -> 09:15-10:00 | J9: =IF('GENERAL TIME TABLE'!$R$11='GENERAL TIME TABLE'!$R$21,'GENERAL TIME TABLE'!$R$12&"-"&HOME!$A$6,IF('GENERAL TIME TABLE'!$S$11='GENERAL TIME TABLE'!$R$21,'GENERAL TIME TABLE'!$S$12&"-"&HOME!$A$7,IF('GENERAL TIME TABLE'!$T$11='GENERAL TIME TABLE'!$R$21,'GENERAL TIME TABLE'!$T$12&"-"&HOME!$A$8,""))) -> ગણિત-6
A10: 3 | B10: ='GENERAL TIME TABLE'!$B$13 -> 12:40-01:15 | C10: =IF('GENERAL TIME TABLE'!$C$13='GENERAL TIME TABLE'!$R$21,'GENERAL TIME TABLE'!$C$14&"-"&HOME!$A$6,IF('GENERAL TIME TABLE'!$D$13='GENERAL TIME TABLE'!$R$21,'GENERAL TIME TABLE'!$D$14&"-"&HOME!$A$7,IF('GENERAL TIME TABLE'!$E$13='GENERAL TIME TABLE'!$R$21,'GENERAL TIME TABLE'!$E$14&"-"&HOME!$A$8,""))) -> ગણિત-8 | D10: =IF('GENERAL TIME TABLE'!$F$13='GENERAL TIME TABLE'!$R$21,'GENERAL TIME TABLE'!$F$14&"-"&HOME!$A$6,IF('GENERAL TIME TABLE'!$G$13='GENERAL TIME TABLE'!$R$21,'GENERAL TIME TABLE'!$G$14&"-"&HOME!$A$7,IF('GENERAL TIME TABLE'!$H$13='GENERAL TIME TABLE'!$R$21,'GENERAL TIME TABLE'!$H$14&"-"&HOME!$A$8,""))) -> ગણિત-8 | E10: =IF('GENERAL TIME TABLE'!$I$13='GENERAL TIME TABLE'!$R$21,'GENERAL TIME TABLE'!$I$14&"-"&HOME!$A$6,IF('GENERAL TIME TABLE'!$J$13='GENERAL TIME TABLE'!$R$21,'GENERAL TIME TABLE'!$J$14&"-"&HOME!$A$7,IF('GENERAL TIME TABLE'!$K$13='GENERAL TIME TABLE'!$R$21,'GENERAL TIME TABLE'!$K$14&"-"&HOME!$A$8,""))) -> ગણિત-8 | F10: =IF('GENERAL TIME TABLE'!$L$13='GENERAL TIME TABLE'!$R$21,'GENERAL TIME TABLE'!$L$14&"-"&HOME!$A$6,IF('GENERAL TIME TABLE'!$M$13='GENERAL TIME TABLE'!$R$21,'GENERAL TIME TABLE'!$M$14&"-"&HOME!$A$7,IF('GENERAL TIME TABLE'!$N$13='GENERAL TIME TABLE'!$R$21,'GENERAL TIME TABLE'!$N$14&"-"&HOME!$A$8,""))) -> ગણિત-8 | G10: =IF('GENERAL TIME TABLE'!$O$13='GENERAL TIME TABLE'!$R$21,'GENERAL TIME TABLE'!$O$14&"-"&HOME!$A$6,IF('GENERAL TIME TABLE'!$P$13='GENERAL TIME TABLE'!$R$21,'GENERAL TIME TABLE'!$P$14&"-"&HOME!$A$7,IF('GENERAL TIME TABLE'!$Q$13='GENERAL TIME TABLE'!$R$21,'GENERAL TIME TABLE'!$Q$14&"-"&HOME!$A$8,""))) -> ગણિત-8 | I10: ='GENERAL TIME TABLE'!$U$13 -> 10:00-10:30 | J10: વિરામ
A11: 4 | B11: ='GENERAL TIME TABLE'!$B$15 -> 01:15 -01:50 | C11: =IF('GENERAL TIME TABLE'!$C$15='GENERAL TIME TABLE'!$R$21,'GENERAL TIME TABLE'!$C$16&"-"&HOME!$A$6,IF('GENERAL TIME TABLE'!$D$15='GENERAL TIME TABLE'!$R$21,'GENERAL TIME TABLE'!$D$16&"-"&HOME!$A$7,IF('GENERAL TIME TABLE'!$E$15='GENERAL TIME TABLE'!$R$21,'GENERAL TIME TABLE'!$E$16&"-"&HOME!$A$8,""))) -> વિજ્ઞાન-8 | D11: =IF('GENERAL TIME TABLE'!$F$15='GENERAL TIME TABLE'!$R$21,'GENERAL TIME TABLE'!$F$16&"-"&HOME!$A$6,IF('GENERAL TIME TABLE'!$G$15='GENERAL TIME TABLE'!$R$21,'GENERAL TIME TABLE'!$G$16&"-"&HOME!$A$7,IF('GENERAL TIME TABLE'!$H$15='GENERAL TIME TABLE'!$R$21,'GENERAL TIME TABLE'!$H$16&"-"&HOME!$A$8,""))) -> વિજ્ઞાન-8 | E11: =IF('GENERAL TIME TABLE'!$I$15='GENERAL TIME TABLE'!$R$21,'GENERAL TIME TABLE'!$I$16&"-"&HOME!$A$6,IF('GENERAL TIME TABLE'!$J$15='GENERAL TIME TABLE'!$R$21,'GENERAL TIME TABLE'!$J$16&"-"&HOME!$A$7,IF('GENERAL TIME TABLE'!$K$15='GENERAL TIME TABLE'!$R$21,'GENERAL TIME TABLE'!$K$16&"-"&HOME!$A$8,""))) -> વિજ્ઞાન-8 | F11: =IF('GENERAL TIME TABLE'!$L$15='GENERAL TIME TABLE'!$R$21,'GENERAL TIME TABLE'!$L$16&"-"&HOME!$A$6,IF('GENERAL TIME TABLE'!$M$15='GENERAL TIME TABLE'!$R$21,'GENERAL TIME TABLE'!$M$16&"-"&HOME!$A$7,IF('GENERAL TIME TABLE'!$N$15='GENERAL TIME TABLE'!$R$21,'GENERAL TIME TABLE'!$N$16&"-"&HOME!$A$8,""))) -> વિજ્ઞાન-8 | G11: =IF('GENERAL TIME TABLE'!$O$15='GENERAL TIME TABLE'!$R$21,'GENERAL TIME TABLE'!$O$16&"-"&HOME!$A$6,IF('GENERAL TIME TABLE'!$P$15='GENERAL TIME TABLE'!$R$21,'GENERAL TIME TABLE'!$P$16&"-"&HOME!$A$7,IF('GENERAL TIME TABLE'!$Q$15='GENERAL TIME TABLE'!$R$21,'GENERAL TIME TABLE'!$Q$16&"-"&HOME!$A$8,""))) -> વિજ્ઞાન-8 | H11: 4 | I11: ='GENERAL TIME TABLE'!$U$15 -> 10:30-11:00 | J11: =IF('GENERAL TIME TABLE'!$R$15='GENERAL TIME TABLE'!$R$21,'GENERAL TIME TABLE'!$R$16&"-"&HOME!$A$6,IF('GENERAL TIME TABLE'!$S$15='GENERAL TIME TABLE'!$R$21,'GENERAL TIME TABLE'!$S$16&"-"&HOME!$A$7,IF('GENERAL TIME TABLE'!$T$15='GENERAL TIME TABLE'!$R$21,'GENERAL TIME TABLE'!$T$16&"-"&HOME!$A$8,""))) -> વિજ્ઞાન-8
B12: ='GENERAL TIME TABLE'!$B$17 -> 01:50-02:30 | C12: ='GENERAL TIME TABLE'!$C$17 -> મધ્યાહન ભોજન - વિરામ | H12: 5 | I12: ='GENERAL TIME TABLE'!$U$17 -> 11:00-11:30 | J12: =IF('GENERAL TIME TABLE'!$R$17='GENERAL TIME TABLE'!$R$21,'GENERAL TIME TABLE'!$R$18&"-"&HOME!$A$6,IF('GENERAL TIME TABLE'!$S$17='GENERAL TIME TABLE'!$R$21,'GENERAL TIME TABLE'!$S$18&"-"&HOME!$A$7,IF('GENERAL TIME TABLE'!$T$17='GENERAL TIME TABLE'!$R$21,'GENERAL TIME TABLE'!$T$18&"-"&HOME!$A$8,""))) -> વિજ્ઞાન-6
A13: 5 | B13: ='GENERAL TIME TABLE'!$B$18 -> 02:30-03:05 | C13: =IF('GENERAL TIME TABLE'!$C$18='GENERAL TIME TABLE'!$R$21,'GENERAL TIME TABLE'!$C$19&"-"&HOME!$A$6,IF('GENERAL TIME TABLE'!$D$18='GENERAL TIME TABLE'!$R$21,'GENERAL TIME TABLE'!$D$19&"-"&HOME!$A$7,IF('GENERAL TIME TABLE'!$E$18='GENERAL TIME TABLE'!$R$21,'GENERAL TIME TABLE'!$E$19&"-"&HOME!$A$8,""))) -> ગણિત-6 | D13: =IF('GENERAL TIME TABLE'!$F$18='GENERAL TIME TABLE'!$R$21,'GENERAL TIME TABLE'!$F$19&"-"&HOME!$A$6,IF('GENERAL TIME TABLE'!$G$18='GENERAL TIME TABLE'!$R$21,'GENERAL TIME TABLE'!$G$19&"-"&HOME!$A$7,IF('GENERAL TIME TABLE'!$H$18='GENERAL TIME TABLE'!$R$21,'GENERAL TIME TABLE'!$H$19&"-"&HOME!$A$8,""))) -> ગણિત-6 | E13: =IF('GENERAL TIME TABLE'!$I$18='GENERAL TIME TABLE'!$R$21,'GENERAL TIME TABLE'!$I$19&"-"&HOME!$A$6,IF('GENERAL TIME TABLE'!$J$18='GENERAL TIME TABLE'!$R$21,'GENERAL TIME TABLE'!$J$19&"-"&HOME!$A$7,IF('GENERAL TIME TABLE'!$K$18='GENERAL TIME TABLE'!$R$21,'GENERAL TIME TABLE'!$K$19&"-"&HOME!$A$8,""))) -> ગણિત-6 | F13: =IF('GENERAL TIME TABLE'!$L$18='GENERAL TIME TABLE'!$R$21,'GENERAL TIME TABLE'!$L$19&"-"&HOME!$A$6,IF('GENERAL TIME TABLE'!$M$18='GENERAL TIME TABLE'!$R$21,'GENERAL TIME TABLE'!$M$19&"-"&HOME!$A$7,IF('GENERAL TIME TABLE'!$N$18='GENERAL TIME TABLE'!$R$21,'GENERAL TIME TABLE'!$N$19&"-"&HOME!$A$8,""))) -> ગણિત-6 | G13: =IF('GENERAL TIME TABLE'!$O$18='GENERAL TIME TABLE'!$R$21,'GENERAL TIME TABLE'!$O$19&"-"&HOME!$A$6,IF('GENERAL TIME TABLE'!$P$18='GENERAL TIME TABLE'!$R$21,'GENERAL TIME TABLE'!$P$19&"-"&HOME!$A$7,IF('GENERAL TIME TABLE'!$Q$18='GENERAL TIME TABLE'!$R$21,'GENERAL TIME TABLE'!$Q$19&"-"&HOME!$A$8,""))) -> ગણિત-6 | H13: : શિક્ષકશ્રી :
A14: 6 | B14: ='GENERAL TIME TABLE'!$B$20 -> 03:05-03:40 | C14: =IF('GENERAL TIME TABLE'!$C$20='GENERAL TIME TABLE'!$R$21,'GENERAL TIME TABLE'!$C$21&"-"&HOME!$A$6,IF('GENERAL TIME TABLE'!$D$20='GENERAL TIME TABLE'!$R$21,'GENERAL TIME TABLE'!$D$21&"-"&HOME!$A$7,IF('GENERAL TIME TABLE'!$E$20='GENERAL TIME TABLE'!$R$21,'GENERAL TIME TABLE'!$E$21&"-"&HOME!$A$8,""))) -> વિજ્ઞાન-6 | D14: =IF('GENERAL TIME TABLE'!$F$20='GENERAL TIME TABLE'!$R$21,'GENERAL TIME TABLE'!$F$21&"-"&HOME!$A$6,IF('GENERAL TIME TABLE'!$G$20='GENERAL TIME TABLE'!$R$21,'GENERAL TIME TABLE'!$G$21&"-"&HOME!$A$7,IF('GENERAL TIME TABLE'!$H$20='GENERAL TIME TABLE'!$R$21,'GENERAL TIME TABLE'!$H$21&"-"&HOME!$A$8,""))) -> વિજ્ઞાન-6 | E14: =IF('GENERAL TIME TABLE'!$I$20='GENERAL TIME TABLE'!$R$21,'GENERAL TIME TABLE'!$I$21&"-"&HOME!$A$6,IF('GENERAL TIME TABLE'!$J$20='GENERAL TIME TABLE'!$R$21,'GENERAL TIME TABLE'!$J$21&"-"&HOME!$A$7,IF('GENERAL TIME TABLE'!$K$20='GENERAL TIME TABLE'!$R$21,'GENERAL TIME TABLE'!$K$21&"-"&HOME!$A$8,""))) -> વિજ્ઞાન-6 | F14: =IF('GENERAL TIME TABLE'!$L$20='GENERAL TIME TABLE'!$R$21,'GENERAL TIME TABLE'!$L$21&"-"&HOME!$A$6,IF('GENERAL TIME TABLE'!$M$20='GENERAL TIME TABLE'!$R$21,'GENERAL TIME TABLE'!$M$21&"-"&HOME!$A$7,IF('GENERAL TIME TABLE'!$N$20='GENERAL TIME TABLE'!$R$21,'GENERAL TIME TABLE'!$N$21&"-"&HOME!$A$8,""))) -> વિજ્ઞાન-6 | G14: =IF('GENERAL TIME TABLE'!$O$20='GENERAL TIME TABLE'!$R$21,'GENERAL TIME TABLE'!$O$21&"-"&HOME!$A$6,IF('GENERAL TIME TABLE'!$P$20='GENERAL TIME TABLE'!$R$21,'GENERAL TIME TABLE'!$P$21&"-"&HOME!$A$7,IF('GENERAL TIME TABLE'!$Q$20='GENERAL TIME TABLE'!$R$21,'GENERAL TIME TABLE'!$Q$21&"-"&HOME!$A$8,""))) -> વિજ્ઞાન-6
B15: ='GENERAL TIME TABLE'!$B$22 -> 03:40-03:50 | C15: ='GENERAL TIME TABLE'!$C$22 -> વિરામ | H15: =IF(HOME!$B$7="","",HOME!$B$7) -> ઓડેદરા કેશુભાઈ ગીગાભાઈ
A16: 7 | B16: ='GENERAL TIME TABLE'!$B$23 -> 03:50-04:25 | C16: =IF('GENERAL TIME TABLE'!$C$23='GENERAL TIME TABLE'!$R$21,'GENERAL TIME TABLE'!$C$24&"-"&HOME!$A$6,IF('GENERAL TIME TABLE'!$D$23='GENERAL TIME TABLE'!$R$21,'GENERAL TIME TABLE'!$D$24&"-"&HOME!$A$7,IF('GENERAL TIME TABLE'!$E$23='GENERAL TIME TABLE'!$R$21,'GENERAL TIME TABLE'!$E$24&"-"&HOME!$A$8,""))) -> ગણિત-7 | D16: =IF('GENERAL TIME TABLE'!$F$23='GENERAL TIME TABLE'!$R$21,'GENERAL TIME TABLE'!$F$24&"-"&HOME!$A$6,IF('GENERAL TIME TABLE'!$G$23='GENERAL TIME TABLE'!$R$21,'GENERAL TIME TABLE'!$G$24&"-"&HOME!$A$7,IF('GENERAL TIME TABLE'!$H$23='GENERAL TIME TABLE'!$R$21,'GENERAL TIME TABLE'!$H$24&"-"&HOME!$A$8,""))) -> ગણિત-7 | E16: =IF('GENERAL TIME TABLE'!$I$23='GENERAL TIME TABLE'!$R$21,'GENERAL TIME TABLE'!$I$24&"-"&HOME!$A$6,IF('GENERAL TIME TABLE'!$J$23='GENERAL TIME TABLE'!$R$21,'GENERAL TIME TABLE'!$J$24&"-"&HOME!$A$7,IF('GENERAL TIME TABLE'!$K$23='GENERAL TIME TABLE'!$R$21,'GENERAL TIME TABLE'!$K$24&"-"&HOME!$A$8,""))) -> ગણિત-8 | F16: =IF('GENERAL TIME TABLE'!$L$23='GENERAL TIME TABLE'!$R$21,'GENERAL TIME TABLE'!$L$24&"-"&HOME!$A$6,IF('GENERAL TIME TABLE'!$M$23='GENERAL TIME TABLE'!$R$21,'GENERAL TIME TABLE'!$M$24&"-"&HOME!$A$7,IF('GENERAL TIME TABLE'!$N$23='GENERAL TIME TABLE'!$R$21,'GENERAL TIME TABLE'!$N$24&"-"&HOME!$A$8,""))) -> વિજ્ઞાન-8 | G16: =IF('GENERAL TIME TABLE'!$O$23='GENERAL TIME TABLE'!$R$21,'GENERAL TIME TABLE'!$O$24&"-"&HOME!$A$6,IF('GENERAL TIME TABLE'!$P$23='GENERAL TIME TABLE'!$R$21,'GENERAL TIME TABLE'!$P$24&"-"&HOME!$A$7,IF('GENERAL TIME TABLE'!$Q$23='GENERAL TIME TABLE'!$R$21,'GENERAL TIME TABLE'!$Q$24&"-"&HOME!$A$8,""))) -> ગણિત-6
A17: 8 | B17: ='GENERAL TIME TABLE'!$B$25 -> 04:25-05:00 | C17: =IF('GENERAL TIME TABLE'!$C$25='GENERAL TIME TABLE'!$R$21,'GENERAL TIME TABLE'!$C$26&"-"&HOME!$A$6,IF('GENERAL TIME TABLE'!$D$25='GENERAL TIME TABLE'!$R$21,'GENERAL TIME TABLE'!$D$26&"-"&HOME!$A$7,IF('GENERAL TIME TABLE'!$E$25='GENERAL TIME TABLE'!$R$21,'GENERAL TIME TABLE'!$E$26&"-"&HOME!$A$8,""))) -> ગણિત-8 | D17: =IF('GENERAL TIME TABLE'!$F$25='GENERAL TIME TABLE'!$R$21,'GENERAL TIME TABLE'!$F$26&"-"&HOME!$A$6,IF('GENERAL TIME TABLE'!$G$25='GENERAL TIME TABLE'!$R$21,'GENERAL TIME TABLE'!$G$26&"-"&HOME!$A$7,IF('GENERAL TIME TABLE'!$H$25='GENERAL TIME TABLE'!$R$21,'GENERAL TIME TABLE'!$H$26&"-"&HOME!$A$8,""))) -> વિજ્ઞાન-7 | E17: =IF('GENERAL TIME TABLE'!$I$25='GENERAL TIME TABLE'!$R$21,'GENERAL TIME TABLE'!$I$26&"-"&HOME!$A$6,IF('GENERAL TIME TABLE'!$J$25='GENERAL TIME TABLE'!$R$21,'GENERAL TIME TABLE'!$J$26&"-"&HOME!$A$7,IF('GENERAL TIME TABLE'!$K$25='GENERAL TIME TABLE'!$R$21,'GENERAL TIME TABLE'!$K$26&"-"&HOME!$A$8,""))) -> વિજ્ઞાન-7 | F17: =IF('GENERAL TIME TABLE'!$L$25='GENERAL TIME TABLE'!$R$21,'GENERAL TIME TABLE'!$L$26&"-"&HOME!$A$6,IF('GENERAL TIME TABLE'!$M$25='GENERAL TIME TABLE'!$R$21,'GENERAL TIME TABLE'!$M$26&"-"&HOME!$A$7,IF('GENERAL TIME TABLE'!$N$25='GENERAL TIME TABLE'!$R$21,'GENERAL TIME TABLE'!$N$26&"-"&HOME!$A$8,""))) -> કમ્પ્યુટર-7 | G17: =IF('GENERAL TIME TABLE'!$O$25='GENERAL TIME TABLE'!$R$21,'GENERAL TIME TABLE'!$O$26&"-"&HOME!$A$6,IF('GENERAL TIME TABLE'!$P$25='GENERAL TIME TABLE'!$R$21,'GENERAL TIME TABLE'!$P$26&"-"&HOME!$A$7,IF('GENERAL TIME TABLE'!$Q$25='GENERAL TIME TABLE'!$R$21,'GENERAL TIME TABLE'!$Q$26&"-"&HOME!$A$8,""))) -> વિજ્ઞાન-6

Sheet T-3
A1: ='GENERAL TIME TABLE'!A2&" "&'GENERAL TIME TABLE'!C2&" "&'GENERAL TIME TABLE'!R2&""&'GENERAL TIME TABLE'!S2 -> શાળા : શ્રી નોખાણિયા પં. પ્રા.શાળા, તા.ભુજ, જિ.કચ્છ વર્ષ :2026-'27
A3: શિક્ષકનું સમયપત્રક
A4: તાસ | B4: સમય | C4: સોમવાર | D4: મંગળવાર | E4: બુધવાર | F4: ગુરુવાર | G4: શુક્રવાર | H4: તાસ | I4: સમય | J4: શનિવાર
B5: ='GENERAL TIME TABLE'!$B$5 -> 10:30-10:45 | C5: ='GENERAL TIME TABLE'!$C$5 -> સમૂહજીવન, શાળાસફાઈ અને શૈક્ષણિક કાર્ય માટેની પૂર્વતૈયારી | I5: ='GENERAL TIME TABLE'!$U$5 -> 07:00-07:20 | J5: શાળાસફાઈ
B6: ='GENERAL TIME TABLE'!$B$6 -> 10:45 - 11:10 | C6: ='GENERAL TIME TABLE'!$C$6 -> પ્રાર્થના સંમેલન | I6: ='GENERAL TIME TABLE'!$U$6 -> 07:30-07:50 | J6: પ્રાર્થના
