Workbook
Name SUBJ: '[1]brc-2'!$C$40:$C$53
Name SUBJ: '[1]brc-2'!$C$40:$C$53
Name SUBJ: '[1]brc-2'!$C$40:$C$53
Name SUBJ: '[1]brc-2'!$C$40:$C$53
Name SUBJ: '[1]brc-2'!$C$40:$C$53
Name SUBJ: '[1]brc-2'!$C$40:$C$53
Name SUBJ: '[1]brc-2'!$C$40:$C$53
Name SUBJ: '[1]brc-2'!$C$40:$C$53
Name SUBJ: '[1]brc-2'!$C$40:$C$53
Name SUBJ: '[1]brc-2'!$C$40:$C$53
Name SUBJ: '[1]brc-2'!$C$40:$C$53
Name SUBJ: '[1]brc-2'!$C$40:$C$53
Name SUBJ: '[1]brc-2'!$C$40:$C$53
Name SUBJ: '[1]brc-2'!$C$40:$C$53

Sheet HOME
A1: ="AUTO TIME TABLE : STD "&HOME!$A$6&","&HOME!$A$7&","&HOME!$A$8 -> AUTO TIME TABLE : STD 6,7,8
A3: શાળાનું નામ : | C3: શ્રી નોખાણિયા પં. પ્રા.શાળા | F3: તાલુકો : | G3: ભુજ | H3: જિલ્લો : | I3: કચ્છ | J3: સત્ર : | K3: 1 | L3: વર્ષ : | M3: 2026-'27
A5: ધોરણ | B5: વર્ગ શિક્ષકનું નામ | E5: ટૂંકાક્ષરી નામ | F5: વિષય ફાળવણી | L5: વિષયો
A6: 6 | B6: મહેતા નિરાલી દિક્ષિતભાઈ | E6: N.M. | F6: સા.વિ. | G6: હિન્દી | H6: સર્વાંગી | I6: કમ્પ્યુટર | L6: ગુજરાતી
A7: 7 | B7: ઓડેદરા કેશુભાઈ ગીગાભાઈ | E7: K.O. | F7: વિજ્ઞાન | G7: ગણિત | H7: સર્વાંગી | I7: કમ્પ્યુટર | L7: ગણિત
A8: 8 | B8: બુચ બ્રિજેશ જનકરાય | E8: B.J. | F8: ગુજરાતી | G8: અંગ્રેજી | H8: સંસ્કૃત | I8: કમ્પ્યુટર | J8: સર્વાંગી | L8: અંગ્રેજી
L9: હિન્દી
L10: સંસ્કૃત
L11: વિજ્ઞાન
L12: સા.વિ.
L13: શા.શિ.
A14: સૂચના :- | L14: સંગીત
A15: 1) | B15: સૌપ્રથમ બાજુમાં આપેલ QR કોડ સ્કેન કરીને "અખંડ ગુજરાતી" ફોન્ટ ડાઉનલોડ કરીને ઈન્સ્ટોલ કરવા. | L15: ચિત્ર
A16: 2) | B16: HOME શીટમાં પીળા કલરના સેલની તમામ વિગત ભરવી. | L16: સર્વાંગી
A17: 3) | B17: શિક્ષકની વિગત લખી વિષય ફાળવણીમાં શિક્ષકના વિષય સિલેક્ટ કરવા. | L17: કમ્પ્યુટર
A18: 4) | B18: નવો વિષય એડ કરવો હોય તો વિષયની કોલમમાં ટાઈપ કરી શકશો. | L18: પુસ્તકાલય
A19: 5) | B19: GENERAL TIME TABLE શીટમાં જે તે ધોરણ અને વાર પ્રમાણે વિષય અને શિક્ષકનું ટૂંકાક્ષરી નામ સિલેક્ટ કરવું.
A20: 6) | B20: બાકીની તમામ વિગત તથા ધોરણવાઈઝ અને શિક્ષક વાઈઝ ટાઈમ ટેબલ ઓટોમેટિક બની જશે, જેની પ્રિન્ટ લઈ શકશો.
A21: 7) | B21: નોંધ :- આ ટાઈમ ટેબલ ત્રણ શિક્ષકો અને ત્રણ વર્ગ માટે જ ઉપયોગમાં લઈ શકાશે.
F36: ="STD-"&$A$6 -> STD-6
F37: ="STD-"&$A$7 -> STD-7
F38: ="STD-"&$A$8 -> STD-8
R46: 1) પ્રથમ શાળાનું નામ, વર્ષ, વર્ગ શિક્ષકનું નામ, તેમનું ટૂંકાક્ષરી નામ અને વિષય ફાળવણી મુજબ વિષયનું નામ લખવું.
R48: 2) ત્યારબાદ જે-તે ધોરણની કોલમના તાસમાં શિક્ષક અને વિષય સિલેક્ટ કરવા.
R49: 3) બાકીની વિગત અને ધોરણવાઈઝ ટાઈમ ટેબલ ઓટોમેટિક બની જશે.
R50: 4) બાજુમાં આપેલ QR કોડ સ્કેન કરીને "અખંડ ગુજરાતી" ફોન્ટ મેળવી શકશો.

Sheet GENERAL TIME TABLE
A1: ="સમયપત્રક (ધોરણ-"&HOME!$A$6&","&HOME!$A$7&","&HOME!$A$8&")" -> સમયપત્રક (ધોરણ-6,7,8)
A2: શાળા : | C2: =HOME!C3&", તા."&HOME!G3&", જિ."&HOME!I3 -> શ્રી નોખાણિયા પં. પ્રા.શાળા, તા.ભુજ, જિ.કચ્છ | O2: =IF(HOME!K3="","",HOME!J3) -> સત્ર : | P2: =IF(HOME!K3="","",HOME!K3) -> 1 | R2: વર્ષ : | S2: =HOME!M3 -> 2026-'27
A3: તા સ | B3: સમય | C3: સોમવાર | F3: મંગળવાર | I3: બુધવાર | L3: ગુરુવાર | O3: શુક્રવાર | R3: શનિવાર | U3: સમય
C4: ="ધો-"&HOME!$A$6 -> ધો-6 | D4: ="ધો-"&HOME!$A$7 -> ધો-7 | E4: ="ધો-"&HOME!$A$8 -> ધો-8 | F4: ="ધો-"&HOME!$A$6 -> ધો-6 | G4: ="ધો-"&HOME!$A$7 -> ધો-7 | H4: ="ધો-"&HOME!$A$8 -> ધો-8 | I4: ="ધો-"&HOME!$A$6 -> ધો-6 | J4: ="ધો-"&HOME!$A$7 -> ધો-7 | K4: ="ધો-"&HOME!$A$8 -> ધો-8 | L4: ="ધો-"&HOME!$A$6 -> ધો-6 | M4: ="ધો-"&HOME!$A$7 -> ધો-7 | N4: ="ધો-"&HOME!$A$8 -> ધો-8 | O4: ="ધો-"&HOME!$A$6 -> ધો-6 | P4: ="ધો-"&HOME!$A$7 -> ધો-7 | Q4: ="ધો-"&HOME!$A$8 -> ધો-8 | R4: ="ધો-"&HOME!$A$6 -> ધો-6 | S4: ="ધો-"&HOME!$A$7 -> ધો-7 | T4: ="ધો-"&HOME!$A$8 -> ધો-8
B5: 10:30-10:45 | C5: સમૂહજીવન, શાળાસફાઈ અને શૈક્ષણિક કાર્ય માટેની પૂર્વતૈયારી | U5: 07:00-07:20
B6: 10:45 - 11:10 | C6: પ્રાર્થના સંમેલન | U6: 07:30-07:50
A7: 1 | B7: 11:10-11:50 | C7: N.M. | D7: K.O. | E7: B.J. | F7: N.M. | G7: K.O. | H7: B.J. | I7: N.M. | J7: K.O. | K7: B.J. | L7: N.M. | M7: K.O. | N7: B.J. | O7: N.M. | P7: K.O. | Q7: B.J. | R7: K.O. | S7: B.J. | T7: N.M. | U7: 07:50-08:35
C8: સા.વિ. | D8: ગણિત | E8: ગુજરાતી | F8: સા.વિ. | G8: ગણિત | H8: ગુજરાતી | I8: સા.વિ. | J8: ગણિત | K8: ગુજરાતી | L8: સા.વિ. | M8: ગણિત | N8: ગુજરાતી | O8: સા.વિ. | P8: ગણિત | Q8: ગુજરાતી | R8: શા.શિ. | S8: સંસ્કૃત | T8: શા.શિ.
A9: 2 | B9: 11:50-12:30 | C9: N.M. | D9: K.O. | E9: B.J. | F9: N.M. | G9: K.O. | H9: B.J. | I9: N.M. | J9: K.O. | K9: B.J. | L9: N.M. | M9: K.O. | N9: B.J. | O9: N.M. | P9: K.O. | Q9: B.J. | R9: B.J. | S9: N.M. | T9: K.O. | U9: 08:35-09:15
C10: હિન્દી | D10: વિજ્ઞાન | E10: અંગ્રેજી | F10: હિન્દી | G10: વિજ્ઞાન | H10: અંગ્રેજી | I10: હિન્દી | J10: વિજ્ઞાન | K10: અંગ્રેજી | L10: સા.વિ. | M10: વિજ્ઞાન | N10: અંગ્રેજી | O10: હિન્દી | P10: વિજ્ઞાન | Q10: અંગ્રેજી | R10: સંસ્કૃત | S10: શા.શિ. | T10: ચિત્ર
B11: 12:30-12:40 | C11: વિરામ | R11: K.O. | S11: B.J. | T11: N.M. | U11: 09:15-10:00 | AK11: 10200 90050 34557
R12: ગણિત | S12: ગુજરાતી | T12: સા.વિ.
A13: 3 | B13: 12:40-01:15 | C13: B.J. | D13: N.M. | E13: K.O. | F13: B.J. | G13: N.M. | H13: K.O. | I13: B.J. | J13: N.M. | K13: K.O. | L13: B.J. | M13: N.M. | N13: K.O. | O13: B.J. | P13: N.M. | Q13: K.O. | R13: વિરામ | U13: 10:00-10:30
C14: ગુજરાતી | D14: સા.વિ. | E14: ગણિત | F14: ગુજરાતી | G14: સા.વિ. | H14: ગણિત | I14: ગુજરાતી | J14: સા.વિ. | K14: ગણિત | L14: ગુજરાતી | M14: સા.વિ. | N14: ગણિત | O14: ગુજરાતી | P14: સા.વિ. | Q14: ગણિત
A15: 4 | B15: 01:15 -01:50 | C15: B.J. | D15: N.M. | E15: K.O. | F15: B.J. | G15: N.M. | H15: K.O. | I15: B.J. | J15: N.M. | K15: K.O. | L15: B.J. | M15: N.M. | N15: K.O. | O15: B.J. | P15: N.M. | Q15: K.O. | R15: B.J. | S15: N.M. | T15: K.O. | U15: 10:30-11:00
C16: અંગ્રેજી | D16: સા.વિ. | E16: વિજ્ઞાન | F16: અંગ્રેજી | G16: હિન્દી | H16: વિજ્ઞાન | I16: અંગ્રેજી | J16: હિન્દી | K16: વિજ્ઞાન | L16: અંગ્રેજી | M16: હિન્દી | N16: વિજ્ઞાન | O16: અંગ્રેજી | P16: હિન્દી | Q16: વિજ્ઞાન | R16: ગુજરાતી | S16: સંગીત | T16: વિજ્ઞાન
B17: 01:50-02:30 | C17: મધ્યાહન ભોજન - વિરામ | R17: K.O. | S17: N.M. | T17: B.J. | U17: 11:00-11:30
A18: 5 | B18: 02:30-03:05 | C18: K.O. | D18: B.J. | E18: N.M. | F18: K.O. | G18: B.J. | H18: N.M. | I18: K.O. | J18: B.J. | K18: N.M. | L18: K.O. | M18: B.J. | N18: N.M. | O18: K.O. | P18: B.J. | Q18: N.M. | R18: વિજ્ઞાન | S18: ચિત્ર | T18: સંસ્કૃત
C19: ગણિત | D19: ગુજરાતી | E19: સા.વિ. | F19: ગણિત | G19: ગુજરાતી | H19: સા.વિ. | I19: ગણિત | J19: ગુજરાતી | K19: સા.વિ. | L19: ગણિત | M19: ગુજરાતી | N19: સા.વિ. | O19: ગણિત | P19: ગુજરાતી | Q19: સા.વિ. | R19: વિષય ફાળવણી
A20: 6 | B20: 03:05-03:40 | C20: K.O. | D20: B.J. | E20: N.M. | F20: K.O. | G20: B.J. | H20: N.M. | I20: K.O. | J20: B.J. | K20: N.M. | L20: K.O. | M20: B.J. | N20: N.M. | O20: K.O. | P20: B.J. | Q20: N.M. | R20: =HOME!E6 -> N.M. | T20: =HOME!F6&IF(HOME!G6="","",", "&HOME!G6)&IF(HOME!H6="","",", "&HOME!H6)&IF(HOME!I6="","",", "&HOME!I6)&IF(HOME!J6="","",", "&HOME!J6) -> સા.વિ., હિન્દી, સર્વાંગી, કમ્પ્યુટર
C21: વિજ્ઞાન | D21: અંગ્રેજી | E21: હિન્દી | F21: વિજ્ઞાન | G21: અંગ્રેજી | H21: હિન્દી | I21: વિજ્ઞાન | J21: અંગ્રેજી | K21: હિન્દી | L21: વિજ્ઞાન | M21: અંગ્રેજી | N21: હિન્દી | O21: વિજ્ઞાન | P21: અંગ્રેજી | Q21: હિન્દી | R21: =HOME!E7 -> K.O. | T21: =HOME!F7&IF(HOME!G7="","",", "&HOME!G7)&IF(HOME!H7="","",", "&HOME!H7)&IF(HOME!I7="","",", "&HOME!I7)&IF(HOME!J7="","",", "&HOME!J7) -> વિજ્ઞાન, ગણિત, સર્વાંગી, કમ્પ્યુટર
B22: 03:40-03:50 | C22: વિરામ | R22: =HOME!E8 -> B.J. | T22: =HOME!F8&IF(HOME!G8="","",", "&HOME!G8)&IF(HOME!H8="","",", "&HOME!H8)&IF(HOME!I8="","",", "&HOME!I8)&IF(HOME!J8="","",", "&HOME!J8) -> ગુજરાતી, અંગ્રેજી, સંસ્કૃત, કમ્પ્યુટર, સર્વાંગી
A23: 7 | B23: 03:50-04:25 | C23: N.M. | D23: K.O. | E23: B.J. | F23: N.M. | G23: K.O. | H23: B.J. | I23: N.M. | J23: B.J. | K23: K.O. | L23: N.M. | M23: B.J. | N23: K.O. | O23: K.O. | P23: B.J. | Q23: N.M. | R23: વર્ગ શિક્ષકનું નામ
C24: હિન્દી | D24: ગણિત | E24: સંસ્કૃત | F24: સંગીત | G24: ગણિત | H24: ગુજરાતી | I24: ચિત્ર | J24: અંગ્રેજી | K24: ગણિત | L24: કમ્પ્યુટર | M24: સંસ્કૃત | N24: વિજ્ઞાન | O24: ગણિત | P24: ગુજરાતી | Q24: સંગીત | R24: STD | S24: =HOME!A6 -> 6 | T24: =TRIM(LEFT(SUBSTITUTE(HOME!B6," ",REPT(" ",100)),100))&" "&MID(HOME!B6,FIND(" ",HOME!B6)+1,FIND(" ",HOME!B6,FIND(" ",HOME!B6)+1)-1-FIND(" ",HOME!B6))&" ("&HOME!E6&")" -> મહેતા નિરાલી (N.M.)
A25: 8 | B25: 04:25-05:00 | C25: B.J. | D25: N.M. | E25: K.O. | F25: N.M. | G25: K.O. | H25: B.J. | I25: B.J. | J25: K.O. | K25: N.M. | L25: B.J. | M25: K.O. | N25: N.M. | O25: K.O. | P25: N.M. | Q25: B.J. | R25: STD | S25: =HOME!A7 -> 7 | T25: =TRIM(LEFT(SUBSTITUTE(HOME!B7," ",REPT(" ",100)),100))&" "&MID(HOME!B7,FIND(" ",HOME!B7)+1,FIND(" ",HOME!B7,FIND(" ",HOME!B7)+1)-1-FIND(" ",HOME!B7))&" ("&HOME!E7&")" -> ઓડેદરા કેશુભાઈ (K.O.)
C26: ગુજરાતી | D26: હિન્દી | E26: ગણિત | F26: સર્વાંગી | G26: વિજ્ઞાન | H26: ગુજરાતી | I26: અંગ્રેજી | J26: વિજ્ઞાન | K26: સર્વાંગી | L26: સંસ્કૃત | M26: કમ્પ્યુટર | N26: કમ્પ્યુટર | O26: વિજ્ઞાન | P26: સર્વાંગી | Q26: અંગ્રેજી | R26: STD | S26: =HOME!A8 -> 8 | T26: =TRIM(LEFT(SUBSTITUTE(HOME!B8," ",REPT(" ",100)),100))&" "&MID(HOME!B8,FIND(" ",HOME!B8)+1,FIND(" ",HOME!B8,FIND(" ",HOME!B8)+1)-1-FIND(" ",HOME!B8))&" ("&HOME!E8&")" -> બુચ બ્રિજેશ (B.J.)
A27: દરેક ધોરણમાં શિક્ષકના કુલ તાસની માહિતી → | D27: ="ધો-"&HOME!$A$6 -> ધો-6 | E27: ="ધો-"&HOME!$A$7 -> ધો-7 | F27: ="ધો-"&HOME!$A$8 -> ધો-8 | G27: કુલ | H27: દરેક ધોરણમાં જે તે વિષયના કુલ તાસની માહિતી → | K27: ગુજરાતી | L27: હિન્દી | M27: અંગ્રેજી | N27: સંસ્કૃત | O27: ગણિત | P27: વિજ્ઞાન | Q27: સા.વિ. | R27: શા.શિ. | S27: ચિત્ર | T27: સંગીત | U27: કમ્પ્યુટર | V27: સર્વાંગી | W27: કુલ
C28: =HOME!E6 -> N.M. | D28: =D45 -> 15 | E28: =D52 -> 15 | F28: =D59 -> 15 | G28: =SUM(D28:F28) -> 45 | J28: ="ધો-"&HOME!A6 -> ધો-6 | K28: =IF(K$27="","",K45) -> 7 | L28: =IF(L$27="","",L45) -> 5 | M28: =IF(M$27="","",M45) -> 6 | N28: =IF(N$27="","",N45) -> 2 | O28: =IF(O$27="","",O45) -> 7 | P28: =IF(P$27="","",P45) -> 7 | Q28: =IF(Q$27="","",Q45) -> 6 | R28: =IF(R$27="","",R45) -> 1 | ... V28: =IF(V$27="","",V45) -> 1 | W28: =SUM(K28:V28) -> 45
C29: =HOME!E7 -> K.O. | D29: =E45 -> 15 | E29: =E52 -> 15 | F29: =E59 -> 15 | G29: =SUM(D29:F29) -> 45 | J29: ="ધો-"&HOME!A7 -> ધો-7 | K29: =IF(K$27="","",K52) -> 7 | L29: =IF(L$27="","",L52) -> 5 | M29: =IF(M$27="","",M52) -> 6 | N29: =IF(N$27="","",N52) -> 2 | O29: =IF(O$27="","",O52) -> 7 | P29: =IF(P$27="","",P52) -> 7 | Q29: =IF(Q$27="","",Q52) -> 6 | R29: =IF(R$27="","",R52) -> 1 | ... V29: =IF(V$27="","",V52) -> 1 | W29: =SUM(K29:V29) -> 45
C30: =HOME!E8 -> B.J. | D30: =F45 -> 15 | E30: =F52 -> 15 | F30: =F59 -> 15 | G30: =SUM(D30:F30) -> 45 | J30: ="ધો-"&HOME!A8 -> ધો-8 | K30: =IF(K$27="","",K59) -> 7 | L30: =IF(L$27="","",L59) -> 5 | M30: =IF(M$27="","",M59) -> 6 | N30: =IF(N$27="","",N59) -> 2 | O30: =IF(O$27="","",O59) -> 7 | P30: =IF(P$27="","",P59) -> 7 | Q30: =IF(Q$27="","",Q59) -> 6 | R30: =IF(R$27="","",R59) -> 1 | ... V30: =IF(V$27="","",V59) -> 1 | W30: =SUM(K30:V30) -> 45
C31: કુલ | D31: 45 | E31: 45 | F31: 45 | G31: 135 | J31: કુલ | K31: =IF(K$27="","",SUM(K28:K30)) -> 21 | L31: =IF(L$27="","",SUM(L28:L30)) -> 15 | M31: =IF(M$27="","",SUM(M28:M30)) -> 18 | N31: =IF(N$27="","",SUM(N28:N30)) -> 6 | O31: =IF(O$27="","",SUM(O28:O30)) -> 21 | P31: =IF(P$27="","",SUM(P28:P30)) -> 21 | Q31: =IF(Q$27="","",SUM(Q28:Q30)) -> 18 | R31: =IF(R$27="","",SUM(R28:R30)) -> 3 | ... V31: =IF(V$27="","",SUM(V28:V30)) -> 3 | W31: =SUM(W28:W30) -> 135
C39: ="ધોરણ-"&HOME!$A$6 -> ધોરણ-6 | D39: =COUNTIF($C$7:$C$26,$R$20) -> 3 | E39: =COUNTIF($C$7:$C$26,$R$21) -> 2 | F39: =COUNTIF($C$7:$C$26,$R$22) -> 3 | J39: ="ધોરણ-"&HOME!$A$6 -> ધોરણ-6 | K39: =COUNTIF($C$7:$C$26,K27) -> 2 | L39: =COUNTIF($C$7:$C$26,L27) -> 2 | M39: =COUNTIF($C$7:$C$26,M27) -> 1 | N39: =COUNTIF($C$7:$C$26,N27) -> 0 | O39: =COUNTIF($C$7:$C$26,O27) -> 1 | P39: =COUNTIF($C$7:$C$26,P27) -> 1 | Q39: =COUNTIF($C$7:$C$26,Q27) -> 1 | R39: =COUNTIF($C$7:$C$26,R27) -> 0 | ... V39: =COUNTIF($C$7:$C$26,V27) -> 0
D40: =COUNTIF($F$7:$F$26,$R$20) -> 4 | E40: =COUNTIF($F$7:$F$26,$R$21) -> 2 | F40: =COUNTIF($F$7:$F$26,$R$22) -> 2 | K40: =COUNTIF($F$7:$F$26,K27) -> 1 | L40: =COUNTIF($F$7:$F$26,L27) -> 1 | M40: =COUNTIF($F$7:$F$26,M27) -> 1 | N40: =COUNTIF($F$7:$F$26,N27) -> 0 | O40: =COUNTIF($F$7:$F$26,O27) -> 1 | P40: =COUNTIF($F$7:$F$26,P27) -> 1 | Q40: =COUNTIF($F$7:$F$26,Q27) -> 1 | R40: =COUNTIF($F$7:$F$26,R27) -> 0 | ... V40: =COUNTIF($F$7:$F$26,V27) -> 1
D41: =COUNTIF($I$7:$I$26,$R$20) -> 3 | E41: =COUNTIF($I$7:$I$26,$R$21) -> 2 | F41: =COUNTIF($I$7:$I$26,$R$22) -> 3 | K41: =COUNTIF($I$7:$I$26,K27) -> 1 | L41: =COUNTIF($I$7:$I$26,L27) -> 1 | M41: =COUNTIF($I$7:$I$26,M27) -> 2 | N41: =COUNTIF($I$7:$I$26,N27) -> 0 | O41: =COUNTIF($I$7:$I$26,O27) -> 1 | P41: =COUNTIF($I$7:$I$26,P27) -> 1 | Q41: =COUNTIF($I$7:$I$26,Q27) -> 1 | R41: =COUNTIF($I$7:$I$26,R27) -> 0 | ... V41: =COUNTIF($I$7:$I$26,V27) -> 0
D42: =COUNTIF($L$7:$L$26,$R$20) -> 3 | E42: =COUNTIF($L$7:$L$26,$R$21) -> 2 | F42: =COUNTIF($L$7:$L$26,$R$22) -> 3 | K42: =COUNTIF($L$7:$L$26,K27) -> 1 | L42: =COUNTIF($L$7:$L$26,L27) -> 0 | M42: =COUNTIF($L$7:$L$26,M27) -> 1 | N42: =COUNTIF($L$7:$L$26,N27) -> 1 | O42: =COUNTIF($L$7:$L$26,O27) -> 1 | P42: =COUNTIF($L$7:$L$26,P27) -> 1 | Q42: =COUNTIF($L$7:$L$26,Q27) -> 2 | R42: =COUNTIF($L$7:$L$26,R27) -> 0 | ... V42: =COUNTIF($L$7:$L$26,V27) -> 0
D43: =COUNTIF($O$7:$O$26,$R$20) -> 2 | E43: =COUNTIF($O$7:$O$26,$R$21) -> 4 | F43: =COUNTIF($O$7:$O$26,$R$22) -> 2 | K43: =COUNTIF($O$7:$O$26,K27) -> 1 | L43: =COUNTIF($O$7:$O$26,L27) -> 1 | M43: =COUNTIF($O$7:$O$26,M27) -> 1 | N43: =COUNTIF($O$7:$O$26,N27) -> 0 | O43: =COUNTIF($O$7:$O$26,O27) -> 2 | P43: =COUNTIF($O$7:$O$26,P27) -> 2 | Q43: =COUNTIF($O$7:$O$26,Q27) -> 1 | R43: =COUNTIF($O$7:$O$26,R27) -> 0 | ... V43: =COUNTIF($O$7:$O$26,V27) -> 0
D44: =COUNTIF($R$7:$R$18,$R$20) -> 0 | E44: =COUNTIF($R$7:$R$18,$R$21) -> 3 | F44: =COUNTIF($R$7:$R$18,$R$22) -> 2 | K44: =COUNTIF($R$7:$R$18,K27) -> 1 | L44: =COUNTIF($R$7:$R$18,L27) -> 0 | M44: =COUNTIF($R$7:$R$18,M27) -> 0 | N44: =COUNTIF($R$7:$R$18,N27) -> 1 | O44: =COUNTIF($R$7:$R$18,O27) -> 1 | P44: =COUNTIF($R$7:$R$18,P27) -> 1 | Q44: =COUNTIF($R$7:$R$18,Q27) -> 0 | R44: =COUNTIF($R$7:$R$18,R27) -> 1 | ... V44: =COUNTIF($R$7:$R$18,V27) -> 0
D45: =SUM(D39:D44) -> 15 | E45: =SUM(E39:E44) -> 15 | F45: =SUM(F39:F44) -> 15 | K45: =SUM(K39:K44) -> 7 | L45: =SUM(L39:L44) -> 5 | M45: =SUM(M39:M44) -> 6 | N45: =SUM(N39:N44) -> 2 | O45: =SUM(O39:O44) -> 7 | P45: =SUM(P39:P44) -> 7 | Q45: =SUM(Q39:Q44) -> 6 | R45: =SUM(R39:R44) -> 1 | ... V45: =SUM(V39:V44) -> 1
C46: ="ધોરણ-"&HOME!$A$7 -> ધોરણ-7 | D46: =COUNTIF($D$7:$D$26,$R$20) -> 3 | E46: =COUNTIF($D$7:$D$26,$R$21) -> 3 | F46: =COUNTIF($D$7:$D$26,$R$22) -> 2 | J46: ="ધોરણ-"&HOME!$A$7 -> ધોરણ-7 | K46: =COUNTIF($D$7:$D$26,K27) -> 1 | L46: =COUNTIF($D$7:$D$26,L27) -> 1 | M46: =COUNTIF($D$7:$D$26,M27) -> 1 | N46: =COUNTIF($D$7:$D$26,N27) -> 0 | O46: =COUNTIF($D$7:$D$26,O27) -> 2 | P46: =COUNTIF($D$7:$D$26,P27) -> 1 | Q46: =COUNTIF($D$7:$D$26,Q27) -> 2 | R46: =COUNTIF($D$7:$D$26,R27) -> 0 | ... V46: =COUNTIF($D$7:$D$26,V27) -> 0
D47: =COUNTIF($G$7:$G$26,$R$20) -> 2 | E47: =COUNTIF($G$7:$G$26,$R$21) -> 4 | F47: =COUNTIF($G$7:$G$26,$R$22) -> 2 | K47: =COUNTIF($G$7:$G$26,K27) -> 1 | L47: =COUNTIF($G$7:$G$26,L27) -> 1 | M47: =COUNTIF($G$7:$G$26,M27) -> 1 | N47: =COUNTIF($G$7:$G$26,N27) -> 0 | O47: =COUNTIF($G$7:$G$26,O27) -> 2 | P47: =COUNTIF($G$7:$G$26,P27) -> 2 | Q47: =COUNTIF($G$7:$G$26,Q27) -> 1 | R47: =COUNTIF($G$7:$G$26,R27) -> 0 | ... V47: =COUNTIF($G$7:$G$26,V27) -> 0
D48: =COUNTIF($J$7:$J$26,$R$20) -> 2 | E48: =COUNTIF($J$7:$J$26,$R$21) -> 3 | F48: =COUNTIF($J$7:$J$26,$R$22) -> 3 | K48: =COUNTIF($J$7:$J$26,K27) -> 1 | L48: =COUNTIF($J$7:$J$26,L27) -> 1 | M48: =COUNTIF($J$7:$J$26,M27) -> 2 | N48: =COUNTIF($J$7:$J$26,N27) -> 0 | O48: =COUNTIF($J$7:$J$26,O27) -> 1 | P48: =COUNTIF($J$7:$J$26,P27) -> 2 | Q48: =COUNTIF($J$7:$J$26,Q27) -> 1 | R48: =COUNTIF($J$7:$J$26,R27) -> 0 | ... V48: =COUNTIF($J$7:$J$26,V27) -> 0
D49: =COUNTIF($M$7:$M$26,$R$20) -> 2 | E49: =COUNTIF($M$7:$M$26,$R$21) -> 3 | F49: =COUNTIF($M$7:$M$26,$R$22) -> 3 | K49: =COUNTIF($M$7:$M$26,K27) -> 1 | L49: =COUNTIF($M$7:$M$26,L27) -> 1 | M49: =COUNTIF($M$7:$M$26,M27) -> 1 | N49: =COUNTIF($M$7:$M$26,N27) -> 1 | O49: =COUNTIF($M$7:$M$26,O27) -> 1 | P49: =COUNTIF($M$7:$M$26,P27) -> 1 | Q49: =COUNTIF($M$7:$M$26,Q27) -> 1 | R49: =COUNTIF($M$7:$M$26,R27) -> 0 | ... V49: =COUNTIF($M$7:$M$26,V27) -> 0
D50: =COUNTIF($P$7:$P$26,$R$20) -> 3 | E50: =COUNTIF($P$7:$P$26,$R$21) -> 2 | F50: =COUNTIF($P$7:$P$26,$R$22) -> 3 | K50: =COUNTIF($P$7:$P$26,K27) -> 2 | L50: =COUNTIF($P$7:$P$26,L27) -> 1 | M50: =COUNTIF($P$7:$P$26,M27) -> 1 | N50: =COUNTIF($P$7:$P$26,N27) -> 0 | O50: =COUNTIF($P$7:$P$26,O27) -> 1 | P50: =COUNTIF($P$7:$P$26,P27) -> 1 | Q50: =COUNTIF($P$7:$P$26,Q27) -> 1 | R50: =COUNTIF($P$7:$P$26,R27) -> 0 | ... V50: =COUNTIF($P$7:$P$26,V27) -> 1
D51: =COUNTIF($S$7:$S$18,$R$20) -> 3 | E51: =COUNTIF($S$7:$S$18,$R$21) -> 0 | F51: =COUNTIF($S$7:$S$18,$R$22) -> 2 | K51: =COUNTIF($S$7:$S$18,K27) -> 1 | L51: =COUNTIF($S$7:$S$18,L27) -> 0 | M51: =COUNTIF($S$7:$S$18,M27) -> 0 | N51: =COUNTIF($S$7:$S$18,N27) -> 1 | O51: =COUNTIF($S$7:$S$18,O27) -> 0 | P51: =COUNTIF($S$7:$S$18,P27) -> 0 | Q51: =COUNTIF($S$7:$S$18,Q27) -> 0 | R51: =COUNTIF($S$7:$S$18,R27) -> 1 | ... V51: =COUNTIF($S$7:$S$18,V27) -> 0
D52: =SUM(D46:D51) -> 15 | E52: =SUM(E46:E51) -> 15 | F52: =SUM(F46:F51) -> 15 | K52: =SUM(K46:K51) -> 7 | L52: =SUM(L46:L51) -> 5 | M52: =SUM(M46:M51) -> 6 | N52: =SUM(N46:N51) -> 2 | O52: =SUM(O46:O51) -> 7 | P52: =SUM(P46:P51) -> 7 | Q52: =SUM(Q46:Q51) -> 6 | R52: =SUM(R46:R51) -> 1 | ... V52: =SUM(V46:V51) -> 1
C53: ="ધોરણ-"&HOME!$A$8 -> ધોરણ-8 | D53: =COUNTIF($E$7:$E$26,$R$20) -> 2 | E53: =COUNTIF($E$7:$E$26,$R$21) -> 3 | F53: =COUNTIF($E$7:$E$26,$R$22) -> 3 | J53: ="ધોરણ-"&HOME!$A$8 -> ધોરણ-8 | K53: =COUNTIF($E$7:$E$26,K27) -> 1 | L53: =COUNTIF($E$7:$E$26,L27) -> 1 | M53: =COUNTIF($E$7:$E$26,M27) -> 1 | N53: =COUNTIF($E$7:$E$26,N27) -> 1 | O53: =COUNTIF($E$7:$E$26,O27) -> 2 | P53: =COUNTIF($E$7:$E$26,P27) -> 1 | Q53: =COUNTIF($E$7:$E$26,Q27) -> 1 | R53: =COUNTIF($E$7:$E$26,R27) -> 0 | ... V53: =COUNTIF($E$7:$E$26,V27) -> 0
D54: =COUNTIF($H$7:$H$26,$R$20) -> 2 | E54: =COUNTIF($H$7:$H$26,$R$21) -> 2 | F54: =COUNTIF($H$7:$H$26,$R$22) -> 4 | K54: =COUNTIF($H$7:$H$26,K27) -> 3 | L54: =COUNTIF($H$7:$H$26,L27) -> 1 | M54: =COUNTIF($H$7:$H$26,M27) -> 1 | N54: =COUNTIF($H$7:$H$26,N27) -> 0 | O54: =COUNTIF($H$7:$H$26,O27) -> 1 | P54: =COUNTIF($H$7:$H$26,P27) -> 1 | Q54: =COUNTIF($H$7:$H$26,Q27) -> 1 | R54: =COUNTIF($H$7:$H$26,R27) -> 0 | ... V54: =COUNTIF($H$7:$H$26,V27) -> 0
D55: =COUNTIF($K$7:$K$26,$R$20) -> 3 | E55: =COUNTIF($K$7:$K$26,$R$21) -> 3 | F55: =COUNTIF($K$7:$K$26,$R$22) -> 2 | K55: =COUNTIF($K$7:$K$26,K27) -> 1 | L55: =COUNTIF($K$7:$K$26,L27) -> 1 | M55: =COUNTIF($K$7:$K$26,M27) -> 1 | N55: =COUNTIF($K$7:$K$26,N27) -> 0 | O55: =COUNTIF($K$7:$K$26,O27) -> 2 | P55: =COUNTIF($K$7:$K$26,P27) -> 1 | Q55: =COUNTIF($K$7:$K$26,Q27) -> 1 | R55: =COUNTIF($K$7:$K$26,R27) -> 0 | ... V55: =COUNTIF($K$7:$K$26,V27) -> 1
D56: =COUNTIF($N$7:$N$26,$R$20) -> 3 | E56: =COUNTIF($N$7:$N$26,$R$21) -> 3 | F56: =COUNTIF($N$7:$N$26,$R$22) -> 2 | K56: =COUNTIF($N$7:$N$26,K27) -> 1 | L56: =COUNTIF($N$7:$N$26,L27) -> 1 | M56: =COUNTIF($N$7:$N$26,M27) -> 1 | N56: =COUNTIF($N$7:$N$26,N27) -> 0 | O56: =COUNTIF($N$7:$N$26,O27) -> 1 | P56: =COUNTIF($N$7:$N$26,P27) -> 2 | Q56: =COUNTIF($N$7:$N$26,Q27) -> 1 | R56: =COUNTIF($N$7:$N$26,R27) -> 0 | ... V56: =COUNTIF($N$7:$N$26,V27) -> 0
D57: =COUNTIF($Q$7:$Q$26,$R$20) -> 3 | E57: =COUNTIF($Q$7:$Q$26,$R$21) -> 2 | F57: =COUNTIF($Q$7:$Q$26,$R$22) -> 3 | K57: =COUNTIF($Q$7:$Q$26,K27) -> 1 | L57: =COUNTIF($Q$7:$Q$26,L27) -> 1 | M57: =COUNTIF($Q$7:$Q$26,M27) -> 2 | N57: =COUNTIF($Q$7:$Q$26,N27) -> 0 | O57: =COUNTIF($Q$7:$Q$26,O27) -> 1 | P57: =COUNTIF($Q$7:$Q$26,P27) -> 1 | Q57: =COUNTIF($Q$7:$Q$26,Q27) -> 1 | R57: =COUNTIF($Q$7:$Q$26,R27) -> 0 | ... V57: =COUNTIF($Q$7:$Q$26,V27) -> 0
D58: =COUNTIF($T$7:$T$18,$R$20) -> 2 | E58: =COUNTIF($T$7:$T$18,$R$21) -> 2 | F58: =COUNTIF($T$7:$T$18,$R$22) -> 1 | K58: =COUNTIF($T$7:$T$18,K27) -> 0 | L58: =COUNTIF($T$7:$T$18,L27) -> 0 | M58: =COUNTIF($T$7:$T$18,M27) -> 0 | N58: =COUNTIF($T$7:$T$18,N27) -> 1 | O58: =COUNTIF($T$7:$T$18,O27) -> 0 | P58: =COUNTIF($T$7:$T$18,P27) -> 1 | Q58: =COUNTIF($T$7:$T$18,Q27) -> 1 | R58: =COUNTIF($T$7:$T$18,R27) -> 1 | ... V58: =COUNTIF($T$7:$T$18,V27) -> 0
D59: =SUM(D53:D58) -> 15 | E59: =SUM(E53:E58) -> 15 | F59: =SUM(F53:F58) -> 15 | K59: =SUM(K53:K58) -> 7 | L59: =SUM(L53:L58) -> 5 | M59: =SUM(M53:M58) -> 6 | N59: =SUM(N53:N58) -> 2 | O59: =SUM(O53:O58) -> 7 | P59: =SUM(P53:P58) -> 7 | Q59: =SUM(Q53:Q58) -> 6 | R59: =SUM(R53:R58) -> 1 | ... V59: =SUM(V53:V58) -> 1

Sheet STD-6
A1: ='GENERAL TIME TABLE'!A2&" "&'GENERAL TIME TABLE'!C2&" "&'GENERAL TIME TABLE'!R2&""&'GENERAL TIME TABLE'!S2 -> શાળા : શ્રી નોખાણિયા પં. પ્રા.શાળા, તા.ભુજ, જિ.કચ્છ વર્ષ :2026-'27
A3: ="સમયપત્રક (ધોરણ-"&HOME!$A$6&")" -> સમયપત્રક (ધોરણ-6)
A4: તાસ | B4: સમય | C4: સોમવાર | D4: મંગળવાર | E4: બુધવાર | F4: ગુરુવાર | G4: શુક્રવાર | H4: તાસ | I4: સમય | J4: શનિવાર
B5: ='GENERAL TIME TABLE'!$B$5 -> 10:30-10:45 | C5: ='GENERAL TIME TABLE'!$C$5 -> સમૂહજીવન, શાળાસફાઈ અને શૈક્ષણિક કાર્ય માટેની પૂર્વતૈયારી | I5: ='GENERAL TIME TABLE'!$U$5 -> 07:00-07:20 | J5: શાળાસફાઈ
B6: ='GENERAL TIME TABLE'!$B$6 -> 10:45 - 11:10 | C6: ='GENERAL TIME TABLE'!$C$6 -> પ્રાર્થના સંમેલન | I6: ='GENERAL TIME TABLE'!$U$6 -> 07:30-07:50 | J6: પ્રાર્થના
A7: 1 | B7: ='GENERAL TIME TABLE'!$B$7 -> 11:10-11:50 | C7: ='GENERAL TIME TABLE'!C8 -> સા.વિ. | D7: ='GENERAL TIME TABLE'!F8 -> સા.વિ. | E7: ='GENERAL TIME TABLE'!I8 -> સા.વિ. | F7: ='GENERAL TIME TABLE'!L8 -> સા.વિ. | G7: ='GENERAL TIME TABLE'!O8 -> સા.વિ. | H7: 1 | I7: ='GENERAL TIME TABLE'!$U$7 -> 07:50-08:35 | J7: ='GENERAL TIME TABLE'!R8 -> શા.શિ.
A8: 2 | B8: ='GENERAL TIME TABLE'!$B$9 -> 11:50-12:30 | C8: ='GENERAL TIME TABLE'!C10 -> હિન્દી | D8: ='GENERAL TIME TABLE'!F10 -> હિન્દી | E8: ='GENERAL TIME TABLE'!I10 -> હિન્દી | F8: ='GENERAL TIME TABLE'!L10 -> સા.વિ. | G8: ='GENERAL TIME TABLE'!O10 -> હિન્દી | H8: 2 | I8: ='GENERAL TIME TABLE'!$U$9 -> 08:35-09:15 | J8: ='GENERAL TIME TABLE'!R10 -> સંસ્કૃત
B9: ='GENERAL TIME TABLE'!$B$11 -> 12:30-12:40 | C9: ='GENERAL TIME TABLE'!$C$11 -> વિરામ | H9: 3 | I9: ='GENERAL TIME TABLE'!$U$11 -> 09:15-10:00 | J9: ='GENERAL TIME TABLE'!R12 -> ગણિત
A10: 3 | B10: ='GENERAL TIME TABLE'!$B$13 -> 12:40-01:15 | C10: ='GENERAL TIME TABLE'!C14 -> ગુજરાતી | D10: ='GENERAL TIME TABLE'!F14 -> ગુજરાતી | E10: ='GENERAL TIME TABLE'!I14 -> ગુજરાતી | F10: ='GENERAL TIME TABLE'!L14 -> ગુજરાતી | G10: ='GENERAL TIME TABLE'!O14 -> ગુજરાતી | I10: ='GENERAL TIME TABLE'!$U$13 -> 10:00-10:30 | J10: વિરામ
A11: 4 | B11: ='GENERAL TIME TABLE'!$B$15 -> 01:15 -01:50 | C11: ='GENERAL TIME TABLE'!C16 -> અંગ્રેજી | D11: ='GENERAL TIME TABLE'!F16 -> અંગ્રેજી | E11: ='GENERAL TIME TABLE'!I16 -> અંગ્રેજી | F11: ='GENERAL TIME TABLE'!L16 -> અંગ્રેજી | G11: ='GENERAL TIME TABLE'!O16 -> અંગ્રેજી | H11: 4 | I11: ='GENERAL TIME TABLE'!$U$15 -> 10:30-11:00 | J11: ='GENERAL TIME TABLE'!R16 -> ગુજરાતી
B12: ='GENERAL TIME TABLE'!$B$17 -> 01:50-02:30 | C12: ='GENERAL TIME TABLE'!$C$17 -> મધ્યાહન ભોજન - વિરામ | H12: 5 | I12: ='GENERAL TIME TABLE'!$U$17 -> 11:00-11:30 | J12: ='GENERAL TIME TABLE'!R18 -> વિજ્ઞાન
A13: 5 | B13: ='GENERAL TIME TABLE'!$B$18 -> 02:30-03:05 | C13: ='GENERAL TIME TABLE'!C19 -> ગણિત | D13: ='GENERAL TIME TABLE'!F19 -> ગણિત | E13: ='GENERAL TIME TABLE'!I19 -> ગણિત | F13: ='GENERAL TIME TABLE'!L19 -> ગણિત | G13: ='GENERAL TIME TABLE'!O19 -> ગણિત | H13: : વર્ગ શિક્ષકશ્રી :
A14: 6 | B14: ='GENERAL TIME TABLE'!$B$20 -> 03:05-03:40 | C14: ='GENERAL TIME TABLE'!C21 -> વિજ્ઞાન | D14: ='GENERAL TIME TABLE'!F21 -> વિજ્ઞાન | E14: ='GENERAL TIME TABLE'!I21 -> વિજ્ઞાન | F14: ='GENERAL TIME TABLE'!L21 -> વિજ્ઞાન | G14: ='GENERAL TIME TABLE'!O21 -> વિજ્ઞાન
B15: ='GENERAL TIME TABLE'!$B$22 -> 03:40-03:50 | C15: ='GENERAL TIME TABLE'!$C$22 -> વિરામ | H15: =IF(HOME!$B$6="","",HOME!$B$6) -> મહેતા નિરાલી દિક્ષિતભાઈ
A16: 7 | B16: ='GENERAL TIME TABLE'!$B$23 -> 03:50-04:25 | C16: ='GENERAL TIME TABLE'!C24 -> હિન્દી | D16: ='GENERAL TIME TABLE'!F24 -> સંગીત | E16: ='GENERAL TIME TABLE'!I24 -> ચિત્ર | F16: ='GENERAL TIME TABLE'!L24 -> કમ્પ્યુટર | G16: ='GENERAL TIME TABLE'!O24 -> ગણિત
A17: 8 | B17: ='GENERAL TIME TABLE'!$B$25 -> 04:25-05:00 | C17: ='GENERAL TIME TABLE'!C26 -> ગુજરાતી | D17: ='GENERAL TIME TABLE'!F26 -> સર્વાંગી | E17: ='GENERAL TIME TABLE'!I26 -> અંગ્રેજી | F17: ='GENERAL TIME TABLE'!L26 -> સંસ્કૃત | G17: ='GENERAL TIME TABLE'!O26 -> વિજ્ઞાન

Sheet STD-7
A1: ='GENERAL TIME TABLE'!A2&" "&'GENERAL TIME TABLE'!C2&" "&'GENERAL TIME TABLE'!R2&""&'GENERAL TIME TABLE'!S2 -> શાળા : શ્રી નોખાણિયા પં. પ્રા.શાળા, તા.ભુજ, જિ.કચ્છ વર્ષ :2026-'27
A3: ="સમયપત્રક (ધોરણ-"&HOME!$A$7&")" -> સમયપત્રક (ધોરણ-7)
A4: તાસ | B4: સમય | C4: સોમવાર | D4: મંગળવાર | E4: બુધવાર | F4: ગુરુવાર | G4: શુક્રવાર | H4: તાસ | I4: સમય | J4: શનિવાર
B5: ='GENERAL TIME TABLE'!$B$5 -> 10:30-10:45 | C5: ='GENERAL TIME TABLE'!$C$5 -> સમૂહજીવન, શાળાસફાઈ અને શૈક્ષણિક કાર્ય માટેની પૂર્વતૈયારી | I5: ='GENERAL TIME TABLE'!$U$5 -> 07:00-07:20 | J5: શાળાસફાઈ
B6: ='GENERAL TIME TABLE'!$B$6 -> 10:45 - 11:10 | C6: ='GENERAL TIME TABLE'!$C$6 -> પ્રાર્થના સંમેલન | I6: ='GENERAL TIME TABLE'!$U$6 -> 07:30-07:50 | J6: પ્રાર્થના
A7: 1 | B7: ='GENERAL TIME TABLE'!$B$7 -> 11:10-11:50 | C7: ='GENERAL TIME TABLE'!D8 -> ગણિત | D7: ='GENERAL TIME TABLE'!G8 -> ગણિત | E7: ='GENERAL TIME TABLE'!J8 -> ગણિત | F7: ='GENERAL TIME TABLE'!M8 -> ગણિત | G7: ='GENERAL TIME TABLE'!P8 -> ગણિત | H7: 1 | I7: ='GENERAL TIME TABLE'!$U$7 -> 07:50-08:35 | J7: ='GENERAL TIME TABLE'!S8 -> સંસ્કૃત
A8: 2 | B8: ='GENERAL TIME TABLE'!$B$9 -> 11:50-12:30 | C8: ='GENERAL TIME TABLE'!D10 -> વિજ્ઞાન | D8: ='GENERAL TIME TABLE'!G10 -> વિજ્ઞાન | E8: ='GENERAL TIME TABLE'!J10 -> વિજ્ઞાન | F8: ='GENERAL TIME TABLE'!M10 -> વિજ્ઞાન | G8: ='GENERAL TIME TABLE'!P10 -> વિજ્ઞાન | H8: 2 | I8: ='GENERAL TIME TABLE'!$U$9 -> 08:35-09:15 | J8: ='GENERAL TIME TABLE'!S10 -> શા.શિ.
B9: ='GENERAL TIME TABLE'!$B$11 -> 12:30-12:40 | C9: ='GENERAL TIME TABLE'!$C$11 -> વિરામ | H9: 3 | I9: ='GENERAL TIME TABLE'!$U$11 -> 09:15-10:00 | J9: ='GENERAL TIME TABLE'!S12 -> ગુજરાતી
A10: 3 | B10: ='GENERAL TIME TABLE'!$B$13 -> 12:40-01:15 | C10: ='GENERAL TIME TABLE'!D14 -> સા.વિ. | D10: ='GENERAL TIME TABLE'!G14 -> સા.વિ. | E10: ='GENERAL TIME TABLE'!J14 -> સા.વિ. | F10: ='GENERAL TIME TABLE'!M14 -> સા.વિ. | G10: ='GENERAL TIME TABLE'!P14 -> સા.વિ. | I10: ='GENERAL TIME TABLE'!$U$13 -> 10:00-10:30 | J10: વિરામ
A11: 4 | B11: ='GENERAL TIME TABLE'!$B$15 -> 01:15 -01:50 | C11: ='GENERAL TIME TABLE'!D16 -> સા.વિ. | D11: ='GENERAL TIME TABLE'!G16 -> હિન્દી | E11: ='GENERAL TIME TABLE'!J16 -> હિન્દી | F11: ='GENERAL TIME TABLE'!M16 -> હિન્દી | G11: ='GENERAL TIME TABLE'!P16 -> હિન્દી | H11: 4 | I11: ='GENERAL TIME TABLE'!$U$15 -> 10:30-11:00 | J11: ='GENERAL TIME TABLE'!S16 -> સંગીત
B12: ='GENERAL TIME TABLE'!$B$17 -> 01:50-02:30 | C12: ='GENERAL TIME TABLE'!$C$17 -> મધ્યાહન ભોજન - વિરામ | H12: 5 | I12: ='GENERAL TIME TABLE'!$U$17 -> 11:00-11:30 | J12: ='GENERAL TIME TABLE'!S18 -> ચિત્ર
A13: 5 | B13: ='GENERAL TIME TABLE'!$B$18 -> 02:30-03:05 | C13: ='GENERAL TIME TABLE'!D19 -> ગુજરાતી | D13: ='GENERAL TIME TABLE'!G19 -> ગુજરાતી | E13: ='GENERAL TIME TABLE'!J19 -> ગુજરાતી | F13: ='GENERAL TIME TABLE'!M19 -> ગુજરાતી | G13: ='GENERAL TIME TABLE'!P19 -> ગુજરાતી | H13: : વર્ગ શિક્ષકશ્રી :
A14: 6 | B14: ='GENERAL TIME TABLE'!$B$20 -> 03:05-03:40 | C14: ='GENERAL TIME TABLE'!D21 -> અંગ્રેજી | D14: ='GENERAL TIME TABLE'!G21 -> અંગ્રેજી | E14: ='GENERAL TIME TABLE'!J21 -> અંગ્રેજી | F14: ='GENERAL TIME TABLE'!M21 -> અંગ્રેજી | G14: ='GENERAL TIME TABLE'!P21 -> અંગ્રેજી
B15: ='GENERAL TIME TABLE'!$B$22 -> 03:40-03:50 | C15: ='GENERAL TIME TABLE'!$C$22 -> વિરામ | H15: =IF(HOME!$B$7="","",HOME!$B$7) -> ઓડેદરા કેશુભાઈ ગીગાભાઈ
A16: 7 | B16: ='GENERAL TIME TABLE'!$B$23 -> 03:50-04:25 | C16: ='GENERAL TIME TABLE'!D24 -> ગણિત | D16: ='GENERAL TIME TABLE'!G24 -> ગણિત | E16: ='GENERAL TIME TABLE'!J24 -> અંગ્રેજી | F16: ='GENERAL TIME TABLE'!M24 -> સંસ્કૃત | G16: ='GENERAL TIME TABLE'!P24 -> ગુજરાતી
A17: 8 | B17: ='GENERAL TIME TABLE'!$B$25 -> 04:25-05:00 | C17: ='GENERAL TIME TABLE'!D26 -> હિન્દી | D17: ='GENERAL TIME TABLE'!G26 -> વિજ્ઞાન | E17: ='GENERAL TIME TABLE'!J26 -> વિજ્ઞાન | F17: ='GENERAL TIME TABLE'!M26 -> કમ્પ્યુટર | G17: ='GENERAL TIME TABLE'!P26 -> સર્વાંગી

Sheet STD-8
A1: ='GENERAL TIME TABLE'!A2&" "&'GENERAL TIME TABLE'!C2&" "&'GENERAL TIME TABLE'!R2&""&'GENERAL TIME TABLE'!S2 -> શાળા : શ્રી નોખાણિયા પં. પ્રા.શાળા, તા.ભુજ, જિ.કચ્છ વર્ષ :2026-'27
A3: ="સમયપત્રક (ધોરણ-"&HOME!$A$8&")" -> સમયપત્રક (ધોરણ-8)
A4: તાસ | B4: સમય | C4: સોમવાર | D4: મંગળવાર | E4: બુધવાર | F4: ગુરુવાર | G4: શુક્રવાર | H4: તાસ | I4: સમય | J4: શનિવાર
B5: ='GENERAL TIME TABLE'!$B$5 -> 10:30-10:45 | C5: ='GENERAL TIME TABLE'!$C$5 -> સમૂહજીવન, શાળાસફાઈ અને શૈક્ષણિક કાર્ય માટેની પૂર્વતૈયારી | I5: ='GENERAL TIME TABLE'!$U$5 -> 07:00-07:20 | J5: શાળાસફાઈ
B6: ='GENERAL TIME TABLE'!$B$6 -> 10:45 - 11:10 | C6: ='GENERAL TIME TABLE'!$C$6 -> પ્રાર્થના સંમેલન | I6: ='GENERAL TIME TABLE'!$U$6 -> 07:30-07:50 | J6: પ્રાર્થના
A7: 1 | B7: ='GENERAL TIME TABLE'!$B$7 -> 11:10-11:50 | C7: ='GENERAL TIME TABLE'!E8 -> ગુજરાતી | D7: ='GENERAL TIME TABLE'!H8 -> ગુજરાતી | E7: ='GENERAL TIME TABLE'!K8 -> ગુજરાતી | F7: ='GENERAL TIME TABLE'!N8 -> ગુજરાતી | G7: ='GENERAL TIME TABLE'!Q8 -> ગુજરાતી | H7: 1 | I7: ='GENERAL TIME TABLE'!$U$7 -> 07:50-08:35 | J7: ='GENERAL TIME TABLE'!T8 -> શા.શિ.
A8: 2 | B8: ='GENERAL TIME TABLE'!$B$9 -> 11:50-12:30 | C8: ='GENERAL TIME TABLE'!E10 -> અંગ્રેજી | D8: ='GENERAL TIME TABLE'!H10 -> અંગ્રેજી | E8: ='GENERAL TIME TABLE'!K10 -> અંગ્રેજી | F8: ='GENERAL TIME TABLE'!N10 -> અંગ્રેજી | G8: ='GENERAL TIME TABLE'!Q10 -> અંગ્રેજી | H8: 2 | I8: ='GENERAL TIME TABLE'!$U$9 -> 08:35-09:15 | J8: ='GENERAL TIME TABLE'!T10 -> ચિત્ર
B9: ='GENERAL TIME TABLE'!$B$11 -> 12:30-12:40 | C9: ='GENERAL TIME TABLE'!$C$11 -> વિરામ | H9: 3 | I9: ='GENERAL TIME TABLE'!$U$11 -> 09:15-10:00 | J9: ='GENERAL TIME TABLE'!T12 -> સા.વિ.
A10: 3 | B10: ='GENERAL TIME TABLE'!$B$13 -> 12:40-01:15 | C10: ='GENERAL TIME TABLE'!E14 -> ગણિત | D10: ='GENERAL TIME TABLE'!H14 -> ગણિત | E10: ='GENERAL TIME TABLE'!K14 -> ગણિત | F10: ='GENERAL TIME TABLE'!N14 -> ગણિત | G10: ='GENERAL TIME TABLE'!Q14 -> ગણિત | I10: ='GENERAL TIME TABLE'!$U$13 -> 10:00-10:30 | J10: વિરામ
A11: 4 | B11: ='GENERAL TIME TABLE'!$B$15 -> 01:15 -01:50 | C11: ='GENERAL TIME TABLE'!E16 -> વિજ્ઞાન | D11: ='GENERAL TIME TABLE'!H16 -> વિજ્ઞાન | E11: ='GENERAL TIME TABLE'!K16 -> વિજ્ઞાન | F11: ='GENERAL TIME TABLE'!N16 -> વિજ્ઞાન | G11: ='GENERAL TIME TABLE'!Q16 -> વિજ્ઞાન | H11: 4 | I11: ='GENERAL TIME TABLE'!$U$15 -> 10:30-11:00 | J11: ='GENERAL TIME TABLE'!T16 -> વિજ્ઞાન
B12: ='GENERAL TIME TABLE'!$B$17 -> 01:50-02:30 | C12: ='GENERAL TIME TABLE'!$C$17 -> મધ્યાહન ભોજન - વિરામ | H12: 5 | I12: ='GENERAL TIME TABLE'!$U$17 -> 11:00-11:30 | J12: ='GENERAL TIME TABLE'!T18 -> સંસ્કૃત
A13: 5 | B13: ='GENERAL TIME TABLE'!$B$18 -> 02:30-03:05 | C13: ='GENERAL TIME TABLE'!E19 -> સા.વિ. | D13: ='GENERAL TIME TABLE'!H19 -> સા.વિ. | E13: ='GENERAL TIME TABLE'!K19 -> સા.વિ. | F13: ='GENERAL TIME TABLE'!N19 -> સા.વિ. | G13: ='GENERAL TIME TABLE'!Q19 -> સા.વિ. | H13: : વર્ગ શિક્ષકશ્રી :
A14: 6 | B14: ='GENERAL TIME TABLE'!$B$20 -> 03:05-03:40 | C14: ='GENERAL TIME TABLE'!E21 -> હિન્દી | D14: ='GENERAL TIME TABLE'!H21 -> હિન્દી | E14: ='GENERAL TIME TABLE'!K21 -> હિન્દી | F14: ='GENERAL TIME TABLE'!N21 -> હિન્દી | G14: ='GENERAL TIME TABLE'!Q21 -> હિન્દી
B15: ='GENERAL TIME TABLE'!$B$22 -> 03:40-03:50 | C15: ='GENERAL TIME TABLE'!$C$22 -> વિરામ | H15: =IF(HOME!$B$8="","",HOME!$B$8) -> બુચ બ્રિજેશ જનકરાય
A16: 7 | B16: ='GENERAL TIME TABLE'!$B$23 -> 03:50-04:25 | C16: ='GENERAL TIME TABLE'!E24 -> સંસ્કૃત | D16: ='GENERAL TIME TABLE'!H24 -> ગુજરાતી | E16: ='GENERAL TIME TABLE'!K24 -> ગણિત | F16: ='GENERAL TIME TABLE'!N24 -> વિજ્ઞાન | G16: ='GENERAL TIME TABLE'!Q24 -> સંગીત
A17: 8 | B17: ='GENERAL TIME TABLE'!$B$25 -> 04:25-05:00 | C17: ='GENERAL TIME TABLE'!E26 -> ગણિત | D17: ='GENERAL TIME TABLE'!H26 -> ગુજરાતી | E17: ='GENERAL TIME TABLE'!K26 -> સર્વાંગી | F17: ='GENERAL TIME TABLE'!N26 -> કમ્પ્યુટર | G17: ='GENERAL TIME TABLE'!Q26 -> અંગ્રેજી

Sheet T-1
A1: ='GENERAL TIME TABLE'!A2&" "&'GENERAL TIME TABLE'!C2&" "&'GENERAL TIME TABLE'!R2&""&'GENERAL TIME TABLE'!S2 -> શાળા : શ્રી નોખાણિયા પં. પ્રા.શાળા, તા.ભુજ, જિ.કચ્છ વર્ષ :2026-'27
A3: શિક્ષકનું સમયપત્રક
A4: તાસ | B4: સમય | C4: સોમવાર | D4: મંગળવાર | E4: બુધવાર | F4: ગુરુવાર | G4: શુક્રવાર | H4: તાસ | I4: સમય | J4: શનિવાર
B5: ='GENERAL TIME TABLE'!$B$5 -> 10:30-10:45 | C5: ='GENERAL TIME TABLE'!$C$5 -> સમૂહજીવન, શાળાસફાઈ અને શૈક્ષણિક કાર્ય માટેની પૂર્વતૈયારી | I5: ='GENERAL TIME TABLE'!$U$5 -> 07:00-07:20 | J5: શાળાસફાઈ
B6: ='GENERAL TIME TABLE'!$B$6 -> 10:45 - 11:10 | C6: ='GENERAL TIME TABLE'!$C$6 -> પ્રાર્થના સંમેલન | I6: ='GENERAL TIME TABLE'!$U$6 -> 07:30-07:50 | J6: પ્રાર્થના
A7: 1 | B7: ='GENERAL TIME TABLE'!$B$7 -> 11:10-11:50 | C7: =IF('GENERAL TIME TABLE'!$C$7='GENERAL TIME TABLE'!$R$20,'GENERAL TIME TABLE'!$C$8&"-"&HOME!$A$6,IF('GENERAL TIME TABLE'!$D$7='GENERAL TIME TABLE'!$R$20,'GENERAL TIME TABLE'!$D$8&"-"&HOME!$A$7,IF('GENERAL TIME TABLE'!$E$7='GENERAL TIME TABLE'!$R$20,'GENERAL TIME TABLE'!$E$8&"-"&HOME!$A$8,""))) -> સા.વિ.-6 | D7: =IF('GENERAL TIME TABLE'!$F$7='GENERAL TIME TABLE'!$R$20,'GENERAL TIME TABLE'!$F$8&"-"&HOME!$A$6,IF('GENERAL TIME TABLE'!$G$7='GENERAL TIME TABLE'!$R$20,'GENERAL TIME TABLE'!$G$8&"-"&HOME!$A$7,IF('GENERAL TIME TABLE'!$H$7='GENERAL TIME TABLE'!$R$20,'GENERAL TIME TABLE'!$H$8&"-"&HOME!$A$8,""))) -> સા.વિ.-6 | E7: =IF('GENERAL TIME TABLE'!$I$7='GENERAL TIME TABLE'!$R$20,'GENERAL TIME TABLE'!$I$8&"-"&HOME!$A$6,IF('GENERAL TIME TABLE'!$J$7='GENERAL TIME TABLE'!$R$20,'GENERAL TIME TABLE'!$J$8&"-"&HOME!$A$7,IF('GENERAL TIME TABLE'!$K$7='GENERAL TIME TABLE'!$R$20,'GENERAL TIME TABLE'!$K$8&"-"&HOME!$A$8,""))) -> સા.વિ.-6 | F7: =IF('GENERAL TIME TABLE'!$L$7='GENERAL TIME TABLE'!$R$20,'GENERAL TIME TABLE'!$L$8&"-"&HOME!$A$6,IF('GENERAL TIME TABLE'!$M$7='GENERAL TIME TABLE'!$R$20,'GENERAL TIME TABLE'!$M$8&"-"&HOME!$A$7,IF('GENERAL TIME TABLE'!$N$7='GENERAL TIME TABLE'!$R$20,'GENERAL TIME TABLE'!$N$8&"-"&HOME!$A$8,""))) -> સા.વિ.-6 | G7: =IF('GENERAL TIME TABLE'!$O$7='GENERAL TIME TABLE'!$R$20,'GENERAL TIME TABLE'!$O$8&"-"&HOME!$A$6,IF('GENERAL TIME TABLE'!$P$7='GENERAL TIME TABLE'!$R$20,'GENERAL TIME TABLE'!$P$8&"-"&HOME!$A$7,IF('GENERAL TIME TABLE'!$Q$7='GENERAL TIME TABLE'!$R$20,'GENERAL TIME TABLE'!$Q$8&"-"&HOME!$A$8,""))) -> સા.વિ.-6 | H7: 1 | I7: ='GENERAL TIME TABLE'!$U$7 -> 07:50-08:35 | J7: =IF('GENERAL TIME TABLE'!$R$7='GENERAL TIME TABLE'!$R$20,'GENERAL TIME TABLE'!$R$8&"-"&HOME!$A$6,IF('GENERAL TIME TABLE'!$S$7='GENERAL TIME TABLE'!$R$20,'GENERAL TIME TABLE'!$S$8&"-"&HOME!$A$7,IF('GENERAL TIME TABLE'!$T$7='GENERAL TIME TABLE'!$R$20,'GENERAL TIME TABLE'!$T$8&"-"&HOME!$A$8,""))) -> શા.શિ.-8
A8: 2 | B8: ='GENERAL TIME TABLE'!$B$9 -> 11:50-12:30 | C8: =IF('GENERAL TIME TABLE'!$C$9='GENERAL TIME TABLE'!$R$20,'GENERAL TIME TABLE'!$C$10&"-"&HOME!$A$6,IF('GENERAL TIME TABLE'!$D$9='GENERAL TIME TABLE'!$R$20,'GENERAL TIME TABLE'!$D$10&"-"&HOME!$A$7,IF('GENERAL TIME TABLE'!$E$9='GENERAL TIME TABLE'!$R$20,'GENERAL TIME TABLE'!$E$10&"-"&HOME!$A$8,""))) -> હિન્દી-6 | D8: =IF('GENERAL TIME TABLE'!$F$9='GENERAL TIME TABLE'!$R$20,'GENERAL TIME TABLE'!$F$10&"-"&HOME!$A$6,IF('GENERAL TIME TABLE'!$G$9='GENERAL TIME TABLE'!$R$20,'GENERAL TIME TABLE'!$G$10&"-"&HOME!$A$7,IF('GENERAL TIME TABLE'!$H$9='GENERAL TIME TABLE'!$R$20,'GENERAL TIME TABLE'!$H$10&"-"&HOME!$A$8,""))) -> હિન્દી-6 | E8: =IF('GENERAL TIME TABLE'!$I$9='GENERAL TIME TABLE'!$R$20,'GENERAL TIME TABLE'!$I$10&"-"&HOME!$A$6,IF('GENERAL TIME TABLE'!$J$9='GENERAL TIME TABLE'!$R$20,'GENERAL TIME TABLE'!$J$10&"-"&HOME!$A$7,IF('GENERAL TIME TABLE'!$K$9='GENERAL TIME TABLE'!$R$20,'GENERAL TIME TABLE'!$K$10&"-"&HOME!$A$8,""))) -> હિન્દી-6 | F8: =IF('GENERAL TIME TABLE'!$L$9='GENERAL TIME TABLE'!$R$20,'GENERAL TIME TABLE'!$L$10&"-"&HOME!$A$6,IF('GENERAL TIME TABLE'!$M$9='GENERAL TIME TABLE'!$R$20,'GENERAL TIME TABLE'!$M$10&"-"&HOME!$A$7,IF('GENERAL TIME TABLE'!$N$9='GENERAL TIME TABLE'!$R$20,'GENERAL TIME TABLE'!$N$10&"-"&HOME!$A$8,""))) -> સા.વિ.-6 | G8: =IF('GENERAL TIME TABLE'!$O$9='GENERAL TIME TABLE'!$R$20,'GENERAL TIME TABLE'!$O$10&"-"&HOME!$A$6,IF('GENERAL TIME TABLE'!$P$9='GENERAL TIME TABLE'!$R$20,'GENERAL TIME TABLE'!$P$10&"-"&HOME!$A$7,IF('GENERAL TIME TABLE'!$Q$9='GENERAL TIME TABLE'!$R$20,'GENERAL TIME TABLE'!$Q$10&"-"&HOME!$A$8,""))) -> હિન્દી-6 | H8: 2 | I8: ='GENERAL TIME TABLE'!$U$9 -> 08:35-09:15 | J8: =IF('GENERAL TIME TABLE'!$R$9='GENERAL TIME TABLE'!$R$20,'GENERAL TIME TABLE'!$R$10&"-"&HOME!$A$6,IF('GENERAL TIME TABLE'!$S$9='GENERAL TIME TABLE'!$R$20,'GENERAL TIME TABLE'!$S$10&"-"&HOME!$A$7,IF('GENERAL TIME TABLE'!$T$9='GENERAL TIME TABLE'!$R$20,'GENERAL TIME TABLE'!$T$10&"-"&HOME!$A$8,""))) -> શા.શિ.-7
B9: ='GENERAL TIME TABLE'!$B$11 -> 12:30-12:40 | C9: ='GENERAL TIME TABLE'!$C$11 -> વિરામ | H9: 3 | I9: ='GENERAL TIME TABLE'!$U$11 -> 09:15-10:00 | J9: =IF('GENERAL TIME TABLE'!$R$11='GENERAL TIME TABLE'!$R$20,'GENERAL TIME TABLE'!$R$12&"-"&HOME!$A$6,IF('GENERAL TIME TABLE'!$S$11='GENERAL TIME TABLE'!$R$20,'GENERAL TIME TABLE'!$S$12&"-"&HOME!$A$7,IF('GENERAL TIME TABLE'!$T$11='GENERAL TIME TABLE'!$R$20,'GENERAL TIME TABLE'!$T$12&"-"&HOME!$A$8,""))) -> સા.વિ.-8
A10: 3 | B10: ='GENERAL TIME TABLE'!$B$13 -> 12:40-01:15 | C10: =IF('GENERAL TIME TABLE'!$C$13='GENERAL TIME TABLE'!$R$20,'GENERAL TIME TABLE'!$C$14&"-"&HOME!$A$6,IF('GENERAL TIME TABLE'!$D$13='GENERAL TIME TABLE'!$R$20,'GENERAL TIME TABLE'!$D$14&"-"&HOME!$A$7,IF('GENERAL TIME TABLE'!$E$13='GENERAL TIME TABLE'!$R$20,'GENERAL TIME TABLE'!$E$14&"-"&HOME!$A$8,""))) -> સા.વિ.-7 | D10: =IF('GENERAL TIME TABLE'!$F$13='GENERAL TIME TABLE'!$R$20,'GENERAL TIME TABLE'!$F$14&"-"&HOME!$A$6,IF('GENERAL TIME TABLE'!$G$13='GENERAL TIME TABLE'!$R$20,'GENERAL TIME TABLE'!$G$14&"-"&HOME!$A$7,IF('GENERAL TIME TABLE'!$H$13='GENERAL TIME TABLE'!$R$20,'GENERAL TIME TABLE'!$H$14&"-"&HOME!$A$8,""))) -> સા.વિ.-7 | E10: =IF('GENERAL TIME TABLE'!$I$13='GENERAL TIME TABLE'!$R$20,'GENERAL TIME TABLE'!$I$14&"-"&HOME!$A$6,IF('GENERAL TIME TABLE'!$J$13='GENERAL TIME TABLE'!$R$20,'GENERAL TIME TABLE'!$J$14&"-"&HOME!$A$7,IF('GENERAL TIME TABLE'!$K$13='GENERAL TIME TABLE'!$R$20,'GENERAL TIME TABLE'!$K$14&"-"&HOME!$A$8,""))) -> સા.વિ.-7 | F10: =IF('GENERAL TIME TABLE'!$L$13='GENERAL TIME TABLE'!$R$20,'GENERAL TIME TABLE'!$L$14&"-"&HOME!$A$6,IF('GENERAL TIME TABLE'!$M$13='GENERAL TIME TABLE'!$R$20,'GENERAL TIME TABLE'!$M$14&"-"&HOME!$A$7,IF('GENERAL TIME TABLE'!$N$13='GENERAL TIME TABLE'!$R$20,'GENERAL TIME TABLE'!$N$14&"-"&HOME!$A$8,""))) -> સા.વિ.-7 | G10: =IF('GENERAL TIME TABLE'!$O$13='GENERAL TIME TABLE'!$R$20,'GENERAL TIME TABLE'!$O$14&"-"&HOME!$A$6,IF('GENERAL TIME TABLE'!$P$13='GENERAL TIME TABLE'!$R$20,'GENERAL TIME TABLE'!$P$14&"-"&HOME!$A$7,IF('GENERAL TIME TABLE'!$Q$13='GENERAL TIME TABLE'!$R$20,'GENERAL TIME TABLE'!$Q$14&"-"&HOME!$A$8,""))) -> સા.વિ.-7 | I10: ='GENERAL TIME TABLE'!$U$13 -> 10:00-10:30 | J10: વિરામ
A11: 4 | B11: ='GENERAL TIME TABLE'!$B$15 -> 01:15 -01:50 | C11: =IF('GENERAL TIME TABLE'!$C$15='GENERAL TIME TABLE'!$R$20,'GENERAL TIME TABLE'!$C$16&"-"&HOME!$A$6,IF('GENERAL TIME TABLE'!$D$15='GENERAL TIME TABLE'!$R$20,'GENERAL TIME TABLE'!$D$16&"-"&HOME!$A$7,IF('GENERAL TIME TABLE'!$E$15='GENERAL TIME TABLE'!$R$20,'GENERAL TIME TABLE'!$E$16&"-"&HOME!$A$8,""))) -> સા.વિ.-7 | D11: =IF('GENERAL TIME TABLE'!$F$15='GENERAL TIME TABLE'!$R$20,'GENERAL TIME TABLE'!$F$16&"-"&HOME!$A$6,IF('GENERAL TIME TABLE'!$G$15='GENERAL TIME TABLE'!$R$20,'GENERAL TIME TABLE'!$G$16&"-"&HOME!$A$7,IF('GENERAL TIME TABLE'!$H$15='GENERAL TIME TABLE'!$R$20,'GENERAL TIME TABLE'!$H$16&"-"&HOME!$A$8,""))) -> હિન્દી-7 | E11: =IF('GENERAL TIME TABLE'!$I$15='GENERAL TIME TABLE'!$R$20,'GENERAL TIME TABLE'!$I$16&"-"&HOME!$A$6,IF('GENERAL TIME TABLE'!$J$15='GENERAL TIME TABLE'!$R$20,'GENERAL TIME TABLE'!$J$16&"-"&HOME!$A$7,IF('GENERAL TIME TABLE'!$K$15='GENERAL TIME TABLE'!$R$20,'GENERAL TIME TABLE'!$K$16&"-"&HOME!$A$8,""))) -> હિન્દી-7 | F11: =IF('GENERAL TIME TABLE'!$L$15='GENERAL TIME TABLE'!$R$20,'GENERAL TIME TABLE'!$L$16&"-"&HOME!$A$6,IF('GENERAL TIME TABLE'!$M$15='GENERAL TIME TABLE'!$R$20,'GENERAL TIME TABLE'!$M$16&"-"&HOME!$A$7,IF('GENERAL TIME TABLE'!$N$15='GENERAL TIME TABLE'!$R$20,'GENERAL TIME TABLE'!$N$16&"-"&HOME!$A$8,""))) -> હિન્દી-7 | G11: =IF('GENERAL TIME TABLE'!$O$15='GENERAL TIME TABLE'!$R$20,'GENERAL TIME TABLE'!$O$16&"-"&HOME!$A$6,IF('GENERAL TIME TABLE'!$P$15='GENERAL TIME TABLE'!$R$20,'GENERAL TIME TABLE'!$P$16&"-"&HOME!$A$7,IF('GENERAL TIME TABLE'!$Q$15='GENERAL TIME TABLE'!$R$20,'GENERAL TIME TABLE'!$Q$16&"-"&HOME!$A$8,""))) -> હિન્દી-7 | H11: 4 | I11: ='GENERAL TIME TABLE'!$U$15 -> 10:30-11:00 | J11: =IF('GENERAL TIME TABLE'!$R$15='GENERAL TIME TABLE'!$R$20,'GENERAL TIME TABLE'!$R$16&"-"&HOME!$A$6,IF('GENERAL TIME TABLE'!$S$15='GENERAL TIME TABLE'!$R$20,'GENERAL TIME TABLE'!$S$16&"-"&HOME!$A$7,IF('GENERAL TIME TABLE'!$T$15='GENERAL TIME TABLE'!$R$20,'GENERAL TIME TABLE'!$T$16&"-"&HOME!$A$8,""))) -> સંગીત-7
B12: ='GENERAL TIME TABLE'!$B$17 -> 01:50-02:30 | C12: ='GENERAL TIME TABLE'!$C$17 -> મધ્યાહન ભોજન - વિરામ | H12: 5 | I12: ='GENERAL TIME TABLE'!$U$17 -> 11:00-11:30 | J12: =IF('GENERAL TIME TABLE'!$R$17='GENERAL TIME TABLE'!$R$20,'GENERAL TIME TABLE'!$R$18&"-"&HOME!$A$6,IF('GENERAL TIME TABLE'!$S$17='GENERAL TIME TABLE'!$R$20,'GENERAL TIME TABLE'!$S$18&"-"&HOME!$A$7,IF('GENERAL TIME TABLE'!$T$17='GENERAL TIME TABLE'!$R$20,'GENERAL TIME TABLE'!$T$18&"-"&HOME!$A$8,""))) -> ચિત્ર-7
A13: 5 | B13: ='GENERAL TIME TABLE'!$B$18 -> 02:30-03:05 | C13: =IF('GENERAL TIME TABLE'!$C$18='GENERAL TIME TABLE'!$R$20,'GENERAL TIME TABLE'!$C$19&"-"&HOME!$A$6,IF('GENERAL TIME TABLE'!$D$18='GENERAL TIME TABLE'!$R$20,'GENERAL TIME TABLE'!$D$19&"-"&HOME!$A$7,IF('GENERAL TIME TABLE'!$E$18='GENERAL TIME TABLE'!$R$20,'GENERAL TIME TABLE'!$E$19&"-"&HOME!$A$8,""))) -> સા.વિ.-8 | D13: =IF('GENERAL TIME TABLE'!$F$18='GENERAL TIME TABLE'!$R$20,'GENERAL TIME TABLE'!$F$19&"-"&HOME!$A$6,IF('GENERAL TIME TABLE'!$G$18='GENERAL TIME TABLE'!$R$20,'GENERAL TIME TABLE'!$G$19&"-"&HOME!$A$7,IF('GENERAL TIME TABLE'!$H$18='GENERAL TIME TABLE'!$R$20,'GENERAL TIME TABLE'!$H$19&"-"&HOME!$A$8,""))) -> સા.વિ.-8 | E13: =IF('GENERAL TIME TABLE'!$I$18='GENERAL TIME TABLE'!$R$20,'GENERAL TIME TABLE'!$I$19&"-"&HOME!$A$6,IF('GENERAL TIME TABLE'!$J$18='GENERAL TIME TABLE'!$R$20,'GENERAL TIME TABLE'!$J$19&"-"&HOME!$A$7,IF('GENERAL TIME TABLE'!$K$18='GENERAL TIME TABLE'!$R$20,'GENERAL TIME TABLE'!$K$19&"-"&HOME!$A$8,""))) -> સા.વિ.-8 | F13: =IF('GENERAL TIME TABLE'!$L$18='GENERAL TIME TABLE'!$R$20,'GENERAL TIME TABLE'!$L$19&"-"&HOME!$A$6,IF('GENERAL TIME TABLE'!$M$18='GENERAL TIME TABLE'!$R$20,'GENERAL TIME TABLE'!$M$19&"-"&HOME!$A$7,IF('GENERAL TIME TABLE'!$N$18='GENERAL TIME TABLE'!$R$20,'GENERAL TIME TABLE'!$N$19&"-"&HOME!$A$8,""))) -> સા.વિ.-8 | G13: =IF('GENERAL TIME TABLE'!$O$18='GENERAL TIME TABLE'!$R$20,'GENERAL TIME TABLE'!$O$19&"-"&HOME!$A$6,IF('GENERAL TIME TABLE'!$P$18='GENERAL TIME TABLE'!$R$20,'GENERAL TIME TABLE'!$P$19&"-"&HOME!$A$7,IF('GENERAL TIME TABLE'!$Q$18='GENERAL TIME TABLE'!$R$20,'GENERAL TIME TABLE'!$Q$19&"-"&HOME!$A$8,""))) -> સા.વિ.-8 | H13: : શિક્ષકશ્રી :
A14: 6 | B14: ='GENERAL TIME TABLE'!$B$20 -> 03:05-03:40 | C14: =IF('GENERAL TIME TABLE'!$C$20='GENERAL TIME TABLE'!$R$20,'GENERAL TIME TABLE'!$C$21&"-"&HOME!$A$6,IF('GENERAL TIME TABLE'!$D$20='GENERAL TIME TABLE'!$R$20,'GENERAL TIME TABLE'!$D$21&"-"&HOME!$A$7,IF('GENERAL TIME TABLE'!$E$20='GENERAL TIME TABLE'!$R$20,'GENERAL TIME TABLE'!$E$21&"-"&HOME!$A$8,""))) -> હિન્દી-8 | D14: =IF('GENERAL TIME TABLE'!$F$20='GENERAL TIME TABLE'!$R$20,'GENERAL TIME TABLE'!$F$21&"-"&HOME!$A$6,IF('GENERAL TIME TABLE'!$G$20='GENERAL TIME TABLE'!$R$20,'GENERAL TIME TABLE'!$G$21&"-"&HOME!$A$7,IF('GENERAL TIME TABLE'!$H$20='GENERAL TIME TABLE'!$R$20,'GENERAL TIME TABLE'!$H$21&"-"&HOME!$A$8,""))) -> હિન્દી-8 | E14: =IF('GENERAL TIME TABLE'!$I$20='GENERAL TIME TABLE'!$R$20,'GENERAL TIME TABLE'!$I$21&"-"&HOME!$A$6,IF('GENERAL TIME TABLE'!$J$20='GENERAL TIME TABLE'!$R$20,'GENERAL TIME TABLE'!$J$21&"-"&HOME!$A$7,IF('GENERAL TIME TABLE'!$K$20='GENERAL TIME TABLE'!$R$20,'GENERAL TIME TABLE'!$K$21&"-"&HOME!$A$8,""))) -> હિન્દી-8 | F14: =IF('GENERAL TIME TABLE'!$L$20='GENERAL TIME TABLE'!$R$20,'GENERAL TIME TABLE'!$L$21&"-"&HOME!$A$6,IF('GENERAL TIME TABLE'!$M$20='GENERAL TIME TABLE'!$R$20,'GENERAL TIME TABLE'!$M$21&"-"&HOME!$A$7,IF('GENERAL TIME TABLE'!$N$20='GENERAL TIME TABLE'!$R$20,'GENERAL TIME TABLE'!$N$21&"-"&HOME!$A$8,""))) -> હિન્દી-8 | G14: =IF('GENERAL TIME TABLE'!$O$20='GENERAL TIME TABLE'!$R$20,'GENERAL TIME TABLE'!$O$21&"-"&HOME!$A$6,IF('GENERAL TIME TABLE'!$P$20='GENERAL TIME TABLE'!$R$20,'GENERAL TIME TABLE'!$P$21&"-"&HOME!$A$7,IF('GENERAL TIME TABLE'!$Q$20='GENERAL TIME TABLE'!$R$20,'GENERAL TIME TABLE'!$Q$21&"-"&HOME!$A$8,""))) -> હિન્દી-8
B15: ='GENERAL TIME TABLE'!$B$22 -> 03:40-03:50 | C15: ='GENERAL TIME TABLE'!$C$22 -> વિરામ | H15: =IF(HOME!$B$6="","",HOME!$B$6) -> મહેતા નિરાલી દિક્ષિતભાઈ
A16: 7 | B16: ='GENERAL TIME TABLE'!$B$23 -> 03:50-04:25 | C16: =IF('GENERAL TIME TABLE'!$C$23='GENERAL TIME TABLE'!$R$20,'GENERAL TIME TABLE'!$C$24&"-"&HOME!$A$6,IF('GENERAL TIME TABLE'!$D$23='GENERAL TIME TABLE'!$R$20,'GENERAL TIME TABLE'!$D$24&"-"&HOME!$A$7,IF('GENERAL TIME TABLE'!$E$23='GENERAL TIME TABLE'!$R$20,'GENERAL TIME TABLE'!$E$24&"-"&HOME!$A$8,""))) -> હિન્દી-6 | D16: =IF('GENERAL TIME TABLE'!$F$23='GENERAL TIME TABLE'!$R$20,'GENERAL TIME TABLE'!$F$24&"-"&HOME!$A$6,IF('GENERAL TIME TABLE'!$G$23='GENERAL TIME TABLE'!$R$20,'GENERAL TIME TABLE'!$G$24&"-"&HOME!$A$7,IF('GENERAL TIME TABLE'!$H$23='GENERAL TIME TABLE'!$R$20,'GENERAL TIME TABLE'!$H$24&"-"&HOME!$A$8,""))) -> સંગીત-6 | E16: =IF('GENERAL TIME TABLE'!$I$23='GENERAL TIME TABLE'!$R$20,'GENERAL TIME TABLE'!$I$24&"-"&HOME!$A$6,IF('GENERAL TIME TABLE'!$J$23='GENERAL TIME TABLE'!$R$20,'GENERAL TIME TABLE'!$J$24&"-"&HOME!$A$7,IF('GENERAL TIME TABLE'!$K$23='GENERAL TIME TABLE'!$R$20,'GENERAL TIME TABLE'!$K$24&"-"&HOME!$A$8,""))) -> ચિત્ર-6 | F16: =IF('GENERAL TIME TABLE'!$L$23='GENERAL TIME TABLE'!$R$20,'GENERAL TIME TABLE'!$L$24&"-"&HOME!$A$6,IF('GENERAL TIME TABLE'!$M$23='GENERAL TIME TABLE'!$R$20,'GENERAL TIME TABLE'!$M$24&"-"&HOME!$A$7,IF('GENERAL TIME TABLE'!$N$23='GENERAL TIME TABLE'!$R$20,'GENERAL TIME TABLE'!$N$24&"-"&HOME!$A$8,""))) -> કમ્પ્યુટર-6 | G16: =IF('GENERAL TIME TABLE'!$O$23='GENERAL TIME TABLE'!$R$20,'GENERAL TIME TABLE'!$O$24&"-"&HOME!$A$6,IF('GENERAL TIME TABLE'!$P$23='GENERAL TIME TABLE'!$R$20,'GENERAL TIME TABLE'!$P$24&"-"&HOME!$A$7,IF('GENERAL TIME TABLE'!$Q$23='GENERAL TIME TABLE'!$R$20,'GENERAL TIME TABLE'!$Q$24&"-"&HOME!$A$8,""))) -> સંગીત-8
A17: 8 | B17: ='GENERAL TIME TABLE'!$B$25 -> 04:25-05:00 | C17: =IF('GENERAL TIME TABLE'!$C$25='GENERAL TIME TABLE'!$R$20,'GENERAL TIME TABLE'!$C$26&"-"&HOME!$A$6,IF('GENERAL TIME TABLE'!$D$25='GENERAL TIME TABLE'!$R$20,'GENERAL TIME TABLE'!$D$26&"-"&HOME!$A$7,IF('GENERAL TIME TABLE'!$E$25='GENERAL TIME TABLE'!$R$20,'GENERAL TIME TABLE'!$E$26&"-"&HOME!$A$8,""))) -> હિન્દી-7 | D17: =IF('GENERAL TIME TABLE'!$F$25='GENERAL TIME TABLE'!$R$20,'GENERAL TIME TABLE'!$F$26&"-"&HOME!$A$6,IF('GENERAL TIME TABLE'!$G$25='GENERAL TIME TABLE'!$R$20,'GENERAL TIME TABLE'!$G$26&"-"&HOME!$A$7,IF('GENERAL TIME TABLE'!$H$25='GENERAL TIME TABLE'!$R$20,'GENERAL TIME TABLE'!$H$26&"-"&HOME!$A$8,""))) -> સર્વાંગી-6 | E17: =IF('GENERAL TIME TABLE'!$I$25='GENERAL TIME TABLE'!$R$20,'GENERAL TIME TABLE'!$I$26&"-"&HOME!$A$6,IF('GENERAL TIME TABLE'!$J$25='GENERAL TIME TABLE'!$R$20,'GENERAL TIME TABLE'!$J$26&"-"&HOME!$A$7,IF('GENERAL TIME TABLE'!$K$25='GENERAL TIME TABLE'!$R$20,'GENERAL TIME TABLE'!$K$26&"-"&HOME!$A$8,""))) -> સર્વાંગી-8 | F17: =IF('GENERAL TIME TABLE'!$L$25='GENERAL TIME TABLE'!$R$20,'GENERAL TIME TABLE'!$L$26&"-"&HOME!$A$6,IF('GENERAL TIME TABLE'!$M$25='GENERAL TIME TABLE'!$R$20,'GENERAL TIME TABLE'!$M$26&"-"&HOME!$A$7,IF('GENERAL TIME TABLE'!$N$25='GENERAL TIME TABLE'!$R$20,'GENERAL TIME TABLE'!$N$26&"-"&HOME!$A$8,""))) -> કમ્પ્યુટર-8 | G17: =IF('GENERAL TIME TABLE'!$O$25='GENERAL TIME TABLE'!$R$20,'GENERAL TIME TABLE'!$O$26&"-"&HOME!$A$6,IF('GENERAL TIME TABLE'!$P$25='GENERAL TIME TABLE'!$R$20,'GENERAL TIME TABLE'!$P$26&"-"&HOME!$A$7,IF('GENERAL TIME TABLE'!$Q$25='GENERAL TIME TABLE'!$R$20,'GENERAL TIME TABLE'!$Q$26&"-"&HOME!$A$8,""))) -> સર્વાંગી-7

Sheet T-2
A1: ='GENERAL TIME TABLE'!A2&" "&'GENERAL TIME TABLE'!C2&" "&'GENERAL TIME TABLE'!R2&""&'GENERAL TIME TABLE'!S2 -> શાળા : શ્રી નોખાણિયા પં. પ્રા.શાળા, તા.ભુજ, જિ.કચ્છ વર્ષ :2026-'27
A3: શિક્ષકનું સમયપત્રક
A4: તાસ | B4: સમય | C4: સોમવાર | D4: મંગળવાર | E4: બુધવાર | F4: ગુરુવાર | G4: શુક્રવાર | H4: તાસ | I4: સમય | J4: શનિવાર
B5: ='GENERAL TIME TABLE'!$B$5 -> 10:30-10:45 | C5: ='GENERAL TIME TABLE'!$C$5 -> સમૂહજીવન, શાળાસફાઈ અને શૈક્ષણિક કાર્ય માટેની પૂર્વતૈયારી | I5: ='GENERAL TIME TABLE'!$U$5 -> 07:00-07:20 | J5: શાળાસફાઈ
B6: ='GENERAL TIME TABLE'!$B$6 -> 10:45 - 11:10 | C6: ='GENERAL TIME TABLE'!$C$6 -> પ્રાર્થના સંમેલન | I6: ='GENERAL TIME TABLE'!$U$6 -> 07:30-07:50 | J6: પ્રાર્થના
A7: 1 | B7: ='GENERAL TIME TABLE'!$B$7 -> 11:10-11:50 | C7: =IF('GENERAL TIME TABLE'!$C$7='GENERAL TIME TABLE'!$R$21,'GENERAL TIME TABLE'!$C$8&"-"&HOME!$A$6,IF('GENERAL TIME TABLE'!$D$7='GENERAL TIME TABLE'!$R$21,'GENERAL TIME TABLE'!$D$8&"-"&HOME!$A$7,IF('GENERAL TIME TABLE'!$E$7='GENERAL TIME TABLE'!$R$21,'GENERAL TIME TABLE'!$E$8&"-"&HOME!$A$8,""))) -> ગણિત-7 | D7: =IF('GENERAL TIME TABLE'!$F$7='GENERAL TIME TABLE'!$R$21,'GENERAL TIME TABLE'!$F$8&"-"&HOME!$A$6,IF('GENERAL TIME TABLE'!$G$7='GENERAL TIME TABLE'!$R$21,'GENERAL TIME TABLE'!$G$8&"-"&HOME!$A$7,IF('GENERAL TIME TABLE'!$H$7='GENERAL TIME TABLE'!$R$21,'GENERAL TIME TABLE'!$H$8&"-"&HOME!$A$8,""))) -> ગણિત-7 | E7: =IF('GENERAL TIME TABLE'!$I$7='GENERAL TIME TABLE'!$R$21,'GENERAL TIME TABLE'!$I$8&"-"&HOME!$A$6,IF('GENERAL TIME TABLE'!$J$7='GENERAL TIME TABLE'!$R$21,'GENERAL TIME TABLE'!$J$8&"-"&HOME!$A$7,IF('GENERAL TIME TABLE'!$K$7='GENERAL TIME TABLE'!$R$21,'GENERAL TIME TABLE'!$K$8&"-"&HOME!$A$8,""))) -> ગણિત-7 | F7: =IF('GENERAL TIME TABLE'!$L$7='GENERAL TIME TABLE'!$R$21,'GENERAL TIME TABLE'!$L$8&"-"&HOME!$A$6,IF('GENERAL TIME TABLE'!$M$7='GENERAL TIME TABLE'!$R$21,'GENERAL TIME TABLE'!$M$8&"-"&HOME!$A$7,IF('GENERAL TIME TABLE'!$N$7='GENERAL TIME TABLE'!$R$21,'GENERAL TIME TABLE'!$N$8&"-"&HOME!$A$8,""))) -> ગણિત-7 | G7: =IF('GENERAL TIME TABLE'!$O$7='GENERAL TIME TABLE'!$R$21,'GENERAL TIME TABLE'!$O$8&"-"&HOME!$A$6,IF('GENERAL TIME TABLE'!$P$7='GENERAL TIME TABLE'!$R$21,'GENERAL TIME TABLE'!$P$8&"-"&HOME!$A$7,IF('GENERAL TIME TABLE'!$Q$7='GENERAL TIME TABLE'!$R$21,'GENERAL TIME TABLE'!$Q$8&"-"&HOME!$A$8,""))) -> ગણિત-7 | H7: 1 | I7: ='GENERAL TIME TABLE'!$U$7 -> 07:50-08:35 | J7: =IF('GENERAL TIME TABLE'!$R$7='GENERAL TIME TABLE'!$R$21,'GENERAL TIME TABLE'!$R$8&"-"&HOME!$A$6,IF('GENERAL TIME TABLE'!$S$7='GENERAL TIME TABLE'!$R$21,'GENERAL TIME TABLE'!$S$8&"-"&HOME!$A$7,IF('GENERAL TIME TABLE'!$T$7='GENERAL TIME TABLE'!$R$21,'GENERAL TIME TABLE'!$T$8&"-"&HOME!$A$8,""))) -> શા.શિ.-6
A8: 2 | B8: ='GENERAL TIME TABLE'!$B$9 -> 11:50-12:30 | C8: =IF('GENERAL TIME TABLE'!$C$9='GENERAL TIME TABLE'!$R$21,'GENERAL TIME TABLE'!$C$10&"-"&HOME!$A$6,IF('GENERAL TIME TABLE'!$D$9='GENERAL TIME TABLE'!$R$21,'GENERAL TIME TABLE'!$D$10&"-"&HOME!$A$7,IF('GENERAL TIME TABLE'!$E$9='GENERAL TIME TABLE'!$R$21,'GENERAL TIME TABLE'!$E$10&"-"&HOME!$A$8,""))) -> વિજ્ઞાન-7 | D8: =IF('GENERAL TIME TABLE'!$F$9='GENERAL TIME TABLE'!$R$21,'GENERAL TIME TABLE'!$F$10&"-"&HOME!$A$6,IF('GENERAL TIME TABLE'!$G$9='GENERAL TIME TABLE'!$R$21,'GENERAL TIME TABLE'!$G$10&"-"&HOME!$A$7,IF('GENERAL TIME TABLE'!$H$9='GENERAL TIME TABLE'!$R$21,'GENERAL TIME TABLE'!$H$10&"-"&HOME!$A$8,""))) -> વિજ્ઞાન-7 | E8: =IF('GENERAL TIME TABLE'!$I$9='GENERAL TIME TABLE'!$R$21,'GENERAL TIME TABLE'!$I$10&"-"&HOME!$A$6,IF('GENERAL TIME TABLE'!$J$9='GENERAL TIME TABLE'!$R$21,'GENERAL TIME TABLE'!$J$10&"-"&HOME!$A$7,IF('GENERAL TIME TABLE'!$K$9='GENERAL TIME TABLE'!$R$21,'GENERAL TIME TABLE'!$K$10&"-"&HOME!$A$8,""))) -> વિજ્ઞાન-7 | F8: =IF('GENERAL TIME TABLE'!$L$9='GENERAL TIME TABLE'!$R$21,'GENERAL TIME TABLE'!$L$10&"-"&HOME!$A$6,IF('GENERAL TIME TABLE'!$M$9='GENERAL TIME TABLE'!$R$21,'GENERAL TIME TABLE'!$M$10&"-"&HOME!$A$7,IF('GENERAL TIME TABLE'!$N$9='GENERAL TIME TABLE'!$R$21,'GENERAL TIME TABLE'!$N$10&"-"&HOME!$A$8,""))) -> વિજ્ઞાન-7 | G8: =IF('GENERAL TIME TABLE'!$O$9='GENERAL TIME TABLE'!$R$21,'GENERAL TIME TABLE'!$O$10&"-"&HOME!$A$6,IF('GENERAL TIME TABLE'!$P$9='GENERAL TIME TABLE'!$R$21,'GENERAL TIME TABLE'!$P$10&"-"&HOME!$A$7,IF('GENERAL TIME TABLE'!$Q$9='GENERAL TIME TABLE'!$R$21,'GENERAL TIME TABLE'!$Q$10&"-"&HOME!$A$8,""))) -> વિજ્ઞાન-7 | H8: 2 | I8: ='GENERAL TIME TABLE'!$U$9 -> 08:35-09:15 | J8: =IF('GENERAL TIME TABLE'!$R$9='GENERAL TIME TABLE'!$R$21,'GENERAL TIME TABLE'!$R$10&"-"&HOME!$A$6,IF('GENERAL TIME TABLE'!$S$9='GENERAL TIME TABLE'!$R$21,'GENERAL TIME TABLE'!$S$10&"-"&HOME!$A$7,IF('GENERAL TIME TABLE'!$T$9='GENERAL TIME TABLE'!$R$21,'GENERAL TIME TABLE'!$T$10&"-"&HOME!$A$8,""))) -> ચિત્ર-8
B9: ='GENERAL TIME TABLE'!$B$11 -> 12:30-12:40 | C9: ='GENERAL TIME TABLE'!$C$11 -> વિરામ | H9: 3 | I9: ='GENERAL TIME TABLE'!$U$11 -> 09:15-10:00 | J9: =IF('GENERAL TIME TABLE'!$R$11='GENERAL TIME TABLE'!$R$21,'GENERAL TIME TABLE'!$R$12&"-"&HOME!$A$6,IF('GENERAL TIME TABLE'!$S$11='GENERAL TIME TABLE'!$R$21,'GENERAL TIME TABLE'!$S$12&"-"&HOME!$A$7,IF('GENERAL TIME TABLE'!$T$11='GENERAL TIME TABLE'!$R$21,'GENERAL TIME TABLE'!$T$12&"-"&HOME!$A$8,""))) -> ગણિત-6
A10: 3 | B10: ='GENERAL TIME TABLE'!$B$13 -> 12:40-01:15 | C10: =IF('GENERAL TIME TABLE'!$C$13='GENERAL TIME TABLE'!$R$21,'GENERAL TIME TABLE'!$C$14&"-"&HOME!$A$6,IF('GENERAL TIME TABLE'!$D$13='GENERAL TIME TABLE'!$R$21,'GENERAL TIME TABLE'!$D$14&"-"&HOME!$A$7,IF('GENERAL TIME TABLE'!$E$13='GENERAL TIME TABLE'!$R$21,'GENERAL TIME TABLE'!$E$14&"-"&HOME!$A$8,""))) -> ગણિત-8 | D10: =IF('GENERAL TIME TABLE'!$F$13='GENERAL TIME TABLE'!$R$21,'GENERAL TIME TABLE'!$F$14&"-"&HOME!$A$6,IF('GENERAL TIME TABLE'!$G$13='GENERAL TIME TABLE'!$R$21,'GENERAL TIME TABLE'!$G$14&"-"&HOME!$A$7,IF('GENERAL TIME TABLE'!$H$13='GENERAL TIME TABLE'!$R$21,'GENERAL TIME TABLE'!$H$14&"-"&HOME!$A$8,""))) -> ગણિત-8 | E10: =IF('GENERAL TIME TABLE'!$I$13='GENERAL TIME TABLE'!$R$21,'GENERAL TIME TABLE'!$I$14&"-"&HOME!$A$6,IF('GENERAL TIME TABLE'!$J$13='GENERAL TIME TABLE'!$R$21,'GENERAL TIME TABLE'!$J$14&"-"&HOME!$A$7,IF('GENERAL TIME TABLE'!$K$13='GENERAL TIME TABLE'!$R$21,'GENERAL TIME TABLE'!$K$14&"-"&HOME!$A$8,""))) -> ગણિત-8 | F10: =IF('GENERAL TIME TABLE'!$L$13='GENERAL TIME TABLE'!$R$21,'GENERAL TIME TABLE'!$L$14&"-"&HOME!$A$6,IF('GENERAL TIME TABLE'!$M$13='GENERAL TIME TABLE'!$R$21,'GENERAL TIME TABLE'!$M$14&"-"&HOME!$A$7,IF('GENERAL TIME TABLE'!$N$13='GENERAL TIME TABLE'!$R$21,'GENERAL TIME TABLE'!$N$14&"-"&HOME!$A$8,""))) -> ગણિત-8 | G10: =IF('GENERAL TIME TABLE'!$O$13='GENERAL TIME TABLE'!$R$21,'GENERAL TIME TABLE'!$O$14&"-"&HOME!$A$6,IF('GENERAL TIME TABLE'!$P$13='GENERAL TIME TABLE'!$R$21,'GENERAL TIME TABLE'!$P$14&"-"&HOME!$A$7,IF('GENERAL TIME TABLE'!$Q$13='GENERAL TIME TABLE'!$R$21,'GENERAL TIME TABLE'!$Q$14&"-"&HOME!$A$8,""))) -> ગણિત-8 | I10: ='GENERAL TIME TABLE'!$U$13 -> 10:00-10:30 | J10: વિરામ
A11: 4 | B11: ='GENERAL TIME TABLE'!$B$15 -> 01:15 -01:50 | C11: =IF('GENERAL TIME TABLE'!$C$15='GENERAL TIME TABLE'!$R$21,'GENERAL TIME TABLE'!$C$16&"-"&HOME!$A$6,IF('GENERAL TIME TABLE'!$D$15='GENERAL TIME TABLE'!$R$21,'GENERAL TIME TABLE'!$D$16&"-"&HOME!$A$7,IF('GENERAL TIME TABLE'!$E$15='GENERAL TIME TABLE'!$R$21,'GENERAL TIME TABLE'!$E$16&"-"&HOME!$A$8,""))) -> વિજ્ઞાન-8 | D11: =IF('GENERAL TIME TABLE'!$F$15='GENERAL TIME TABLE'!$R$21,'GENERAL TIME TABLE'!$F$16&"-"&HOME!$A$6,IF('GENERAL TIME TABLE'!$G$15='GENERAL TIME TABLE'!$R$21,'GENERAL TIME TABLE'!$G$16&"-"&HOME!$A$7,IF('GENERAL TIME TABLE'!$H$15='GENERAL TIME TABLE'!$R$21,'GENERAL TIME TABLE'!$H$16&"-"&HOME!$A$8,""))) -> વિજ્ઞાન-8 | E11: =IF('GENERAL TIME TABLE'!$I$15='GENERAL TIME TABLE'!$R$21,'GENERAL TIME TABLE'!$I$16&"-"&HOME!$A$6,IF('GENERAL TIME TABLE'!$J$15='GENERAL TIME TABLE'!$R$21,'GENERAL TIME TABLE'!$J$16&"-"&HOME!$A$7,IF('GENERAL TIME TABLE'!$K$15='GENERAL TIME TABLE'!$R$21,'GENERAL TIME TABLE'!$K$16&"-"&HOME!$A$8,""))) -> વિજ્ઞાન-8 | F11: =IF('GENERAL TIME TABLE'!$L$15='GENERAL TIME TABLE'!$R$21,'GENERAL TIME TABLE'!$L$16&"-"&HOME!$A$6,IF('GENERAL TIME TABLE'!$M$15='GENERAL TIME TABLE'!$R$21,'GENERAL TIME TABLE'!$M$16&"-"&HOME!$A$7,IF('GENERAL TIME TABLE'!$N$15='GENERAL TIME TABLE'!$R$21,'GENERAL TIME TABLE'!$N$16&"-"&HOME!$A$8,""))) -> વિજ્ઞાન-8 | G11: =IF('GENERAL TIME TABLE'!$O$15='GENERAL TIME TABLE'!$R$21,'GENERAL TIME TABLE'!$O$16&"-"&HOME!$A$6,IF('GENERAL TIME TABLE'!$P$15='GENERAL TIME TABLE'!$R$21,'GENERAL TIME TABLE'!$P$16&"-"&HOME!$A$7,IF('GENERAL TIME TABLE'!$Q$15='GENERAL TIME TABLE'!$R$21,'GENERAL TIME TABLE'!$Q$16&"-"&HOME!$A$8,""))) -> વિજ્ઞાન-8 | H11: 4 | I11: ='GENERAL TIME TABLE'!$U$15 -> 10:30-11:00 | J11: =IF('GENERAL TIME TABLE'!$R$15='GENERAL TIME TABLE'!$R$21,'GENERAL TIME TABLE'!$R$16&"-"&HOME!$A$6,IF('GENERAL TIME TABLE'!$S$15='GENERAL TIME TABLE'!$R$21,'GENERAL TIME TABLE'!$S$16&"-"&HOME!$A$7,IF('GENERAL TIME TABLE'!$T$15='GENERAL TIME TABLE'!$R$21,'GENERAL TIME TABLE'!$T$16&"-"&HOME!$A$8,""))) -> વિજ્ઞાન-8
B12: ='GENERAL TIME TABLE'!$B$17 -> 01:50-02:30 | C12: ='GENERAL TIME TABLE'!$C$17 -> મધ્યાહન ભોજન - વિરામ | H12: 5 | I12: ='GENERAL TIME TABLE'!$U$17 -> 11:00-11:30 | J12: =IF('GENERAL TIME TABLE'!$R$17='GENERAL TIME TABLE'!$R$21,'GENERAL TIME TABLE'!$R$18&"-"&HOME!$A$6,IF('GENERAL TIME TABLE'!$S$17='GENERAL TIME TABLE'!$R$21,'GENERAL TIME TABLE'!$S$18&"-"&HOME!$A$7,IF('GENERAL TIME TABLE'!$T$17='GENERAL TIME TABLE'!$R$21,'GENERAL TIME TABLE'!$T$18&"-"&HOME!$A$8,""))) -> વિજ્ઞાન-6
A13: 5 | B13: ='GENERAL TIME TABLE'!$B$18 -> 02:30-03:05 | C13: =IF('GENERAL TIME TABLE'!$C$18='GENERAL TIME TABLE'!$R$21,'GENERAL TIME TABLE'!$C$19&"-"&HOME!$A$6,IF('GENERAL TIME TABLE'!$D$18='GENERAL TIME TABLE'!$R$21,'GENERAL TIME TABLE'!$D$19&"-"&HOME!$A$7,IF('GENERAL TIME TABLE'!$E$18='GENERAL TIME TABLE'!$R$21,'GENERAL TIME TABLE'!$E$19&"-"&HOME!$A$8,""))) -> ગણિત-6 | D13: =IF('GENERAL TIME TABLE'!$F$18='GENERAL TIME TABLE'!$R$21,'GENERAL TIME TABLE'!$F$19&"-"&HOME!$A$6,IF('GENERAL TIME TABLE'!$G$18='GENERAL TIME TABLE'!$R$21,'GENERAL TIME TABLE'!$G$19&"-"&HOME!$A$7,IF('GENERAL TIME TABLE'!$H$18='GENERAL TIME TABLE'!$R$21,'GENERAL TIME TABLE'!$H$19&"-"&HOME!$A$8,""))) -> ગણિત-6 | E13: =IF('GENERAL TIME TABLE'!$I$18='GENERAL TIME TABLE'!$R$21,'GENERAL TIME TABLE'!$I$19&"-"&HOME!$A$6,IF('GENERAL TIME TABLE'!$J$18='GENERAL TIME TABLE'!$R$21,'GENERAL TIME TABLE'!$J$19&"-"&HOME!$A$7,IF('GENERAL TIME TABLE'!$K$18='GENERAL TIME TABLE'!$R$21,'GENERAL TIME TABLE'!$K$19&"-"&HOME!$A$8,""))) -> ગણિત-6 | F13: =IF('GENERAL TIME TABLE'!$L$18='GENERAL TIME TABLE'!$R$21,'GENERAL TIME TABLE'!$L$19&"-"&HOME!$A$6,IF('GENERAL TIME TABLE'!$M$18='GENERAL TIME TABLE'!$R$21,'GENERAL TIME TABLE'!$M$19&"-"&HOME!$A$7,IF('GENERAL TIME TABLE'!$N$18='GENERAL TIME TABLE'!$R$21,'GENERAL TIME TABLE'!$N$19&"-"&HOME!$A$8,""))) -> ગણિત-6 | G13: =IF('GENERAL TIME TABLE'!$O$18='GENERAL TIME TABLE'!$R$21,'GENERAL TIME TABLE'!$O$19&"-"&HOME!$A$6,IF('GENERAL TIME TABLE'!$P$18='GENERAL TIME TABLE'!$R$21,'GENERAL TIME TABLE'!$P$19&"-"&HOME!$A$7,IF('GENERAL TIME TABLE'!$Q$18='GENERAL TIME TABLE'!$R$21,'GENERAL TIME TABLE'!$Q$19&"-"&HOME!$A$8,""))) -> ગણિત-6 | H13: : શિક્ષકશ્રી :
A14: 6 | B14: ='GENERAL TIME TABLE'!$B$20 -> 03:05-03:40 | C14: =IF('GENERAL TIME TABLE'!$C$20='GENERAL TIME TABLE'!$R$21,'GENERAL TIME TABLE'!$C$21&"-"&HOME!$A$6,IF('GENERAL TIME TABLE'!$D$20='GENERAL TIME TABLE'!$R$21,'GENERAL TIME TABLE'!$D$21&"-"&HOME!$A$7,IF('GENERAL TIME TABLE'!$E$20='GENERAL TIME TABLE'!$R$21,'GENERAL TIME TABLE'!$E$21&"-"&HOME!$A$8,""))) -> વિજ્ઞાન-6 | D14: =IF('GENERAL TIME TABLE'!$F$20='GENERAL TIME TABLE'!$R$21,'GENERAL TIME TABLE'!$F$21&"-"&HOME!$A$6,IF('GENERAL TIME TABLE'!$G$20='GENERAL TIME TABLE'!$R$21,'GENERAL TIME TABLE'!$G$21&"-"&HOME!$A$7,IF('GENERAL TIME TABLE'!$H$20='GENERAL TIME TABLE'!$R$21,'GENERAL TIME TABLE'!$H$21&"-"&HOME!$A$8,""))) -> વિજ્ઞાન-6 | E14: =IF('GENERAL TIME TABLE'!$I$20='GENERAL TIME TABLE'!$R$21,'GENERAL TIME TABLE'!$I$21&"-"&HOME!$A$6,IF('GENERAL TIME TABLE'!$J$20='GENERAL TIME TABLE'!$R$21,'GENERAL TIME TABLE'!$J$21&"-"&HOME!$A$7,IF('GENERAL TIME TABLE'!$K$20='GENERAL TIME TABLE'!$R$21,'GENERAL TIME TABLE'!$K$21&"-"&HOME!$A$8,""))) -> વિજ્ઞાન-6 | F14: =IF('GENERAL TIME TABLE'!$L$20='GENERAL TIME TABLE'!$R$21,'GENERAL TIME TABLE'!$L$21&"-"&HOME!$A$6,IF('GENERAL TIME TABLE'!$M$20='GENERAL TIME TABLE'!$R$21,'GENERAL TIME TABLE'!$M$21&"-"&HOME!$A$7,IF('GENERAL TIME TABLE'!$N$20='GENERAL TIME TABLE'!$R$21,'GENERAL TIME TABLE'!$N$21&"-"&HOME!$A$8,""))) -> વિજ્ઞાન-6 | G14: =IF('GENERAL TIME TABLE'!$O$20='GENERAL TIME TABLE'!$R$21,'GENERAL TIME TABLE'!$O$21&"-"&HOME!$A$6,IF('GENERAL TIME TABLE'!$P$20='GENERAL TIME TABLE'!$R$21,'GENERAL TIME TABLE'!$P$21&"-"&HOME!$A$7,IF('GENERAL TIME TABLE'!$Q$20='GENERAL TIME TABLE'!$R$21,'GENERAL TIME TABLE'!$Q$21&"-"&HOME!$A$8,""))) -> વિજ્ઞાન-6
B15: ='GENERAL TIME TABLE'!$B$22 -> 03:40-03:50 | C15: ='GENERAL TIME TABLE'!$C$22 -> વિરામ | H15: =IF(HOME!$B$7="","",HOME!$B$7) -> ઓડેદરા કેશુભાઈ ગીગાભાઈ
A16: 7 | B16: ='GENERAL TIME TABLE'!$B$23 -> 03:50-04:25 | C16: =IF('GENERAL TIME TABLE'!$C$23='GENERAL TIME TABLE'!$R$21,'GENERAL TIME TABLE'!$C$24&"-"&HOME!$A$6,IF('GENERAL TIME TABLE'!$D$23='GENERAL TIME TABLE'!$R$21,'GENERAL TIME TABLE'!$D$24&"-"&HOME!$A$7,IF('GENERAL TIME TABLE'!$E$23='GENERAL TIME TABLE'!$R$21,'GENERAL TIME TABLE'!$E$24&"-"&HOME!$A$8,""))) -> ગણિત-7 | D16: =IF('GENERAL TIME TABLE'!$F$23='GENERAL TIME TABLE'!$R$21,'GENERAL TIME TABLE'!$F$24&"-"&HOME!$A$6,IF('GENERAL TIME TABLE'!$G$23='GENERAL TIME TABLE'!$R$21,'GENERAL TIME TABLE'!$G$24&"-"&HOME!$A$7,IF('GENERAL TIME TABLE'!$H$23='GENERAL TIME TABLE'!$R$21,'GENERAL TIME TABLE'!$H$24&"-"&HOME!$A$8,""))) -> ગણિત-7 | E16: =IF('GENERAL TIME TABLE'!$I$23='GENERAL TIME TABLE'!$R$21,'GENERAL TIME TABLE'!$I$24&"-"&HOME!$A$6,IF('GENERAL TIME TABLE'!$J$23='GENERAL TIME TABLE'!$R$21,'GENERAL TIME TABLE'!$J$24&"-"&HOME!$A$7,IF('GENERAL TIME TABLE'!$K$23='GENERAL TIME TABLE'!$R$21,'GENERAL TIME TABLE'!$K$24&"-"&HOME!$A$8,""))) -> ગણિત-8 | F16: =IF('GENERAL TIME TABLE'!$L$23='GENERAL TIME TABLE'!$R$21,'GENERAL TIME TABLE'!$L$24&"-"&HOME!$A$6,IF('GENERAL TIME TABLE'!$M$23='GENERAL TIME TABLE'!$R$21,'GENERAL TIME TABLE'!$M$24&"-"&HOME!$A$7,IF('GENERAL TIME TABLE'!$N$23='GENERAL TIME TABLE'!$R$21,'GENERAL TIME TABLE'!$N$24&"-"&HOME!$A$8,""))) -> વિજ્ઞાન-8 | G16: =IF('GENERAL TIME TABLE'!$O$23='GENERAL TIME TABLE'!$R$21,'GENERAL TIME TABLE'!$O$24&"-"&HOME!$A$6,IF('GENERAL TIME TABLE'!$P$23='GENERAL TIME TABLE'!$R$21,'GENERAL TIME TABLE'!$P$24&"-"&HOME!$A$7,IF('GENERAL TIME TABLE'!$Q$23='GENERAL TIME TABLE'!$R$21,'GENERAL TIME TABLE'!$Q$24&"-"&HOME!$A$8,""))) -> ગણિત-6
A17: 8 | B17: ='GENERAL TIME TABLE'!$B$25 -> 04:25-05:00 | C17: =IF('GENERAL TIME TABLE'!$C$25='GENERAL TIME TABLE'!$R$21,'GENERAL TIME TABLE'!$C$26&"-"&HOME!$A$6,IF('GENERAL TIME TABLE'!$D$25='GENERAL TIME TABLE'!$R$21,'GENERAL TIME TABLE'!$D$26&"-"&HOME!$A$7,IF('GENERAL TIME TABLE'!$E$25='GENERAL TIME TABLE'!$R$21,'GENERAL TIME TABLE'!$E$26&"-"&HOME!$A$8,""))) -> ગણિત-8 | D17: =IF('GENERAL TIME TABLE'!$F$25='GENERAL TIME TABLE'!$R$21,'GENERAL TIME TABLE'!$F$26&"-"&HOME!$A$6,IF('GENERAL TIME TABLE'!$G$25='GENERAL TIME TABLE'!$R$21,'GENERAL TIME TABLE'!$G$26&"-"&HOME!$A$7,IF('GENERAL TIME TABLE'!$H$25='GENERAL TIME TABLE'!$R$21,'GENERAL TIME TABLE'!$H$26&"-"&HOME!$A$8,""))) -> વિજ્ઞાન-7 | E17: =IF('GENERAL TIME TABLE'!$I$25='GENERAL TIME TABLE'!$R$21,'GENERAL TIME TABLE'!$I$26&"-"&HOME!$A$6,IF('GENERAL TIME TABLE'!$J$25='GENERAL TIME TABLE'!$R$21,'GENERAL TIME TABLE'!$J$26&"-"&HOME!$A$7,IF('GENERAL TIME TABLE'!$K$25='GENERAL TIME TABLE'!$R$21,'GENERAL TIME TABLE'!$K$26&"-"&HOME!$A$8,""))) -> વિજ્ઞાન-7 | F17: =IF('GENERAL TIME TABLE'!$L$25='GENERAL TIME TABLE'!$R$21,'GENERAL TIME TABLE'!$L$26&"-"&HOME!$A$6,IF('GENERAL TIME TABLE'!$M$25='GENERAL TIME TABLE'!$R$21,'GENERAL TIME TABLE'!$M$26&"-"&HOME!$A$7,IF('GENERAL TIME TABLE'!$N$25='GENERAL TIME TABLE'!$R$21,'GENERAL TIME TABLE'!$N$26&"-"&HOME!$A$8,""))) -> કમ્પ્યુટર-7 | G17: =IF('GENERAL TIME TABLE'!$O$25='GENERAL TIME TABLE'!$R$21,'GENERAL TIME TABLE'!$O$26&"-"&HOME!$A$6,IF('GENERAL TIME TABLE'!$P$25='GENERAL TIME TABLE'!$R$21,'GENERAL TIME TABLE'!$P$26&"-"&HOME!$A$7,IF('GENERAL TIME TABLE'!$Q$25='GENERAL TIME TABLE'!$R$21,'GENERAL TIME TABLE'!$Q$26&"-"&HOME!$A$8,""))) -> વિજ્ઞાન-6

Sheet T-3
A1: ='GENERAL TIME TABLE'!A2&" "&'GENERAL TIME TABLE'!C2&" "&'GENERAL TIME TABLE'!R2&""&'GENERAL TIME TABLE'!S2 -> શાળા : શ્રી નોખાણિયા પં. પ્રા.શાળા, તા.ભુજ, જિ.કચ્છ વર્ષ :2026-'27
A3: શિક્ષકનું સમયપત્રક
A4: તાસ | B4: સમય | C4: સોમવાર | D4: મંગળવાર | E4: બુધવાર | F4: ગુરુવાર | G4: શુક્રવાર | H4: તાસ | I4: સમય | J4: શનિવાર
B5: ='GENERAL TIME TABLE'!$B$5 -> 10:30-10:45 | C5: ='GENERAL TIME TABLE'!$C$5 -> સમૂહજીવન, શાળાસફાઈ અને શૈક્ષણિક કાર્ય માટેની પૂર્વતૈયારી | I5: ='GENERAL TIME TABLE'!$U$5 -> 07:00-07:20 | J5: શાળાસફાઈ
B6: ='GENERAL TIME TABLE'!$B$6 -> 10:45 - 11:10 | C6: ='GENERAL TIME TABLE'!$C$6 -> પ્રાર્થના સંમેલન | I6: ='GENERAL TIME TABLE'!$U$6 -> 07:30-07:50 | J6: પ્રાર્થના
A7: 1 | B7: ='GENERAL TIME TABLE'!$B$7 -> 11:10-11:50 | C7: =IF('GENERAL TIME TABLE'!$C$7='GENERAL TIME TABLE'!$R$22,'GENERAL TIME TABLE'!$C$8&"-"&HOME!$A$6,IF('GENERAL TIME TABLE'!$D$7='GENERAL TIME TABLE'!$R$22,'GENERAL TIME TABLE'!$D$8&"-"&HOME!$A$7,IF('GENERAL TIME TABLE'!$E$7='GENERAL TIME TABLE'!$R$22,'GENERAL TIME TABLE'!$E$8&"-"&HOME!$A$8,""))) -> ગુજરાતી-8 | D7: =IF('GENERAL TIME TABLE'!$F$7='GENERAL TIME TABLE'!$R$22,'GENERAL TIME TABLE'!$F$8&"-"&HOME!$A$6,IF('GENERAL TIME TABLE'!$G$7='GENERAL TIME TABLE'!$R$22,'GENERAL TIME TABLE'!$G$8&"-"&HOME!$A$7,IF('GENERAL TIME TABLE'!$H$7='GENERAL TIME TABLE'!$R$22,'GENERAL TIME TABLE'!$H$8&"-"&HOME!$A$8,""))) -> ગુજરાતી-8 | E7: =IF('GENERAL TIME TABLE'!$I$7='GENERAL TIME TABLE'!$R$22,'GENERAL TIME TABLE'!$I$8&"-"&HOME!$A$6,IF('GENERAL TIME TABLE'!$J$7='GENERAL TIME TABLE'!$R$22,'GENERAL TIME TABLE'!$J$8&"-"&HOME!$A$7,IF('GENERAL TIME TABLE'!$K$7='GENERAL TIME TABLE'!$R$22,'GENERAL TIME TABLE'!$K$8&"-"&HOME!$A$8,""))) -> ગુજરાતી-8 | F7: =IF('GENERAL TIME TABLE'!$L$7='GENERAL TIME TABLE'!$R$22,'GENERAL TIME TABLE'!$L$8&"-"&HOME!$A$6,IF('GENERAL TIME TABLE'!$M$7='GENERAL TIME TABLE'!$R$22,'GENERAL TIME TABLE'!$M$8&"-"&HOME!$A$7,IF('GENERAL TIME TABLE'!$N$7='GENERAL TIME TABLE'!$R$22,'GENERAL TIME TABLE'!$N$8&"-"&HOME!$A$8,""))) -> ગુજરાતી-8 | G7: =IF('GENERAL TIME TABLE'!$O$7='GENERAL TIME TABLE'!$R$22,'GENERAL TIME TABLE'!$O$8&"-"&HOME!$A$6,IF('GENERAL TIME TABLE'!$P$7='GENERAL TIME TABLE'!$R$22,'GENERAL TIME TABLE'!$P$8&"-"&HOME!$A$7,IF('GENERAL TIME TABLE'!$Q$7='GENERAL TIME TABLE'!$R$22,'GENERAL TIME TABLE'!$Q$8&"-"&HOME!$A$8,""))) -> ગુજરાતી-8 | H7: 1 | I7: ='GENERAL TIME TABLE'!$U$7 -> 07:50-08:35 | J7: =IF('GENERAL TIME TABLE'!$R$7='GENERAL TIME TABLE'!$R$22,'GENERAL TIME TABLE'!$R$8&"-"&HOME!$A$6,IF('GENERAL TIME TABLE'!$S$7='GENERAL TIME TABLE'!$R$22,'GENERAL TIME TABLE'!$S$8&"-"&HOME!$A$7,IF('GENERAL TIME TABLE'!$T$7='GENERAL TIME TABLE'!$R$22,'GENERAL TIME TABLE'!$T$8&"-"&HOME!$A$8,""))) -> સંસ્કૃત-7
A8: 2 | B8: ='GENERAL TIME TABLE'!$B$9 -> 11:50-12:30 | C8: =IF('GENERAL TIME TABLE'!$C$9='GENERAL TIME TABLE'!$R$22,'GENERAL TIME TABLE'!$C$10&"-"&HOME!$A$6,IF('GENERAL TIME TABLE'!$D$9='GENERAL TIME TABLE'!$R$22,'GENERAL TIME TABLE'!$D$10&"-"&HOME!$A$7,IF('GENERAL TIME TABLE'!$E$9='GENERAL TIME TABLE'!$R$22,'GENERAL TIME TABLE'!$E$10&"-"&HOME!$A$8,""))) -> અંગ્રેજી-8 | D8: =IF('GENERAL TIME TABLE'!$F$9='GENERAL TIME TABLE'!$R$22,'GENERAL TIME TABLE'!$F$10&"-"&HOME!$A$6,IF('GENERAL TIME TABLE'!$G$9='GENERAL TIME TABLE'!$R$22,'GENERAL TIME TABLE'!$G$10&"-"&HOME!$A$7,IF('GENERAL TIME TABLE'!$H$9='GENERAL TIME TABLE'!$R$22,'GENERAL TIME TABLE'!$H$10&"-"&HOME!$A$8,""))) -> અંગ્રેજી-8 | E8: =IF('GENERAL TIME TABLE'!$I$9='GENERAL TIME TABLE'!$R$22,'GENERAL TIME TABLE'!$I$10&"-"&HOME!$A$6,IF('GENERAL TIME TABLE'!$J$9='GENERAL TIME TABLE'!$R$22,'GENERAL TIME TABLE'!$J$10&"-"&HOME!$A$7,IF('GENERAL TIME TABLE'!$K$9='GENERAL TIME TABLE'!$R$22,'GENERAL TIME TABLE'!$K$10&"-"&HOME!$A$8,""))) -> અંગ્રેજી-8 | F8: =IF('GENERAL TIME TABLE'!$L$9='GENERAL TIME TABLE'!$R$22,'GENERAL TIME TABLE'!$L$10&"-"&HOME!$A$6,IF('GENERAL TIME TABLE'!$M$9='GENERAL TIME TABLE'!$R$22,'GENERAL TIME TABLE'!$M$10&"-"&HOME!$A$7,IF('GENERAL TIME TABLE'!$N$9='GENERAL TIME TABLE'!$R$22,'GENERAL TIME TABLE'!$N$10&"-"&HOME!$A$8,""))) -> અંગ્રેજી-8 | G8: =IF('GENERAL TIME TABLE'!$O$9='GENERAL TIME TABLE'!$R$22,'GENERAL TIME TABLE'!$O$10&"-"&HOME!$A$6,IF('GENERAL TIME TABLE'!$P$9='GENERAL TIME TABLE'!$R$22,'GENERAL TIME TABLE'!$P$10&"-"&HOME!$A$7,IF('GENERAL TIME TABLE'!$Q$9='GENERAL TIME TABLE'!$R$22,'GENERAL TIME TABLE'!$Q$10&"-"&HOME!$A$8,""))) -> અંગ્રેજી-8 | H8: 2 | I8: ='GENERAL TIME TABLE'!$U$9 -> 08:35-09:15 | J8: =IF('GENERAL TIME TABLE'!$R$9='GENERAL TIME TABLE'!$R$22,'GENERAL TIME TABLE'!$R$10&"-"&HOME!$A$6,IF('GENERAL TIME TABLE'!$S$9='GENERAL TIME TABLE'!$R$22,'GENERAL TIME TABLE'!$S$10&"-"&HOME!$A$7,IF('GENERAL TIME TABLE'!$T$9='GENERAL TIME TABLE'!$R$22,'GENERAL TIME TABLE'!$T$10&"-"&HOME!$A$8,""))) -> સંસ્કૃત-6
B9: ='GENERAL TIME TABLE'!$B$11 -> 12:30-12:40 | C9: ='GENERAL TIME TABLE'!$C$11 -> વિરામ | H9: 3 | I9: ='GENERAL TIME TABLE'!$U$11 -> 09:15-10:00 | J9: =IF('GENERAL TIME TABLE'!$R$11='GENERAL TIME TABLE'!$R$22,'GENERAL TIME TABLE'!$R$12&"-"&HOME!$A$6,IF('GENERAL TIME TABLE'!$S$11='GENERAL TIME TABLE'!$R$22,'GENERAL TIME TABLE'!$S$12&"-"&HOME!$A$7,IF('GENERAL TIME TABLE'!$T$11='GENERAL TIME TABLE'!$R$22,'GENERAL TIME TABLE'!$T$12&"-"&HOME!$A$8,""))) -> ગુજરાતી-7
A10: 3 | B10: ='GENERAL TIME TABLE'!$B$13 -> 12:40-01:15 | C10: =IF('GENERAL TIME TABLE'!$C$13='GENERAL TIME TABLE'!$R$22,'GENERAL TIME TABLE'!$C$14&"-"&HOME!$A$6,IF('GENERAL TIME TABLE'!$D$13='GENERAL TIME TABLE'!$R$22,'GENERAL TIME TABLE'!$D$14&"-"&HOME!$A$7,IF('GENERAL TIME TABLE'!$E$13='GENERAL TIME TABLE'!$R$22,'GENERAL TIME TABLE'!$E$14&"-"&HOME!$A$8,""))) -> ગુજરાતી-6 | D10: =IF('GENERAL TIME TABLE'!$F$13='GENERAL TIME TABLE'!$R$22,'GENERAL TIME TABLE'!$F$14&"-"&HOME!$A$6,IF('GENERAL TIME TABLE'!$G$13='GENERAL TIME TABLE'!$R$22,'GENERAL TIME TABLE'!$G$14&"-"&HOME!$A$7,IF('GENERAL TIME TABLE'!$H$13='GENERAL TIME TABLE'!$R$22,'GENERAL TIME TABLE'!$H$14&"-"&HOME!$A$8,""))) -> ગુજરાતી-6 | E10: =IF('GENERAL TIME TABLE'!$I$13='GENERAL TIME TABLE'!$R$22,'GENERAL TIME TABLE'!$I$14&"-"&HOME!$A$6,IF('GENERAL TIME TABLE'!$J$13='GENERAL TIME TABLE'!$R$22,'GENERAL TIME TABLE'!$J$14&"-"&HOME!$A$7,IF('GENERAL TIME TABLE'!$K$13='GENERAL TIME TABLE'!$R$22,'GENERAL TIME TABLE'!$K$14&"-"&HOME!$A$8,""))) -> ગુજરાતી-6 | F10: =IF('GENERAL TIME TABLE'!$L$13='GENERAL TIME TABLE'!$R$22,'GENERAL TIME TABLE'!$L$14&"-"&HOME!$A$6,IF('GENERAL TIME TABLE'!$M$13='GENERAL TIME TABLE'!$R$22,'GENERAL TIME TABLE'!$M$14&"-"&HOME!$A$7,IF('GENERAL TIME TABLE'!$N$13='GENERAL TIME TABLE'!$R$22,'GENERAL TIME TABLE'!$N$14&"-"&HOME!$A$8,""))) -> ગુજરાતી-6 | G10: =IF('GENERAL TIME TABLE'!$O$13='GENERAL TIME TABLE'!$R$22,'GENERAL TIME TABLE'!$O$14&"-"&HOME!$A$6,IF('GENERAL TIME TABLE'!$P$13='GENERAL TIME TABLE'!$R$22,'GENERAL TIME TABLE'!$P$14&"-"&HOME!$A$7,IF('GENERAL TIME TABLE'!$Q$13='GENERAL TIME TABLE'!$R$22,'GENERAL TIME TABLE'!$Q$14&"-"&HOME!$A$8,""))) -> ગુજરાતી-6 | I10: ='GENERAL TIME TABLE'!$U$13 -> 10:00-10:30 | J10: વિરામ
A11: 4 | B11: ='GENERAL TIME TABLE'!$B$15 -> 01:15 -01:50 | C11: =IF('GENERAL TIME TABLE'!$C$15='GENERAL TIME TABLE'!$R$22,'GENERAL TIME TABLE'!$C$16&"-"&HOME!$A$6,IF('GENERAL TIME TABLE'!$D$15='GENERAL TIME TABLE'!$R$22,'GENERAL TIME TABLE'!$D$16&"-"&HOME!$A$7,IF('GENERAL TIME TABLE'!$E$15='GENERAL TIME TABLE'!$R$22,'GENERAL TIME TABLE'!$E$16&"-"&HOME!$A$8,""))) -> અંગ્રેજી-6 | D11: =IF('GENERAL TIME TABLE'!$F$15='GENERAL TIME TABLE'!$R$22,'GENERAL TIME TABLE'!$F$16&"-"&HOME!$A$6,IF('GENERAL TIME TABLE'!$G$15='GENERAL TIME TABLE'!$R$22,'GENERAL TIME TABLE'!$G$16&"-"&HOME!$A$7,IF('GENERAL TIME TABLE'!$H$15='GENERAL TIME TABLE'!$R$22,'GENERAL TIME TABLE'!$H$16&"-"&HOME!$A$8,""))) -> અંગ્રેજી-6 | E11: =IF('GENERAL TIME TABLE'!$I$15='GENERAL TIME TABLE'!$R$22,'GENERAL TIME TABLE'!$I$16&"-"&HOME!$A$6,IF('GENERAL TIME TABLE'!$J$15='GENERAL TIME TABLE'!$R$22,'GENERAL TIME TABLE'!$J$16&"-"&HOME!$A$7,IF('GENERAL TIME TABLE'!$K$15='GENERAL TIME TABLE'!$R$22,'GENERAL TIME TABLE'!$K$16&"-"&HOME!$A$8,""))) -> અંગ્રેજી-6 | F11: =IF('GENERAL TIME TABLE'!$L$15='GENERAL TIME TABLE'!$R$22,'GENERAL TIME TABLE'!$L$16&"-"&HOME!$A$6,IF('GENERAL TIME TABLE'!$M$15='GENERAL TIME TABLE'!$R$22,'GENERAL TIME TABLE'!$M$16&"-"&HOME!$A$7,IF('GENERAL TIME TABLE'!$N$15='GENERAL TIME TABLE'!$R$22,'GENERAL TIME TABLE'!$N$16&"-"&HOME!$A$8,""))) -> અંગ્રેજી-6 | G11: =IF('GENERAL TIME TABLE'!$O$15='GENERAL TIME TABLE'!$R$22,'GENERAL TIME TABLE'!$O$16&"-"&HOME!$A$6,IF('GENERAL TIME TABLE'!$P$15='GENERAL TIME TABLE'!$R$22,'GENERAL TIME TABLE'!$P$16&"-"&HOME!$A$7,IF('GENERAL TIME TABLE'!$Q$15='GENERAL TIME TABLE'!$R$22,'GENERAL TIME TABLE'!$Q$16&"-"&HOME!$A$8,""))) -> અંગ્રેજી-6 | H11: 4 | I11: ='GENERAL TIME TABLE'!$U$15 -> 10:30-11:00 | J11: =IF('GENERAL TIME TABLE'!$R$15='GENERAL TIME TABLE'!$R$22,'GENERAL TIME TABLE'!$R$16&"-"&HOME!$A$6,IF('GENERAL TIME TABLE'!$S$15='GENERAL TIME TABLE'!$R$22,'GENERAL TIME TABLE'!$S$16&"-"&HOME!$A$7,IF('GENERAL TIME TABLE'!$T$15='GENERAL TIME TABLE'!$R$22,'GENERAL TIME TABLE'!$T$16&"-"&HOME!$A$8,""))) -> ગુજરાતી-6
B12: ='GENERAL TIME TABLE'!$B$17 -> 01:50-02:30 | C12: ='GENERAL TIME TABLE'!$C$17 -> મધ્યાહન ભોજન - વિરામ | H12: 5 | I12: ='GENERAL TIME TABLE'!$U$17 -> 11:00-11:30 | J12: =IF('GENERAL TIME TABLE'!$R$17='GENERAL TIME TABLE'!$R$22,'GENERAL TIME TABLE'!$R$18&"-"&HOME!$A$6,IF('GENERAL TIME TABLE'!$S$17='GENERAL TIME TABLE'!$R$22,'GENERAL TIME TABLE'!$S$18&"-"&HOME!$A$7,IF('GENERAL TIME TABLE'!$T$17='GENERAL TIME TABLE'!$R$22,'GENERAL TIME TABLE'!$T$18&"-"&HOME!$A$8,""))) -> સંસ્કૃત-8
A13: 5 | B13: ='GENERAL TIME TABLE'!$B$18 -> 02:30-03:05 | C13: =IF('GENERAL TIME TABLE'!$C$18='GENERAL TIME TABLE'!$R$22,'GENERAL TIME TABLE'!$C$19&"-"&HOME!$A$6,IF('GENERAL TIME TABLE'!$D$18='GENERAL TIME TABLE'!$R$22,'GENERAL TIME TABLE'!$D$19&"-"&HOME!$A$7,IF('GENERAL TIME TABLE'!$E$18='GENERAL TIME TABLE'!$R$22,'GENERAL TIME TABLE'!$E$19&"-"&HOME!$A$8,""))) -> ગુજરાતી-7 | D13: =IF('GENERAL TIME TABLE'!$F$18='GENERAL TIME TABLE'!$R$22,'GENERAL TIME TABLE'!$F$19&"-"&HOME!$A$6,IF('GENERAL TIME TABLE'!$G$18='GENERAL TIME TABLE'!$R$22,'GENERAL TIME TABLE'!$G$19&"-"&HOME!$A$7,IF('GENERAL TIME TABLE'!$H$18='GENERAL TIME TABLE'!$R$22,'GENERAL TIME TABLE'!$H$19&"-"&HOME!$A$8,""))) -> ગુજરાતી-7 | E13: =IF('GENERAL TIME TABLE'!$I$18='GENERAL TIME TABLE'!$R$22,'GENERAL TIME TABLE'!$I$19&"-"&HOME!$A$6,IF('GENERAL TIME TABLE'!$J$18='GENERAL TIME TABLE'!$R$22,'GENERAL TIME TABLE'!$J$19&"-"&HOME!$A$7,IF('GENERAL TIME TABLE'!$K$18='GENERAL TIME TABLE'!$R$22,'GENERAL TIME TABLE'!$K$19&"-"&HOME!$A$8,""))) -> ગુજરાતી-7 | F13: =IF('GENERAL TIME TABLE'!$L$18='GENERAL TIME TABLE'!$R$22,'GENERAL TIME TABLE'!$L$19&"-"&HOME!$A$6,IF('GENERAL TIME TABLE'!$M$18='GENERAL TIME TABLE'!$R$22,'GENERAL TIME TABLE'!$M$19&"-"&HOME!$A$7,IF('GENERAL TIME TABLE'!$N$18='GENERAL TIME TABLE'!$R$22,'GENERAL TIME TABLE'!$N$19&"-"&HOME!$A$8,""))) -> ગુજરાતી-7 | G13: =IF('GENERAL TIME TABLE'!$O$18='GENERAL TIME TABLE'!$R$22,'GENERAL TIME TABLE'!$O$19&"-"&HOME!$A$6,IF('GENERAL TIME TABLE'!$P$18='GENERAL TIME TABLE'!$R$22,'GENERAL TIME TABLE'!$P$19&"-"&HOME!$A$7,IF('GENERAL TIME TABLE'!$Q$18='GENERAL TIME TABLE'!$R$22,'GENERAL TIME TABLE'!$Q$19&"-"&HOME!$A$8,""))) -> ગુજરાતી-7 | H13: : શિક્ષકશ્રી :
A14: 6 | B14: ='GENERAL TIME TABLE'!$B$20 -> 03:05-03:40 | C14: =IF('GENERAL TIME TABLE'!$C$20='GENERAL TIME TABLE'!$R$22,'GENERAL TIME TABLE'!$C$21&"-"&HOME!$A$6,IF('GENERAL TIME TABLE'!$D$20='GENERAL TIME TABLE'!$R$22,'GENERAL TIME TABLE'!$D$21&"-"&HOME!$A$7,IF('GENERAL TIME TABLE'!$E$20='GENERAL TIME TABLE'!$R$22,'GENERAL TIME TABLE'!$E$21&"-"&HOME!$A$8,""))) -> અંગ્રેજી-7 | D14: =IF('GENERAL TIME TABLE'!$F$20='GENERAL TIME TABLE'!$R$22,'GENERAL TIME TABLE'!$F$21&"-"&HOME!$A$6,IF('GENERAL TIME TABLE'!$G$20='GENERAL TIME TABLE'!$R$22,'GENERAL TIME TABLE'!$G$21&"-"&HOME!$A$7,IF('GENERAL TIME TABLE'!$H$20='GENERAL TIME TABLE'!$R$22,'GENERAL TIME TABLE'!$H$21&"-"&HOME!$A$8,""))) -> અંગ્રેજી-7 | E14: =IF('GENERAL TIME TABLE'!$I$20='GENERAL TIME TABLE'!$R$22,'GENERAL TIME TABLE'!$I$21&"-"&HOME!$A$6,IF('GENERAL TIME TABLE'!$J$20='GENERAL TIME TABLE'!$R$22,'GENERAL TIME TABLE'!$J$21&"-"&HOME!$A$7,IF('GENERAL TIME TABLE'!$K$20='GENERAL TIME TABLE'!$R$22,'GENERAL TIME TABLE'!$K$21&"-"&HOME!$A$8,""))) -> અંગ્રેજી-7 | F14: =IF('GENERAL TIME TABLE'!$L$20='GENERAL TIME TABLE'!$R$22,'GENERAL TIME TABLE'!$L$21&"-"&HOME!$A$6,IF('GENERAL TIME TABLE'!$M$20='GENERAL TIME TABLE'!$R$22,'GENERAL TIME TABLE'!$M$21&"-"&HOME!$A$7,IF('GENERAL TIME TABLE'!$N$20='GENERAL TIME TABLE'!$R$22,'GENERAL TIME TABLE'!$N$21&"-"&HOME!$A$8,""))) -> અંગ્રેજી-7 | G14: =IF('GENERAL TIME TABLE'!$O$20='GENERAL TIME TABLE'!$R$22,'GENERAL TIME TABLE'!$O$21&"-"&HOME!$A$6,IF('GENERAL TIME TABLE'!$P$20='GENERAL TIME TABLE'!$R$22,'GENERAL TIME TABLE'!$P$21&"-"&HOME!$A$7,IF('GENERAL TIME TABLE'!$Q$20='GENERAL TIME TABLE'!$R$22,'GENERAL TIME TABLE'!$Q$21&"-"&HOME!$A$8,""))) -> અંગ્રેજી-7
B15: ='GENERAL TIME TABLE'!$B$22 -> 03:40-03:50 | C15: ='GENERAL TIME TABLE'!$C$22 -> વિરામ | H15: =IF(HOME!$B$8="","",HOME!$B$8) -> બુચ બ્રિજેશ જનકરાય
A16: 7 | B16: ='GENERAL TIME TABLE'!$B$23 -> 03:50-04:25 | C16: =IF('GENERAL TIME TABLE'!$C$23='GENERAL TIME TABLE'!$R$22,'GENERAL TIME TABLE'!$C$24&"-"&HOME!$A$6,IF('GENERAL TIME TABLE'!$D$23='GENERAL TIME TABLE'!$R$22,'GENERAL TIME TABLE'!$D$24&"-"&HOME!$A$7,IF('GENERAL TIME TABLE'!$E$23='GENERAL TIME TABLE'!$R$22,'GENERAL TIME TABLE'!$E$24&"-"&HOME!$A$8,""))) -> સંસ્કૃત-8 | D16: =IF('GENERAL TIME TABLE'!$F$23='GENERAL TIME TABLE'!$R$22,'GENERAL TIME TABLE'!$F$24&"-"&HOME!$A$6,IF('GENERAL TIME TABLE'!$G$23='GENERAL TIME TABLE'!$R$22,'GENERAL TIME TABLE'!$G$24&"-"&HOME!$A$7,IF('GENERAL TIME TABLE'!$H$23='GENERAL TIME TABLE'!$R$22,'GENERAL TIME TABLE'!$H$24&"-"&HOME!$A$8,""))) -> ગુજરાતી-8 | E16: =IF('GENERAL TIME TABLE'!$I$23='GENERAL TIME TABLE'!$R$22,'GENERAL TIME TABLE'!$I$24&"-"&HOME!$A$6,IF('GENERAL TIME TABLE'!$J$23='GENERAL TIME TABLE'!$R$22,'GENERAL TIME TABLE'!$J$24&"-"&HOME!$A$7,IF('GENERAL TIME TABLE'!$K$23='GENERAL TIME TABLE'!$R$22,'GENERAL TIME TABLE'!$K$24&"-"&HOME!$A$8,""))) -> અંગ્રેજી-7 | F16: =IF('GENERAL TIME TABLE'!$L$23='GENERAL TIME TABLE'!$R$22,'GENERAL TIME TABLE'!$L$24&"-"&HOME!$A$6,IF('GENERAL TIME TABLE'!$M$23='GENERAL TIME TABLE'!$R$22,'GENERAL TIME TABLE'!$M$24&"-"&HOME!$A$7,IF('GENERAL TIME TABLE'!$N$23='GENERAL TIME TABLE'!$R$22,'GENERAL TIME TABLE'!$N$24&"-"&HOME!$A$8,""))) -> સંસ્કૃત-7 | G16: =IF('GENERAL TIME TABLE'!$O$23='GENERAL TIME TABLE'!$R$22,'GENERAL TIME TABLE'!$O$24&"-"&HOME!$A$6,IF('GENERAL TIME TABLE'!$P$23='GENERAL TIME TABLE'!$R$22,'GENERAL TIME TABLE'!$P$24&"-"&HOME!$A$7,IF('GENERAL TIME TABLE'!$Q$23='GENERAL TIME TABLE'!$R$22,'GENERAL TIME TABLE'!$Q$24&"-"&HOME!$A$8,""))) -> ગુજરાતી-7
A17: 8 | B17: ='GENERAL TIME TABLE'!$B$25 -> 04:25-05:00 | C17: =IF('GENERAL TIME TABLE'!$C$25='GENERAL TIME TABLE'!$R$22,'GENERAL TIME TABLE'!$C$26&"-"&HOME!$A$6,IF('GENERAL TIME TABLE'!$D$25='GENERAL TIME TABLE'!$R$22,'GENERAL TIME TABLE'!$D$26&"-"&HOME!$A$7,IF('GENERAL TIME TABLE'!$E$25='GENERAL TIME TABLE'!$R$22,'GENERAL TIME TABLE'!$E$26&"-"&HOME!$A$8,""))) -> ગુજરાતી-6 | D17: =IF('GENERAL TIME TABLE'!$F$25='GENERAL TIME TABLE'!$R$22,'GENERAL TIME TABLE'!$F$26&"-"&HOME!$A$6,IF('GENERAL TIME TABLE'!$G$25='GENERAL TIME TABLE'!$R$22,'GENERAL TIME TABLE'!$G$26&"-"&HOME!$A$7,IF('GENERAL TIME TABLE'!$H$25='GENERAL TIME TABLE'!$R$22,'GENERAL TIME TABLE'!$H$26&"-"&HOME!$A$8,""))) -> ગુજરાતી-8 | E17: =IF('GENERAL TIME TABLE'!$I$25='GENERAL TIME TABLE'!$R$22,'GENERAL TIME TABLE'!$I$26&"-"&HOME!$A$6,IF('GENERAL TIME TABLE'!$J$25='GENERAL TIME TABLE'!$R$22,'GENERAL TIME TABLE'!$J$26&"-"&HOME!$A$7,IF('GENERAL TIME TABLE'!$K$25='GENERAL TIME TABLE'!$R$22,'GENERAL TIME TABLE'!$K$26&"-"&HOME!$A$8,""))) -> અંગ્રેજી-6 | F17: =IF('GENERAL TIME TABLE'!$L$25='GENERAL TIME TABLE'!$R$22,'GENERAL TIME TABLE'!$L$26&"-"&HOME!$A$6,IF('GENERAL TIME TABLE'!$M$25='GENERAL TIME TABLE'!$R$22,'GENERAL TIME TABLE'!$M$26&"-"&HOME!$A$7,IF('GENERAL TIME TABLE'!$N$25='GENERAL TIME TABLE'!$R$22,'GENERAL TIME TABLE'!$N$26&"-"&HOME!$A$8,""))) -> સંસ્કૃત-6 | G17: =IF('GENERAL TIME TABLE'!$O$25='GENERAL TIME TABLE'!$R$22,'GENERAL TIME TABLE'!$O$26&"-"&HOME!$A$6,IF('GENERAL TIME TABLE'!$P$25='GENERAL TIME TABLE'!$R$22,'GENERAL TIME TABLE'!$P$26&"-"&HOME!$A$7,IF('GENERAL TIME TABLE'!$Q$25='GENERAL TIME TABLE'!$R$22,'GENERAL TIME TABLE'!$Q$26&"-"&HOME!$A$8,""))) -> અંગ્રેજી-8

Sheet FINAL-1
A1: ;DI5+S sWMZ6v#4$45f
A2: XF/F o | D2: zL E]ZU- VG]5D 5|FP XF/F4 TFP,FB6L4 lHP AGF;SF\9F | R2: JQF"o | S2: 2021-'22
A3: તાસ | B3: સમય | C3: સોમવાર | F3: મંગળવાર | I3: બુધવાર | L3: ગુરુવાર | O3: શુક્રવાર | R3: શનિવાર | U3: સમય
C4: ધો - 3 | D4: ધો - 4 | E4: ધો - 5 | F4: ધો - 3 | G4: ધો - 4 | H4: ધો - 5 | I4: ધો - 3 | J4: ધો - 4 | K4: ધો - 5 | L4: ધો - 3 | M4: ધો - 4 | N4: ધો - 5 | O4: ધો - 3 | P4: ધો - 4 | Q4: ધો - 5 | R4: ધો - 3 | S4: ધો - 4 | T4: ધો - 5
B5: 10:30-11:00 | C5: સમૂહજીવન,શાળાસફાઈ અને શૈક્ષણિક કાર્ય માટેની પૂર્વતૈયારી | U5: 7:00- 7:20
B6: 11:00-11:20 | C6: પ્રાર્થના સંમેલન | U6: 7:20- 7:50
A7: 1 | B7: 11:20-11:55 | C7: N.V. | D7: K.N. | E7: M.K. | F7: N.V. | G7: K.N. | H7: M.K. | I7: N.V. | J7: K.N. | K7: M.K. | L7: N.V. | M7: K.N. | N7: M.K. | O7: N.V. | P7: K.N. | Q7: M.K. | R7: N.V. | S7: K.N. | T7: M.K. | U7: 7:50- 8:25
C8: ગુજરાતી | D8: પર્યાવરણ | E8: ગણિત | F8: ગુજરાતી | G8: પર્યાવરણ | H8: ગણિત | I8: ગુજરાતી | J8: પર્યાવરણ | K8: ગણિત | L8: ગુજરાતી | M8: પર્યાવરણ | N8: ગણિત | O8: ગુજરાતી | P8: પર્યાવરણ | Q8: ગણિત | R8: શા.શિ. | S8: શા.શિ. | T8: શા.શિ.
A9: 2 | B9: 11:55-12:30 | C9: N.V. | D9: K.N. | E9: M.K. | F9: N.V. | G9: K.N. | H9: M.K. | I9: N.V. | J9: K.N. | K9: M.K. | L9: N.V. | M9: K.N. | N9: M.K. | O9: N.V. | P9: K.N. | Q9: M.K. | R9: N.V. | S9: K.N. | T9: M.K. | U9: 8:25- 9:00
C10: ગુજરાતી | D10: પર્યાવરણ | E10: ગણિત | F10: ગુજરાતી | G10: પર્યાવરણ | H10: ગણિત | I10: ગુજરાતી | J10: પર્યાવરણ | K10: ગણિત | L10: ગુજરાતી | M10: પર્યાવરણ | N10: ગણિત | O10: ગુજરાતી | P10: પર્યાવરણ | Q10: ગણિત | R10: શા.શિ. | S10: શા.શિ. | T10: શા.શિ.
B11: 12:30-12:40 | C11: વિરામ | R11: M.K. | S11: N.V. | T11: K.N. | U11: 09:00-09:30
R12: અંગ્રેજી | S12: ગુજરાતી | T12: પર્યાવરણ
A13: 3 | B13: 12:40-1:15 | C13: M.K. | D13: N.V. | E13: K.N. | F13: M.K. | G13: N.V. | H13: K.N. | I13: M.K. | J13: N.V. | K13: K.N. | L13: M.K. | M13: N.V. | N13: K.N. | O13: M.K. | P13: N.V. | Q13: K.N. | R13: વિરામ | U13: 09:30-09:50
C14: ગણિત | D14: ગુજરાતી | E14: પર્યાવરણ | F14: ગણિત | G14: ગુજરાતી | H14: પર્યાવરણ | I14: ગણિત | J14: હિન્દી | K14: પર્યાવરણ | L14: ગણિત | M14: ગુજરાતી | N14: પર્યાવરણ | O14: ગણિત | P14: ગુજરાતી | Q14: સંગીત
A15: 4 | B15: 1:15 -1:50 | C15: M.K. | D15: N.V. | E15: K.N. | F15: M.K. | G15: N.V. | H15: K.N. | I15: M.K. | J15: N.V. | K15: K.N. | L15: M.K. | M15: N.V. | N15: K.N. | O15: M.K. | P15: N.V. | Q15: K.N. | R15: N.V. | S15: M.K. | T15: K.N. | U15: 09:50-10:25
C16: ગણિત | D16: ગુજરાતી | E16: પર્યાવરણ | F16: ગણિત | G16: ગુજરાતી | H16: પર્યાવરણ | I16: ગણિત | J16: હિન્દી | K16: પર્યાવરણ | L16: ગણિત | M16: ગુજરાતી | N16: પર્યાવરણ | O16: ગણિત | P16: ગુજરાતી | Q16: સંગીત | R16: ગુજરાતી | S16: ગણિત | T16: કાર્યા.
B17: 1:50-2:30 | C17: મધ્યાહન ભોજન - વિરામ | R17: N.V. | S17: M.K. | T17: K.N. | U17: 10:25-11:00
A18: 5 | B18: 2:30-3:05 | C18: K.N. | D18: M.K. | E18: N.V. | F18: K.N. | G18: M.K. | H18: N.V. | I18: K.N. | J18: M.K. | K18: N.V. | L18: K.N. | M18: M.K. | N18: N.V. | O18: K.N. | P18: N.V. | Q18: M.K. | R18: ગુજરાતી | S18: ગણિત | T18: કાર્યા.
C19: પર્યાવરણ | D19: ગણિત | E19: ગુજરાતી | F19: પર્યાવરણ | G19: ગણિત | H19: ગુજરાતી | I19: પર્યાવરણ | J19: ગણિત | K19: ગુજરાતી | L19: પર્યાવરણ | M19: ગણિત | N19: ગુજરાતી | O19: પર્યાવરણ | P19: ગુજરાતી | Q19: અંગ્રેજી | R19: વિષય ફાળવણી
A20: 6 | B20: 3:05-3:40 | C20: K.N. | D20: M.K. | E20: N.V. | F20: K.N. | G20: M.K. | H20: N.V. | I20: K.N. | J20: M.K. | K20: N.V. | L20: K.N. | M20: M.K. | N20: N.V. | O20: K.N. | P20: N.V. | Q20: M.K. | R20: N.V. | T20: ગુજરાતી, હિન્દી, ચિત્ર
C21: પર્યાવરણ | D21: ગણિત | E21: ગુજરાતી | F21: પર્યાવરણ | G21: ગણિત | H21: ગુજરાતી | I21: પર્યાવરણ | J21: ગણિત | K21: ગુજરાતી | L21: પર્યાવરણ | M21: ગણિત | N21: ગુજરાતી | O21: પર્યાવરણ | P21: ગુજરાતી | Q21: અંગ્રેજી | R21: M.K. | T21: ગણિત,અંગ્રેજી
B22: 3:40-3:50 | C22: વિરામ | R22: K.N. | T22: પર્યાવરણ, સંગીત, કાર્યા.
A23: 7 | B23: 3:50-4:25 | C23: N.V. | D23: K.N. | E23: M.K. | F23: K.N. | G23: M.K. | H23: N.V. | I23: K.N. | J23: N.V. | K23: M.K. | L23: M.K. | M23: K.N. | N23: N.V. | O23: K.N. | P23: M.K. | Q23: N.V. | R23: વર્ગ શિક્ષકનું નામ
C24: ચિત્ર | D24: સંગીત | E24: અંગ્રેજી | F24: સંગીત | G24: અંગ્રેજી | H24: હિન્દી | I24: કાર્યા. | J24: ચિત્ર | K24: અંગ્રેજી | L24: અંગ્રેજી | M24: કાર્યા. | N24: હિન્દી | O24: કાર્યા. | P24: અંગ્રેજી | Q24: ચિત્ર | R24: STD | S24: 3 | T24: પટેલ નરેશભાઈ (N.V.)
A25: 8 | B25: 4:25-5:00 | C25: N.V. | D25: K.N. | E25: M.K. | F25: K.N. | G25: M.K. | H25: N.V. | I25: K.N. | J25: N.V. | K25: M.K. | L25: M.K. | M25: K.N. | N25: N.V. | O25: K.N. | P25: M.K. | Q25: N.V. | R25: STD | S25: 4 | T25: પટેલ કરશનભાઈ (K.N.)
C26: ચિત્ર | D26: સંગીત | E26: અંગ્રેજી | F26: સંગીત | G26: અંગ્રેજી | H26: હિન્દી | I26: કાર્યા. | J26: ચિત્ર | K26: અંગ્રેજી | L26: અંગ્રેજી | M26: કાર્યા. | N26: હિન્દી | O26: કાર્યા. | P26: અંગ્રેજી | Q26: ચિત્ર | R26: STD | S26: 5 | T26: પ્રજાપતિ માધાભાઈ (M.K.)
D27: ધો-3 | E27: ધો-4 | F27: ધો-5 | G27: કૂલ | K27: ગુજરાતી | L27: ગણિત | M27: પર્યાવરણ | N27: અંગ્રેજી | O27: હિન્દી | P27: શા.શિ. | Q27: કાર્યા. | R27: ચિત્ર | S27: સંગીત | U27: કૂલ
C28: N.V. | D28: =D69 -> 16 | E28: =D76 -> 15 | F28: =D83 -> 14 | G28: =SUM(D28:F28) -> 45 | J28: ધો-3 | K28: =K69 -> 12 | L28: =L69 -> 10 | M28: =M69 -> 10 | N28: =N69 -> 3 | O28: =O69 -> 0 | P28: =P69 -> 2 | Q28: =Q69 -> 4 | R28: =R69 -> 2 | S28: =S69 -> 2 | U28: =SUM(K28:T28) -> 45
C29: M.K. | D29: =E69 -> 13 | E29: =E76 -> 14 | F29: =E83 -> 18 | G29: =SUM(D29:F29) -> 45 | J29: ધો-4 | K29: =K76 -> 11 | L29: =L76 -> 10 | M29: =M76 -> 10 | N29: =N76 -> 4 | O29: =O76 -> 2 | P29: =P76 -> 2 | Q29: =Q76 -> 2 | R29: =R76 -> 2 | S29: =S76 -> 2 | U29: =SUM(K29:T29) -> 45
C30: K.N. | D30: =F69 -> 16 | E30: =F76 -> 16 | F30: =F83 -> 13 | G30: =SUM(D30:F30) -> 45 | J30: ધો-5 | K30: =K83 -> 8 | L30: =L83 -> 10 | M30: =M83 -> 9 | N30: =N83 -> 6 | O30: =O83 -> 4 | P30: =P83 -> 2 | Q30: =Q83 -> 2 | R30: =R83 -> 2 | S30: =S83 -> 2 | U30: =SUM(K30:T30) -> 45
C31: કુલ | D31: 45 | E31: 45 | F31: 45 | G31: 135 | J31: કુલ | K31: =SUM(K28:K30) -> 31 | L31: =SUM(L28:L30) -> 30 | M31: =SUM(M28:M30) -> 29 | N31: =SUM(N28:N30) -> 13 | O31: =SUM(O28:O30) -> 6 | P31: =SUM(P28:P30) -> 6 | Q31: =SUM(Q28:Q30) -> 8 | R31: =SUM(R28:R30) -> 6 | S31: =SUM(S28:S30) -> 6 | U31: =SUM(U28:U30) -> 135
C36: વિષયો
C37: ગુજરાતી
C38: ગણિત
C39: પર્યાવરણ
C40: હિન્દી
C41: અંગ્રેજી
C42: શા.શિ.
C43: કમ્પ્યૂ.
C44: કાર્યા.
C45: ચિત્ર
C46: સંગીત
C63: ધોરણ-3 | D63: =COUNTIF($C$7:$C$26,$R$20) -> 4 | E63: =COUNTIF($C$7:$C$26,$R$21) -> 2 | F63: =COUNTIF($C$7:$C$26,$R$22) -> 2 | J63: ધોરણ-3 | K63: =COUNTIF($C$7:$C$26,"ગુજરાતી") -> 2 | L63: =COUNTIF($C$7:$C$26,"ગણિત") -> 2 | M63: =COUNTIF($C$7:$C$26,"પર્યાવરણ") -> 2 | N63: =COUNTIF($C$7:$C$26,"અંગ્રેજી") -> 0 | O63: =COUNTIF($C$7:$C$26,"હિન્દી") -> 0 | P63: =COUNTIF($C$7:$C$26,"શા.શિ.") -> 0 | Q63: =COUNTIF($C$7:$C$26,"કાર્યા.") -> 0 | R63: =COUNTIF($C$7:$C$26,"ચિત્ર") -> 2 | S63: =COUNTIF($C$7:$C$26,"સંગીત") -> 0
D64: =COUNTIF($F$7:$F$26,$R$20) -> 2 | E64: =COUNTIF($F$7:$F$26,$R$21) -> 2 | F64: =COUNTIF($F$7:$F$26,$R$22) -> 4 | K64: =COUNTIF($F$7:$F$26,"ગુજરાતી") -> 2 | L64: =COUNTIF($F$7:$F$26,"ગણિત") -> 2 | M64: =COUNTIF($F$7:$F$26,"પર્યાવરણ") -> 2 | N64: =COUNTIF($F$7:$F$26,"અંગ્રેજી") -> 0 | O64: =COUNTIF($F$7:$F$26,"હિન્દી") -> 0 | P64: =COUNTIF($F$7:$F$26,"શા.શિ.") -> 0 | Q64: =COUNTIF($F$7:$F$26,"કાર્યા.") -> 0 | R64: =COUNTIF($F$7:$F$26,"ચિત્ર") -> 0 | S64: =COUNTIF($F$7:$F$26,"સંગીત") -> 2
D65: =COUNTIF($I$7:$I$26,$R$20) -> 2 | E65: =COUNTIF($I$7:$I$26,$R$21) -> 2 | F65: =COUNTIF($I$7:$I$26,$R$22) -> 4 | K65: =COUNTIF($I$7:$I$26,"ગુજરાતી") -> 2 | L65: =COUNTIF($I$7:$I$26,"ગણિત") -> 2 | M65: =COUNTIF($I$7:$I$26,"પર્યાવરણ") -> 2 | N65: =COUNTIF($I$7:$I$26,"અંગ્રેજી") -> 0 | O65: =COUNTIF($I$7:$I$26,"હિન્દી") -> 0 | P65: =COUNTIF($I$7:$I$26,"શા.શિ.") -> 0 | Q65: =COUNTIF($I$7:$I$26,"કાર્યા.") -> 2 | R65: =COUNTIF($I$7:$I$26,"ચિત્ર") -> 0 | S65: =COUNTIF($I$7:$I$26,"સંગીત") -> 0
D66: =COUNTIF($L$7:$L$26,$R$20) -> 2 | E66: =COUNTIF($L$7:$L$26,$R$21) -> 4 | F66: =COUNTIF($L$7:$L$26,$R$22) -> 2 | K66: =COUNTIF($L$7:$L$26,"ગુજરાતી") -> 2 | L66: =COUNTIF($L$7:$L$26,"ગણિત") -> 2 | M66: =COUNTIF($L$7:$L$26,"પર્યાવરણ") -> 2 | N66: =COUNTIF($L$7:$L$26,"અંગ્રેજી") -> 2 | O66: =COUNTIF($L$7:$L$26,"હિન્દી") -> 0 | P66: =COUNTIF($L$7:$L$26,"શા.શિ.") -> 0 | Q66: =COUNTIF($L$7:$L$26,"કાર્યા.") -> 0 | R66: =COUNTIF($L$7:$L$26,"ચિત્ર") -> 0 | S66: =COUNTIF($L$7:$L$26,"સંગીત") -> 0
D67: =COUNTIF($O$7:$O$26,$R$20) -> 2 | E67: =COUNTIF($O$7:$O$26,$R$21) -> 2 | F67: =COUNTIF($O$7:$O$26,$R$22) -> 4 | K67: =COUNTIF($O$7:$O$26,"ગુજરાતી") -> 2 | L67: =COUNTIF($O$7:$O$26,"ગણિત") -> 2 | M67: =COUNTIF($O$7:$O$26,"પર્યાવરણ") -> 2 | N67: =COUNTIF($O$7:$O$26,"અંગ્રેજી") -> 0 | O67: =COUNTIF($O$7:$O$26,"હિન્દી") -> 0 | P67: =COUNTIF($O$7:$O$26,"શા.શિ.") -> 0 | Q67: =COUNTIF($O$7:$O$26,"કાર્યા.") -> 2 | R67: =COUNTIF($O$7:$O$26,"ચિત્ર") -> 0 | S67: =COUNTIF($O$7:$O$26,"સંગીત") -> 0
D68: =COUNTIF($R$7:$R$18,$R$20) -> 4 | E68: =COUNTIF($R$7:$R$18,$R$21) -> 1 | F68: =COUNTIF($R$7:$R$18,$R$22) -> 0 | K68: =COUNTIF($R$7:$R$18,"ગુજરાતી") -> 2 | L68: =COUNTIF($R$7:$R$18,"ગણિત") -> 0 | M68: =COUNTIF($R$7:$R$18,"પર્યાવરણ") -> 0 | N68: =COUNTIF($R$7:$R$18,"અંગ્રેજી") -> 1 | O68: =COUNTIF($R$7:$R$18,"હિન્દી") -> 0 | P68: =COUNTIF($R$7:$R$18,"શા.શિ.") -> 2 | Q68: =COUNTIF($R$7:$R$18,"કાર્યા.") -> 0 | R68: =COUNTIF($R$7:$R$18,"ચિત્ર") -> 0 | S68: =COUNTIF($R$7:$R$18,"સંગીત") -> 0
D69: =SUM(D63:D68) -> 16 | E69: =SUM(E63:E68) -> 13 | F69: =SUM(F63:F68) -> 16 | K69: =SUM(K63:K68) -> 12 | L69: =SUM(L63:L68) -> 10 | M69: =SUM(M63:M68) -> 10 | N69: =SUM(N63:N68) -> 3 | O69: =SUM(O63:O68) -> 0 | P69: =SUM(P63:P68) -> 2 | Q69: =SUM(Q63:Q68) -> 4 | R69: =SUM(R63:R68) -> 2 | S69: =SUM(S63:S68) -> 2
C70: ધોરણ-4 | D70: =COUNTIF($D$7:$D$26,$R$20) -> 2 | E70: =COUNTIF($D$7:$D$26,$R$21) -> 2 | F70: =COUNTIF($D$7:$D$26,$R$22) -> 4 | J70: ધોરણ-4 | K70: =COUNTIF($D$7:$D$26,"ગુજરાતી") -> 2 | L70: =COUNTIF($D$7:$D$26,"ગણિત") -> 2 | M70: =COUNTIF($D$7:$D$26,"પર્યાવરણ") -> 2 | N70: =COUNTIF($D$7:$D$26,"અંગ્રેજી") -> 0 | O70: =COUNTIF($D$7:$D$26,"હિન્દી") -> 0 | P70: =COUNTIF($D$7:$D$26,"શા.શિ.") -> 0 | Q70: =COUNTIF($D$7:$D$26,"કાર્યા.") -> 0 | R70: =COUNTIF($D$7:$D$26,"ચિત્ર") -> 0 | S70: =COUNTIF($D$7:$D$26,"સંગીત") -> 2
D71: =COUNTIF($G$7:$G$26,$R$20) -> 2 | E71: =COUNTIF($G$7:$G$26,$R$21) -> 4 | F71: =COUNTIF($G$7:$G$26,$R$22) -> 2 | K71: =COUNTIF($G$7:$G$26,"ગુજરાતી") -> 2 | L71: =COUNTIF($G$7:$G$26,"ગણિત") -> 2 | M71: =COUNTIF($G$7:$G$26,"પર્યાવરણ") -> 2 | N71: =COUNTIF($G$7:$G$26,"અંગ્રેજી") -> 2 | O71: =COUNTIF($G$7:$G$26,"હિન્દી") -> 0 | P71: =COUNTIF($G$7:$G$26,"શા.શિ.") -> 0 | Q71: =COUNTIF($G$7:$G$26,"કાર્યા.") -> 0 | R71: =COUNTIF($G$7:$G$26,"ચિત્ર") -> 0 | S71: =COUNTIF($G$7:$G$26,"સંગીત") -> 0
D72: =COUNTIF($J$7:$J$26,$R$20) -> 4 | E72: =COUNTIF($J$7:$J$26,$R$21) -> 2 | F72: =COUNTIF($J$7:$J$26,$R$22) -> 2 | K72: =COUNTIF($J$7:$J$26,"ગુજરાતી") -> 0 | L72: =COUNTIF($J$7:$J$26,"ગણિત") -> 2 | M72: =COUNTIF($J$7:$J$26,"પર્યાવરણ") -> 2 | N72: =COUNTIF($J$7:$J$26,"અંગ્રેજી") -> 0 | O72: =COUNTIF($J$7:$J$26,"હિન્દી") -> 2 | P72: =COUNTIF($J$7:$J$26,"શા.શિ.") -> 0 | Q72: =COUNTIF($J$7:$J$26,"કાર્યા.") -> 0 | R72: =COUNTIF($J$7:$J$26,"ચિત્ર") -> 2 | S72: =COUNTIF($J$7:$J$26,"સંગીત") -> 0
D73: =COUNTIF($M$7:$M$26,$R$20) -> 2 | E73: =COUNTIF($M$7:$M$26,$R$21) -> 2 | F73: =COUNTIF($M$7:$M$26,$R$22) -> 4 | K73: =COUNTIF($M$7:$M$26,"ગુજરાતી") -> 2 | L73: =COUNTIF($M$7:$M$26,"ગણિત") -> 2 | M73: =COUNTIF($M$7:$M$26,"પર્યાવરણ") -> 2 | N73: =COUNTIF($M$7:$M$26,"અંગ્રેજી") -> 0 | O73: =COUNTIF($M$7:$M$26,"હિન્દી") -> 0 | P73: =COUNTIF($M$7:$M$26,"શા.શિ.") -> 0 | Q73: =COUNTIF($M$7:$M$26,"કાર્યા.") -> 2 | R73: =COUNTIF($M$7:$M$26,"ચિત્ર") -> 0 | S73: =COUNTIF($M$7:$M$26,"સંગીત") -> 0
D74: =COUNTIF($P$7:$P$26,$R$20) -> 4 | E74: =COUNTIF($P$7:$P$26,$R$21) -> 2 | F74: =COUNTIF($P$7:$P$26,$R$22) -> 2 | K74: =COUNTIF($P$7:$P$26,"ગુજરાતી") -> 4 | L74: =COUNTIF($P$7:$P$26,"ગણિત") -> 0 | M74: =COUNTIF($P$7:$P$26,"પર્યાવરણ") -> 2 | N74: =COUNTIF($P$7:$P$26,"અંગ્રેજી") -> 2 | O74: =COUNTIF($P$7:$P$26,"હિન્દી") -> 0 | P74: =COUNTIF($P$7:$P$26,"શા.શિ.") -> 0 | Q74: =COUNTIF($P$7:$P$26,"કાર્યા.") -> 0 | R74: =COUNTIF($P$7:$P$26,"ચિત્ર") -> 0 | S74: =COUNTIF($P$7:$P$26,"સંગીત") -> 0
D75: =COUNTIF($S$7:$S$18,$R$20) -> 1 | E75: =COUNTIF($S$7:$S$18,$R$21) -> 2 | F75: =COUNTIF($S$7:$S$18,$R$22) -> 2 | K75: =COUNTIF($S$7:$S$18,"ગુજરાતી") -> 1 | L75: =COUNTIF($S$7:$S$18,"ગણિત") -> 2 | M75: =COUNTIF($S$7:$S$18,"પર્યાવરણ") -> 0 | N75: =COUNTIF($S$7:$S$18,"અંગ્રેજી") -> 0 | O75: =COUNTIF($S$7:$S$18,"હિન્દી") -> 0 | P75: =COUNTIF($S$7:$S$18,"શા.શિ.") -> 2 | Q75: =COUNTIF($S$7:$S$18,"કાર્યા.") -> 0 | R75: =COUNTIF($S$7:$S$18,"ચિત્ર") -> 0 | S75: =COUNTIF($S$7:$S$18,"સંગીત") -> 0
D76: =SUM(D70:D75) -> 15 | E76: =SUM(E70:E75) -> 14 | F76: =SUM(F70:F75) -> 16 | K76: =SUM(K70:K75) -> 11 | L76: =SUM(L70:L75) -> 10 | M76: =SUM(M70:M75) -> 10 | N76: =SUM(N70:N75) -> 4 | O76: =SUM(O70:O75) -> 2 | P76: =SUM(P70:P75) -> 2 | Q76: =SUM(Q70:Q75) -> 2 | R76: =SUM(R70:R75) -> 2 | S76: =SUM(S70:S75) -> 2
C77: ધોરણ-5 | D77: =COUNTIF($E$7:$E$26,$R$20) -> 2 | E77: =COUNTIF($E$7:$E$26,$R$21) -> 4 | F77: =COUNTIF($E$7:$E$26,$R$22) -> 2 | J77: ધોરણ-5 | K77: =COUNTIF($E$7:$E$26,"ગુજરાતી") -> 2 | L77: =COUNTIF($E$7:$E$26,"ગણિત") -> 2 | M77: =COUNTIF($E$7:$E$26,"પર્યાવરણ") -> 2 | N77: =COUNTIF($E$7:$E$26,"અંગ્રેજી") -> 2 | O77: =COUNTIF($E$7:$E$26,"હિન્દી") -> 0 | P77: =COUNTIF($E$7:$E$26,"શા.શિ.") -> 0 | Q77: =COUNTIF($E$7:$E$26,"કાર્યા.") -> 0 | R77: =COUNTIF($E$7:$E$26,"ચિત્ર") -> 0 | S77: =COUNTIF($E$7:$E$26,"સંગીત") -> 0
D78: =COUNTIF($H$7:$H$26,$R$20) -> 4 | E78: =COUNTIF($H$7:$H$26,$R$21) -> 2 | F78: =COUNTIF($H$7:$H$26,$R$22) -> 2 | K78: =COUNTIF($H$7:$H$26,"ગુજરાતી") -> 2 | L78: =COUNTIF($H$7:$H$26,"ગણિત") -> 2 | M78: =COUNTIF($H$7:$H$26,"પર્યાવરણ") -> 2 | N78: =COUNTIF($H$7:$H$26,"અંગ્રેજી") -> 0 | O78: =COUNTIF($H$7:$H$26,"હિન્દી") -> 2 | P78: =COUNTIF($H$7:$H$26,"શા.શિ.") -> 0 | Q78: =COUNTIF($H$7:$H$26,"કાર્યા.") -> 0 | R78: =COUNTIF($H$7:$H$26,"ચિત્ર") -> 0 | S78: =COUNTIF($H$7:$H$26,"સંગીત") -> 0
D79: =COUNTIF($K$7:$K$26,$R$20) -> 2 | E79: =COUNTIF($K$7:$K$26,$R$21) -> 4 | F79: =COUNTIF($K$7:$K$26,$R$22) -> 2 | K79: =COUNTIF($K$7:$K$26,"ગુજરાતી") -> 2 | L79: =COUNTIF($K$7:$K$26,"ગણિત") -> 2 | M79: =COUNTIF($K$7:$K$26,"પર્યાવરણ") -> 2 | N79: =COUNTIF($K$7:$K$26,"અંગ્રેજી") -> 2 | O79: =COUNTIF($K$7:$K$26,"હિન્દી") -> 0 | P79: =COUNTIF($K$7:$K$26,"શા.શિ.") -> 0 | Q79: =COUNTIF($K$7:$K$26,"કાર્યા.") -> 0 | R79: =COUNTIF($K$7:$K$26,"ચિત્ર") -> 0 | S79: =COUNTIF($K$7:$K$26,"સંગીત") -> 0
D80: =COUNTIF($N$7:$N$26,$R$20) -> 4 | E80: =COUNTIF($N$7:$N$26,$R$21) -> 2 | F80: =COUNTIF($N$7:$N$26,$R$22) -> 2 | K80: =COUNTIF($N$7:$N$26,"ગુજરાતી") -> 2 | L80: =COUNTIF($N$7:$N$26,"ગણિત") -> 2 | M80: =COUNTIF($N$7:$N$26,"પર્યાવરણ") -> 2 | N80: =COUNTIF($N$7:$N$26,"અંગ્રેજી") -> 0 | O80: =COUNTIF($N$7:$N$26,"હિન્દી") -> 2 | P80: =COUNTIF($N$7:$N$26,"શા.શિ.") -> 0 | Q80: =COUNTIF($N$7:$N$26,"કાર્યા.") -> 0 | R80: =COUNTIF($N$7:$N$26,"ચિત્ર") -> 0 | S80: =COUNTIF($N$7:$N$26,"સંગીત") -> 0
D81: =COUNTIF($Q$7:$Q$26,$R$20) -> 2 | E81: =COUNTIF($Q$7:$Q$26,$R$21) -> 4 | F81: =COUNTIF($Q$7:$Q$26,$R$22) -> 2 | K81: =COUNTIF($Q$7:$Q$26,"ગુજરાતી") -> 0 | L81: =COUNTIF($Q$7:$Q$26,"ગણિત") -> 2 | M81: =COUNTIF($Q$7:$Q$26,"પર્યાવરણ") -> 0 | N81: =COUNTIF($Q$7:$Q$26,"અંગ્રેજી") -> 2 | O81: =COUNTIF($Q$7:$Q$26,"હિન્દી") -> 0 | P81: =COUNTIF($Q$7:$Q$26,"શા.શિ.") -> 0 | Q81: =COUNTIF($Q$7:$Q$26,"કાર્યા.") -> 0 | R81: =COUNTIF($Q$7:$Q$26,"ચિત્ર") -> 2 | S81: =COUNTIF($Q$7:$Q$26,"સંગીત") -> 2
D82: =COUNTIF($T$7:$T$18,$R$20) -> 0 | E82: =COUNTIF($T$7:$T$18,$R$21) -> 2 | F82: =COUNTIF($T$7:$T$18,$R$22) -> 3 | K82: =COUNTIF($T$7:$T$18,"ગુજરાતી") -> 0 | L82: =COUNTIF($T$7:$T$18,"ગણિત") -> 0 | M82: =COUNTIF($T$7:$T$18,"પર્યાવરણ") -> 1 | N82: =COUNTIF($T$7:$T$18,"અંગ્રેજી") -> 0 | O82: =COUNTIF($T$7:$T$18,"હિન્દી") -> 0 | P82: =COUNTIF($T$7:$T$18,"શા.શિ.") -> 2 | Q82: =COUNTIF($T$7:$T$18,"કાર્યા.") -> 2 | R82: =COUNTIF($T$7:$T$18,"ચિત્ર") -> 0 | S82: =COUNTIF($T$7:$T$18,"સંગીત") -> 0
D83: =SUM(D77:D82) -> 14 | E83: =SUM(E77:E82) -> 18 | F83: =SUM(F77:F82) -> 13 | K83: =SUM(K77:K82) -> 8 | L83: =SUM(L77:L82) -> 10 | M83: =SUM(M77:M82) -> 9 | N83: =SUM(N77:N82) -> 6 | O83: =SUM(O77:O82) -> 4 | P83: =SUM(P77:P82) -> 2 | Q83: =SUM(Q77:Q82) -> 2 | R83: =SUM(R77:R82) -> 2 | S83: =SUM(S77:S82) -> 2

Sheet FINAL-2
A1: zL E]ZU- VG]5D 5|FP XF/F
A2: ;DI5+S VFIMHG ov Z_!)qcZ_
A4: ;DI 5+S WMZ6 v # | K4: ;DI 5+S WMZ6 v $ | U4: ;DI 5+S WMZ6 v 5
A5: TF; | B5: ;DI | C5: ;MDJFZ | D5: D\U/JFZ | E5: A]WJFZ | F5: U]Z]JFZ | G5: X]S|JFZ | H5: TF; | I5: ;DI | J5: XlGJFZ | K5: TF; | L5: ;DI | M5: ;MDJFZ | N5: D\U/JFZ | O5: A]WJFZ | P5: U]Z]JFZ | Q5: X]S|JFZ | R5: TF; | S5: ;DI | T5: XlGJFZ | U5: TF; | V5: ;DI | W5: ;MDJFZ | X5: D\U/JFZ | Y5: A]WJFZ | Z5: U]Z]JFZ | AA5: X]S|JFZ | AB5: TF; | AC5: ;DI | AD5: XlGJFZ
B6: !_o5_ YL !!oZ_ | C6: ;OF. VG[ 5|FY"GF | I6: *oZ_ YL *o5_ | J6: 5|FY"GF | L6: !_o5_ YL !!oZ_ | M6: ;OF. VG[ 5|FY"GF | S6: *oZ_ YL *o5_ | T6: 5|FY"GF | V6: !_o5_ YL !!oZ_ | W6: ;OF. VG[ 5|FY"GF | AC6: *oZ_ YL *o5_ | AD6: 5|FY"GF
A7: !P | B7: !!oZ_ YL !!o55 | C7: ગુજરાતી | D7: ગુજરાતી | E7: ગુજરાતી | F7: ગુજરાતી | G7: ગુજરાતી | H7: !P | I7: *o5_ YL (oZ5 | J7: શા.શિ. | K7: !P | L7: !!oZ_ YL !!o55 | M7: પર્યાવરણ | N7: પર્યાવરણ | O7: પર્યાવરણ | P7: પર્યાવરણ | Q7: પર્યાવરણ | R7: !P | S7: *o5_ YL (oZ5 | T7: શા.શિ. | U7: !P | V7: !!oZ_ YL !!o55 | W7: ગણિત | X7: ગણિત | Y7: ગણિત | Z7: ગણિત | AA7: ગણિત | AB7: !P | AC7: *o5_ YL (oZ5 | AD7: શા.શિ.
A8: ZP | B8: !!o55 YL !Zo#_ | C8: ગુજરાતી | D8: ગુજરાતી | E8: ગુજરાતી | F8: ગુજરાતી | G8: ગુજરાતી | H8: ZP | J8: શા.શિ. | K8: ZP | L8: !!o55 YL !Zo#_ | M8: પર્યાવરણ | N8: પર્યાવરણ | O8: પર્યાવરણ | P8: પર્યાવરણ | Q8: પર્યાવરણ | R8: ZP | T8: શા.શિ. | U8: ZP | V8: !!o55 YL !Zo#_ | W8: ગણિત | X8: ગણિત | Y8: ગણિત | Z8: ગણિત | AA8: ગણિત | AB8: ZP | AD8: શા.શિ.
B9: !Zo#_ YL !Zo$_ | C9: GFGL lZ;[; | H9: #P | I9: (oZ5 YL )o__ | J9: ગુજરાતી | L9: !Zo#_ YL !Zo$_ | M9: GFGL lZ;[; | R9: #P | S9: (oZ5 YL )o__ | T9: પર્યાવરણ | V9: !Zo#_ YL !Zo$_ | W9: GFGL lZ;[; | AB9: #P | AC9: (oZ5 YL )o__ | AD9: ગણિત
A10: #P | B10: !Zo$_ YL !o!5 | C10: ગણિત | D10: ગણિત | E10: ગણિત | F10: ગણિત | G10: ગણિત | I10: )o__ YL )oZ_ | J10: lZ;[; | K10: #P | L10: !Zo$_ YL !o!5 | M10: ગુજરાતી | N10: ગુજરાતી | O10: હિન્દી | P10: ગુજરાતી | Q10: ગુજરાતી | S10: )o__ YL )oZ_ | T10: lZ;[; | U10: #P | V10: !Zo$_ YL !o!5 | W10: પર્યાવરણ | X10: પર્યાવરણ | Y10: પર્યાવરણ | Z10: પર્યાવરણ | AA10: સંગીત | AC10: )o__ YL )oZ_ | AD10: lZ;[;
A11: $P | B11: !o!5 YL !o5_ | C11: ગણિત | D11: ગણિત | E11: ગણિત | F11: ગણિત | G11: ગણિત | H11: $P | I11: )oZ_ YL !_oZ5 | J11: ગણિત | K11: $P | L11: !o!5 YL !o5_ | M11: ગુજરાતી | N11: ગુજરાતી | O11: હિન્દી | P11: ગુજરાતી | Q11: ગુજરાતી | R11: $P | S11: )oZ_ YL !_oZ5 | T11: ગુજરાતી | U11: $P | V11: !o!5 YL !o5_ | W11: પર્યાવરણ | X11: પર્યાવરણ | Y11: પર્યાવરણ | Z11: પર્યાવરણ | AA11: સંગીત | AB11: $P | AC11: )oZ_ YL !_oZ5 | AD11: પર્યાવરણ
B12: !o5_ YL Zo#_ | C12: DM8L lZ;[; | H12: 5P | I12: !_oZ5YL!!o__ | J12: પર્યાવરણ | L12: !o5_ YL Zo#_ | M12: DM8L lZ;[; | R12: 5P | S12: !_oZ5YL!!o__ | T12: ગણિત | V12: !o5_ YL Zo#_ | W12: DM8L lZ;[; | AB12: 5P | AC12: !_oZ5YL!!o__ | AD12: હિન્દી
A13: 5P | B13: Zo#_ YL #o_5 | C13: પર્યાવરણ | D13: પર્યાવરણ | E13: પર્યાવરણ | F13: પર્યાવરણ | G13: પર્યાવરણ | K13: 5P | L13: Zo#_ YL #o_5 | M13: ગણિત | N13: ગણિત | O13: ગણિત | P13: ગણિત | Q13: હિન્દી | U13: 5P | V13: Zo#_ YL #o_5 | W13: ગુજરાતી | X13: ગુજરાતી | Y13: ગુજરાતી | Z13: ગુજરાતી | AA13: અંગ્રેજી
A14: &P | B14: #o_5 YL #o$_ | C14: પર્યાવરણ | D14: પર્યાવરણ | E14: પર્યાવરણ | F14: પર્યાવરણ | G14: પર્યાવરણ | K14: &P | L14: #o_5 YL #o$_ | M14: ગણિત | N14: ગણિત | O14: ગણિત | P14: ગણિત | Q14: હિન્દી | U14: &P | V14: #o_5 YL #o$_ | W14: ગુજરાતી | X14: ગુજરાતી | Y14: ગુજરાતી | Z14: ગુજરાતી | AA14: અંગ્રેજી
B15: #o$_ YL #o5_ | C15: GFGL lZ;[; | L15: #o$_ YL #o5_ | M15: GFGL lZ;[; | V15: #o$_ YL #o5_ | W15: GFGL lZ;[;
A16: *P | B16: #o5_ YL $oZ5 | C16: ચિત્ર | D16: સંગીત | E16: કાર્યા. | F16: અંગ્રેજી | G16: કાર્યા. | K16: *P | L16: #o5_ YL $oZ5 | M16: સંગીત | N16: અંગ્રેજી | O16: ચિત્ર | P16: કાર્યા. | Q16: અંગ્રેજી | U16: *P | V16: #o5_ YL $oZ5 | W16: અંગ્રેજી | X16: હિન્દી | Y16: અંગ્રેજી | Z16: હિન્દી | AA16: ચિત્ર
A17: (P | B17: $oZ5 YL 5o__ | C17: ચિત્ર | D17: સંગીત | E17: કાર્યા. | F17: અંગ્રેજી | G17: કાર્યા. | K17: (P | L17: $oZ5 YL 5o__ | M17: સંગીત | N17: અંગ્રેજી | O17: ચિત્ર | P17: કાર્યા. | Q17: અંગ્રેજી | U17: (P | V17: $oZ5 YL 5o__ | W17: અંગ્રેજી | X17: હિન્દી | Y17: અંગ્રેજી | Z17: હિન્દી | AA17: ચિત્ર
C20: MADHABHAI | E20: MK = | F20: Ul6T4 | G20: V\U|[HL | M20: WMZ6 | N20: NV | O20: MK | P20: JG | Q20: MK | R20: NV | S20: JG | T20: JG | U20: NV | V20: JG | W20: ટેસ્ટ | X20: S],
N21: ગુજરાતી | O21: ગણિત | P21: પર્યાવરણ | Q21: અંગ્રેજી | R21: હિન્દી | S21: શા.શિ. | T21: કાર્યા. | U21: ચિત્ર | V21: સંગીત
C22: NARESHBHAI | E22: NV = | F22: U]HZFTL4 | G22: lCgNL4 | I22: lR+ | M22: 3 | N22: =COUNTIF(A4:J17,"ગુજરાતી") -> 11 | O22: =COUNTIF(B4:J17,"ગણિત") -> 11 | P22: =COUNTIF(A4:J17,"પર્યાવરણ") -> 11 | Q22: =COUNTIF(A4:J17,"અંગ્રેજી") -> 2 | R22: =COUNTIF(A4:J17,"હિન્દી") -> 0 | S22: =COUNTIF(A4:J17,"શા.શિ.") -> 2 | T22: =COUNTIF(A4:J17,"કાર્યા.") -> 4 | U22: =COUNTIF(A4:J17,"ચિત્ર") -> 2 | V22: =COUNTIF(A4:J17,"સંગીત") -> 2 | W22: =COUNTIF(A4:J17,"ટેસ્ટ ") -> 0 | X22: =SUM(N22:W22) -> 45
M23: 4 | N23: =COUNTIF(K5:T17,"ગુજરાતી") -> 9 | O23: =COUNTIF(K5:T17,"ગણિત") -> 9 | P23: =COUNTIF(K5:T17,"પર્યાવરણ") -> 11 | Q23: =COUNTIF(K5:T17,"અંગ્રેજી") -> 4 | R23: =COUNTIF(K5:T17,"હિન્દી") -> 4 | S23: =COUNTIF(K5:T17,"શા.શિ.") -> 2 | T23: =COUNTIF(K5:T17,"કાર્યા.") -> 2 | U23: =COUNTIF(K5:T17,"ચિત્ર") -> 2 | V23: =COUNTIF(K5:T17,"સંગીત") -> 2 | W23: =COUNTIF(K5:T17,"ટેસ્ટ ") -> 0 | X23: =SUM(N23:W23) -> 45
C24: JAGADISHBHAI | E24: JG = | F24: 5IF"JZ64 | G24: ;\ULT4 | H24: SFIF"G]EJ | M24: 5 | N24: =COUNTIF(U6:AD17,"ગુજરાતી") -> 8 | O24: =COUNTIF(U6:AD17,"ગણિત") -> 11 | P24: =COUNTIF(U6:AD17,"પર્યાવરણ") -> 9 | Q24: =COUNTIF(U6:AD17,"અંગ્રેજી") -> 6 | R24: =COUNTIF(U6:AD17,"હિન્દી") -> 5 | S24: =COUNTIF(U6:AD17,"શા.શિ.") -> 2 | T24: =COUNTIF(U6:AD17,"કાર્યા.") -> 0 | U24: =COUNTIF(U6:AD17,"ચિત્ર") -> 2 | V24: =COUNTIF(U6:AD17,"સંગીત") -> 2 | W24: =COUNTIF(U6:AD17,"ટેસ્ટ ") -> 0 | X24: =SUM(N24:W24) -> 45
M25: S], | N25: =SUM(N22:N24) -> 28 | O25: =SUM(O22:O24) -> 31 | P25: =SUM(P22:P24) -> 31 | Q25: =SUM(Q22:Q24) -> 12 | R25: =SUM(R22:R24) -> 9 | S25: =SUM(S22:S24) -> 6 | T25: =SUM(T22:T24) -> 6 | U25: =SUM(U22:U24) -> 6 | ... X25: =SUM(X22:X24) -> 135

Sheet ALL
A1: zL E]ZU- VG]5D 5|FP XF/F4 TFP ,FB6L4 lHPAGF;SF\9F4 JQF"ov Z_!)qcZ_
A3: lX1FSG]\ ;DI5+S
A4: TF; | B4: ;DI | C4: ;MDJFZ | D4: D\U/JFZ | E4: A]WJFZ | F4: U]Z]JFZ | G4: X]S|JFZ | H4: TF; | I4: ;DI | J4: XlGJFZ
B5: !_o5_ YL !!oZ_ | C5: ;OF. VG[ 5|FY"GF | I5: *oZ_ YL *o$_ | J5: 5|FY"GF
A6: !P | B6: !!oZ_ YL !!o55 | C6: ગુજરાતી - 3 | D6: ગુજરાતી - 3 | E6: ગુજરાતી - 3 | F6: ગુજરાતી - 3 | G6: ગુજરાતી - 3 | H6: !P | I6: *o$_ YL (oZ5 | J6: શા.શિ.
A7: ZP | B7: !!o55 YL !Zo#_ | C7: ગુજરાતી - 3 | D7: ગુજરાતી - 3 | E7: ગુજરાતી - 3 | F7: ગુજરાતી - 3 | G7: ગુજરાતી - 3 | H7: ZP | J7: શા.શિ.
B8: !Zo#_ YL !Zo$_ | C8: GFGL lZ;[; | H8: #P | I8: (oZ5 YL )o__ | J8: ગુજરાતી - 3
A9: #P | B9: !Zo$_ YL !o!5 | C9: ગુજરાતી - 4 | D9: ગુજરાતી - 4 | E9: હિન્દી - 4 | F9: ગુજરાતી - 4 | G9: ગુજરાતી - 4 | I9: )o__ YL )oZ_ | J9: lZ;[;
A10: $P | B10: !o!5 YL !o5_ | C10: ગુજરાતી - 4 | D10: ગુજરાતી - 4 | E10: હિન્દી - 4 | F10: ગુજરાતી - 4 | G10: ગુજરાતી - 4 | H10: $P | I10: )oZ_ YL !_oZ5 | J10: ટેસ્ટ - 5
B11: !o5_ YL Zo#_ | C11: DM8L lZ;[; | H11: 5P | I11: !_oZ5YL!!o__ | J11: હિન્દી - 5
A12: 5P | B12: Zo#_ YL #o_5 | C12: ગુજરાતી - 5 | D12: ગુજરાતી - 5 | E12: ગુજરાતી - 5 | F12: ગુજરાતી - 5 | G12: હિન્દી - 4 | H12: vo lX1FSzL ov 58[, GZ[XEF. lJõ,EF.
A13: &P | B13: #o_5 YL #o$_ | C13: ગુજરાતી - 5 | D13: ગુજરાતી - 5 | E13: ગુજરાતી - 5 | F13: ગુજરાતી - 5 | G13: હિન્દી - 4
B14: #o$_ YL #o5_ | C14: GFGL lZ;[;
A15: *P | B15: #o5_ YL $oZ5 | C15: ચિત્ર - 3 | D15: હિન્દી - 5 | E15: ચિત્ર - 4 | F15: હિન્દી - 5 | G15: ચિત્ર - 5
A16: (P | B16: $oZ5 YL 5o__ | C16: ચિત્ર - 3 | D16: હિન્દી - 5 | E16: ચિત્ર - 4 | F16: હિન્દી - 5 | G16: ચિત્ર - 5
A17: zL E]ZU- VG]5D 5|FP XF/F4 TFP ,FB6L4 lHPAGF;SF\9F4 JQF"ov Z_!)qcZ_
A19: lX1FSG]\ ;DI5+S
A20: TF; | B20: ;DI | C20: ;MDJFZ | D20: D\U/JFZ | E20: A]WJFZ | F20: U]Z]JFZ | G20: X]S|JFZ | H20: TF; | I20: ;DI | J20: XlGJFZ
B21: !_o5_ YL !!oZ_ | C21: ;OF. VG[ 5|FY"GF | I21: *oZ_ YL *o$_ | J21: 5|FY"GF
A22: !P | B22: !!oZ_ YL !!o55 | C22: પર્યાવરણ - 4 | D22: પર્યાવરણ - 4 | E22: પર્યાવરણ - 4 | F22: પર્યાવરણ - 4 | G22: પર્યાવરણ - 4 | H22: !P | I22: *o$_ YL (oZ5 | J22: શા.શિ.
A23: ZP | B23: !!o55 YL !Zo#_ | C23: પર્યાવરણ - 4 | D23: પર્યાવરણ - 4 | E23: પર્યાવરણ - 4 | F23: પર્યાવરણ - 4 | G23: પર્યાવરણ - 4 | H23: ZP | J23: શા.શિ.
B24: !Zo#_ YL !Zo$_ | C24: GFGL lZ;[; | H24: #P | I24: (oZ5 YL )o__ | J24: પર્યાવરણ - 4
A25: #P | B25: !Zo$_ YL !o!5 | C25: પર્યાવરણ - 5 | D25: પર્યાવરણ - 5 | E25: પર્યાવરણ - 5 | F25: પર્યાવરણ - 5 | G25: સંગીત - 5 | I25: )o__ YL )oZ_ | J25: lZ;[;
A26: $P | B26: !o!5 YL !o5_ | C26: પર્યાવરણ - 5 | D26: પર્યાવરણ - 5 | E26: પર્યાવરણ - 5 | F26: પર્યાવરણ - 5 | G26: સંગીત - 5 | H26: $P | I26: )oZ_ YL !_oZ5 | J26: ટેસ્ટ - 3
B27: !o5_ YL Zo#_ | C27: DM8L lZ;[; | H27: 5P | I27: !_oZ5YL!!o__ | J27: પર્યાવરણ - 3
A28: 5P | B28: Zo#_ YL #o_5 | C28: પર્યાવરણ - 3 | D28: પર્યાવરણ - 3 | E28: પર્યાવરણ - 3 | F28: પર્યાવરણ - 3 | G28: પર્યાવરણ - 3 | H28: vo lX1FSzL ov 8\0[, HUNLXEF. 3GxIFDEF.
A29: &P | B29: #o_5 YL #o$_ | C29: પર્યાવરણ - 3 | D29: પર્યાવરણ - 3 | E29: પર્યાવરણ - 3 | F29: પર્યાવરણ - 3 | G29: પર્યાવરણ - 3
B30: #o$_ YL #o5_ | C30: GFGL lZ;[;
A31: *P | B31: #o5_ YL $oZ5 | C31: સંગીત - 4 | D31: સંગીત - 3 | E31: કાર્યા. - 3 | F31: કાર્યા. - 4 | G31: કાર્યા. - 3
A32: (P | B32: $oZ5 YL 5o__ | C32: સંગીત - 4 | D32: સંગીત - 3 | E32: કાર્યા. - 3 | F32: કાર્યા. - 4 | G32: કાર્યા. - 3
A33: zL E]ZU- VG]5D 5|FP XF/F4 TFP ,FB6L4 lHPAGF;SF\9F4 JQF"ov Z_!)qcZ_
A35: lX1FSG]\ ;DI5+S
A36: TF; | B36: ;DI | C36: ;MDJFZ | D36: D\U/JFZ | E36: A]WJFZ | F36: U]Z]JFZ | G36: X]S|JFZ | H36: TF; | I36: ;DI | J36: XlGJFZ
B37: !_o5_ YL !!oZ_ | C37: ;OF. VG[ 5|FY"GF | I37: *oZ_ YL *o$_ | J37: 5|FY"GF
A38: !P | B38: !!oZ_ YL !!o55 | C38: ગણિત - 5 | D38: ગણિત - 5 | E38: ગણિત - 5 | F38: ગણિત - 5 | G38: ગણિત - 5 | H38: !P | I38: *o$_ YL (oZ5 | J38: શા.શિ.
A39: ZP | B39: !!o55 YL !Zo#_ | C39: ગણિત - 5 | D39: ગણિત - 5 | E39: ગણિત - 5 | F39: ગણિત - 5 | G39: ગણિત - 5 | H39: ZP | J39: શા.શિ.
B40: !Zo#_ YL !Zo$_ | C40: GFGL lZ;[; | H40: #P | I40: (oZ5 YL )o__ | J40: ગણિત - 5
A41: #P | B41: !Zo$_ YL !o!5 | C41: ગણિત - 3 | D41: ગણિત - 3 | E41: ગણિત - 3 | F41: ગણિત - 3 | G41: ગણિત - 3 | I41: )o__ YL )oZ_ | J41: lZ;[;
A42: $P | B42: !o!5 YL !o5_ | C42: ગણિત - 3 | D42: ગણિત - 3 | E42: ગણિત - 3 | F42: ગણિત - 3 | G42: ગણિત - 3 | H42: $P | I42: )oZ_ YL !_oZ5 | J42: ટેસ્ટ - 4
B43: !o5_ YL Zo#_ | C43: DM8L lZ;[; | H43: 5P | I43: !_oZ5YL!!o__ | J43: ગણિત - 4
A44: 5P | B44: Zo#_ YL #o_5 | C44: ગણિત - 4 | D44: ગણિત - 4 | E44: ગણિત - 4 | F44: ગણિત - 4 | G44: અંગ્રેજી - 5 | H44: vo lX1FSzL ov 5|HF5lT DFWFEF. SZXGEF.
A45: &P | B45: #o_5 YL #o$_ | C45: ગણિત - 4 | D45: ગણિત - 4 | E45: ગણિત - 4 | F45: ગણિત - 4 | G45: અંગ્રેજી - 5
B46: #o$_ YL #o5_ | C46: GFGL lZ;[;
A47: *P | B47: #o5_ YL $oZ5 | C47: અંગ્રેજી - 5 | D47: અંગ્રેજી - 4 | E47: અંગ્રેજી - 5 | F47: અંગ્રેજી - 3 | G47: અંગ્રેજી - 4
A48: (P | B48: $oZ5 YL 5o__ | C48: અંગ્રેજી - 5 | D48: અંગ્રેજી - 4 | E48: અંગ્રેજી - 5 | F48: અંગ્રેજી - 3 | G48: અંગ્રેજી - 4

Sheet STD-3 To 5
A1: zL E]ZU- VG]5D 5|FP XF/F4 JQF"ov Z_!)qcZ_
A3: ;DI 5+S WMZ6 v #
A4: TF; | B4: ;DI | C4: ;MDJFZ | D4: D\U/JFZ | E4: A]WJFZ | F4: U]Z]JFZ | G4: X]S|JFZ | H4: TF; | I4: ;DI | J4: XlGJFZ
B5: !_o5_ YL !!oZ_ | C5: ;OF. VG[ 5|FY"GF | I5: *oZ_ YL *o$_ | J5: 5|FY"GF
A6: !P | B6: !!oZ_ YL !!o55 | C6: ગુજરાતી | D6: ગુજરાતી | E6: ગુજરાતી | F6: ગુજરાતી | G6: ગુજરાતી | H6: !P | I6: *o$_ YL (oZ5 | J6: શા.શિ.
A7: ZP | B7: !!o55 YL !Zo#_ | C7: ગુજરાતી | D7: ગુજરાતી | E7: ગુજરાતી | F7: ગુજરાતી | G7: ગુજરાતી | H7: ZP | J7: શા.શિ.
B8: !Zo#_ YL !Zo$_ | C8: GFGL lZ;[; | H8: #P | I8: (oZ5 YL )o__ | J8: ગુજરાતી
A9: #P | B9: !Zo$_ YL !o!5 | C9: ગણિત | D9: ગણિત | E9: ગણિત | F9: ગણિત | G9: ગણિત | I9: )o__ YL )oZ_ | J9: lZ;[;
A10: $P | B10: !o!5 YL !o5_ | C10: ગણિત | D10: ગણિત | E10: ગણિત | F10: ગણિત | G10: ગણિત | H10: $P | I10: )oZ_ YL !_oZ5 | J10: ટેસ્ટ
B11: !o5_ YL Zo#_ | C11: DM8L lZ;[; | H11: 5P | I11: !_oZ5YL!!o__ | J11: પર્યાવરણ
A12: 5P | B12: Zo#_ YL #o_5 | C12: પર્યાવરણ | D12: પર્યાવરણ | E12: પર્યાવરણ | F12: પર્યાવરણ | G12: પર્યાવરણ | H12: vo JU"lX1FSzL ov 58[, GZ[XEF. lJõ,EF.
A13: &P | B13: #o_5 YL #o$_ | C13: પર્યાવરણ | D13: પર્યાવરણ | E13: પર્યાવરણ | F13: પર્યાવરણ | G13: પર્યાવરણ
B14: #o$_ YL #o5_ | C14: GFGL lZ;[;
A15: *P | B15: #o5_ YL $oZ5 | C15: ચિત્ર | D15: સંગીત | E15: કાર્યા. | F15: અંગ્રેજી | G15: કાર્યા.
A16: (P | B16: $oZ5 YL 5o__ | C16: ચિત્ર | D16: સંગીત | E16: કાર્યા. | F16: અંગ્રેજી | G16: કાર્યા.
A18: zL E]ZU- VG]5D 5|FP XF/F4 JQF"ov Z_!)qcZ_
A20: ;DI 5+S WMZ6 v $
A21: TF; | B21: ;DI | C21: ;MDJFZ | D21: D\U/JFZ | E21: A]WJFZ | F21: U]Z]JFZ | G21: X]S|JFZ | H21: TF; | I21: ;DI | J21: XlGJFZ
B22: !_o5_ YL !!oZ_ | C22: ;OF. VG[ 5|FY"GF | I22: *oZ_ YL *o$_ | J22: 5|FY"GF
A23: !P | B23: !!oZ_ YL !!o55 | C23: પર્યાવરણ | D23: પર્યાવરણ | E23: પર્યાવરણ | F23: પર્યાવરણ | G23: પર્યાવરણ | H23: !P | I23: *o$_ YL (oZ5 | J23: શા.શિ.
A24: ZP | B24: !!o55 YL !Zo#_ | C24: પર્યાવરણ | D24: પર્યાવરણ | E24: પર્યાવરણ | F24: પર્યાવરણ | G24: પર્યાવરણ | H24: ZP | J24: શા.શિ.
B25: !Zo#_ YL !Zo$_ | C25: GFGL lZ;[; | H25: #P | I25: (oZ5 YL )o__ | J25: પર્યાવરણ
A26: #P | B26: !Zo$_ YL !o!5 | C26: ગુજરાતી | D26: ગુજરાતી | E26: હિન્દી | F26: ગુજરાતી | G26: ગુજરાતી | I26: )o__ YL )oZ_ | J26: lZ;[;
A27: $P | B27: !o!5 YL !o5_ | C27: ગુજરાતી | D27: ગુજરાતી | E27: હિન્દી | F27: ગુજરાતી | G27: ગુજરાતી | H27: $P | I27: )oZ_ YL !_oZ5 | J27: ટેસ્ટ
B28: !o5_ YL Zo#_ | C28: DM8L lZ;[; | H28: 5P | I28: !_oZ5YL!!o__ | J28: ગણિત
A29: 5P | B29: Zo#_ YL #o_5 | C29: ગણિત | D29: ગણિત | E29: ગણિત | F29: ગણિત | G29: હિન્દી | H29: vo JU"lX1FSzL ov 8\0[, HUNLXEF. 3GxIFDEF.
A30: &P | B30: #o_5 YL #o$_ | C30: ગણિત | D30: ગણિત | E30: ગણિત | F30: ગણિત | G30: હિન્દી
B31: #o$_ YL #o5_ | C31: GFGL lZ;[;
A32: *P | B32: #o5_ YL $oZ5 | C32: સંગીત | D32: અંગ્રેજી | E32: ચિત્ર | F32: કાર્યા. | G32: અંગ્રેજી
A33: (P | B33: $oZ5 YL 5o__ | C33: સંગીત | D33: અંગ્રેજી | E33: ચિત્ર | F33: કાર્યા. | G33: અંગ્રેજી
A37: zL E]ZU- VG]5D 5|FP XF/F4 JQF"ov Z_!)qcZ_
A39: ;DI 5+S WMZ6 v 5
A40: TF; | B40: ;DI | C40: ;MDJFZ | D40: D\U/JFZ | E40: A]WJFZ | F40: U]Z]JFZ | G40: X]S|JFZ | H40: TF; | I40: ;DI | J40: XlGJFZ
B41: !_o5_ YL !!oZ_ | C41: ;OF. VG[ 5|FY"GF | I41: *oZ_ YL *o$_ | J41: 5|FY"GF
A42: !P | B42: !!oZ_ YL !!o55 | C42: ગણિત | D42: ગણિત | E42: ગણિત | F42: ગણિત | G42: ગણિત | H42: !P | I42: *o$_ YL (oZ5 | J42: શા.શિ.
A43: ZP | B43: !!o55 YL !Zo#_ | C43: ગણિત | D43: ગણિત | E43: ગણિત | F43: ગણિત | G43: ગણિત | H43: ZP | J43: શા.શિ.
B44: !Zo#_ YL !Zo$_ | C44: GFGL lZ;[; | H44: #P | I44: (oZ5 YL )o__ | J44: ગણિત
A45: #P | B45: !Zo$_ YL !o!5 | C45: પર્યાવરણ | D45: પર્યાવરણ | E45: પર્યાવરણ | F45: પર્યાવરણ | G45: સંગીત | I45: )o__ YL )oZ_ | J45: lZ;[;
A46: $P | B46: !o!5 YL !o5_ | C46: પર્યાવરણ | D46: પર્યાવરણ | E46: પર્યાવરણ | F46: પર્યાવરણ | G46: સંગીત | H46: $P | I46: )oZ_ YL !_oZ5 | J46: ટેસ્ટ
B47: !o5_ YL Zo#_ | C47: DM8L lZ;[; | H47: 5P | I47: !_oZ5YL!!o__ | J47: હિન્દી
A48: 5P | B48: Zo#_ YL #o_5 | C48: ગુજરાતી | D48: ગુજરાતી | E48: ગુજરાતી | F48: ગુજરાતી | G48: અંગ્રેજી | H48: vo JU"lX1FSzL ov 5|HF5lT DFWFEF. SZXGEF.
A49: &P | B49: #o_5 YL #o$_ | C49: ગુજરાતી | D49: ગુજરાતી | E49: ગુજરાતી | F49: ગુજરાતી | G49: અંગ્રેજી
B50: #o$_ YL #o5_ | C50: GFGL lZ;[;
A51: *P | B51: #o5_ YL $oZ5 | C51: અંગ્રેજી | D51: હિન્દી | E51: અંગ્રેજી | F51: હિન્દી | G51: ચિત્ર
A52: (P | B52: $oZ5 YL 5o__ | C52: અંગ્રેજી | D52: હિન્દી | E52: અંગ્રેજી | F52: હિન્દી | G52: ચિત્ર

Sheet Sheet2 (2)
A2: zL E]ZU- VG]5D 5|FP XF/F4 TFP,FB6L4 lHP AGF;SF\9F
A3: ધોરણ - 3 - 4 - 5 સમયપત્રક
A4: શાળા : | R4: વર્ષ : | S4: 2019-20
A5: તાસ | B5: સમય | C5: સોમવાર | F5: મંગળવાર | I5: બુધવાર | L5: ગુરુવાર | O5: શુક્રવાર | R5: શનિવાર | U5: સમય
C6: ધો - 3 | D6: ધો - 4 | E6: ધો - 5 | F6: ધો - 3 | G6: ધો - 4 | H6: ધો - 5 | I6: ધો - 3 | J6: ધો - 4 | K6: ધો - 5 | L6: ધો - 3 | M6: ધો - 4 | N6: ધો - 5 | O6: ધો - 3 | P6: ધો - 4 | Q6: ધો - 5 | R6: ધો - 3 | S6: ધો - 4 | T6: ધો - 5
B7: 10:30-11:00 | C7: સમૂહજીવન,શાળાસફાઈ અને શૈક્ષણિક કાર્ય માટેની પૂર્વતૈયારી | U7: 7:00-7:20
B8: 11:00-11:20 | C8: પ્રાર્થના સંમેલન | U8: 7:20-7:35
A9: 1 | B9: 11:20-11:55 | C9: N.V. | D9: J.G. | E9: M.K. | F9: N.V. | G9: J.G. | H9: M.K. | I9: N.V. | J9: J.G. | K9: M.K. | L9: N.V. | M9: J.G. | N9: M.K. | O9: N.V. | P9: J.G. | Q9: M.K. | R9: N.V. | S9: J.G. | T9: M.K. | U9: 7:35-8:10
C10: ગુજરાતી | D10: પર્યાવરણ | E10: ગણિત | F10: ગુજરાતી | G10: પર્યાવરણ | H10: ગણિત | I10: ગુજરાતી | J10: પર્યાવરણ | K10: ગણિત | L10: ગુજરાતી | M10: પર્યાવરણ | N10: ગણિત | O10: ગુજરાતી | P10: પર્યાવરણ | Q10: ગણિત | R10: શા.શિ. | S10: શા.શિ. | T10: શા.શિ.
A11: 2 | B11: 11:55-12:30 | C11: N.V. | D11: J.G. | E11: M.K. | F11: N.V. | G11: J.G. | H11: M.K. | I11: N.V. | J11: J.G. | K11: M.K. | L11: N.V. | M11: J.G. | N11: M.K. | O11: N.V. | P11: J.G. | Q11: M.K. | R11: N.V. | S11: J.G. | T11: M.K. | U11: 8:10-8:45
C12: ગુજરાતી | D12: પર્યાવરણ | E12: ગણિત | F12: ગુજરાતી | G12: પર્યાવરણ | H12: ગણિત | I12: ગુજરાતી | J12: પર્યાવરણ | K12: ગણિત | L12: ગુજરાતી | M12: પર્યાવરણ | N12: ગણિત | O12: ગુજરાતી | P12: પર્યાવરણ | Q12: ગણિત | R12: ગુજરાતી | S12: પર્યાવરણ | T12: ગણિત
B13: 12:30-12:40 | C13: વિરામ | R13: N.V. | S13: J.G. | T13: M.K. | U13: 8:45-9:20
R14: ગુજરાતી | S14: પર્યાવરણ | T14: ગણિત
A15: 3 | B15: 12:40-1:15 | C15: M.K. | D15: N.V. | E15: J.G. | F15: M.K. | G15: N.V. | H15: J.G. | I15: M.K. | J15: N.V. | K15: J.G. | L15: M.K. | M15: N.V. | N15: J.G. | O15: M.K. | P15: N.V. | Q15: J.G. | R15: વિરામ | U15: 09:20-10:00
C16: ગણિત | D16: ગુજરાતી | E16: પર્યાવરણ | F16: ગણિત | G16: ગુજરાતી | H16: પર્યાવરણ | I16: ગણિત | J16: હિન્દી | K16: પર્યાવરણ | L16: ગણિત | M16: ગુજરાતી | N16: પર્યાવરણ | O16: ગણિત | P16: ગુજરાતી | Q16: સંગીત
A17: 4 | B17: 1:15 -1:50 | C17: M.K. | D17: N.V. | E17: J.G. | F17: M.K. | G17: N.V. | H17: J.G. | I17: M.K. | J17: N.V. | K17: J.G. | L17: M.K. | M17: N.V. | N17: J.G. | O17: M.K. | P17: N.V. | Q17: J.G. | R17: J.G. | S17: M.K. | T17: N.V. | U17: 10:00-10:35
C18: ગણિત | D18: ગુજરાતી | E18: પર્યાવરણ | F18: ગણિત | G18: ગુજરાતી | H18: પર્યાવરણ | I18: ગણિત | J18: હિન્દી | K18: પર્યાવરણ | L18: ગણિત | M18: ગુજરાતી | N18: પર્યાવરણ | O18: ગણિત | P18: ગુજરાતી | Q18: સંગીત | R18: ટેસ્ટ | S18: ટેસ્ટ | T18: ટેસ્ટ
B19: 1:50-2:30 | C19: મધ્યાહન ભોજન - વિરામ | R19: J.G. | S19: M.K. | T19: N.V. | U19: 10:35-11:20
A20: 5 | B20: 2:30-3:05 | C20: J.G. | D20: M.K. | E20: N.V. | F20: J.G. | G20: M.K. | H20: N.V. | I20: J.G. | J20: M.K. | K20: N.V. | L20: J.G. | M20: M.K. | N20: N.V. | O20: J.G. | P20: M.K. | Q20: N.V. | R20: પર્યાવરણ | S20: ગણિત | T20: હિન્દી
C21: પર્યાવરણ | D21: ગણિત | E21: ગુજરાતી | F21: પર્યાવરણ | G21: ગણિત | H21: ગુજરાતી | I21: પર્યાવરણ | J21: ગણિત | K21: ગુજરાતી | L21: પર્યાવરણ | M21: ગણિત | N21: ગુજરાતી | O21: પર્યાવરણ | P21: ગણિત | Q21: ગુજરાતી | R21: વિષય ફાળવણી
A22: 6 | B22: 3:05-3:40 | C22: J.G. | D22: M.K. | E22: N.V. | F22: J.G. | G22: M.K. | H22: N.V. | I22: J.G. | J22: M.K. | K22: N.V. | L22: J.G. | M22: M.K. | N22: N.V. | O22: J.G. | P22: M.K. | Q22: N.V. | S22: N.V. | T22: ગુજરાતી,હિન્દી,ચિત્ર
C23: પર્યાવરણ | D23: ગણિત | E23: ગુજરાતી | F23: પર્યાવરણ | G23: ગણિત | H23: ગુજરાતી | I23: પર્યાવરણ | J23: ગણિત | K23: ગુજરાતી | L23: પર્યાવરણ | M23: ગણિત | N23: ગુજરાતી | O23: પર્યાવરણ | P23: ગણિત | Q23: ગુજરાતી | S23: M.K. | T23: ગણિત,અંગ્રેજી
B24: 3:40-3:50 | C24: વિરામ | S24: J.G. | T24: પર્યાવરણ, સંગીત, કાર્યા.
A25: 7 | B25: 3:50-4:25 | C25: N.V. | D25: J.G. | E25: M.K. | F25: J.G. | G25: M.K. | H25: N.V. | I25: J.G. | J25: N.V. | K25: M.K. | L25: M.K. | M25: J.G. | N25: N.V. | O25: J.G. | P25: M.K. | Q25: N.V. | R25: વર્ગ શિક્ષકનું નામ
C26: ચિત્ર | D26: સંગીત | E26: અંગ્રેજી | F26: સંગીત | G26: અંગ્રેજી | H26: હિન્દી | I26: કાર્યા. | J26: ચિત્ર | K26: અંગ્રેજી | L26: અંગ્રેજી | M26: કાર્યા. | N26: હિન્દી | O26: કાર્યા. | P26: અંગ્રેજી | Q26: ચિત્ર | R26: STD | S26: 3 | T26: પટેલ નરેશભાઈ
A27: 8 | B27: 4:25-5:00 | C27: N.V. | D27: J.G. | E27: M.K. | F27: J.G. | G27: M.K. | H27: N.V. | I27: J.G. | J27: N.V. | K27: M.K. | L27: M.K. | M27: J.G. | N27: N.V. | O27: J.G. | P27: M.K. | Q27: N.V. | R27: STD | S27: 4 | T27: ટંડેલ જગદીશભાઈ
C28: ચિત્ર | D28: સંગીત | E28: અંગ્રેજી | F28: સંગીત | G28: અંગ્રેજી | H28: હિન્દી | I28: કાર્યા. | J28: ચિત્ર | K28: અંગ્રેજી | L28: અંગ્રેજી | M28: કાર્યા. | N28: હિન્દી | O28: કાર્યા. | P28: અંગ્રેજી | Q28: ચિત્ર | R28: STD | S28: 5 | T28: પ્રજાપતિ માધાભાઈ
D29: ધો-3 | E29: ધો-4 | F29: ધો-5 | G29: કૂલ | K29: ગુજરાતી | L29: ગણિત | M29: પર્યાવરણ | N29: અંગ્રેજી | O29: હિન્દી | P29: શા.શિ. | Q29: કમ્પ્યૂ. | R29: કાર્યા. | S29: ચિત્ર | T29: સંગીત | U29: કૂલ
C30: N.V. | D30: 15 | E30: 12 | F30: 18 | G30: =SUM(D30:F30) -> 45 | J30: ધો-3 | K30: 13 | L30: 13 | M30: 11 | N30: 0 | O30: 0 | P30: 2 | Q30: 0 | R30: 2 | S30: 2 | T30: 2 | U30: 45
C31: M.K. | D31: 12 | E31: 16 | F31: 17 | G31: =SUM(D31:F31) -> 45 | J31: ધો-4 | K31: 12 | L31: 12 | M31: 10 | N31: 3 | O31: 0 | P31: 2 | Q31: 0 | R31: 2 | S31: 2 | T31: 2 | U31: 45
C32: J.G. | D32: 18 | E32: 17 | F32: 10 | G32: =SUM(D32:F32) -> 45 | J32: ધો-5 | K32: 10 | L32: 10 | M32: 8 | N32: 5 | O32: 4 | P32: 2 | Q32: 0 | R32: 2 | S32: 2 | T32: 2 | U32: 45
C33: કૂલ | D33: 45 | E33: 45 | F33: 45 | G33: 135 | K33: 35 | L33: 35 | M33: 29 | N33: 8 | O33: 4 | P33: 6 | Q33: 0 | R33: 6 | S33: 6 | T33: 6 | U33: 135
C38: વિષયો
C39: ગુજરાતી
C40: ગણિત
C41: પર્યાવરણ
C42: હિન્દી
C43: અંગ્રેજી
C44: શા.શિ.
C45: કમ્પ્યૂ.
C46: કાર્યા.
C47: ચિત્ર
C48: સંગીત

Sheet Sheet1 (2)
A1: zL E]ZU- VG]5D 5|FP XF/F
A2: ;DI5+S VFIMHG ov Z_!)qcZ_
A4: ;DI 5+S WMZ6 v # | K4: ;DI 5+S WMZ6 v $ | U4: ;DI 5+S WMZ6 v 5
A5: TF; | B5: ;DI | C5: ;MDJFZ | D5: D\U/JFZ | E5: A]WJFZ | F5: U]Z]JFZ | G5: X]S|JFZ | H5: TF; | I5: ;DI | J5: XlGJFZ | K5: TF; | L5: ;DI | M5: ;MDJFZ | N5: D\U/JFZ | O5: A]WJFZ | P5: U]Z]JFZ | Q5: X]S|JFZ | R5: TF; | S5: ;DI | T5: XlGJFZ | U5: TF; | V5: ;DI | W5: ;MDJFZ | X5: D\U/JFZ | Y5: A]WJFZ | Z5: U]Z]JFZ | AA5: X]S|JFZ | AB5: TF; | AC5: ;DI | AD5: XlGJFZ
B6: !_o5_ YL !!oZ_ | C6: ;OF. VG[ 5|FY"GF | I6: *oZ_ YL *o5_ | J6: 5|FY"GF | L6: !_o5_ YL !!oZ_ | M6: ;OF. VG[ 5|FY"GF | S6: *oZ_ YL *o5_ | T6: 5|FY"GF | V6: !_o5_ YL !!oZ_ | W6: ;OF. VG[ 5|FY"GF | AC6: *oZ_ YL *o5_ | AD6: 5|FY"GF
A7: !P | B7: !!oZ_ YL !!o55 | C7: N.V. | D7: N.V. | E7: N.V. | F7: N.V. | G7: N.V. | H7: !P | I7: *o5_ YL (oZ5 | J7: N.V. | K7: !P | L7: !!oZ_ YL !!o55 | M7: J.G. | N7: J.G. | O7: J.G. | P7: J.G. | Q7: J.G. | R7: !P | S7: *o5_ YL (oZ5 | T7: J.G. | U7: !P | V7: !!oZ_ YL !!o55 | W7: M.K. | X7: M.K. | Y7: M.K. | Z7: M.K. | AA7: M.K. | AB7: !P | AC7: *o5_ YL (oZ5 | AD7: M.K.
A8: ZP | B8: !!o55 YL !Zo#_ | C8: ગુજરાતી | D8: ગુજરાતી | E8: ગુજરાતી | F8: ગુજરાતી | G8: ગુજરાતી | H8: ZP | J8: શા.શિ. | K8: ZP | L8: !!o55 YL !Zo#_ | M8: પર્યાવરણ | N8: પર્યાવરણ | O8: પર્યાવરણ | P8: પર્યાવરણ | Q8: પર્યાવરણ | R8: ZP | T8: શા.શિ. | U8: ZP | V8: !!o55 YL !Zo#_ | W8: ગણિત | X8: ગણિત | Y8: ગણિત | Z8: ગણિત | AA8: ગણિત | AB8: ZP | AD8: શા.શિ.
B9: !Zo#_ YL !Zo$_ | C9: GFGL lZ;[; | H9: #P | I9: (oZ5 YL )o__ | J9: ગુજરાતી | L9: !Zo#_ YL !Zo$_ | M9: GFGL lZ;[; | R9: #P | S9: (oZ5 YL )o__ | T9: પર્યાવરણ | V9: !Zo#_ YL !Zo$_ | W9: GFGL lZ;[; | AB9: #P | AC9: (oZ5 YL )o__ | AD9: ગણિત
A10: #P | B10: !Zo$_ YL !o!5 | C10: M.K. | D10: M.K. | E10: M.K. | F10: M.K. | G10: M.K. | I10: )o__ YL )oZ_ | J10: lZ;[; | K10: #P | L10: !Zo$_ YL !o!5 | M10: N.V. | N10: N.V. | O10: N.V. | P10: N.V. | Q10: N.V. | S10: )o__ YL )oZ_ | T10: lZ;[; | U10: #P | V10: !Zo$_ YL !o!5 | W10: J.G. | X10: J.G. | Y10: J.G. | Z10: J.G. | AA10: J.G. | AC10: )o__ YL )oZ_ | AD10: lZ;[;
A11: $P | B11: !o!5 YL !o5_ | C11: ગણિત | D11: ગણિત | E11: ગણિત | F11: ગણિત | G11: ગણિત | H11: $P | I11: )oZ_ YL !_oZ5 | J11: ટેસ્ટ | K11: $P | L11: !o!5 YL !o5_ | M11: ગુજરાતી | N11: ગુજરાતી | O11: હિન્દી | P11: ગુજરાતી | Q11: ગુજરાતી | R11: $P | S11: )oZ_ YL !_oZ5 | T11: ટેસ્ટ | U11: $P | V11: !o!5 YL !o5_ | W11: પર્યાવરણ | X11: પર્યાવરણ | Y11: પર્યાવરણ | Z11: પર્યાવરણ | AA11: સંગીત | AB11: $P | AC11: )oZ_ YL !_oZ5 | AD11: ટેસ્ટ
B12: !o5_ YL Zo#_ | C12: DM8L lZ;[; | H12: 5P | I12: !_oZ5YL!!o__ | J12: પર્યાવરણ | L12: !o5_ YL Zo#_ | M12: DM8L lZ;[; | R12: 5P | S12: !_oZ5YL!!o__ | T12: ગણિત | V12: !o5_ YL Zo#_ | W12: DM8L lZ;[; | AB12: 5P | AC12: !_oZ5YL!!o__ | AD12: હિન્દી
A13: 5P | B13: Zo#_ YL #o_5 | C13: J.G. | D13: J.G. | E13: J.G. | F13: J.G. | G13: J.G. | K13: 5P | L13: Zo#_ YL #o_5 | M13: M.K. | N13: M.K. | O13: M.K. | P13: M.K. | Q13: M.K. | U13: 5P | V13: Zo#_ YL #o_5 | W13: N.V. | X13: N.V. | Y13: N.V. | Z13: N.V. | AA13: N.V.
A14: &P | B14: #o_5 YL #o$_ | C14: પર્યાવરણ | D14: પર્યાવરણ | E14: પર્યાવરણ | F14: પર્યાવરણ | G14: પર્યાવરણ | K14: &P | L14: #o_5 YL #o$_ | M14: ગણિત | N14: ગણિત | O14: ગણિત | P14: ગણિત | Q14: ગણિત | U14: &P | V14: #o_5 YL #o$_ | W14: ગુજરાતી | X14: ગુજરાતી | Y14: ગુજરાતી | Z14: ગુજરાતી | AA14: ગુજરાતી
B15: #o$_ YL #o5_ | C15: GFGL lZ;[; | L15: #o$_ YL #o5_ | M15: GFGL lZ;[; | V15: #o$_ YL #o5_ | W15: GFGL lZ;[;
A16: *P | B16: #o5_ YL $oZ5 | C16: N.V. | D16: J.G. | E16: J.G. | F16: M.K. | G16: J.G. | K16: *P | L16: #o5_ YL $oZ5 | M16: J.G. | N16: M.K. | O16: N.V. | P16: J.G. | Q16: M.K. | U16: *P | V16: #o5_ YL $oZ5 | W16: M.K. | X16: N.V. | Y16: M.K. | Z16: N.V. | AA16: N.V.
A17: (P | B17: $oZ5 YL 5o__ | C17: ચિત્ર | D17: સંગીત | E17: કાર્યા. | F17: અંગ્રેજી | G17: કાર્યા. | K17: (P | L17: $oZ5 YL 5o__ | M17: સંગીત | N17: અંગ્રેજી | O17: ચિત્ર | P17: કાર્યા. | Q17: અંગ્રેજી | U17: (P | V17: $oZ5 YL 5o__ | W17: અંગ્રેજી | X17: હિન્દી | Y17: અંગ્રેજી | Z17: હિન્દી | AA17: ચિત્ર
C20: MADHABHAI | E20: MK = | F20: Ul6T4 | G20: V\U|[HL | M20: WMZ6 | N20: NL | O20: NL | P20: CA | Q20: CA | R20: NG | S20: NG | T20: NG | U20: lR+ | V20: 5]:TSJFRG | W20: S],
N21: lJ7FG | O21: Ul6T | P21: ;FPlJP | Q21: lCgNL | R21: V\U|[HL | S21: ;\:S'T | T21: U]HZFTL
C22: NARESHBHAI | E22: NV = | F22: U]HZFTL4 | G22: lCgNL4 | I22: lR+ | M22: 6 | N22: =COUNTIF(A4:J17,"lJ7FG 8[SŸP") -> 0 | O22: =COUNTIF(B4:J17,"Ul6T") -> 0 | P22: =COUNTIF(A4:J17,";FPlJP") -> 0 | Q22: =COUNTIF(A4:J17,"lCgNL") -> 0 | R22: =COUNTIF(A4:J17,"V\U|[HL") -> 0 | S22: =COUNTIF(A4:J17,";\:S'T") -> 0 | T22: =COUNTIF(A4:J17,"U]HZFTL") -> 0 | U22: =COUNTIF(A4:J17,"lR+") -> 0 | V22: =COUNTIF(A4:J17,"5]:TSJFRG") -> 0 | W22: =SUM(N22:V22) -> 0
M23: 7 | N23: =COUNTIF(K5:T17,"lJ7FG 8[SŸP") -> 0 | O23: =COUNTIF(K5:T17,"Ul6T") -> 0 | P23: =COUNTIF(K5:T17,";FPlJP") -> 0 | Q23: =COUNTIF(K5:T17,"lCgNL") -> 0 | R23: =COUNTIF(K5:T17,"V\U|[HL") -> 0 | S23: =COUNTIF(K5:T17,";\:S'T") -> 0 | T23: =COUNTIF(K5:T17,"U]HZFTL") -> 0 | U23: =COUNTIF(K5:T17,"lR+") -> 0 | V23: =COUNTIF(K5:T17,"5]:TSJFRG") -> 0 | W23: =SUM(N23:V23) -> 0
C24: JAGADISHBHAI | E24: JG = | F24: 5IF"JZ64 | G24: ;\ULT4 | H24: SFIF"G]EJ | M24: 8 | N24: =COUNTIF(U6:AD17,"lJ7FG 8[SŸP") -> 0 | O24: =COUNTIF(U6:AD17,"Ul6T") -> 0 | P24: =COUNTIF(U6:AD17,";FPlJP") -> 0 | Q24: =COUNTIF(U6:AD17,"lCgNL") -> 0 | R24: =COUNTIF(U6:AD17,"V\U|[HL") -> 0 | S24: =COUNTIF(U6:AD17,";\:S'T") -> 0 | T24: =COUNTIF(U6:AD17,"U]HZFTL") -> 0 | U24: =COUNTIF(U6:AD17,"lR+") -> 0 | V24: =COUNTIF(U6:AD17,"5]:TSJFRG") -> 0 | W24: =SUM(N24:V24) -> 0
M25: S], | N25: =SUM(N22:N24) -> 0 | O25: =SUM(O22:O24) -> 0 | P25: =SUM(P22:P24) -> 0 | Q25: =SUM(Q22:Q24) -> 0 | R25: =SUM(R22:R24) -> 0 | S25: =SUM(S22:S24) -> 0 | T25: =SUM(T22:T24) -> 0 | U25: =SUM(U22:U24) -> 0 | ... W25: =SUM(W22:W24) -> 0
O27: =O25+S25+X25+W23+V23 -> 0 | P27: =P25+T25+W24+V24 -> 0 | Q27: =Q25+R25+V24+W24 -> 0 | U27: =U25+Y22 -> 0

Sheet 3 TO 5
A1: E]ZU- VG]5D 5|FYlDS XF/F4TFP,FB6L4lHPAGF;SF\9F WF[Z6 # YL 5 ;FDFgI ;DI5+S JQF" o Z_!(q!)
A2: TF; | B2: ;F[DJFZ | E2: D\U/JFZ | H2: A]WJFZ | K2: U]~JFZ | N2: X]S|JFZ | Q2: XlGJFZ
B3: 3 | C3: 4 | D3: 5 | E3: 3 | F3: 4 | G3: 5 | H3: 3 | I3: 4 | J3: 5 | K3: 3 | L3: 4 | M3: 5 | N3: 3 | O3: 4 | P3: 5 | Q3: 3 | R3: 4 | S3: 5
A4: 1 | B4: U]HZFTL | C4: 5IF"JZ6 | D4: Ul6T | E4: U]HZFTL | F4: 5IF"JZ6 | G4: Ul6T | H4: U]HZFTL | I4: 5IF"JZ6 | J4: Ul6T | K4: U]HZFTL | L4: 5IF"JZ6 | M4: Ul6T | N4: U]HZFTL | O4: 5IF"JZ6 | P4: Ul6T | U4: U]HZFTL | V4: NV
B5: N.V. | C5: J.G. | D5: M.K. | E5: N.V. | F5: J.G. | G5: M.K. | H5: N.V. | I5: J.G. | J5: M.K. | K5: N.V. | L5: J.G. | M5: M.K. | N5: N.V. | O5: J.G. | P5: M.K. | U5: 5IF"JZ6 | V5: JG
A6: 2 | B6: U]HZFTL | C6: 5IF"JZ6 | D6: Ul6T | E6: U]HZFTL | F6: 5IF"JZ6 | G6: Ul6T | H6: U]HZFTL | I6: 5IF"JZ6 | J6: Ul6T | K6: U]HZFTL | L6: 5IF"JZ6 | M6: Ul6T | N6: U]HZFTL | O6: 5IF"JZ6 | P6: Ul6T | U6: Ul6T | V6: MK
B7: N.V. | C7: J.G. | D7: M.K. | E7: N.V. | F7: J.G. | G7: M.K. | H7: N.V. | I7: J.G. | J7: M.K. | K7: N.V. | L7: J.G. | M7: M.K. | N7: N.V. | O7: J.G. | P7: M.K. | U7: V\U|[HL | V7: MK
A8: 3 | B8: 5IF"JZ6 | C8: Ul6T | D8: U]HZFTL | E8: 5IF"JZ6 | F8: Ul6T | G8: U]HZFTL | H8: 5IF"JZ6 | I8: Ul6T | J8: U]HZFTL | K8: 5IF"JZ6 | L8: Ul6T | M8: U]HZFTL | N8: V\U|[HL | O8: Ul6T | P8: lCgNL | Q8: lR+ | R8: V\U|[HL | S8: lCgNL | U8: lCgNL | V8: NV
B9: J.G. | C9: M.K. | D9: N.V. | E9: J.G. | F9: M.K. | G9: N.V. | H9: J.G. | I9: M.K. | J9: N.V. | K9: J.G. | L9: M.K. | M9: N.V. | N9: M.K. | O9: M.K. | P9: N.V. | Q9: N.V. | R9: M.K. | S9: N.V. | U9: ;\ULT | V9: JG
A10: 4 | B10: 5IF"JZ6 | C10: Ul6T | D10: U]HZFTL | E10: 5IF"JZ6 | F10: Ul6T | G10: U]HZFTL | H10: 5IF"JZ6 | I10: Ul6T | J10: U]HZFTL | K10: 5IF"JZ6 | L10: Ul6T | M10: U]HZFTL | N10: V\U|[HL | O10: Ul6T | P10: lCgNL | Q10: V\U|[HL | R10: Ul6T | S10: lCgNL | U10: lR+ | V10: NV
B11: J.G. | C11: M.K. | D11: N.V. | E11: J.G. | F11: M.K. | G11: N.V. | H11: J.G. | I11: M.K. | J11: N.V. | K11: J.G. | L11: M.K. | M11: N.V. | N11: M.K. | O11: M.K. | P11: N.V. | Q11: M.K. | R11: M.K. | S11: N.V. | U11: SFIF"G]EJ | V11: JG
A12: 5 | B12: Ul6T | C12: lCgNL | D12: 5IF"JZ6 | E12: Ul6T | F12: U]HZFTL | G12: 5IF"JZ6 | H12: Ul6T | I12: U]HZFTL | J12: 5IF"JZ6 | K12: Ul6T | L12: U]HZFTL | M12: V\U|[HL | N12: Ul6T | O12: U]HZFTL | P12: V\U|[HL | Q12: lR+ | R12: U]HZFTL | S12: V\U|[HL
B13: M.K. | C13: N.V. | D13: J.G. | E13: M.K. | F13: N.V. | G13: J.G. | H13: M.K. | I13: N.V. | J13: J.G. | K13: M.K. | L13: N.V. | M13: M.K. | N13: M.K. | O13: N.V. | P13: M.K. | Q13: M.K. | R13: N.V. | S13: M.K.
A14: 6 | B14: Ul6T | C14: lCgNL | D14: 5IF"JZ6 | E14: Ul6T | F14: U]HZFTL | G14: 5IF"JZ6 | H14: Ul6T | I14: U]HZFTL | J14: 5IF"JZ6 | K14: Ul6T | L14: U]HZFTL | M14: V\U|[HL | N14: Ul6T | O14: U]HZFTL | P14: V\U|[HL
B15: M.K. | C15: N.V. | D15: J.G. | E15: M.K. | F15: N.V. | G15: J.G. | H15: M.K. | I15: N.V. | J15: J.G. | K15: M.K. | L15: N.V. | M15: M.K. | N15: M.K. | O15: N.V. | P15: M.K.
A16: 7 | B16: 5IF"JZ6 | C16: U]HZFTL | D16: lR+ | E16: U]HZFTL | F16: ;\ULT | G16: ;\ULT | H16: ;\ULT | I16: SFIF"G]EJ | J16: SFIF"G]EJ | K16: SFIF"G]EJ | L16: lR+ | M16: 5IF"JZ6 | N16: Ul6T | O16: 5IF"JZ6 | P16: U]HZFTL
B17: J.G. | C17: N.V. | D17: N.V. | E17: N.V. | F17: J.G. | G17: J.G. | H17: J.G. | I17: J.G. | J17: J.G. | K17: J.G. | L17: N.V. | M17: J.G. | N17: M.K. | O17: J.G. | P17: N.V.
A18: 8 | B18: 5IF"JZ6 | C18: U]HZFTL | D18: lR+ | E18: U]HZFTL | F18: ;\ULT | G18: ;\ULT | H18: ;\ULT | I18: SFIF"G]EJ | J18: SFIF"G]EJ | K18: SFIF"G]EJ | L18: lR+ | M18: 5IF"JZ6 | N18: Ul6T | O18: 5IF"JZ6 | P18: U]HZFTL
B19: J.G. | C19: N.V. | D19: N.V. | E19: N.V. | F19: J.G. | G19: J.G. | H19: J.G. | I19: J.G. | J19: J.G. | K19: J.G. | L19: N.V. | M19: J.G. | N19: M.K. | O19: J.G. | P19: N.V.
D22: ધો-3 | E22: ધો-4 | F22: ધો-5 | G22: કૂલ | I22: ગુજરાતી | J22: ગણિત | K22: પર્યાવરણ | L22: અંગ્રેજી | M22: હિન્દી | N22: શા.શિ. | O22: કમ્પ્યૂ. | P22: કાર્યા. | Q22: ચિત્ર | R22: સંગીત | S22: કૂલ
C23: T1 | D23: 16 | E23: 14 | F23: 15 | G23: 45 | I23: 13 | J23: 13 | K23: 11 | L23: 0 | M23: 0 | N23: 2 | O23: 0 | P23: 2 | Q23: 2 | R23: 2 | S23: 45
C24: T2 | D24: 17 | E24: 16 | F24: 12 | G24: 45 | I24: 12 | J24: 12 | K24: 10 | L24: 3 | M24: 0 | N24: 2 | O24: 0 | P24: 2 | Q24: 2 | R24: 2 | S24: 45
C25: T3 | D25: 12 | E25: 15 | F25: 18 | G25: 45 | I25: 10 | J25: 10 | K25: 8 | L25: 5 | M25: 4 | N25: 2 | O25: 0 | P25: 2 | Q25: 2 | R25: 2 | S25: 45
C26: કૂલ | D26: 45 | E26: 45 | F26: 45 | G26: 135 | I26: 35 | J26: 35 | K26: 29 | L26: 8 | M26: 4 | N26: 6 | O26: 0 | P26: 6 | Q26: 6 | R26: 6 | S26: 135

Sheet FINAL-1 (2)
A1: ;DI5+S sWMZ6v#4$45f
A2: XF/F o | C2: zL E]ZU- VG]5D 5|FP XF/F4 TFP,FB6L4 lHP AGF;SF\9F | R2: JQF" o | S2: 2018-19
A3: તાસ | B3: સમય | C3: સોમવાર | F3: મંગળવાર | I3: બુધવાર | L3: ગુરુવાર | O3: શુક્રવાર | R3: શનિવાર | U3: સમય
C4: ધો - 3 | D4: ધો - 4 | E4: ધો - 5 | F4: ધો - 3 | G4: ધો - 4 | H4: ધો - 5 | I4: ધો - 3 | J4: ધો - 4 | K4: ધો - 5 | L4: ધો - 3 | M4: ધો - 4 | N4: ધો - 5 | O4: ધો - 3 | P4: ધો - 4 | Q4: ધો - 5 | R4: ધો - 3 | S4: ધો - 4 | T4: ધો - 5
B5: 10:30-11:00 | C5: સમૂહજીવન,શાળાસફાઈ અને શૈક્ષણિક કાર્ય માટેની પૂર્વતૈયારી | U5: 7:00-7:20
B6: 11:00-11:20 | C6: પ્રાર્થના સંમેલન | U6: 7:20-7:35
A7: 1 | B7: 11:20-11:55 | C7: N.V. | D7: J.G. | E7: M.K. | F7: N.V. | G7: J.G. | H7: M.K. | I7: N.V. | J7: J.G. | K7: M.K. | L7: N.V. | M7: J.G. | N7: M.K. | O7: N.V. | P7: J.G. | Q7: M.K. | R7: N.V. | S7: J.G. | T7: M.K. | U7: 7:35-8:10
C8: ગુજરાતી | D8: પર્યાવરણ | E8: ગણિત | F8: ગુજરાતી | G8: પર્યાવરણ | H8: ગણિત | I8: ગુજરાતી | J8: પર્યાવરણ | K8: ગણિત | L8: ગુજરાતી | M8: પર્યાવરણ | N8: ગણિત | O8: ગુજરાતી | P8: પર્યાવરણ | Q8: ગણિત | R8: શા.શિ. | S8: શા.શિ. | T8: શા.શિ.
A9: 2 | B9: 11:55-12:30 | C9: N.V. | D9: J.G. | E9: M.K. | F9: N.V. | G9: J.G. | H9: M.K. | I9: N.V. | J9: J.G. | K9: M.K. | L9: N.V. | M9: J.G. | N9: M.K. | O9: N.V. | P9: J.G. | Q9: M.K. | R9: N.V. | S9: J.G. | T9: M.K. | U9: 8:10-8:45
C10: ગુજરાતી | D10: પર્યાવરણ | E10: ગણિત | F10: ગુજરાતી | G10: પર્યાવરણ | H10: ગણિત | I10: ગુજરાતી | J10: પર્યાવરણ | K10: ગણિત | L10: ગુજરાતી | M10: પર્યાવરણ | N10: ગણિત | O10: ગુજરાતી | P10: પર્યાવરણ | Q10: ગણિત | R10: શા.શિ. | S10: શા.શિ. | T10: શા.શિ.
B11: 12:30-12:40 | C11: વિરામ | R11: N.V. | S11: J.G. | T11: M.K. | U11: 8:45-9:20
R12: ગુજરાતી | S12: પર્યાવરણ | T12: ગણિત
A13: 3 | B13: 12:40-1:15 | C13: M.K. | D13: N.V. | E13: J.G. | F13: M.K. | G13: N.V. | H13: J.G. | I13: M.K. | J13: N.V. | K13: J.G. | L13: M.K. | M13: N.V. | N13: J.G. | O13: M.K. | P13: N.V. | Q13: J.G. | R13: વિરામ | U13: 09:20-10:00
C14: ગણિત | D14: ગુજરાતી | E14: પર્યાવરણ | F14: ગણિત | G14: ગુજરાતી | H14: પર્યાવરણ | I14: ગણિત | J14: હિન્દી | K14: પર્યાવરણ | L14: ગણિત | M14: ગુજરાતી | N14: પર્યાવરણ | O14: ગણિત | P14: ગુજરાતી | Q14: સંગીત
A15: 4 | B15: 1:15 -1:50 | C15: M.K. | D15: N.V. | E15: J.G. | F15: M.K. | G15: N.V. | H15: J.G. | I15: M.K. | J15: N.V. | K15: J.G. | L15: M.K. | M15: N.V. | N15: J.G. | O15: M.K. | P15: N.V. | Q15: J.G. | R15: J.G. | S15: M.K. | T15: N.V. | U15: 10:00-10:35
C16: ગણિત | D16: ગુજરાતી | E16: પર્યાવરણ | F16: ગણિત | G16: ગુજરાતી | H16: પર્યાવરણ | I16: ગણિત | J16: હિન્દી | K16: પર્યાવરણ | L16: ગણિત | M16: ગુજરાતી | N16: પર્યાવરણ | O16: ગણિત | P16: ગુજરાતી | Q16: સંગીત | R16: પર્યાવરણ | S16: ગણિત | T16: હિન્દી
B17: 1:50-2:30 | C17: મધ્યાહન ભોજન - વિરામ | R17: J.G. | S17: M.K. | T17: N.V. | U17: 10:35-11:20
A18: 5 | B18: 2:30-3:05 | C18: J.G. | D18: M.K. | E18: N.V. | F18: J.G. | G18: M.K. | H18: N.V. | I18: J.G. | J18: M.K. | K18: N.V. | L18: J.G. | M18: M.K. | N18: N.V. | O18: J.G. | P18: N.V. | Q18: M.K. | R18: પર્યાવરણ | S18: ગણિત | T18: હિન્દી
C19: પર્યાવરણ | D19: ગણિત | E19: ગુજરાતી | F19: પર્યાવરણ | G19: ગણિત | H19: ગુજરાતી | I19: પર્યાવરણ | J19: ગણિત | K19: ગુજરાતી | L19: પર્યાવરણ | M19: ગણિત | N19: ગુજરાતી | O19: પર્યાવરણ | P19: હિન્દી | Q19: અંગ્રેજી | R19: વિષય ફાળવણી
A20: 6 | B20: 3:05-3:40 | C20: J.G. | D20: M.K. | E20: N.V. | F20: J.G. | G20: M.K. | H20: N.V. | I20: J.G. | J20: M.K. | K20: N.V. | L20: J.G. | M20: M.K. | N20: N.V. | O20: J.G. | P20: N.V. | Q20: M.K. | R20: N.V. | T20: ગુજરાતી,હિન્દી,ચિત્ર
C21: પર્યાવરણ | D21: ગણિત | E21: ગુજરાતી | F21: પર્યાવરણ | G21: ગણિત | H21: ગુજરાતી | I21: પર્યાવરણ | J21: ગણિત | K21: ગુજરાતી | L21: પર્યાવરણ | M21: ગણિત | N21: ગુજરાતી | O21: પર્યાવરણ | P21: હિન્દી | Q21: અંગ્રેજી | R21: M.K. | T21: ગણિત,અંગ્રેજી
B22: 3:40-3:50 | C22: વિરામ | R22: J.G. | T22: પર્યાવરણ, સંગીત, કાર્યા.
A23: 7 | B23: 3:50-4:25 | C23: N.V. | D23: J.G. | E23: M.K. | F23: J.G. | G23: M.K. | H23: N.V. | I23: J.G. | J23: N.V. | K23: M.K. | L23: M.K. | M23: J.G. | N23: N.V. | O23: J.G. | P23: M.K. | Q23: N.V. | R23: વર્ગ શિક્ષકનું નામ
C24: ચિત્ર | D24: સંગીત | E24: અંગ્રેજી | F24: સંગીત | G24: અંગ્રેજી | H24: હિન્દી | I24: કાર્યા. | J24: ચિત્ર | K24: અંગ્રેજી | L24: અંગ્રેજી | M24: કાર્યા. | N24: હિન્દી | O24: કાર્યા. | P24: અંગ્રેજી | Q24: ચિત્ર | R24: STD | S24: 3 | T24: પટેલ નરેશભાઈ (N.V.)
A25: 8 | B25: 4:25-5:00 | C25: N.V. | D25: J.G. | E25: M.K. | F25: J.G. | G25: M.K. | H25: N.V. | I25: J.G. | J25: N.V. | K25: M.K. | L25: M.K. | M25: J.G. | N25: N.V. | O25: J.G. | P25: M.K. | Q25: N.V. | R25: STD | S25: 4 | T25: ટંડેલ જગદીશભાઈ (J.G.)
C26: ચિત્ર | D26: સંગીત | E26: અંગ્રેજી | F26: સંગીત | G26: અંગ્રેજી | H26: હિન્દી | I26: કાર્યા. | J26: ચિત્ર | K26: અંગ્રેજી | L26: અંગ્રેજી | M26: કાર્યા. | N26: હિન્દી | O26: કાર્યા. | P26: અંગ્રેજી | Q26: ચિત્ર | R26: STD | S26: 5 | T26: પ્રજાપતિ માધાભાઈ (M.K.)
D27: ધો-3 | E27: ધો-4 | F27: ધો-5 | G27: કૂલ | K27: ગુજરાતી | L27: ગણિત | M27: પર્યાવરણ | N27: અંગ્રેજી | O27: હિન્દી | P27: શા.શિ. | Q27: કમ્પ્યૂ. | R27: કાર્યા. | S27: ચિત્ર | T27: સંગીત | U27: કૂલ
C28: N.V. | D28: 15 | E28: 14 | F28: 16 | G28: =SUM(D28:F28) -> 45 | J28: ધો-3 | K28: ='FINAL-2'!N22 -> 11 | L28: ='FINAL-2'!O22 -> 11 | M28: ='FINAL-2'!P22 -> 11 | N28: ='FINAL-2'!Q22 -> 2 | O28: ='FINAL-2'!R22 -> 0 | P28: ='FINAL-2'!S22 -> 2 | Q28: 0 | R28: ='FINAL-2'!T22 -> 4 | S28: ='FINAL-2'!U22 -> 2 | T28: ='FINAL-2'!V22 -> 2 | U28: 45
C29: M.K. | D29: 12 | E29: 14 | F29: 19 | G29: =SUM(D29:F29) -> 45 | J29: ધો-4 | K29: ='FINAL-2'!N23 -> 9 | L29: ='FINAL-2'!O23 -> 9 | M29: ='FINAL-2'!P23 -> 11 | N29: ='FINAL-2'!Q23 -> 4 | O29: ='FINAL-2'!R23 -> 4 | P29: ='FINAL-2'!S23 -> 2 | Q29: 0 | R29: ='FINAL-2'!T23 -> 2 | S29: ='FINAL-2'!U23 -> 2 | T29: ='FINAL-2'!V23 -> 2 | U29: 45
C30: J.G. | D30: 18 | E30: 17 | F30: 10 | G30: =SUM(D30:F30) -> 45 | J30: ધો-5 | K30: ='FINAL-2'!N24 -> 8 | L30: ='FINAL-2'!O24 -> 11 | M30: ='FINAL-2'!P24 -> 9 | N30: ='FINAL-2'!Q24 -> 6 | O30: ='FINAL-2'!R24 -> 5 | P30: ='FINAL-2'!S24 -> 2 | Q30: 0 | R30: ='FINAL-2'!T24 -> 0 | S30: ='FINAL-2'!U24 -> 2 | T30: ='FINAL-2'!V24 -> 2 | U30: 45
C31: કૂલ | D31: 45 | E31: 45 | F31: 45 | G31: 135 | K31: =SUM(K28:K30) -> 28 | L31: =SUM(L28:L30) -> 31 | M31: =SUM(M28:M30) -> 31 | N31: =SUM(N28:N30) -> 12 | O31: =SUM(O28:O30) -> 9 | P31: =SUM(P28:P30) -> 6 | Q31: =SUM(Q28:Q30) -> 0 | R31: =SUM(R28:R30) -> 6 | ... U31: =SUM(U28:U30) -> 135
C36: વિષયો
C37: ગુજરાતી
C38: ગણિત
C39: પર્યાવરણ
C40: હિન્દી
C41: અંગ્રેજી
C42: શા.શિ.
C43: કમ્પ્યૂ.
C44: કાર્યા.
C45: ચિત્ર
C46: સંગીત
