Workbook

Sheet STD-2
A1: _________ પ્રાથમિક શાળા | N1: =$A$1 -> _________ પ્રાથમિક શાળા | AA1: =$A$1 -> _________ પ્રાથમિક શાળા
A2: તા - __________, જી - __________ | N2: =$A$2 -> તા - __________, જી - __________ | AA2: =$A$2 -> તા - __________, જી - __________
A3: વાચન, લેખન અને ગણન ઉપચારાત્મક પત્રક | N3: વાચન, લેખન અને ગણન ઉપચારાત્મક પત્રક | AA3: વાચન, લેખન અને ગણન ઉપચારાત્મક પત્રક
A4: ધોરણ - 2 | C4: વાંચન મુલ્યાંકન | J4: વર્ષ - 2024-'25 | N4: ધોરણ - 2 | P4: લેખન મુલ્યાંકન | W4: વર્ષ - 2024-'25 | AA4: ધોરણ - 2 | AC4: ગણન મુલ્યાંકન | AJ4: વર્ષ - 2024-'25
A5: ક્રમ | B5: વિદ્યાર્થીનું નામ | C5: વાંચન મૂલ્યાંકનના હેતુઓ - ધોરણ - 1 | M5: કુલ મેળવેલ ગુણ | N5: ક્રમ | O5: વિદ્યાર્થીનું નામ | P5: લેખન મૂલ્યાંકનના હેતુઓ - ધોરણ - 1 | Z5: કુલ મેળવેલ ગુણ | AA5: ક્રમ | AB5: વિદ્યાર્થીનું નામ | AC5: ગણન મૂલ્યાંકનના હેતુઓ - ધોરણ - 1 | AM5: કુલ મેળવેલ ગુણ
C6: મૂળાક્ષરો ઓળખે છે. | D6: સાદા શબ્દોનું વાચન કરે છે. | E6: કાનાવાળા શબ્દોનું વાચન કરે છે. | F6: (એ) એકમાત્રા વાળા શબ્દોનું વાચન કરે છે. | G6: (ઇ,ઈ) હસ્વ,દીર્ઘ ઇ વાળા શબ્દોનું વાચન કરે છે. | H6: (ઉ,ઊ) હસ્વ,દીર્ઘ ઉ વાળા શબ્દોનું વાચન કરે છે. | I6: (ં) અનુંસ્વાર વાળા શબ્દોનું વાચન કરે છે. | J6: (ઐ) બે માત્રાવાળા શબ્દોનું વાચન કરી શકે છે. | K6: (ઔ) વાળા શબ્દોનું વાચન કરી શકે છે. | L6: સાદા અને સરળ વાક્યોનું વાચન કરે છે. | P6: મૂળાક્ષરો ઓળખી લખે છે. | Q6: સાદા શબ્દોનું લેખન કરે છે. | R6: કાનાવાળા શબ્દોનું લેખન કરે છે. | S6: (એ) એકમાત્રા વાળા શબ્દોનું લેખન કરે છે. | T6: (ઇ,ઈ) હસ્વ,દીર્ઘ ઇ વાળા શબ્દોનું લેખન કરે છે. | U6: (ઉ,ઊ) હસ્વ,દીર્ઘ ઉ વાળા શબ્દોનું લેખન કરે છે. | V6: (ં) અનુંસ્વાર વાળા શબ્દોનું લેખન કરે છે. | W6: (ઐ) બે માત્રાવાળા શબ્દોનું લેખન કરી શકે છે. | X6: (ઔ) વાળા શબ્દોનું લેખન કરી શકે છે. | Y6: સાદા અને સરળ વાક્યોનું લેખન કરે છે. | AC6: વસ્તુઓ અને ચિત્રોની મદદથી 1 થી 50 ગણે છે. | AD6: 1 થી 50 સુધીની સંખ્યા ઓળખે અને તેમને સંખ્યાઓ સાથે સરખાવે છે. | AE6: 1 થી 20 સુધીની સંખ્યાઓને એકમ અને દશકમાં વિસ્તાર કરી શકે છે. | AF6: 1 થી 20 સુધીની સંખ્યાઓની સ્થાન કિંમત દર્શાવે છે. | AG6: 1 થી 50 સુધીની સંખ્યાઓને અંકમાં લખે છે. | AH6: એક અંકવાળી બે સંખ્યાઓનો સરવાળો કરે છે. | AI6: સરવાળો 9 થી વધુ ન હોય તેવી સંખ્યાઓનો મૌખિક સરવાળો કરે છે. | AJ6: એક અંકવાળી સંખ્યાઓની બાદબાકી કરી શકે છે. | AK6: 20 સુધીની બે અંકની સંખ્યામાંથી એક અંકની સંખ્યા બાદ કરી શકે છે. | AL6: વ્યવહારૂ કોયડ સમજી સરવાળા બાદબાકી કરી શકે છે.
C7: 1 | D7: 1 | E7: 1 | F7: 1 | G7: 1 | H7: 1 | I7: 1 | J7: 1 | K7: 1 | L7: 1 | M7: 10 | P7: 1 | Q7: 1 | R7: 1 | S7: 1 | T7: 1 | U7: 1 | V7: 1 | W7: 1 | X7: 1 | Y7: 1 | Z7: 10 | AC7: 1 | AD7: 1 | AE7: 1 | AF7: 1 | AG7: 1 | AH7: 1 | AI7: 1 | AJ7: 1 | AK7: 1 | AL7: 1 | AM7: 10
A8: 1 | N8: =IF($A8="","",$A8) -> 1 | O8: =IF($B8="","",$B8) | AA8: =IF($A8="","",$A8) -> 1 | AB8: =IF($B8="","",$B8)
A9: 2 | N9: =IF($A9="","",$A9) -> 2 | O9: =IF($B9="","",$B9) | AA9: =IF($A9="","",$A9) -> 2 | AB9: =IF($B9="","",$B9)
A10: 3 | N10: =IF($A10="","",$A10) -> 3 | O10: =IF($B10="","",$B10) | AA10: =IF($A10="","",$A10) -> 3 | AB10: =IF($B10="","",$B10)
A11: 4 | N11: =IF($A11="","",$A11) -> 4 | O11: =IF($B11="","",$B11) | AA11: =IF($A11="","",$A11) -> 4 | AB11: =IF($B11="","",$B11)
A12: 5 | N12: =IF($A12="","",$A12) -> 5 | O12: =IF($B12="","",$B12) | AA12: =IF($A12="","",$A12) -> 5 | AB12: =IF($B12="","",$B12)
A13: 6 | N13: =IF($A13="","",$A13) -> 6 | O13: =IF($B13="","",$B13) | AA13: =IF($A13="","",$A13) -> 6 | AB13: =IF($B13="","",$B13)
A14: 7 | N14: =IF($A14="","",$A14) -> 7 | O14: =IF($B14="","",$B14) | AA14: =IF($A14="","",$A14) -> 7 | AB14: =IF($B14="","",$B14)
A15: 8 | N15: =IF($A15="","",$A15) -> 8 | O15: =IF($B15="","",$B15) | AA15: =IF($A15="","",$A15) -> 8 | AB15: =IF($B15="","",$B15)
A16: 9 | N16: =IF($A16="","",$A16) -> 9 | O16: =IF($B16="","",$B16) | AA16: =IF($A16="","",$A16) -> 9 | AB16: =IF($B16="","",$B16)
A17: 10 | N17: =IF($A17="","",$A17) -> 10 | O17: =IF($B17="","",$B17) | AA17: =IF($A17="","",$A17) -> 10 | AB17: =IF($B17="","",$B17)
A18: 11 | N18: =IF($A18="","",$A18) -> 11 | O18: =IF($B18="","",$B18) | AA18: =IF($A18="","",$A18) -> 11 | AB18: =IF($B18="","",$B18)
A19: 12 | N19: =IF($A19="","",$A19) -> 12 | O19: =IF($B19="","",$B19) | AA19: =IF($A19="","",$A19) -> 12 | AB19: =IF($B19="","",$B19)
... A57: 50 | N57: =IF($A57="","",$A57) -> 50 | O57: =IF($B57="","",$B57) | AA57: =IF($A57="","",$A57) -> 50 | AB57: =IF($B57="","",$B57)
A58: તમામ વિદ્યાર્થીઓએ મેળવેલ કુલ ગુણનો સરવાળો :- | N58: તમામ વિદ્યાર્થીઓએ મેળવેલ કુલ ગુણનો સરવાળો :- | AA58: તમામ વિદ્યાર્થીઓએ મેળવેલ કુલ ગુણનો સરવાળો :-
A59: વર્ગના વિદ્યાર્થીઓએ મેળવેલ સરાસરી ગુણ :- | F59: (તમામ વિ.ઓએ મેળવેલ કુલ ગુણ / રજીસ્ટર સંખ્યા) | N59: વર્ગના વિદ્યાર્થીઓએ મેળવેલ સરાસરી ગુણ :- | S59: (તમામ વિ.ઓએ મેળવેલ કુલ ગુણ / રજીસ્ટર સંખ્યા) | AA59: વર્ગના વિદ્યાર્થીઓએ મેળવેલ સરાસરી ગુણ :- | AF59: (તમામ વિ.ઓએ મેળવેલ કુલ ગુણ / રજીસ્ટર સંખ્યા)
A60: વર્ગનો સરાસરી ગ્રેડ :- | F60: 9થી10 = A ગ્રેડ, 7થી8 = B ગ્રેડ, 5થી6 = C ગ્રેડ, 4 = D ગ્રેડ, 0થી3 = E ગ્રેડ | N60: વર્ગનો સરાસરી ગ્રેડ :- | S60: 9થી10 = A ગ્રેડ, 7થી8 = B ગ્રેડ, 5થી6 = C ગ્રેડ, 4 = D ગ્રેડ, 0થી3 = E ગ્રેડ | AA60: વર્ગનો સરાસરી ગ્રેડ :- | AF60: 9થી10 = A ગ્રેડ, 7થી8 = B ગ્રેડ, 5થી6 = C ગ્રેડ, 4 = D ગ્રેડ, 0થી3 = E ગ્રેડ
A62: કુલ મેળવેલ ગુણના આધારે વર્ગીકરણ | N62: કુલ મેળવેલ ગુણના આધારે વર્ગીકરણ | AA62: કુલ મેળવેલ ગુણના આધારે વર્ગીકરણ
A63: વર્ગીકરણ | D63: સંખ્યા | F63: ટકા | H63: ટકા = ગુણ મેળવેલ સંખ્યા / રજીસ્ટર વિદ્યાર્થીની સંખ્યા | N63: વર્ગીકરણ | Q63: સંખ્યા | S63: ટકા | U63: ટકા = ગુણ મેળવેલ સંખ્યા / રજીસ્ટર વિદ્યાર્થીની સંખ્યા | AA63: વર્ગીકરણ | AD63: સંખ્યા | AF63: ટકા | AH63: ટકા = ગુણ મેળવેલ સંખ્યા / રજીસ્ટર વિદ્યાર્થીની સંખ્યા
A64: "0 થી 1 ગુણ" મેળવેલ વિધાર્થીની સંખ્યા :- | H64: ખુબ મહેનત જરૂરી હોય તેવા વિ.ઓ. | N64: "0 થી 1 ગુણ" મેળવેલ વિધાર્થીની સંખ્યા :- | U64: ખુબ મહેનત જરૂરી હોય તેવા વિ.ઓ. | AA64: "0 થી 1 ગુણ" મેળવેલ વિધાર્થીની સંખ્યા :- | AH64: ખુબ મહેનત જરૂરી હોય તેવા વિ.ઓ.
A65: "2 થી 4 ગુણ" મેળવેલ વિદ્યાર્થીની સંખ્યા :- | H65: મહેનત જરૂરી હોય તેવા વિ.ઓ. | N65: "2 થી 4 ગુણ" મેળવેલ વિદ્યાર્થીની સંખ્યા :- | U65: મહેનત જરૂરી હોય તેવા વિ.ઓ. | AA65: "2 થી 4 ગુણ" મેળવેલ વિદ્યાર્થીની સંખ્યા :- | AH65: મહેનત જરૂરી હોય તેવા વિ.ઓ.
A66: "5 થી 8 ગુણ" મેળવેલ વિદ્યાર્થીની સંખ્યા :- | H66: મધ્યમ હોય તેવા વિ.ઓ. | N66: "5 થી 8 ગુણ" મેળવેલ વિદ્યાર્થીની સંખ્યા :- | U66: મધ્યમ હોય તેવા વિ.ઓ. | AA66: "5 થી 8 ગુણ" મેળવેલ વિદ્યાર્થીની સંખ્યા :- | AH66: મધ્યમ હોય તેવા વિ.ઓ.
A67: "9 થી 10 ગુણ" મેળવેલ વિદ્યાર્થીની સંખ્યા :- | H67: ઉત્તમ | N67: "9 થી 10 ગુણ" મેળવેલ વિદ્યાર્થીની સંખ્યા :- | U67: ઉત્તમ | AA67: "9 થી 10 ગુણ" મેળવેલ વિદ્યાર્થીની સંખ્યા :- | AH67: ઉત્તમ
A69: ....................................... | I69: ....................................... | N69: ....................................... | V69: ....................................... | AA69: ....................................... | AI69: .......................................
A70: વર્ગશિક્ષકની સહી | I70: આચાર્યની સહી | N70: વર્ગશિક્ષકની સહી | V70: આચાર્યની સહી | AA70: વર્ગશિક્ષકની સહી | AI70: આચાર્યની સહી

Sheet STD-3
A1: ='STD-2'!$A$1 -> _________ પ્રાથમિક શાળા | N1: ='STD-2'!$A$1 -> _________ પ્રાથમિક શાળા | AA1: ='STD-2'!$A$1 -> _________ પ્રાથમિક શાળા
A2: ='STD-2'!$A$2 -> તા - __________, જી - __________ | N2: ='STD-2'!$A$2 -> તા - __________, જી - __________ | AA2: ='STD-2'!$A$2 -> તા - __________, જી - __________
A3: વાચન, લેખન અને ગણન ઉપચારાત્મક પત્રક | N3: વાચન, લેખન અને ગણન ઉપચારાત્મક પત્રક | AA3: વાચન, લેખન અને ગણન ઉપચારાત્મક પત્રક
A4: ધોરણ - 3 | C4: વાંચન મુલ્યાંકન | J4: વર્ષ - 2024-'25 | N4: ધોરણ - 3 | P4: લેખન મુલ્યાંકન | W4: વર્ષ - 2024-'25 | AA4: ધોરણ - 3 | AC4: ગણન મુલ્યાંકન | AJ4: વર્ષ - 2024-'25
A5: ક્રમ | B5: વિદ્યાર્થીનું નામ | C5: વાંચન મૂલ્યાંકનના હેતુઓ - ધોરણ - 1 થી 2 | M5: કુલ મેળવેલ ગુણ | N5: ક્રમ | O5: વિદ્યાર્થીનું નામ | P5: લેખન મૂલ્યાંકનના હેતુઓ - ધોરણ - 1 થી 2 | Z5: કુલ મેળવેલ ગુણ | AA5: ક્રમ | AB5: વિદ્યાર્થીનું નામ | AC5: ગણન મૂલ્યાંકનના હેતુઓ - ધોરણ - 1 થી 2 | AM5: કુલ મેળવેલ ગુણ
C6: મૂળાક્ષરો ઓળખે છે. | D6: સાદા શબ્દોનું વાચન કરે છે. | E6: કાનાવાળા શબ્દોનું વાચન કરે છે. | F6: (એ) એકમાત્રાવાળા શબ્દોનું વાચન કરે છે. | G6: (ઇ,ઈ) હસ્વ,દીર્ઘ ઇ વાળા શબ્દોનું વાચન કરે છે. | H6: (ઉ,ઊ) હસ્વ,દીર્ઘ ઉ વાળા શબ્દોનું વાચન કરે છે. | I6: (ં) અનુંસ્વારવાળા શબ્દોનું વાચન કરે છે. | J6: (ઐ,ઔ) વાળા શબ્દોનું વાચન કરી શકે છે. | K6: જોડાક્ષરવાળા શબ્દોનું વાચન કરે છે. | L6: સાદા અને સરળ વાક્યોનું વાચન કરે છે. | P6: મૂળાક્ષરો ઓળખી લખે છે. | Q6: સાદા શબ્દોનું લેખન કરે છે. | R6: કાનાવાળા શબ્દોનું લેખન કરે છે. | S6: (એ) એકમાત્રા વાળા શબ્દોનું લેખન કરે છે. | T6: (ઇ,ઈ) હસ્વ,દીર્ઘ ઇ વાળા શબ્દોનું લેખન કરે છે. | U6: (ઉ,ઊ) હસ્વ,દીર્ઘ ઉ વાળા શબ્દોનું લેખન કરે છે. | V6: (ં) અનુંસ્વાર વાળા શબ્દોનું લેખન કરે છે. | W6: (ઐ,ઔ) વાળા શબ્દોનું લેખન કરી શકે છે. | X6: જોડાક્ષરવાળા શબ્દોનું લેખન કરે છે. | Y6: સાદા અને સરળ વાક્યોનું લેખન કરે છે. | AC6: સંખ્યા વાચન અને લેખન 1 થી 100 સુધી કરી શકે છે. | AD6: સ્થાનકિંમત દશક સુધી અને સંખ્યાનો સ્થાન પ્રમાણે વિસ્તાર કરી શકે છે. | AE6: સંખ્યાનો ક્રમ (ની આગળ,ની પાછળ, ની વચ્ચે) લખી શકે છે. | AF6: નાની-મોટી સંખ્યા ઓળખી શકે છે. (ત્રણ અંક સુધીની) | AG6: સંખ્યાને ચડતા-ઉતરતા ક્રમમાં મૂકી શકે છે. (ત્રણ અંક સુધી) | AH6: 99 થી વધે નહી તેવી સંખ્યાઓના વદ્દી વગરના સરવાળા કરી શકે છે. | AI6: 99 થી વધે નહી તેવી સંખ્યાઓના વદ્દી સાથેના સરવાળા કરી શકે છે. | AJ6: બે અંકોવાળી દશકા વગરની બાદબાકી કરી શકે છે. | AK6: બે અંકોવાળી દશકાવાળી બાદબાકી કરી શકે છે. | AL6: વ્યવહારૂ કોયડા સમજી સરવાળા-બાદબાકી કરી શકે છે.
C7: 1 | D7: 1 | E7: 1 | F7: 1 | G7: 1 | H7: 1 | I7: 1 | J7: 1 | K7: 1 | L7: 1 | M7: 10 | P7: 1 | Q7: 1 | R7: 1 | S7: 1 | T7: 1 | U7: 1 | V7: 1 | W7: 1 | X7: 1 | Y7: 1 | Z7: 10 | AC7: 1 | AD7: 1 | AE7: 1 | AF7: 1 | AG7: 1 | AH7: 1 | AI7: 1 | AJ7: 1 | AK7: 1 | AL7: 1 | AM7: 10
A8: 1 | N8: =IF($A8="","",$A8) -> 1 | O8: =IF($B8="","",$B8) | AA8: =IF($A8="","",$A8) -> 1 | AB8: =IF($B8="","",$B8)
A9: 2 | N9: =IF($A9="","",$A9) -> 2 | O9: =IF($B9="","",$B9) | AA9: =IF($A9="","",$A9) -> 2 | AB9: =IF($B9="","",$B9)
A10: 3 | N10: =IF($A10="","",$A10) -> 3 | O10: =IF($B10="","",$B10) | AA10: =IF($A10="","",$A10) -> 3 | AB10: =IF($B10="","",$B10)
A11: 4 | N11: =IF($A11="","",$A11) -> 4 | O11: =IF($B11="","",$B11) | AA11: =IF($A11="","",$A11) -> 4 | AB11: =IF($B11="","",$B11)
A12: 5 | N12: =IF($A12="","",$A12) -> 5 | O12: =IF($B12="","",$B12) | AA12: =IF($A12="","",$A12) -> 5 | AB12: =IF($B12="","",$B12)
A13: 6 | N13: =IF($A13="","",$A13) -> 6 | O13: =IF($B13="","",$B13) | AA13: =IF($A13="","",$A13) -> 6 | AB13: =IF($B13="","",$B13)
A14: 7 | N14: =IF($A14="","",$A14) -> 7 | O14: =IF($B14="","",$B14) | AA14: =IF($A14="","",$A14) -> 7 | AB14: =IF($B14="","",$B14)
A15: 8 | N15: =IF($A15="","",$A15) -> 8 | O15: =IF($B15="","",$B15) | AA15: =IF($A15="","",$A15) -> 8 | AB15: =IF($B15="","",$B15)
A16: 9 | N16: =IF($A16="","",$A16) -> 9 | O16: =IF($B16="","",$B16) | AA16: =IF($A16="","",$A16) -> 9 | AB16: =IF($B16="","",$B16)
A17: 10 | N17: =IF($A17="","",$A17) -> 10 | O17: =IF($B17="","",$B17) | AA17: =IF($A17="","",$A17) -> 10 | AB17: =IF($B17="","",$B17)
A18: 11 | N18: =IF($A18="","",$A18) -> 11 | O18: =IF($B18="","",$B18) | AA18: =IF($A18="","",$A18) -> 11 | AB18: =IF($B18="","",$B18)
A19: 12 | N19: =IF($A19="","",$A19) -> 12 | O19: =IF($B19="","",$B19) | AA19: =IF($A19="","",$A19) -> 12 | AB19: =IF($B19="","",$B19)
... A57: 50 | N57: =IF($A57="","",$A57) -> 50 | O57: =IF($B57="","",$B57) | AA57: =IF($A57="","",$A57) -> 50 | AB57: =IF($B57="","",$B57)
A58: તમામ વિદ્યાર્થીઓએ મેળવેલ કુલ ગુણનો સરવાળો :- | N58: તમામ વિદ્યાર્થીઓએ મેળવેલ કુલ ગુણનો સરવાળો :- | AA58: તમામ વિદ્યાર્થીઓએ મેળવેલ કુલ ગુણનો સરવાળો :-
A59: વર્ગના વિદ્યાર્થીઓએ મેળવેલ સરાસરી ગુણ :- | F59: (તમામ વિ.ઓએ મેળવેલ કુલ ગુણ / રજીસ્ટર સંખ્યા) | N59: વર્ગના વિદ્યાર્થીઓએ મેળવેલ સરાસરી ગુણ :- | S59: (તમામ વિ.ઓએ મેળવેલ કુલ ગુણ / રજીસ્ટર સંખ્યા) | AA59: વર્ગના વિદ્યાર્થીઓએ મેળવેલ સરાસરી ગુણ :- | AF59: (તમામ વિ.ઓએ મેળવેલ કુલ ગુણ / રજીસ્ટર સંખ્યા)
A60: વર્ગનો સરાસરી ગ્રેડ :- | F60: 9થી10 = A ગ્રેડ, 7થી8 = B ગ્રેડ, 5થી6 = C ગ્રેડ, 4 = D ગ્રેડ, 0થી3 = E ગ્રેડ | N60: વર્ગનો સરાસરી ગ્રેડ :- | S60: 9થી10 = A ગ્રેડ, 7થી8 = B ગ્રેડ, 5થી6 = C ગ્રેડ, 4 = D ગ્રેડ, 0થી3 = E ગ્રેડ | AA60: વર્ગનો સરાસરી ગ્રેડ :- | AF60: 9થી10 = A ગ્રેડ, 7થી8 = B ગ્રેડ, 5થી6 = C ગ્રેડ, 4 = D ગ્રેડ, 0થી3 = E ગ્રેડ
A62: કુલ મેળવેલ ગુણના આધારે વર્ગીકરણ | N62: કુલ મેળવેલ ગુણના આધારે વર્ગીકરણ | AA62: કુલ મેળવેલ ગુણના આધારે વર્ગીકરણ
A63: વર્ગીકરણ | D63: સંખ્યા | F63: ટકા | H63: ટકા = ગુણ મેળવેલ સંખ્યા / રજીસ્ટર વિદ્યાર્થીની સંખ્યા | N63: વર્ગીકરણ | Q63: સંખ્યા | S63: ટકા | U63: ટકા = ગુણ મેળવેલ સંખ્યા / રજીસ્ટર વિદ્યાર્થીની સંખ્યા | AA63: વર્ગીકરણ | AD63: સંખ્યા | AF63: ટકા | AH63: ટકા = ગુણ મેળવેલ સંખ્યા / રજીસ્ટર વિદ્યાર્થીની સંખ્યા
A64: "0 થી 1 ગુણ" મેળવેલ વિધાર્થીની સંખ્યા :- | H64: ખુબ મહેનત જરૂરી હોય તેવા વિ.ઓ. | N64: "0 થી 1 ગુણ" મેળવેલ વિધાર્થીની સંખ્યા :- | U64: ખુબ મહેનત જરૂરી હોય તેવા વિ.ઓ. | AA64: "0 થી 1 ગુણ" મેળવેલ વિધાર્થીની સંખ્યા :- | AH64: ખુબ મહેનત જરૂરી હોય તેવા વિ.ઓ.
A65: "2 થી 4 ગુણ" મેળવેલ વિદ્યાર્થીની સંખ્યા :- | H65: મહેનત જરૂરી હોય તેવા વિ.ઓ. | N65: "2 થી 4 ગુણ" મેળવેલ વિદ્યાર્થીની સંખ્યા :- | U65: મહેનત જરૂરી હોય તેવા વિ.ઓ. | AA65: "2 થી 4 ગુણ" મેળવેલ વિદ્યાર્થીની સંખ્યા :- | AH65: મહેનત જરૂરી હોય તેવા વિ.ઓ.
A66: "5 થી 8 ગુણ" મેળવેલ વિદ્યાર્થીની સંખ્યા :- | H66: મધ્યમ હોય તેવા વિ.ઓ. | N66: "5 થી 8 ગુણ" મેળવેલ વિદ્યાર્થીની સંખ્યા :- | U66: મધ્યમ હોય તેવા વિ.ઓ. | AA66: "5 થી 8 ગુણ" મેળવેલ વિદ્યાર્થીની સંખ્યા :- | AH66: મધ્યમ હોય તેવા વિ.ઓ.
A67: "9 થી 10 ગુણ" મેળવેલ વિદ્યાર્થીની સંખ્યા :- | H67: ઉત્તમ | N67: "9 થી 10 ગુણ" મેળવેલ વિદ્યાર્થીની સંખ્યા :- | U67: ઉત્તમ | AA67: "9 થી 10 ગુણ" મેળવેલ વિદ્યાર્થીની સંખ્યા :- | AH67: ઉત્તમ
A69: ....................................... | I69: ....................................... | N69: ....................................... | V69: ....................................... | AA69: ....................................... | AI69: .......................................
A70: વર્ગશિક્ષકની સહી | I70: આચાર્યની સહી | N70: વર્ગશિક્ષકની સહી | V70: આચાર્યની સહી | AA70: વર્ગશિક્ષકની સહી | AI70: આચાર્યની સહી

Sheet STD-4
A1: ='STD-2'!$A$1 -> _________ પ્રાથમિક શાળા | N1: ='STD-2'!$A$1 -> _________ પ્રાથમિક શાળા | AA1: ='STD-2'!$A$1 -> _________ પ્રાથમિક શાળા
A2: ='STD-2'!$A$2 -> તા - __________, જી - __________ | N2: ='STD-2'!$A$2 -> તા - __________, જી - __________ | AA2: ='STD-2'!$A$2 -> તા - __________, જી - __________
A3: વાચન, લેખન અને ગણન ઉપચારાત્મક પત્રક | N3: વાચન, લેખન અને ગણન ઉપચારાત્મક પત્રક | AA3: વાચન, લેખન અને ગણન ઉપચારાત્મક પત્રક
A4: ધોરણ - 4 | C4: વાંચન મુલ્યાંકન | J4: વર્ષ - 2024-'25 | N4: ધોરણ - 4 | P4: લેખન મુલ્યાંકન | W4: વર્ષ - 2024-'25 | AA4: ધોરણ - 4 | AC4: ગણન મુલ્યાંકન | AJ4: વર્ષ - 2024-'25
A5: ક્રમ | B5: વિદ્યાર્થીનું નામ | C5: વાંચન મૂલ્યાંકનના હેતુઓ - ધોરણ - 1 થી 4 | M5: કુલ મેળવેલ ગુણ | N5: ક્રમ | O5: વિદ્યાર્થીનું નામ | P5: લેખન મૂલ્યાંકનના હેતુઓ - ધોરણ - 1 થી 4 | Z5: કુલ મેળવેલ ગુણ | AA5: ક્રમ | AB5: વિદ્યાર્થીનું નામ | AC5: ગણન મૂલ્યાંકનના હેતુઓ - ધોરણ - 1 થી 4 | AM5: કુલ મેળવેલ ગુણ
C6: મૂળાક્ષરો ઓળખે અને સાદા શબ્દોનું વાચન કરે છે. | D6: કાનાવાળા શબ્દોનું વાચન કરે છે. | E6: (એ) એકમાત્રા વાળા શબ્દોનું વાચન કરે છે. | F6: (ઇ,ઈ) હસ્વ,દીર્ઘ ઇ વાળા અને અનુંસ્વારવાળા શબ્દોનું વાચન કરે છે. | G6: (ઉ,ઊ) હસ્વ,દીર્ઘ ઉ વાળા શબ્દોનું વાચન કરે છે. | H6: (ઐ,ઔ) વાળા શબ્દોનું વાચન કરી શકે છે. | I6: જોડાક્ષરવાળા શબ્દોનું વાચન કરે છે. | J6: સાદા અને સરળ વાક્યોનું વાચન કરે છે. | K6: ત્રણ-ચાર વાક્યોવાળા ફકરાનું વાચન કરે છે. | L6: આરોહ-અવરોહ યુક્ત અને વિરામચિહ્નોને ધ્યાન કરી વાચન કરે છે. | P6: મૂળાક્ષરો ઓળખે અને સાદા શબ્દોનું લેખન કરે છે. | Q6: કાનાવાળા શબ્દોનું લેખન કરે છે. | R6: (એ) એકમાત્રા વાળા શબ્દોનું લેખન કરે છે. | S6: (ઇ,ઈ) હસ્વ,દીર્ઘ ઇ વાળા અને અનુંસ્વાર વાળા શબ્દોનું લેખન કરે છે. | T6: (ઉ,ઊ) હસ્વ,દીર્ઘ ઉ વાળા શબ્દોનું લેખન કરે છે. | U6: (ઐ,ઔ) વાળા શબ્દોનું લેખન કરી શકે છે. | V6: જોડાક્ષરવાળા શબ્દોનું લેખન કરે છે. | W6: સાદા અને સરળ વાક્યોનું લેખન કરે છે. | X6: ત્રણ-ચાર વાક્યોવાળા ફકરાનું લેખન કરે છે. | Y6: આરોહ-અવરોહયુક્ત અને વિરામચિહ્નોને ધ્યાન કરી લેખન કરે છે. | AC6: સંખ્યા વાચન અને લેખન 100 થી 999 સુધી કરી શકે છે. | AD6: સ્થાનકિંમત સો સુધી અને સંખ્યાનો સ્થાન પ્રમાણે વિસ્તાર કરી શકે છે. | AE6: સંખ્યાનો ક્રમ (ની આગળ,ની પાછળ, ની વચ્ચે) લખી શકે છે. | AF6: નાની-મોટી સંખ્યા ઓળખી શકે છે. (ત્રણ અંક સુધીની) | AG6: સંખ્યાને ચડતા-ઉતરતા ક્રમમાં મૂકી શકે છે. (ત્રણ અંક સુધી) | AH6: સરવાળા કરી શકે છે. (વદ્દીવાળા ચાર અંકવાળા) | AI6: બાદબાકી કરી શકે છે. (દશકાવાળી, ચાર અંક સુધી) | AJ6: વ્યવહારૂ કોયડા સમજી સરવાળા-બાદબાકી કરી શકે છે. | AK6: ઘડિયા 1 થી 10 સુધી બોલી અને લખી શકે છે. | AL6: ગુણાકાર કરી શકે છે. (એક અંક વડે)
C7: 1 | D7: 1 | E7: 1 | F7: 1 | G7: 1 | H7: 1 | I7: 1 | J7: 1 | K7: 1 | L7: 1 | M7: 10 | P7: 1 | Q7: 1 | R7: 1 | S7: 1 | T7: 1 | U7: 1 | V7: 1 | W7: 1 | X7: 1 | Y7: 1 | Z7: 10 | AC7: 1 | AD7: 1 | AE7: 1 | AF7: 1 | AG7: 1 | AH7: 1 | AI7: 1 | AJ7: 1 | AK7: 1 | AL7: 1 | AM7: 10
A8: 1 | N8: =IF($A8="","",$A8) -> 1 | O8: =IF($B8="","",$B8) | AA8: =IF($A8="","",$A8) -> 1 | AB8: =IF($B8="","",$B8)
A9: 2 | N9: =IF($A9="","",$A9) -> 2 | O9: =IF($B9="","",$B9) | AA9: =IF($A9="","",$A9) -> 2 | AB9: =IF($B9="","",$B9)
A10: 3 | N10: =IF($A10="","",$A10) -> 3 | O10: =IF($B10="","",$B10) | AA10: =IF($A10="","",$A10) -> 3 | AB10: =IF($B10="","",$B10)
A11: 4 | N11: =IF($A11="","",$A11) -> 4 | O11: =IF($B11="","",$B11) | AA11: =IF($A11="","",$A11) -> 4 | AB11: =IF($B11="","",$B11)
A12: 5 | N12: =IF($A12="","",$A12) -> 5 | O12: =IF($B12="","",$B12) | AA12: =IF($A12="","",$A12) -> 5 | AB12: =IF($B12="","",$B12)
A13: 6 | N13: =IF($A13="","",$A13) -> 6 | O13: =IF($B13="","",$B13) | AA13: =IF($A13="","",$A13) -> 6 | AB13: =IF($B13="","",$B13)
A14: 7 | N14: =IF($A14="","",$A14) -> 7 | O14: =IF($B14="","",$B14) | AA14: =IF($A14="","",$A14) -> 7 | AB14: =IF($B14="","",$B14)
A15: 8 | N15: =IF($A15="","",$A15) -> 8 | O15: =IF($B15="","",$B15) | AA15: =IF($A15="","",$A15) -> 8 | AB15: =IF($B15="","",$B15)
A16: 9 | N16: =IF($A16="","",$A16) -> 9 | O16: =IF($B16="","",$B16) | AA16: =IF($A16="","",$A16) -> 9 | AB16: =IF($B16="","",$B16)
A17: 10 | N17: =IF($A17="","",$A17) -> 10 | O17: =IF($B17="","",$B17) | AA17: =IF($A17="","",$A17) -> 10 | AB17: =IF($B17="","",$B17)
A18: 11 | N18: =IF($A18="","",$A18) -> 11 | O18: =IF($B18="","",$B18) | AA18: =IF($A18="","",$A18) -> 11 | AB18: =IF($B18="","",$B18)
A19: 12 | N19: =IF($A19="","",$A19) -> 12 | O19: =IF($B19="","",$B19) | AA19: =IF($A19="","",$A19) -> 12 | AB19: =IF($B19="","",$B19)
... A57: 50 | N57: =IF($A57="","",$A57) -> 50 | O57: =IF($B57="","",$B57) | AA57: =IF($A57="","",$A57) -> 50 | AB57: =IF($B57="","",$B57)
A58: તમામ વિદ્યાર્થીઓએ મેળવેલ કુલ ગુણનો સરવાળો :- | N58: તમામ વિદ્યાર્થીઓએ મેળવેલ કુલ ગુણનો સરવાળો :- | AA58: તમામ વિદ્યાર્થીઓએ મેળવેલ કુલ ગુણનો સરવાળો :-
A59: વર્ગના વિદ્યાર્થીઓએ મેળવેલ સરાસરી ગુણ :- | F59: (તમામ વિ.ઓએ મેળવેલ કુલ ગુણ / રજીસ્ટર સંખ્યા) | N59: વર્ગના વિદ્યાર્થીઓએ મેળવેલ સરાસરી ગુણ :- | S59: (તમામ વિ.ઓએ મેળવેલ કુલ ગુણ / રજીસ્ટર સંખ્યા) | AA59: વર્ગના વિદ્યાર્થીઓએ મેળવેલ સરાસરી ગુણ :- | AF59: (તમામ વિ.ઓએ મેળવેલ કુલ ગુણ / રજીસ્ટર સંખ્યા)
A60: વર્ગનો સરાસરી ગ્રેડ :- | F60: 9થી10 = A ગ્રેડ, 7થી8 = B ગ્રેડ, 5થી6 = C ગ્રેડ, 4 = D ગ્રેડ, 0થી3 = E ગ્રેડ | N60: વર્ગનો સરાસરી ગ્રેડ :- | S60: 9થી10 = A ગ્રેડ, 7થી8 = B ગ્રેડ, 5થી6 = C ગ્રેડ, 4 = D ગ્રેડ, 0થી3 = E ગ્રેડ | AA60: વર્ગનો સરાસરી ગ્રેડ :- | AF60: 9થી10 = A ગ્રેડ, 7થી8 = B ગ્રેડ, 5થી6 = C ગ્રેડ, 4 = D ગ્રેડ, 0થી3 = E ગ્રેડ
A62: કુલ મેળવેલ ગુણના આધારે વર્ગીકરણ | N62: કુલ મેળવેલ ગુણના આધારે વર્ગીકરણ | AA62: કુલ મેળવેલ ગુણના આધારે વર્ગીકરણ
A63: વર્ગીકરણ | D63: સંખ્યા | F63: ટકા | H63: ટકા = ગુણ મેળવેલ સંખ્યા / રજીસ્ટર વિદ્યાર્થીની સંખ્યા | N63: વર્ગીકરણ | Q63: સંખ્યા | S63: ટકા | U63: ટકા = ગુણ મેળવેલ સંખ્યા / રજીસ્ટર વિદ્યાર્થીની સંખ્યા | AA63: વર્ગીકરણ | AD63: સંખ્યા | AF63: ટકા | AH63: ટકા = ગુણ મેળવેલ સંખ્યા / રજીસ્ટર વિદ્યાર્થીની સંખ્યા
A64: "0 થી 1 ગુણ" મેળવેલ વિધાર્થીની સંખ્યા :- | H64: ખુબ મહેનત જરૂરી હોય તેવા વિ.ઓ. | N64: "0 થી 1 ગુણ" મેળવેલ વિધાર્થીની સંખ્યા :- | U64: ખુબ મહેનત જરૂરી હોય તેવા વિ.ઓ. | AA64: "0 થી 1 ગુણ" મેળવેલ વિધાર્થીની સંખ્યા :- | AH64: ખુબ મહેનત જરૂરી હોય તેવા વિ.ઓ.
A65: "2 થી 4 ગુણ" મેળવેલ વિદ્યાર્થીની સંખ્યા :- | H65: મહેનત જરૂરી હોય તેવા વિ.ઓ. | N65: "2 થી 4 ગુણ" મેળવેલ વિદ્યાર્થીની સંખ્યા :- | U65: મહેનત જરૂરી હોય તેવા વિ.ઓ. | AA65: "2 થી 4 ગુણ" મેળવેલ વિદ્યાર્થીની સંખ્યા :- | AH65: મહેનત જરૂરી હોય તેવા વિ.ઓ.
A66: "5 થી 8 ગુણ" મેળવેલ વિદ્યાર્થીની સંખ્યા :- | H66: મધ્યમ હોય તેવા વિ.ઓ. | N66: "5 થી 8 ગુણ" મેળવેલ વિદ્યાર્થીની સંખ્યા :- | U66: મધ્યમ હોય તેવા વિ.ઓ. | AA66: "5 થી 8 ગુણ" મેળવેલ વિદ્યાર્થીની સંખ્યા :- | AH66: મધ્યમ હોય તેવા વિ.ઓ.
A67: "9 થી 10 ગુણ" મેળવેલ વિદ્યાર્થીની સંખ્યા :- | H67: ઉત્તમ | N67: "9 થી 10 ગુણ" મેળવેલ વિદ્યાર્થીની સંખ્યા :- | U67: ઉત્તમ | AA67: "9 થી 10 ગુણ" મેળવેલ વિદ્યાર્થીની સંખ્યા :- | AH67: ઉત્તમ
A69: ....................................... | I69: ....................................... | N69: ....................................... | V69: ....................................... | AA69: ....................................... | AI69: .......................................
A70: વર્ગશિક્ષકની સહી | I70: આચાર્યની સહી | N70: વર્ગશિક્ષકની સહી | V70: આચાર્યની સહી | AA70: વર્ગશિક્ષકની સહી | AI70: આચાર્યની સહી

Sheet STD-5
A1: ='STD-2'!$A$1 -> _________ પ્રાથમિક શાળા | N1: ='STD-2'!$A$1 -> _________ પ્રાથમિક શાળા | AA1: ='STD-2'!$A$1 -> _________ પ્રાથમિક શાળા
A2: ='STD-2'!$A$2 -> તા - __________, જી - __________ | N2: ='STD-2'!$A$2 -> તા - __________, જી - __________ | AA2: ='STD-2'!$A$2 -> તા - __________, જી - __________
A3: વાચન, લેખન અને ગણન ઉપચારાત્મક પત્રક | N3: વાચન, લેખન અને ગણન ઉપચારાત્મક પત્રક | AA3: વાચન, લેખન અને ગણન ઉપચારાત્મક પત્રક
A4: ધોરણ - 5 | C4: વાંચન મુલ્યાંકન | J4: વર્ષ - 2024-'25 | N4: ધોરણ - 5 | P4: લેખન મુલ્યાંકન | W4: વર્ષ - 2024-'25 | AA4: ધોરણ - 5 | AC4: ગણન મુલ્યાંકન | AJ4: વર્ષ - 2024-'25
A5: ક્રમ | B5: વિદ્યાર્થીનું નામ | C5: વાંચન મૂલ્યાંકનના હેતુઓ - ધોરણ - 1 થી 4 | M5: કુલ મેળવેલ ગુણ | N5: ક્રમ | O5: વિદ્યાર્થીનું નામ | P5: લેખન મૂલ્યાંકનના હેતુઓ - ધોરણ - 1 થી 4 | Z5: કુલ મેળવેલ ગુણ | AA5: ક્રમ | AB5: વિદ્યાર્થીનું નામ | AC5: ગણન મૂલ્યાંકનના હેતુઓ - ધોરણ - 1 થી 4 | AM5: કુલ મેળવેલ ગુણ
C6: મૂળાક્ષરો ઓળખે અને સાદા શબ્દોનું વાચન કરે છે. | D6: કાનાવાળા શબ્દોનું વાચન કરે છે. | E6: (એ) એકમાત્રા વાળા શબ્દોનું વાચન કરે છે. | F6: (ઇ,ઈ) હસ્વ,દીર્ઘ ઇ વાળા અને અનુંસ્વાર વાળા શબ્દોનું વાચન કરે છે. | G6: (ઉ,ઊ) હસ્વ,દીર્ઘ ઉ વાળા શબ્દોનું વાચન કરે છે. | H6: (ઐ,ઔ) વાળા શબ્દોનું વાચન કરી શકે છે. | I6: જોડાક્ષરવાળા શબ્દોનું વાચન કરે છે. | J6: સાદા અને સરળ વાક્યોનું વાચન કરે છે. | K6: ત્રણ-ચાર વાક્યો વાળા ફકરાનું વાચન કરે છે. | L6: આરોહ-અવરોહ યુક્ત અને વિરામચિહ્નોને ધ્યાન કરી વાચન કરે છે. | P6: મૂળાક્ષરો ઓળખે અને સાદા શબ્દોનું લેખન કરે છે. | Q6: કાનાવાળા શબ્દોનું લેખન કરે છે. | R6: (એ) એકમાત્રા વાળા શબ્દોનું લેખન કરે છે. | S6: (ઇ,ઈ) હસ્વ,દીર્ઘ ઇ વાળા અને અનુંસ્વાર વાળા શબ્દોનું લેખન કરે છે. | T6: (ઉ,ઊ) હસ્વ,દીર્ઘ ઉ વાળા શબ્દોનું લેખન કરે છે. | U6: (ઐ,ઔ) વાળા શબ્દોનું લેખન કરી શકે છે. | V6: જોડાક્ષરવાળા શબ્દોનું લેખન કરે છે. | W6: સાદા અને સરળ વાક્યોનું લેખન કરે છે. | X6: ત્રણ-ચાર વાક્યો વાળા ફકરાનું લેખન કરે છે. | Y6: આરોહ-અવરોહ યુક્ત અને વિરામચિહ્નોને ધ્યાન કરી લેખન કરે છે. | AC6: સંખ્યા વાચન અને લેખન 1000 થી 9999 સુધી કરી શકે છે. | AD6: સ્થાનકિંમત હજાર સુધી અને સંખ્યાનો સ્થાન પ્રમાણે વિસ્તાર કરી શકે છે. | AE6: સંખ્યાનો ક્રમ (ની આગળ,ની પાછળ, ની વચ્ચે) લખી શકે છે. | AF6: નાની-મોટી સંખ્યા ઓળખી શકે છે. (ચાર અંક સુધીની) | AG6: સંખ્યાને ચડતા-ઉતરતા ક્રમમાં મૂકી શકે છે. (ચાર અંક સુધી) | AH6: સરવાળા-બાદબાકી કરી શકે છે. (વદ્દીવાળા/દશકાવાળા) | AI6: વ્યવહારૂ કોયડા સમજી સરવાળા-બાદબાકી કરી શકે છે. | AJ6: ઘડિયા 1 થી 10 સુધી બોલી અને લખી શકે છે. | AK6: ગુણાકાર કરી શકે છે. (બે અંક વડે) | AL6: ભાગાકાર કરી શકે છે. (એક અંક વડે)
C7: 1 | D7: 1 | E7: 1 | F7: 1 | G7: 1 | H7: 1 | I7: 1 | J7: 1 | K7: 1 | L7: 1 | M7: 10 | P7: 1 | Q7: 1 | R7: 1 | S7: 1 | T7: 1 | U7: 1 | V7: 1 | W7: 1 | X7: 1 | Y7: 1 | Z7: 10 | AC7: 1 | AD7: 1 | AE7: 1 | AF7: 1 | AG7: 1 | AH7: 1 | AI7: 1 | AJ7: 1 | AK7: 1 | AL7: 1 | AM7: 10
A8: 1 | N8: =IF($A8="","",$A8) -> 1 | O8: =IF($B8="","",$B8) | AA8: =IF($A8="","",$A8) -> 1 | AB8: =IF($B8="","",$B8)
A9: 2 | N9: =IF($A9="","",$A9) -> 2 | O9: =IF($B9="","",$B9) | AA9: =IF($A9="","",$A9) -> 2 | AB9: =IF($B9="","",$B9)
A10: 3 | N10: =IF($A10="","",$A10) -> 3 | O10: =IF($B10="","",$B10) | AA10: =IF($A10="","",$A10) -> 3 | AB10: =IF($B10="","",$B10)
A11: 4 | N11: =IF($A11="","",$A11) -> 4 | O11: =IF($B11="","",$B11) | AA11: =IF($A11="","",$A11) -> 4 | AB11: =IF($B11="","",$B11)
A12: 5 | N12: =IF($A12="","",$A12) -> 5 | O12: =IF($B12="","",$B12) | AA12: =IF($A12="","",$A12) -> 5 | AB12: =IF($B12="","",$B12)
A13: 6 | N13: =IF($A13="","",$A13) -> 6 | O13: =IF($B13="","",$B13) | AA13: =IF($A13="","",$A13) -> 6 | AB13: =IF($B13="","",$B13)
A14: 7 | N14: =IF($A14="","",$A14) -> 7 | O14: =IF($B14="","",$B14) | AA14: =IF($A14="","",$A14) -> 7 | AB14: =IF($B14="","",$B14)
A15: 8 | N15: =IF($A15="","",$A15) -> 8 | O15: =IF($B15="","",$B15) | AA15: =IF($A15="","",$A15) -> 8 | AB15: =IF($B15="","",$B15)
A16: 9 | N16: =IF($A16="","",$A16) -> 9 | O16: =IF($B16="","",$B16) | AA16: =IF($A16="","",$A16) -> 9 | AB16: =IF($B16="","",$B16)
A17: 10 | N17: =IF($A17="","",$A17) -> 10 | O17: =IF($B17="","",$B17) | AA17: =IF($A17="","",$A17) -> 10 | AB17: =IF($B17="","",$B17)
A18: 11 | N18: =IF($A18="","",$A18) -> 11 | O18: =IF($B18="","",$B18) | AA18: =IF($A18="","",$A18) -> 11 | AB18: =IF($B18="","",$B18)
A19: 12 | N19: =IF($A19="","",$A19) -> 12 | O19: =IF($B19="","",$B19) | AA19: =IF($A19="","",$A19) -> 12 | AB19: =IF($B19="","",$B19)
... A57: 50 | N57: =IF($A57="","",$A57) -> 50 | O57: =IF($B57="","",$B57) | AA57: =IF($A57="","",$A57) -> 50 | AB57: =IF($B57="","",$B57)
A58: તમામ વિદ્યાર્થીઓએ મેળવેલ કુલ ગુણનો સરવાળો :- | N58: તમામ વિદ્યાર્થીઓએ મેળવેલ કુલ ગુણનો સરવાળો :- | AA58: તમામ વિદ્યાર્થીઓએ મેળવેલ કુલ ગુણનો સરવાળો :-
A59: વર્ગના વિદ્યાર્થીઓએ મેળવેલ સરાસરી ગુણ :- | F59: (તમામ વિ.ઓએ મેળવેલ કુલ ગુણ / રજીસ્ટર સંખ્યા) | N59: વર્ગના વિદ્યાર્થીઓએ મેળવેલ સરાસરી ગુણ :- | S59: (તમામ વિ.ઓએ મેળવેલ કુલ ગુણ / રજીસ્ટર સંખ્યા) | AA59: વર્ગના વિદ્યાર્થીઓએ મેળવેલ સરાસરી ગુણ :- | AF59: (તમામ વિ.ઓએ મેળવેલ કુલ ગુણ / રજીસ્ટર સંખ્યા)
A60: વર્ગનો સરાસરી ગ્રેડ :- | F60: 9થી10 = A ગ્રેડ, 7થી8 = B ગ્રેડ, 5થી6 = C ગ્રેડ, 4 = D ગ્રેડ, 0થી3 = E ગ્રેડ | N60: વર્ગનો સરાસરી ગ્રેડ :- | S60: 9થી10 = A ગ્રેડ, 7થી8 = B ગ્રેડ, 5થી6 = C ગ્રેડ, 4 = D ગ્રેડ, 0થી3 = E ગ્રેડ | AA60: વર્ગનો સરાસરી ગ્રેડ :- | AF60: 9થી10 = A ગ્રેડ, 7થી8 = B ગ્રેડ, 5થી6 = C ગ્રેડ, 4 = D ગ્રેડ, 0થી3 = E ગ્રેડ
A62: કુલ મેળવેલ ગુણના આધારે વર્ગીકરણ | N62: કુલ મેળવેલ ગુણના આધારે વર્ગીકરણ | AA62: કુલ મેળવેલ ગુણના આધારે વર્ગીકરણ
A63: વર્ગીકરણ | D63: સંખ્યા | F63: ટકા | H63: ટકા = ગુણ મેળવેલ સંખ્યા / રજીસ્ટર વિદ્યાર્થીની સંખ્યા | N63: વર્ગીકરણ | Q63: સંખ્યા | S63: ટકા | U63: ટકા = ગુણ મેળવેલ સંખ્યા / રજીસ્ટર વિદ્યાર્થીની સંખ્યા | AA63: વર્ગીકરણ | AD63: સંખ્યા | AF63: ટકા | AH63: ટકા = ગુણ મેળવેલ સંખ્યા / રજીસ્ટર વિદ્યાર્થીની સંખ્યા
A64: "0 થી 1 ગુણ" મેળવેલ વિધાર્થીની સંખ્યા :- | H64: ખુબ મહેનત જરૂરી હોય તેવા વિ.ઓ. | N64: "0 થી 1 ગુણ" મેળવેલ વિધાર્થીની સંખ્યા :- | U64: ખુબ મહેનત જરૂરી હોય તેવા વિ.ઓ. | AA64: "0 થી 1 ગુણ" મેળવેલ વિધાર્થીની સંખ્યા :- | AH64: ખુબ મહેનત જરૂરી હોય તેવા વિ.ઓ.
A65: "2 થી 4 ગુણ" મેળવેલ વિદ્યાર્થીની સંખ્યા :- | H65: મહેનત જરૂરી હોય તેવા વિ.ઓ. | N65: "2 થી 4 ગુણ" મેળવેલ વિદ્યાર્થીની સંખ્યા :- | U65: મહેનત જરૂરી હોય તેવા વિ.ઓ. | AA65: "2 થી 4 ગુણ" મેળવેલ વિદ્યાર્થીની સંખ્યા :- | AH65: મહેનત જરૂરી હોય તેવા વિ.ઓ.
A66: "5 થી 8 ગુણ" મેળવેલ વિદ્યાર્થીની સંખ્યા :- | H66: મધ્યમ હોય તેવા વિ.ઓ. | N66: "5 થી 8 ગુણ" મેળવેલ વિદ્યાર્થીની સંખ્યા :- | U66: મધ્યમ હોય તેવા વિ.ઓ. | AA66: "5 થી 8 ગુણ" મેળવેલ વિદ્યાર્થીની સંખ્યા :- | AH66: મધ્યમ હોય તેવા વિ.ઓ.
A67: "9 થી 10 ગુણ" મેળવેલ વિદ્યાર્થીની સંખ્યા :- | H67: ઉત્તમ | N67: "9 થી 10 ગુણ" મેળવેલ વિદ્યાર્થીની સંખ્યા :- | U67: ઉત્તમ | AA67: "9 થી 10 ગુણ" મેળવેલ વિદ્યાર્થીની સંખ્યા :- | AH67: ઉત્તમ
A69: ....................................... | I69: ....................................... | N69: ....................................... | V69: ....................................... | AA69: ....................................... | AI69: .......................................
A70: વર્ગશિક્ષકની સહી | I70: આચાર્યની સહી | N70: વર્ગશિક્ષકની સહી | V70: આચાર્યની સહી | AA70: વર્ગશિક્ષકની સહી | AI70: આચાર્યની સહી

Sheet STD-6
A1: ='STD-2'!$A$1 -> _________ પ્રાથમિક શાળા | N1: ='STD-2'!$A$1 -> _________ પ્રાથમિક શાળા | AA1: ='STD-2'!$A$1 -> _________ પ્રાથમિક શાળા
A2: ='STD-2'!$A$2 -> તા - __________, જી - __________ | N2: ='STD-2'!$A$2 -> તા - __________, જી - __________ | AA2: ='STD-2'!$A$2 -> તા - __________, જી - __________
A3: વાચન, લેખન અને ગણન ઉપચારાત્મક પત્રક | N3: વાચન, લેખન અને ગણન ઉપચારાત્મક પત્રક | AA3: વાચન, લેખન અને ગણન ઉપચારાત્મક પત્રક
A4: ધોરણ - 6 | C4: વાંચન મુલ્યાંકન | J4: વર્ષ - 2024-'25 | N4: ધોરણ - 6 | P4: લેખન મુલ્યાંકન | W4: વર્ષ - 2024-'25 | AA4: ધોરણ - 6 | AC4: ગણન મુલ્યાંકન | AJ4: વર્ષ - 2024-'25
A5: ક્રમ | B5: વિદ્યાર્થીનું નામ | C5: વાંચન મૂલ્યાંકનના હેતુઓ - ધોરણ - 1 થી 5 | M5: કુલ મેળવેલ ગુણ | N5: ક્રમ | O5: વિદ્યાર્થીનું નામ | P5: લેખન મૂલ્યાંકનના હેતુઓ - ધોરણ - 1 થી 5 | Z5: કુલ મેળવેલ ગુણ | AA5: ક્રમ | AB5: વિદ્યાર્થીનું નામ | AC5: ગણન મૂલ્યાંકનના હેતુઓ - ધોરણ - 1 થી 5 | AM5: કુલ મેળવેલ ગુણ
C6: મૂળાક્ષરો ઓળખે અને સાદા શબ્દોનું વાચન કરે છે. | D6: કાનાવાળા શબ્દોનું વાચન કરે છે. | E6: (એ) એકમાત્રા વાળા શબ્દોનું વાચન કરે છે. | F6: (ઇ,ઈ) હસ્વ,દીર્ઘ ઇ વાળા અને અનુંસ્વાર વાળા શબ્દોનું વાચન કરે છે. | G6: (ઉ,ઊ) હસ્વ,દીર્ઘ ઉ વાળા શબ્દોનું વાચન કરે છે. | H6: (ઐ,ઔ) વાળા શબ્દોનું વાચન કરી શકે છે. | I6: જોડાક્ષર વાળા શબ્દોનું વાચન કરે છે. | J6: સાદા અને સરળ વાક્યોનું વાચન કરે છે. | K6: ત્રણ ચાર વાક્યો વાળા ફકરાનું વાચન કરે છે. | L6: આરોહ અવરોહ યુક્ત અને વિરામચિહ્નોને ધ્યાન કરી વાચન કરે છે. | P6: મૂળાક્ષરો ઓળખે અને સાદા શબ્દોનું લેખન કરે છે. | Q6: કાનાવાળા શબ્દોનું લેખન કરે છે. | R6: (એ) એકમાત્રા વાળા શબ્દોનું લેખન કરે છે. | S6: (ઇ,ઈ) હસ્વ,દીર્ઘ ઇ વાળા અને અનુંસ્વાર વાળા શબ્દોનું લેખન કરે છે. | T6: (ઉ,ઊ) હસ્વ,દીર્ઘ ઉ વાળા શબ્દોનું લેખન કરે છે. | U6: (ઐ,ઔ) વાળા શબ્દોનું લેખન કરી શકે છે. | V6: જોડાક્ષર વાળા શબ્દોનું લેખન કરે છે. | W6: સાદાદાઅને સરળ વાક્યોનું લેખન કરે છે. | X6: ત્રણ ચાર વાક્યો વાળા ફકરાનું લેખન કરે છે. | Y6: આરોહ અવરોહ યુક્ત અને વિરામચિહ્નોને ધ્યાન કરી લેખન કરે છે. | AC6: સંખ્યા વાચન અને લેખન કરોડ સુધી કરી શકે છે. | AD6: સ્થાન કિંમત લાખ સુધી અને સંખ્યાનો સ્થાન પ્રમાણે વિસ્તાર કરી શકે છે. | AE6: સંખ્યાને ચડતા-ઉતરતા ક્રમમાં મૂકી શકે છે. (ચાર અંક સુધી) | AF6: સરવાળા-બાદબાકી કરી શકે છે. (વદીવાળા/દશકાવાળા) | AG6: વ્યવહારૂ કોયડા સમજી સરવાળા-બાદબાકી કરી શકે છે. | AH6: ઘડિયા 1 થી 20 સુધી બોલી અને લખી શકે છે. | AI6: ગુણાકાર કરી શકે છે. (બે અંક વડે) | AJ6: ભાગાકાર કરી શકે છે. (બે અંક વડે) | AK6: ચાર ક્રિયાઓનું સાદુરૂપ આપી શકે છે. | AL6: વ્યવહારુ કોયડા સમજી ગુણાકાર-ભાગાકર કરી શકે છે.
C7: 1 | D7: 1 | E7: 1 | F7: 1 | G7: 1 | H7: 1 | I7: 1 | J7: 1 | K7: 1 | L7: 1 | M7: 10 | P7: 1 | Q7: 1 | R7: 1 | S7: 1 | T7: 1 | U7: 1 | V7: 1 | W7: 1 | X7: 1 | Y7: 1 | Z7: 10 | AC7: 1 | AD7: 1 | AE7: 1 | AF7: 1 | AG7: 1 | AH7: 1 | AI7: 1 | AJ7: 1 | AK7: 1 | AL7: 1 | AM7: 10
A8: 1 | N8: =IF($A8="","",$A8) -> 1 | O8: =IF($B8="","",$B8) | AA8: =IF($A8="","",$A8) -> 1 | AB8: =IF($B8="","",$B8)
A9: 2 | N9: =IF($A9="","",$A9) -> 2 | O9: =IF($B9="","",$B9) | AA9: =IF($A9="","",$A9) -> 2 | AB9: =IF($B9="","",$B9)
A10: 3 | N10: =IF($A10="","",$A10) -> 3 | O10: =IF($B10="","",$B10) | AA10: =IF($A10="","",$A10) -> 3 | AB10: =IF($B10="","",$B10)
A11: 4 | N11: =IF($A11="","",$A11) -> 4 | O11: =IF($B11="","",$B11) | AA11: =IF($A11="","",$A11) -> 4 | AB11: =IF($B11="","",$B11)
A12: 5 | N12: =IF($A12="","",$A12) -> 5 | O12: =IF($B12="","",$B12) | AA12: =IF($A12="","",$A12) -> 5 | AB12: =IF($B12="","",$B12)
A13: 6 | N13: =IF($A13="","",$A13) -> 6 | O13: =IF($B13="","",$B13) | AA13: =IF($A13="","",$A13) -> 6 | AB13: =IF($B13="","",$B13)
A14: 7 | N14: =IF($A14="","",$A14) -> 7 | O14: =IF($B14="","",$B14) | AA14: =IF($A14="","",$A14) -> 7 | AB14: =IF($B14="","",$B14)
A15: 8 | N15: =IF($A15="","",$A15) -> 8 | O15: =IF($B15="","",$B15) | AA15: =IF($A15="","",$A15) -> 8 | AB15: =IF($B15="","",$B15)
A16: 9 | N16: =IF($A16="","",$A16) -> 9 | O16: =IF($B16="","",$B16) | AA16: =IF($A16="","",$A16) -> 9 | AB16: =IF($B16="","",$B16)
A17: 10 | N17: =IF($A17="","",$A17) -> 10 | O17: =IF($B17="","",$B17) | AA17: =IF($A17="","",$A17) -> 10 | AB17: =IF($B17="","",$B17)
A18: 11 | N18: =IF($A18="","",$A18) -> 11 | O18: =IF($B18="","",$B18) | AA18: =IF($A18="","",$A18) -> 11 | AB18: =IF($B18="","",$B18)
A19: 12 | N19: =IF($A19="","",$A19) -> 12 | O19: =IF($B19="","",$B19) | AA19: =IF($A19="","",$A19) -> 12 | AB19: =IF($B19="","",$B19)
... A57: 50 | N57: =IF($A57="","",$A57) -> 50 | O57: =IF($B57="","",$B57) | AA57: =IF($A57="","",$A57) -> 50 | AB57: =IF($B57="","",$B57)
A58: તમામ વિદ્યાર્થીઓએ મેળવેલ કુલ ગુણનો સરવાળો :- | N58: તમામ વિદ્યાર્થીઓએ મેળવેલ કુલ ગુણનો સરવાળો :- | AA58: તમામ વિદ્યાર્થીઓએ મેળવેલ કુલ ગુણનો સરવાળો :-
A59: વર્ગના વિદ્યાર્થીઓએ મેળવેલ સરાસરી ગુણ :- | F59: (તમામ વિ.ઓએ મેળવેલ કુલ ગુણ / રજીસ્ટર સંખ્યા) | N59: વર્ગના વિદ્યાર્થીઓએ મેળવેલ સરાસરી ગુણ :- | S59: (તમામ વિ.ઓએ મેળવેલ કુલ ગુણ / રજીસ્ટર સંખ્યા) | AA59: વર્ગના વિદ્યાર્થીઓએ મેળવેલ સરાસરી ગુણ :- | AF59: (તમામ વિ.ઓએ મેળવેલ કુલ ગુણ / રજીસ્ટર સંખ્યા)
A60: વર્ગનો સરાસરી ગ્રેડ :- | F60: 9થી10 = A ગ્રેડ, 7થી8 = B ગ્રેડ, 5થી6 = C ગ્રેડ, 4 = D ગ્રેડ, 0થી3 = E ગ્રેડ | N60: વર્ગનો સરાસરી ગ્રેડ :- | S60: 9થી10 = A ગ્રેડ, 7થી8 = B ગ્રેડ, 5થી6 = C ગ્રેડ, 4 = D ગ્રેડ, 0થી3 = E ગ્રેડ | AA60: વર્ગનો સરાસરી ગ્રેડ :- | AF60: 9થી10 = A ગ્રેડ, 7થી8 = B ગ્રેડ, 5થી6 = C ગ્રેડ, 4 = D ગ્રેડ, 0થી3 = E ગ્રેડ
A62: કુલ મેળવેલ ગુણના આધારે વર્ગીકરણ | N62: કુલ મેળવેલ ગુણના આધારે વર્ગીકરણ | AA62: કુલ મેળવેલ ગુણના આધારે વર્ગીકરણ
A63: વર્ગીકરણ | D63: સંખ્યા | F63: ટકા | H63: ટકા = ગુણ મેળવેલ સંખ્યા / રજીસ્ટર વિદ્યાર્થીની સંખ્યા | N63: વર્ગીકરણ | Q63: સંખ્યા | S63: ટકા | U63: ટકા = ગુણ મેળવેલ સંખ્યા / રજીસ્ટર વિદ્યાર્થીની સંખ્યા | AA63: વર્ગીકરણ | AD63: સંખ્યા | AF63: ટકા | AH63: ટકા = ગુણ મેળવેલ સંખ્યા / રજીસ્ટર વિદ્યાર્થીની સંખ્યા
A64: "0 થી 1 ગુણ" મેળવેલ વિધાર્થીની સંખ્યા :- | H64: ખુબ મહેનત જરૂરી હોય તેવા વિ.ઓ. | N64: "0 થી 1 ગુણ" મેળવેલ વિધાર્થીની સંખ્યા :- | U64: ખુબ મહેનત જરૂરી હોય તેવા વિ.ઓ. | AA64: "0 થી 1 ગુણ" મેળવેલ વિધાર્થીની સંખ્યા :- | AH64: ખુબ મહેનત જરૂરી હોય તેવા વિ.ઓ.
A65: "2 થી 4 ગુણ" મેળવેલ વિદ્યાર્થીની સંખ્યા :- | H65: મહેનત જરૂરી હોય તેવા વિ.ઓ. | N65: "2 થી 4 ગુણ" મેળવેલ વિદ્યાર્થીની સંખ્યા :- | U65: મહેનત જરૂરી હોય તેવા વિ.ઓ. | AA65: "2 થી 4 ગુણ" મેળવેલ વિદ્યાર્થીની સંખ્યા :- | AH65: મહેનત જરૂરી હોય તેવા વિ.ઓ.
A66: "5 થી 8 ગુણ" મેળવેલ વિદ્યાર્થીની સંખ્યા :- | H66: મધ્યમ હોય તેવા વિ.ઓ. | N66: "5 થી 8 ગુણ" મેળવેલ વિદ્યાર્થીની સંખ્યા :- | U66: મધ્યમ હોય તેવા વિ.ઓ. | AA66: "5 થી 8 ગુણ" મેળવેલ વિદ્યાર્થીની સંખ્યા :- | AH66: મધ્યમ હોય તેવા વિ.ઓ.
A67: "9 થી 10 ગુણ" મેળવેલ વિદ્યાર્થીની સંખ્યા :- | H67: ઉત્તમ | N67: "9 થી 10 ગુણ" મેળવેલ વિદ્યાર્થીની સંખ્યા :- | U67: ઉત્તમ | AA67: "9 થી 10 ગુણ" મેળવેલ વિદ્યાર્થીની સંખ્યા :- | AH67: ઉત્તમ
A69: ....................................... | I69: ....................................... | N69: ....................................... | V69: ....................................... | AA69: ....................................... | AI69: .......................................
A70: વર્ગશિક્ષકની સહી | I70: આચાર્યની સહી | N70: વર્ગશિક્ષકની સહી | V70: આચાર્યની સહી | AA70: વર્ગશિક્ષકની સહી | AI70: આચાર્યની સહી

Sheet STD-7
A1: ='STD-2'!$A$1 -> _________ પ્રાથમિક શાળા | N1: ='STD-2'!$A$1 -> _________ પ્રાથમિક શાળા | AA1: ='STD-2'!$A$1 -> _________ પ્રાથમિક શાળા
A2: ='STD-2'!$A$2 -> તા - __________, જી - __________ | N2: ='STD-2'!$A$2 -> તા - __________, જી - __________ | AA2: ='STD-2'!$A$2 -> તા - __________, જી - __________
A3: વાચન, લેખન અને ગણન ઉપચારાત્મક પત્રક | N3: વાચન, લેખન અને ગણન ઉપચારાત્મક પત્રક | AA3: વાચન, લેખન અને ગણન ઉપચારાત્મક પત્રક
A4: ધોરણ - 7 | C4: વાંચન મુલ્યાંકન | J4: વર્ષ - 2024-'25 | N4: ધોરણ - 7 | P4: લેખન મુલ્યાંકન | W4: વર્ષ - 2024-'25 | AA4: ધોરણ - 7 | AC4: ગણન મુલ્યાંકન | AJ4: વર્ષ - 2024-'25
A5: ક્રમ | B5: વિદ્યાર્થીનું નામ | C5: વાંચન મૂલ્યાંકનના હેતુઓ - ધોરણ - 1 થી 6 | M5: કુલ મેળવેલ ગુણ | N5: ક્રમ | O5: વિદ્યાર્થીનું નામ | P5: લેખન મૂલ્યાંકનના હેતુઓ - ધોરણ - 1 થી 6 | Z5: કુલ મેળવેલ ગુણ | AA5: ક્રમ | AB5: વિદ્યાર્થીનું નામ | AC5: ગણન મૂલ્યાંકનના હેતુઓ - ધોરણ - 1 થી 6 | AM5: કુલ મેળવેલ ગુણ
C6: મૂળાક્ષરો ઓળખે અને સાદા શબ્દોનું વાચન કરે છે. | D6: કાનાવાળા શબ્દોનું વાચન કરે છે. | E6: (એ) એકમાત્રા વાળા શબ્દોનું વાચન કરે છે. | F6: (ઇ,ઈ) હસ્વ,દીર્ઘ ઇ વાળા અને અનુંસ્વાર વાળા શબ્દોનું વાચન કરે છે. | G6: (ઉ,ઊ) હસ્વ,દીર્ઘ ઉ વાળા શબ્દોનું વાચન કરે છે. | H6: (ઐ,ઔ) વાળા શબ્દોનું વાચન કરી શકે છે. | I6: જોડાક્ષર વાળા શબ્દોનું વાચન કરે છે. | J6: સાદા અને સરળ વાક્યોનું વાચન કરે છે. | K6: ત્રણ ચાર વાક્યો વાળા ફકરાનું વાચન કરે છે. | L6: આરોહ અવરોહ યુક્ત અને વિરામચિહ્નોને ધ્યાન કરી વાચન કરે છે. | P6: મૂળાક્ષરો ઓળખે અને સાદા શબ્દોનું લેખન કરે છે. | Q6: કાનાવાળા શબ્દોનું લેખન કરે છે. | R6: (એ) એકમાત્રા વાળા શબ્દોનું લેખન કરે છે. | S6: (ઇ,ઈ) હસ્વ,દીર્ઘ ઇ વાળા અને અનુંસ્વાર વાળા શબ્દોનું લેખન કરે છે. | T6: (ઉ,ઊ) હસ્વ,દીર્ઘ ઉ વાળા શબ્દોનું લેખન કરે છે. | U6: (ઐ,ઔ) વાળા શબ્દોનું લેખન કરી શકે છે. | V6: જોડાક્ષર વાળા શબ્દોનું લેખન કરે છે. | W6: સાદાદાઅને સરળ વાક્યોનું લેખન કરે છે. | X6: ત્રણ ચાર વાક્યો વાળા ફકરાનું લેખન કરે છે. | Y6: આરોહ અવરોહ યુક્ત અને વિરામચિહ્નોને ધ્યાન કરી લેખન કરે છે. | AC6: સંખ્યા વાચન અને લેખન કરોડ સુધી કરી શકે છે. | AD6: સ્થાન કિંમત લાખ સુધી અને સંખ્યાનો સ્થાન પ્રમાણે વિસ્તાર કરી શકે છે. | AE6: સંખ્યાને ચડતા-ઉતરતા ક્રમમાં મૂકી શકે છે. (ચાર અંક સુધી) | AF6: સરવાળા-બાદબાકી કરી શકે છે. (વદીવાળા/દશકાવાળા) | AG6: વ્યવહારૂ કોયડા સમજી સરવાળા-બાદબાકી કરી શકે છે. | AH6: ઘડિયા 1 થી 20 સુધી બોલી અને લખી શકે છે. | AI6: ગુણાકાર કરી શકે છે. (બે અંક વડે) | AJ6: ભાગાકાર કરી શકે છે. (બે અંક વડે) | AK6: ચાર ક્રિયાઓનું સાદુરૂપ આપી શકે છે. | AL6: વ્યવહારુ કોયડા સમજી ગુણાકાર-ભાગાકર કરી શકે છે.
C7: 1 | D7: 1 | E7: 1 | F7: 1 | G7: 1 | H7: 1 | I7: 1 | J7: 1 | K7: 1 | L7: 1 | M7: 10 | P7: 1 | Q7: 1 | R7: 1 | S7: 1 | T7: 1 | U7: 1 | V7: 1 | W7: 1 | X7: 1 | Y7: 1 | Z7: 10 | AC7: 1 | AD7: 1 | AE7: 1 | AF7: 1 | AG7: 1 | AH7: 1 | AI7: 1 | AJ7: 1 | AK7: 1 | AL7: 1 | AM7: 10
A8: 1 | N8: =IF($A8="","",$A8) -> 1 | O8: =IF($B8="","",$B8) | AA8: =IF($A8="","",$A8) -> 1 | AB8: =IF($B8="","",$B8)
A9: 2 | N9: =IF($A9="","",$A9) -> 2 | O9: =IF($B9="","",$B9) | AA9: =IF($A9="","",$A9) -> 2 | AB9: =IF($B9="","",$B9)
A10: 3 | N10: =IF($A10="","",$A10) -> 3 | O10: =IF($B10="","",$B10) | AA10: =IF($A10="","",$A10) -> 3 | AB10: =IF($B10="","",$B10)
A11: 4 | N11: =IF($A11="","",$A11) -> 4 | O11: =IF($B11="","",$B11) | AA11: =IF($A11="","",$A11) -> 4 | AB11: =IF($B11="","",$B11)
A12: 5 | N12: =IF($A12="","",$A12) -> 5 | O12: =IF($B12="","",$B12) | AA12: =IF($A12="","",$A12) -> 5 | AB12: =IF($B12="","",$B12)
A13: 6 | N13: =IF($A13="","",$A13) -> 6 | O13: =IF($B13="","",$B13) | AA13: =IF($A13="","",$A13) -> 6 | AB13: =IF($B13="","",$B13)
A14: 7 | N14: =IF($A14="","",$A14) -> 7 | O14: =IF($B14="","",$B14) | AA14: =IF($A14="","",$A14) -> 7 | AB14: =IF($B14="","",$B14)
A15: 8 | N15: =IF($A15="","",$A15) -> 8 | O15: =IF($B15="","",$B15) | AA15: =IF($A15="","",$A15) -> 8 | AB15: =IF($B15="","",$B15)
A16: 9 | N16: =IF($A16="","",$A16) -> 9 | O16: =IF($B16="","",$B16) | AA16: =IF($A16="","",$A16) -> 9 | AB16: =IF($B16="","",$B16)
A17: 10 | N17: =IF($A17="","",$A17) -> 10 | O17: =IF($B17="","",$B17) | AA17: =IF($A17="","",$A17) -> 10 | AB17: =IF($B17="","",$B17)
A18: 11 | N18: =IF($A18="","",$A18) -> 11 | O18: =IF($B18="","",$B18) | AA18: =IF($A18="","",$A18) -> 11 | AB18: =IF($B18="","",$B18)
A19: 12 | N19: =IF($A19="","",$A19) -> 12 | O19: =IF($B19="","",$B19) | AA19: =IF($A19="","",$A19) -> 12 | AB19: =IF($B19="","",$B19)
... A57: 50 | N57: =IF($A57="","",$A57) -> 50 | O57: =IF($B57="","",$B57) | AA57: =IF($A57="","",$A57) -> 50 | AB57: =IF($B57="","",$B57)
A58: તમામ વિદ્યાર્થીઓએ મેળવેલ કુલ ગુણનો સરવાળો :- | N58: તમામ વિદ્યાર્થીઓએ મેળવેલ કુલ ગુણનો સરવાળો :- | AA58: તમામ વિદ્યાર્થીઓએ મેળવેલ કુલ ગુણનો સરવાળો :-
A59: વર્ગના વિદ્યાર્થીઓએ મેળવેલ સરાસરી ગુણ :- | F59: (તમામ વિ.ઓએ મેળવેલ કુલ ગુણ / રજીસ્ટર સંખ્યા) | N59: વર્ગના વિદ્યાર્થીઓએ મેળવેલ સરાસરી ગુણ :- | S59: (તમામ વિ.ઓએ મેળવેલ કુલ ગુણ / રજીસ્ટર સંખ્યા) | AA59: વર્ગના વિદ્યાર્થીઓએ મેળવેલ સરાસરી ગુણ :- | AF59: (તમામ વિ.ઓએ મેળવેલ કુલ ગુણ / રજીસ્ટર સંખ્યા)
A60: વર્ગનો સરાસરી ગ્રેડ :- | F60: 9થી10 = A ગ્રેડ, 7થી8 = B ગ્રેડ, 5થી6 = C ગ્રેડ, 4 = D ગ્રેડ, 0થી3 = E ગ્રેડ | N60: વર્ગનો સરાસરી ગ્રેડ :- | S60: 9થી10 = A ગ્રેડ, 7થી8 = B ગ્રેડ, 5થી6 = C ગ્રેડ, 4 = D ગ્રેડ, 0થી3 = E ગ્રેડ | AA60: વર્ગનો સરાસરી ગ્રેડ :- | AF60: 9થી10 = A ગ્રેડ, 7થી8 = B ગ્રેડ, 5થી6 = C ગ્રેડ, 4 = D ગ્રેડ, 0થી3 = E ગ્રેડ
A62: કુલ મેળવેલ ગુણના આધારે વર્ગીકરણ | N62: કુલ મેળવેલ ગુણના આધારે વર્ગીકરણ | AA62: કુલ મેળવેલ ગુણના આધારે વર્ગીકરણ
A63: વર્ગીકરણ | D63: સંખ્યા | F63: ટકા | H63: ટકા = ગુણ મેળવેલ સંખ્યા / રજીસ્ટર વિદ્યાર્થીની સંખ્યા | N63: વર્ગીકરણ | Q63: સંખ્યા | S63: ટકા | U63: ટકા = ગુણ મેળવેલ સંખ્યા / રજીસ્ટર વિદ્યાર્થીની સંખ્યા | AA63: વર્ગીકરણ | AD63: સંખ્યા | AF63: ટકા | AH63: ટકા = ગુણ મેળવેલ સંખ્યા / રજીસ્ટર વિદ્યાર્થીની સંખ્યા
A64: "0 થી 1 ગુણ" મેળવેલ વિધાર્થીની સંખ્યા :- | H64: ખુબ મહેનત જરૂરી હોય તેવા વિ.ઓ. | N64: "0 થી 1 ગુણ" મેળવેલ વિધાર્થીની સંખ્યા :- | U64: ખુબ મહેનત જરૂરી હોય તેવા વિ.ઓ. | AA64: "0 થી 1 ગુણ" મેળવેલ વિધાર્થીની સંખ્યા :- | AH64: ખુબ મહેનત જરૂરી હોય તેવા વિ.ઓ.
A65: "2 થી 4 ગુણ" મેળવેલ વિદ્યાર્થીની સંખ્યા :- | H65: મહેનત જરૂરી હોય તેવા વિ.ઓ. | N65: "2 થી 4 ગુણ" મેળવેલ વિદ્યાર્થીની સંખ્યા :- | U65: મહેનત જરૂરી હોય તેવા વિ.ઓ. | AA65: "2 થી 4 ગુણ" મેળવેલ વિદ્યાર્થીની સંખ્યા :- | AH65: મહેનત જરૂરી હોય તેવા વિ.ઓ.
A66: "5 થી 8 ગુણ" મેળવેલ વિદ્યાર્થીની સંખ્યા :- | H66: મધ્યમ હોય તેવા વિ.ઓ. | N66: "5 થી 8 ગુણ" મેળવેલ વિદ્યાર્થીની સંખ્યા :- | U66: મધ્યમ હોય તેવા વિ.ઓ. | AA66: "5 થી 8 ગુણ" મેળવેલ વિદ્યાર્થીની સંખ્યા :- | AH66: મધ્યમ હોય તેવા વિ.ઓ.
A67: "9 થી 10 ગુણ" મેળવેલ વિદ્યાર્થીની સંખ્યા :- | H67: ઉત્તમ | N67: "9 થી 10 ગુણ" મેળવેલ વિદ્યાર્થીની સંખ્યા :- | U67: ઉત્તમ | AA67: "9 થી 10 ગુણ" મેળવેલ વિદ્યાર્થીની સંખ્યા :- | AH67: ઉત્તમ
A69: ....................................... | I69: ....................................... | N69: ....................................... | V69: ....................................... | AA69: ....................................... | AI69: .......................................
A70: વર્ગશિક્ષકની સહી | I70: આચાર્યની સહી | N70: વર્ગશિક્ષકની સહી | V70: આચાર્યની સહી | AA70: વર્ગશિક્ષકની સહી | AI70: આચાર્યની સહી

Sheet STD-8
A1: ='STD-2'!$A$1 -> _________ પ્રાથમિક શાળા | N1: ='STD-2'!$A$1 -> _________ પ્રાથમિક શાળા | AA1: ='STD-2'!$A$1 -> _________ પ્રાથમિક શાળા
A2: ='STD-2'!$A$2 -> તા - __________, જી - __________ | N2: ='STD-2'!$A$2 -> તા - __________, જી - __________ | AA2: ='STD-2'!$A$2 -> તા - __________, જી - __________
A3: વાચન, લેખન અને ગણન ઉપચારાત્મક પત્રક | N3: વાચન, લેખન અને ગણન ઉપચારાત્મક પત્રક | AA3: વાચન, લેખન અને ગણન ઉપચારાત્મક પત્રક
A4: ધોરણ - 8 | C4: વાંચન મુલ્યાંકન | J4: વર્ષ - 2024-'25 | N4: ધોરણ - 8 | P4: લેખન મુલ્યાંકન | W4: વર્ષ - 2024-'25 | AA4: ધોરણ - 8 | AC4: ગણન મુલ્યાંકન | AJ4: વર્ષ - 2024-'25
A5: ક્રમ | B5: વિદ્યાર્થીનું નામ | C5: વાંચન મૂલ્યાંકનના હેતુઓ - ધોરણ - 1 થી 7 | M5: કુલ મેળવેલ ગુણ | N5: ક્રમ | O5: વિદ્યાર્થીનું નામ | P5: લેખન મૂલ્યાંકનના હેતુઓ - ધોરણ - 1 થી 7 | Z5: કુલ મેળવેલ ગુણ | AA5: ક્રમ | AB5: વિદ્યાર્થીનું નામ | AC5: ગણન મૂલ્યાંકનના હેતુઓ - ધોરણ - 1 થી 7 | AM5: કુલ મેળવેલ ગુણ
C6: મૂળાક્ષરો ઓળખે અને સાદા શબ્દોનું વાચન કરે છે. | D6: કાનાવાળા શબ્દોનું વાચન કરે છે. | E6: (એ) એકમાત્રા વાળા શબ્દોનું વાચન કરે છે. | F6: (ઇ,ઈ) હસ્વ,દીર્ઘ ઇ વાળા અને અનુંસ્વાર વાળા શબ્દોનું વાચન કરે છે. | G6: (ઉ,ઊ) હસ્વ,દીર્ઘ ઉ વાળા શબ્દોનું વાચન કરે છે. | H6: (ઐ,ઔ) વાળા શબ્દોનું વાચન કરી શકે છે. | I6: જોડાક્ષર વાળા શબ્દોનું વાચન કરે છે. | J6: સાદા અને સરળ વાક્યોનું વાચન કરે છે. | K6: ત્રણ ચાર વાક્યો વાળા ફકરાનું વાચન કરે છે. | L6: આરોહ અવરોહ યુક્ત અને વિરામચિહ્નોને ધ્યાન કરી વાચન કરે છે. | P6: મૂળાક્ષરો ઓળખે અને સાદા શબ્દોનું લેખન કરે છે. | Q6: કાનાવાળા શબ્દોનું લેખન કરે છે. | R6: (એ) એકમાત્રા વાળા શબ્દોનું લેખન કરે છે. | S6: (ઇ,ઈ) હસ્વ,દીર્ઘ ઇ વાળા અને અનુંસ્વાર વાળા શબ્દોનું લેખન કરે છે. | T6: (ઉ,ઊ) હસ્વ,દીર્ઘ ઉ વાળા શબ્દોનું લેખન કરે છે. | U6: (ઐ,ઔ) વાળા શબ્દોનું લેખન કરી શકે છે. | V6: જોડાક્ષર વાળા શબ્દોનું લેખન કરે છે. | W6: સાદાદાઅને સરળ વાક્યોનું લેખન કરે છે. | X6: ત્રણ ચાર વાક્યો વાળા ફકરાનું લેખન કરે છે. | Y6: આરોહ અવરોહ યુક્ત અને વિરામચિહ્નોને ધ્યાન કરી લેખન કરે છે. | AC6: સંખ્યા વાચન અને લેખન કરોડ સુધી કરી શકે છે. | AD6: સ્થાન કિંમત લાખ સુધી અને સંખ્યાનો સ્થાન પ્રમાણે વિસ્તાર કરી શકે છે. | AE6: સંખ્યાને ચડતા-ઉતરતા ક્રમમાં મૂકી શકે છે. (ચાર અંક સુધી) | AF6: સરવાળા-બાદબાકી કરી શકે છે. (વદીવાળા/દશકાવાળા) | AG6: વ્યવહારૂ કોયડા સમજી સરવાળા-બાદબાકી કરી શકે છે. | AH6: ઘડિયા 1 થી 20 સુધી બોલી અને લખી શકે છે. | AI6: ગુણાકાર કરી શકે છે. (બે અંક વડે) | AJ6: ભાગાકાર કરી શકે છે. (બે અંક વડે) | AK6: ચાર ક્રિયાઓનું સાદુરૂપ આપી શકે છે. | AL6: વ્યવહારુ કોયડા સમજી ગુણાકાર-ભાગાકર કરી શકે છે.
C7: 1 | D7: 1 | E7: 1 | F7: 1 | G7: 1 | H7: 1 | I7: 1 | J7: 1 | K7: 1 | L7: 1 | M7: 10 | P7: 1 | Q7: 1 | R7: 1 | S7: 1 | T7: 1 | U7: 1 | V7: 1 | W7: 1 | X7: 1 | Y7: 1 | Z7: 10 | AC7: 1 | AD7: 1 | AE7: 1 | AF7: 1 | AG7: 1 | AH7: 1 | AI7: 1 | AJ7: 1 | AK7: 1 | AL7: 1 | AM7: 10
A8: 1 | N8: =IF($A8="","",$A8) -> 1 | O8: =IF($B8="","",$B8) | AA8: =IF($A8="","",$A8) -> 1 | AB8: =IF($B8="","",$B8)
A9: 2 | N9: =IF($A9="","",$A9) -> 2 | O9: =IF($B9="","",$B9) | AA9: =IF($A9="","",$A9) -> 2 | AB9: =IF($B9="","",$B9)
A10: 3 | N10: =IF($A10="","",$A10) -> 3 | O10: =IF($B10="","",$B10) | AA10: =IF($A10="","",$A10) -> 3 | AB10: =IF($B10="","",$B10)
A11: 4 | N11: =IF($A11="","",$A11) -> 4 | O11: =IF($B11="","",$B11) | AA11: =IF($A11="","",$A11) -> 4 | AB11: =IF($B11="","",$B11)
A12: 5 | N12: =IF($A12="","",$A12) -> 5 | O12: =IF($B12="","",$B12) | AA12: =IF($A12="","",$A12) -> 5 | AB12: =IF($B12="","",$B12)
A13: 6 | N13: =IF($A13="","",$A13) -> 6 | O13: =IF($B13="","",$B13) | AA13: =IF($A13="","",$A13) -> 6 | AB13: =IF($B13="","",$B13)
A14: 7 | N14: =IF($A14="","",$A14) -> 7 | O14: =IF($B14="","",$B14) | AA14: =IF($A14="","",$A14) -> 7 | AB14: =IF($B14="","",$B14)
A15: 8 | N15: =IF($A15="","",$A15) -> 8 | O15: =IF($B15="","",$B15) | AA15: =IF($A15="","",$A15) -> 8 | AB15: =IF($B15="","",$B15)
A16: 9 | N16: =IF($A16="","",$A16) -> 9 | O16: =IF($B16="","",$B16) | AA16: =IF($A16="","",$A16) -> 9 | AB16: =IF($B16="","",$B16)
A17: 10 | N17: =IF($A17="","",$A17) -> 10 | O17: =IF($B17="","",$B17) | AA17: =IF($A17="","",$A17) -> 10 | AB17: =IF($B17="","",$B17)
A18: 11 | N18: =IF($A18="","",$A18) -> 11 | O18: =IF($B18="","",$B18) | AA18: =IF($A18="","",$A18) -> 11 | AB18: =IF($B18="","",$B18)
A19: 12 | N19: =IF($A19="","",$A19) -> 12 | O19: =IF($B19="","",$B19) | AA19: =IF($A19="","",$A19) -> 12 | AB19: =IF($B19="","",$B19)
... A57: 50 | N57: =IF($A57="","",$A57) -> 50 | O57: =IF($B57="","",$B57) | AA57: =IF($A57="","",$A57) -> 50 | AB57: =IF($B57="","",$B57)
A58: તમામ વિદ્યાર્થીઓએ મેળવેલ કુલ ગુણનો સરવાળો :- | N58: તમામ વિદ્યાર્થીઓએ મેળવેલ કુલ ગુણનો સરવાળો :- | AA58: તમામ વિદ્યાર્થીઓએ મેળવેલ કુલ ગુણનો સરવાળો :-
A59: વર્ગના વિદ્યાર્થીઓએ મેળવેલ સરાસરી ગુણ :- | F59: (તમામ વિ.ઓએ મેળવેલ કુલ ગુણ / રજીસ્ટર સંખ્યા) | N59: વર્ગના વિદ્યાર્થીઓએ મેળવેલ સરાસરી ગુણ :- | S59: (તમામ વિ.ઓએ મેળવેલ કુલ ગુણ / રજીસ્ટર સંખ્યા) | AA59: વર્ગના વિદ્યાર્થીઓએ મેળવેલ સરાસરી ગુણ :- | AF59: (તમામ વિ.ઓએ મેળવેલ કુલ ગુણ / રજીસ્ટર સંખ્યા)
A60: વર્ગનો સરાસરી ગ્રેડ :- | F60: 9થી10 = A ગ્રેડ, 7થી8 = B ગ્રેડ, 5થી6 = C ગ્રેડ, 4 = D ગ્રેડ, 0થી3 = E ગ્રેડ | N60: વર્ગનો સરાસરી ગ્રેડ :- | S60: 9થી10 = A ગ્રેડ, 7થી8 = B ગ્રેડ, 5થી6 = C ગ્રેડ, 4 = D ગ્રેડ, 0થી3 = E ગ્રેડ | AA60: વર્ગનો સરાસરી ગ્રેડ :- | AF60: 9થી10 = A ગ્રેડ, 7થી8 = B ગ્રેડ, 5થી6 = C ગ્રેડ, 4 = D ગ્રેડ, 0થી3 = E ગ્રેડ
A62: કુલ મેળવેલ ગુણના આધારે વર્ગીકરણ | N62: કુલ મેળવેલ ગુણના આધારે વર્ગીકરણ | AA62: કુલ મેળવેલ ગુણના આધારે વર્ગીકરણ
A63: વર્ગીકરણ | D63: સંખ્યા | F63: ટકા | H63: ટકા = ગુણ મેળવેલ સંખ્યા / રજીસ્ટર વિદ્યાર્થીની સંખ્યા | N63: વર્ગીકરણ | Q63: સંખ્યા | S63: ટકા | U63: ટકા = ગુણ મેળવેલ સંખ્યા / રજીસ્ટર વિદ્યાર્થીની સંખ્યા | AA63: વર્ગીકરણ | AD63: સંખ્યા | AF63: ટકા | AH63: ટકા = ગુણ મેળવેલ સંખ્યા / રજીસ્ટર વિદ્યાર્થીની સંખ્યા
A64: "0 થી 1 ગુણ" મેળવેલ વિધાર્થીની સંખ્યા :- | H64: ખુબ મહેનત જરૂરી હોય તેવા વિ.ઓ. | N64: "0 થી 1 ગુણ" મેળવેલ વિધાર્થીની સંખ્યા :- | U64: ખુબ મહેનત જરૂરી હોય તેવા વિ.ઓ. | AA64: "0 થી 1 ગુણ" મેળવેલ વિધાર્થીની સંખ્યા :- | AH64: ખુબ મહેનત જરૂરી હોય તેવા વિ.ઓ.
A65: "2 થી 4 ગુણ" મેળવેલ વિદ્યાર્થીની સંખ્યા :- | H65: મહેનત જરૂરી હોય તેવા વિ.ઓ. | N65: "2 થી 4 ગુણ" મેળવેલ વિદ્યાર્થીની સંખ્યા :- | U65: મહેનત જરૂરી હોય તેવા વિ.ઓ. | AA65: "2 થી 4 ગુણ" મેળવેલ વિદ્યાર્થીની સંખ્યા :- | AH65: મહેનત જરૂરી હોય તેવા વિ.ઓ.
A66: "5 થી 8 ગુણ" મેળવેલ વિદ્યાર્થીની સંખ્યા :- | H66: મધ્યમ હોય તેવા વિ.ઓ. | N66: "5 થી 8 ગુણ" મેળવેલ વિદ્યાર્થીની સંખ્યા :- | U66: મધ્યમ હોય તેવા વિ.ઓ. | AA66: "5 થી 8 ગુણ" મેળવેલ વિદ્યાર્થીની સંખ્યા :- | AH66: મધ્યમ હોય તેવા વિ.ઓ.
A67: "9 થી 10 ગુણ" મેળવેલ વિદ્યાર્થીની સંખ્યા :- | H67: ઉત્તમ | N67: "9 થી 10 ગુણ" મેળવેલ વિદ્યાર્થીની સંખ્યા :- | U67: ઉત્તમ | AA67: "9 થી 10 ગુણ" મેળવેલ વિદ્યાર્થીની સંખ્યા :- | AH67: ઉત્તમ
A69: ....................................... | I69: ....................................... | N69: ....................................... | V69: ....................................... | AA69: ....................................... | AI69: .......................................
A70: વર્ગશિક્ષકની સહી | I70: આચાર્યની સહી | N70: વર્ગશિક્ષકની સહી | V70: આચાર્યની સહી | AA70: વર્ગશિક્ષકની સહી | AI70: આચાર્યની સહી
